{"text_format":"1","workbook":"xlsx","n_sheets":5,"sheets":["Insert Farmers IDs here","Transparency List 2018_10","Transparency List 2018_04","Transparency List 2017","Transparency List 2015"],"not_rendered":{"charts":0,"images":4,"macros":1,"external_links":0,"defined_names":2,"comments":0,"pivot_tables":0},"unopened":[],"bounds":{"document_bytes":16777216,"sheet_cells":100000,"rows_first":2000,"rows_last":500,"rows_between":2000,"halvings":0,"cell_chars":16384,"cell_head_chars":4096},"cells_cut":0,"cells_raw":0,"read":"whole","date_system":"1900"}

{"sheet":"Insert Farmers IDs here","index":0,"n_rows":2024,"n_cols":12,"rows_kept":2024,"cut":false,"hidden":false,"merged":[[16,6,16,10],[17,6,17,10],[18,6,18,10],[5,6,5,10],[6,6,6,10],[13,6,13,10],[7,6,7,10],[8,6,8,10]]}
[]
[]
[null,null,null,null,null,null,"4C Services Transparency List Tool"]
[]
[null,null,null,null,null,null,"Description"]
[null,null,null,null,null,null,"This tool compares the entries of the of 4C Business Partner Map with the entries of the Transparency List on Contemporary Slavery in Brazil, published by the Brazilian Ministry of Labour and Repórter Brazil, using National ID Numbers and Names as identifiers."]
[null,null,null,null,null,null,"The transparency list on contemporary slavery (Lista de Transparência) lists employers \"who were assessed as a result of characterization of work analogous to that of slave and that had a final administrative decision\". Current and previous versions of the list can be downloaded from the website of Repórter Brazil:"]
[null,null,null,null,null,null,"Update October 2018: published by the Ministry of  Labor on 8 October 2018"]
[null,null,null,null,null,null,"Update April 2018: published by the Ministry of  Labor on 10 April 2018"]
[null,null,null,null,null,null,"Update February 2017: http://reporterbrasil.org.br/2017/03/lista-de-transparencia-traz-250-nomes-flagrados-por-trabalho-escravo/"]
[null,null,null,null,null,null,"Update September 2015: http://reporterbrasil.org.br/2015/09/transparency-list-of-slave-labor-includes-names-of-employers-caught-perpetrating-that-crime/"]
[]
[null,null,null,null,null,null,"Please note:"]
[null,null,null,null,null,null,"Please take companies and farmers, that occure on the transparency list into special focus for further risk assessment and audit measures. Though, please note that the transparency list is published irregularly and shortcomings on the farm might have been corrected in the meantime."]
[]
[null,null,null,null,null,null,"How to use the Transparency List Tool:"]
[null,null,null,null,null,null,"1) Copy & paste the Business Partners' National ID Numbers or Names from the 4C BPM into the column below, strating from cell G28."]
[null,null,null,null,null,null,"2) You will autmatically be notified, in case a match with the latest update or an older version of the transparency list is found."]
[null,null,null,null,null,null,"3) To check a new set of Ids or Names, please use the \"Clear IDs\"-Button to remove all Ids from your previous analysis. If makros are not enabled in your worksheet, please delete the Ids from your last analysis manually."]
[]
[]
[]
[null,null,null,null,null,null,"Result Summary:","Number of matches:"]
[null,null,null,null,null,null,{"$f":"IFERROR(IF($H$24>0,\"Matches are found! Please check which farmer is listed\", \"No matches found\"),\"-\")","v":"No matches found"},{"$f":"COUNTIF($H$30:$H$10020,\"Risk Farmer - Please conduct further steps\")","v":0}]
[]
[null,null,null,null,null,null,null,null,"Matches with the 2018_10 list:","Matches with the 2018_04 list:","Matches with the 2017 list:","Matches with the 2015 list:"]
[null,null,null,null,null,null,null,null,{"$f":"COUNTIF(I$30:I$10020,\"On the 2018_10 List\")","v":0},{"$f":"COUNTIF(J$30:J$10020,\"On the 2018_04 List\")","v":0},{"$f":"COUNTIF(K$30:K$10020,\"On the 2017 List\")","v":0},{"$f":"COUNTIF($L$30:$L$10020,\"On the 2015 List\")","v":0}]
[]
[null,null,"# of non-matches","remove spaces, dots, slashes, minus from copied Ids",null,null,"Copy the Business Partners' National ID Numbers (CNPJ/CPF) from the BPM (column D) or Names (column B) here:","Results","Match with 2018_10 list","Match with 2018_04 list","Match with 2017 list","Match with 2015 list"]
[null,null,{"$f":"COUNTIF($I30:$L30,\"-\")","v":4},{"$f":"SUBSTITUTE(SUBSTITUTE(SUBSTITUTE(SUBSTITUTE($G30,\" \",\"\"),\".\",\"\"),\"-\",\"\"),\"/\",\"\")","v":""},null,null,null,{"$f":"IFERROR(IF($C30=4,\"-\",\"Risk Farmer - Please conduct further steps\"),)","v":"-"},{"$f":"IF(OR(IFERROR(MATCH($D30,'Transparency List 2018_10'!$L:$L,0),FALSE),IFERROR(MATCH(TRIM($G30),'Transparency List 2018_10'!$D:$D,0),FALSE)),\"On the 2018_10 List\",\"-\")","v":"-"},{"$f":"IF(OR(IFERROR(MATCH($D30,'Transparency List 2018_04'!$L:$L,0),FALSE),IFERROR(MATCH(TRIM($G30),'Transparency List 2018_04'!$D:$D,0),FALSE)),\"On the 2018_04 List\",\"-\")","v":"-"},{"$f":"IF(OR(IFERROR(MATCH($D30,'Transparency List 2017'!$L:$L,0),FALSE),IFERROR(MATCH(TRIM($G30),'Transparency List 2017'!$C:$C,0),FALSE)),\"On the 2017 List\",\"-\")","v":"-"},{"$f":"IF(OR(IFERROR(MATCH($D30,'Transparency List 2015'!$H:$H,0),FALSE),IFERROR(MATCH(TRIM($G30),'Transparency List 2015'!$C:$C,0),FALSE)),\"On the 2015 List\",\"-\")","v":"-"}]
[null,null,{"$f":"COUNTIF($I31:$L31,\"-\")","v":4},{"$f":"SUBSTITUTE(SUBSTITUTE(SUBSTITUTE(SUBSTITUTE($G31,\" \",\"\"),\".\",\"\"),\"-\",\"\"),\"/\",\"\")","v":""},null,null,null,{"$f":"IFERROR(IF($C31=4,\"-\",\"Risk Farmer - Please conduct further steps\"),)","v":"-"},{"$f":"IF(OR(IFERROR(MATCH($D31,'Transparency List 2018_10'!$L:$L,0),FALSE),IFERROR(MATCH(TRIM($G31),'Transparency List 2018_10'!$D:$D,0),FALSE)),\"On the 2018_10 List\",\"-\")","v":"-"},{"$f":"IF(OR(IFERROR(MATCH($D31,'Transparency List 2018_04'!$L:$L,0),FALSE),IFERROR(MATCH(TRIM($G31),'Transparency List 2018_04'!$D:$D,0),FALSE)),\"On the 2018_04 List\",\"-\")","v":"-"},{"$f":"IF(OR(IFERROR(MATCH($D31,'Transparency List 2017'!$L:$L,0),FALSE),IFERROR(MATCH(TRIM($G31),'Transparency List 2017'!$C:$C,0),FALSE)),\"On the 2017 List\",\"-\")","v":"-"},{"$f":"IF(OR(IFERROR(MATCH($D31,'Transparency List 2015'!$H:$H,0),FALSE),IFERROR(MATCH(TRIM($G31),'Transparency List 2015'!$C:$C,0),FALSE)),\"On the 2015 List\",\"-\")","v":"-"}]
[null,null,4,"",null,null,null,"-",{"$f":"IF(OR(IFERROR(MATCH($D32,'Transparency List 2018_10'!$L:$L,0),FALSE),IFERROR(MATCH(TRIM($G32),'Transparency List 2018_10'!$D:$D,0),FALSE)),\"On the 2018_10 List\",\"-\")","v":"-"},{"$f":"IF(OR(IFERROR(MATCH($D32,'Transparency List 2018_04'!$L:$L,0),FALSE),IFERROR(MATCH(TRIM($G32),'Transparency List 2018_04'!$D:$D,0),FALSE)),\"On the 2018_04 List\",\"-\")","v":"-"},{"$f":"IF(OR(IFERROR(MATCH($D32,'Transparency List 2017'!$L:$L,0),FALSE),IFERROR(MATCH(TRIM($G32),'Transparency List 2017'!$C:$C,0),FALSE)),\"On the 2017 List\",\"-\")","v":"-"},{"$f":"IF(OR(IFERROR(MATCH($D32,'Transparency List 2015'!$H:$H,0),FALSE),IFERROR(MATCH(TRIM($G32),'Transparency List 2015'!$C:$C,0),FALSE)),\"On the 2015 List\",\"-\")","v":"-"}]
[null,null,4,"",null,null,null,"-",{"$f":"IF(OR(IFERROR(MATCH($D33,'Transparency List 2018_10'!$L:$L,0),FALSE),IFERROR(MATCH(TRIM($G33),'Transparency List 2018_10'!$D:$D,0),FALSE)),\"On the 2018_10 List\",\"-\")","v":"-"},{"$f":"IF(OR(IFERROR(MATCH($D33,'Transparency List 2018_04'!$L:$L,0),FALSE),IFERROR(MATCH(TRIM($G33),'Transparency List 2018_04'!$D:$D,0),FALSE)),\"On the 2018_04 List\",\"-\")","v":"-"},{"$f":"IF(OR(IFERROR(MATCH($D33,'Transparency List 2017'!$L:$L,0),FALSE),IFERROR(MATCH(TRIM($G33),'Transparency List 2017'!$C:$C,0),FALSE)),\"On the 2017 List\",\"-\")","v":"-"},{"$f":"IF(OR(IFERROR(MATCH($D33,'Transparency List 2015'!$H:$H,0),FALSE),IFERROR(MATCH(TRIM($G33),'Transparency List 2015'!$C:$C,0),FALSE)),\"On the 2015 List\",\"-\")","v":"-"}]
[null,null,4,"",null,null,null,"-",{"$f":"IF(OR(IFERROR(MATCH($D34,'Transparency List 2018_10'!$L:$L,0),FALSE),IFERROR(MATCH(TRIM($G34),'Transparency List 2018_10'!$D:$D,0),FALSE)),\"On the 2018_10 List\",\"-\")","v":"-"},{"$f":"IF(OR(IFERROR(MATCH($D34,'Transparency List 2018_04'!$L:$L,0),FALSE),IFERROR(MATCH(TRIM($G34),'Transparency List 2018_04'!$D:$D,0),FALSE)),\"On the 2018_04 List\",\"-\")","v":"-"},{"$f":"IF(OR(IFERROR(MATCH($D34,'Transparency List 2017'!$L:$L,0),FALSE),IFERROR(MATCH(TRIM($G34),'Transparency List 2017'!$C:$C,0),FALSE)),\"On the 2017 List\",\"-\")","v":"-"},{"$f":"IF(OR(IFERROR(MATCH($D34,'Transparency List 2015'!$H:$H,0),FALSE),IFERROR(MATCH(TRIM($G34),'Transparency List 2015'!$C:$C,0),FALSE)),\"On the 2015 List\",\"-\")","v":"-"}]
[null,null,4,"",null,null,null,"-",{"$f":"IF(OR(IFERROR(MATCH($D35,'Transparency List 2018_10'!$L:$L,0),FALSE),IFERROR(MATCH(TRIM($G35),'Transparency List 2018_10'!$D:$D,0),FALSE)),\"On the 2018_10 List\",\"-\")","v":"-"},{"$f":"IF(OR(IFERROR(MATCH($D35,'Transparency List 2018_04'!$L:$L,0),FALSE),IFERROR(MATCH(TRIM($G35),'Transparency List 2018_04'!$D:$D,0),FALSE)),\"On the 2018_04 List\",\"-\")","v":"-"},{"$f":"IF(OR(IFERROR(MATCH($D35,'Transparency List 2017'!$L:$L,0),FALSE),IFERROR(MATCH(TRIM($G35),'Transparency List 2017'!$C:$C,0),FALSE)),\"On the 2017 List\",\"-\")","v":"-"},{"$f":"IF(OR(IFERROR(MATCH($D35,'Transparency List 2015'!$H:$H,0),FALSE),IFERROR(MATCH(TRIM($G35),'Transparency List 2015'!$C:$C,0),FALSE)),\"On the 2015 List\",\"-\")","v":"-"}]
[null,null,4,"",null,null,null,"-",{"$f":"IF(OR(IFERROR(MATCH($D36,'Transparency List 2018_10'!$L:$L,0),FALSE),IFERROR(MATCH(TRIM($G36),'Transparency List 2018_10'!$D:$D,0),FALSE)),\"On the 2018_10 List\",\"-\")","v":"-"},{"$f":"IF(OR(IFERROR(MATCH($D36,'Transparency List 2018_04'!$L:$L,0),FALSE),IFERROR(MATCH(TRIM($G36),'Transparency List 2018_04'!$D:$D,0),FALSE)),\"On the 2018_04 List\",\"-\")","v":"-"},{"$f":"IF(OR(IFERROR(MATCH($D36,'Transparency List 2017'!$L:$L,0),FALSE),IFERROR(MATCH(TRIM($G36),'Transparency List 2017'!$C:$C,0),FALSE)),\"On the 2017 List\",\"-\")","v":"-"},{"$f":"IF(OR(IFERROR(MATCH($D36,'Transparency List 2015'!$H:$H,0),FALSE),IFERROR(MATCH(TRIM($G36),'Transparency List 2015'!$C:$C,0),FALSE)),\"On the 2015 List\",\"-\")","v":"-"}]
[null,null,4,"",null,null,null,"-",{"$f":"IF(OR(IFERROR(MATCH($D37,'Transparency List 2018_10'!$L:$L,0),FALSE),IFERROR(MATCH(TRIM($G37),'Transparency List 2018_10'!$D:$D,0),FALSE)),\"On the 2018_10 List\",\"-\")","v":"-"},{"$f":"IF(OR(IFERROR(MATCH($D37,'Transparency List 2018_04'!$L:$L,0),FALSE),IFERROR(MATCH(TRIM($G37),'Transparency List 2018_04'!$D:$D,0),FALSE)),\"On the 2018_04 List\",\"-\")","v":"-"},{"$f":"IF(OR(IFERROR(MATCH($D37,'Transparency List 2017'!$L:$L,0),FALSE),IFERROR(MATCH(TRIM($G37),'Transparency List 2017'!$C:$C,0),FALSE)),\"On the 2017 List\",\"-\")","v":"-"},{"$f":"IF(OR(IFERROR(MATCH($D37,'Transparency List 2015'!$H:$H,0),FALSE),IFERROR(MATCH(TRIM($G37),'Transparency List 2015'!$C:$C,0),FALSE)),\"On the 2015 List\",\"-\")","v":"-"}]
[null,null,4,"",null,null,null,"-",{"$f":"IF(OR(IFERROR(MATCH($D38,'Transparency List 2018_10'!$L:$L,0),FALSE),IFERROR(MATCH(TRIM($G38),'Transparency List 2018_10'!$D:$D,0),FALSE)),\"On the 2018_10 List\",\"-\")","v":"-"},{"$f":"IF(OR(IFERROR(MATCH($D38,'Transparency List 2018_04'!$L:$L,0),FALSE),IFERROR(MATCH(TRIM($G38),'Transparency List 2018_04'!$D:$D,0),FALSE)),\"On the 2018_04 List\",\"-\")","v":"-"},{"$f":"IF(OR(IFERROR(MATCH($D38,'Transparency List 2017'!$L:$L,0),FALSE),IFERROR(MATCH(TRIM($G38),'Transparency List 2017'!$C:$C,0),FALSE)),\"On the 2017 List\",\"-\")","v":"-"},{"$f":"IF(OR(IFERROR(MATCH($D38,'Transparency List 2015'!$H:$H,0),FALSE),IFERROR(MATCH(TRIM($G38),'Transparency List 2015'!$C:$C,0),FALSE)),\"On the 2015 List\",\"-\")","v":"-"}]
[null,null,4,"",null,null,null,"-",{"$f":"IF(OR(IFERROR(MATCH($D39,'Transparency List 2018_10'!$L:$L,0),FALSE),IFERROR(MATCH(TRIM($G39),'Transparency List 2018_10'!$D:$D,0),FALSE)),\"On the 2018_10 List\",\"-\")","v":"-"},{"$f":"IF(OR(IFERROR(MATCH($D39,'Transparency List 2018_04'!$L:$L,0),FALSE),IFERROR(MATCH(TRIM($G39),'Transparency List 2018_04'!$D:$D,0),FALSE)),\"On the 2018_04 List\",\"-\")","v":"-"},{"$f":"IF(OR(IFERROR(MATCH($D39,'Transparency List 2017'!$L:$L,0),FALSE),IFERROR(MATCH(TRIM($G39),'Transparency List 2017'!$C:$C,0),FALSE)),\"On the 2017 List\",\"-\")","v":"-"},{"$f":"IF(OR(IFERROR(MATCH($D39,'Transparency List 2015'!$H:$H,0),FALSE),IFERROR(MATCH(TRIM($G39),'Transparency List 2015'!$C:$C,0),FALSE)),\"On the 2015 List\",\"-\")","v":"-"}]
[null,null,4,"",null,null,null,"-",{"$f":"IF(OR(IFERROR(MATCH($D40,'Transparency List 2018_10'!$L:$L,0),FALSE),IFERROR(MATCH(TRIM($G40),'Transparency List 2018_10'!$D:$D,0),FALSE)),\"On the 2018_10 List\",\"-\")","v":"-"},{"$f":"IF(OR(IFERROR(MATCH($D40,'Transparency List 2018_04'!$L:$L,0),FALSE),IFERROR(MATCH(TRIM($G40),'Transparency List 2018_04'!$D:$D,0),FALSE)),\"On the 2018_04 List\",\"-\")","v":"-"},{"$f":"IF(OR(IFERROR(MATCH($D40,'Transparency List 2017'!$L:$L,0),FALSE),IFERROR(MATCH(TRIM($G40),'Transparency List 2017'!$C:$C,0),FALSE)),\"On the 2017 List\",\"-\")","v":"-"},{"$f":"IF(OR(IFERROR(MATCH($D40,'Transparency List 2015'!$H:$H,0),FALSE),IFERROR(MATCH(TRIM($G40),'Transparency List 2015'!$C:$C,0),FALSE)),\"On the 2015 List\",\"-\")","v":"-"}]
[null,null,4,"",null,null,null,"-",{"$f":"IF(OR(IFERROR(MATCH($D41,'Transparency List 2018_10'!$L:$L,0),FALSE),IFERROR(MATCH(TRIM($G41),'Transparency List 2018_10'!$D:$D,0),FALSE)),\"On the 2018_10 List\",\"-\")","v":"-"},{"$f":"IF(OR(IFERROR(MATCH($D41,'Transparency List 2018_04'!$L:$L,0),FALSE),IFERROR(MATCH(TRIM($G41),'Transparency List 2018_04'!$D:$D,0),FALSE)),\"On the 2018_04 List\",\"-\")","v":"-"},{"$f":"IF(OR(IFERROR(MATCH($D41,'Transparency List 2017'!$L:$L,0),FALSE),IFERROR(MATCH(TRIM($G41),'Transparency List 2017'!$C:$C,0),FALSE)),\"On the 2017 List\",\"-\")","v":"-"},{"$f":"IF(OR(IFERROR(MATCH($D41,'Transparency List 2015'!$H:$H,0),FALSE),IFERROR(MATCH(TRIM($G41),'Transparency List 2015'!$C:$C,0),FALSE)),\"On the 2015 List\",\"-\")","v":"-"}]
[null,null,4,"",null,null,null,"-",{"$f":"IF(OR(IFERROR(MATCH($D42,'Transparency List 2018_10'!$L:$L,0),FALSE),IFERROR(MATCH(TRIM($G42),'Transparency List 2018_10'!$D:$D,0),FALSE)),\"On the 2018_10 List\",\"-\")","v":"-"},{"$f":"IF(OR(IFERROR(MATCH($D42,'Transparency List 2018_04'!$L:$L,0),FALSE),IFERROR(MATCH(TRIM($G42),'Transparency List 2018_04'!$D:$D,0),FALSE)),\"On the 2018_04 List\",\"-\")","v":"-"},{"$f":"IF(OR(IFERROR(MATCH($D42,'Transparency List 2017'!$L:$L,0),FALSE),IFERROR(MATCH(TRIM($G42),'Transparency List 2017'!$C:$C,0),FALSE)),\"On the 2017 List\",\"-\")","v":"-"},{"$f":"IF(OR(IFERROR(MATCH($D42,'Transparency List 2015'!$H:$H,0),FALSE),IFERROR(MATCH(TRIM($G42),'Transparency List 2015'!$C:$C,0),FALSE)),\"On the 2015 List\",\"-\")","v":"-"}]
[null,null,4,"",null,null,null,"-",{"$f":"IF(OR(IFERROR(MATCH($D43,'Transparency List 2018_10'!$L:$L,0),FALSE),IFERROR(MATCH(TRIM($G43),'Transparency List 2018_10'!$D:$D,0),FALSE)),\"On the 2018_10 List\",\"-\")","v":"-"},{"$f":"IF(OR(IFERROR(MATCH($D43,'Transparency List 2018_04'!$L:$L,0),FALSE),IFERROR(MATCH(TRIM($G43),'Transparency List 2018_04'!$D:$D,0),FALSE)),\"On the 2018_04 List\",\"-\")","v":"-"},{"$f":"IF(OR(IFERROR(MATCH($D43,'Transparency List 2017'!$L:$L,0),FALSE),IFERROR(MATCH(TRIM($G43),'Transparency List 2017'!$C:$C,0),FALSE)),\"On the 2017 List\",\"-\")","v":"-"},{"$f":"IF(OR(IFERROR(MATCH($D43,'Transparency List 2015'!$H:$H,0),FALSE),IFERROR(MATCH(TRIM($G43),'Transparency List 2015'!$C:$C,0),FALSE)),\"On the 2015 List\",\"-\")","v":"-"}]
[null,null,4,"",null,null,null,"-",{"$f":"IF(OR(IFERROR(MATCH($D44,'Transparency List 2018_10'!$L:$L,0),FALSE),IFERROR(MATCH(TRIM($G44),'Transparency List 2018_10'!$D:$D,0),FALSE)),\"On the 2018_10 List\",\"-\")","v":"-"},{"$f":"IF(OR(IFERROR(MATCH($D44,'Transparency List 2018_04'!$L:$L,0),FALSE),IFERROR(MATCH(TRIM($G44),'Transparency List 2018_04'!$D:$D,0),FALSE)),\"On the 2018_04 List\",\"-\")","v":"-"},{"$f":"IF(OR(IFERROR(MATCH($D44,'Transparency List 2017'!$L:$L,0),FALSE),IFERROR(MATCH(TRIM($G44),'Transparency List 2017'!$C:$C,0),FALSE)),\"On the 2017 List\",\"-\")","v":"-"},{"$f":"IF(OR(IFERROR(MATCH($D44,'Transparency List 2015'!$H:$H,0),FALSE),IFERROR(MATCH(TRIM($G44),'Transparency List 2015'!$C:$C,0),FALSE)),\"On the 2015 List\",\"-\")","v":"-"}]
[null,null,4,"",null,null,null,"-",{"$f":"IF(OR(IFERROR(MATCH($D45,'Transparency List 2018_10'!$L:$L,0),FALSE),IFERROR(MATCH(TRIM($G45),'Transparency List 2018_10'!$D:$D,0),FALSE)),\"On the 2018_10 List\",\"-\")","v":"-"},{"$f":"IF(OR(IFERROR(MATCH($D45,'Transparency List 2018_04'!$L:$L,0),FALSE),IFERROR(MATCH(TRIM($G45),'Transparency List 2018_04'!$D:$D,0),FALSE)),\"On the 2018_04 List\",\"-\")","v":"-"},{"$f":"IF(OR(IFERROR(MATCH($D45,'Transparency List 2017'!$L:$L,0),FALSE),IFERROR(MATCH(TRIM($G45),'Transparency List 2017'!$C:$C,0),FALSE)),\"On the 2017 List\",\"-\")","v":"-"},{"$f":"IF(OR(IFERROR(MATCH($D45,'Transparency List 2015'!$H:$H,0),FALSE),IFERROR(MATCH(TRIM($G45),'Transparency List 2015'!$C:$C,0),FALSE)),\"On the 2015 List\",\"-\")","v":"-"}]
[null,null,4,"",null,null,null,"-",{"$f":"IF(OR(IFERROR(MATCH($D46,'Transparency List 2018_10'!$L:$L,0),FALSE),IFERROR(MATCH(TRIM($G46),'Transparency List 2018_10'!$D:$D,0),FALSE)),\"On the 2018_10 List\",\"-\")","v":"-"},{"$f":"IF(OR(IFERROR(MATCH($D46,'Transparency List 2018_04'!$L:$L,0),FALSE),IFERROR(MATCH(TRIM($G46),'Transparency List 2018_04'!$D:$D,0),FALSE)),\"On the 2018_04 List\",\"-\")","v":"-"},{"$f":"IF(OR(IFERROR(MATCH($D46,'Transparency List 2017'!$L:$L,0),FALSE),IFERROR(MATCH(TRIM($G46),'Transparency List 2017'!$C:$C,0),FALSE)),\"On the 2017 List\",\"-\")","v":"-"},{"$f":"IF(OR(IFERROR(MATCH($D46,'Transparency List 2015'!$H:$H,0),FALSE),IFERROR(MATCH(TRIM($G46),'Transparency List 2015'!$C:$C,0),FALSE)),\"On the 2015 List\",\"-\")","v":"-"}]
[null,null,4,"",null,null,null,"-",{"$f":"IF(OR(IFERROR(MATCH($D47,'Transparency List 2018_10'!$L:$L,0),FALSE),IFERROR(MATCH(TRIM($G47),'Transparency List 2018_10'!$D:$D,0),FALSE)),\"On the 2018_10 List\",\"-\")","v":"-"},{"$f":"IF(OR(IFERROR(MATCH($D47,'Transparency List 2018_04'!$L:$L,0),FALSE),IFERROR(MATCH(TRIM($G47),'Transparency List 2018_04'!$D:$D,0),FALSE)),\"On the 2018_04 List\",\"-\")","v":"-"},{"$f":"IF(OR(IFERROR(MATCH($D47,'Transparency List 2017'!$L:$L,0),FALSE),IFERROR(MATCH(TRIM($G47),'Transparency List 2017'!$C:$C,0),FALSE)),\"On the 2017 List\",\"-\")","v":"-"},{"$f":"IF(OR(IFERROR(MATCH($D47,'Transparency List 2015'!$H:$H,0),FALSE),IFERROR(MATCH(TRIM($G47),'Transparency List 2015'!$C:$C,0),FALSE)),\"On the 2015 List\",\"-\")","v":"-"}]
[null,null,4,"",null,null,null,"-",{"$f":"IF(OR(IFERROR(MATCH($D48,'Transparency List 2018_10'!$L:$L,0),FALSE),IFERROR(MATCH(TRIM($G48),'Transparency List 2018_10'!$D:$D,0),FALSE)),\"On the 2018_10 List\",\"-\")","v":"-"},{"$f":"IF(OR(IFERROR(MATCH($D48,'Transparency List 2018_04'!$L:$L,0),FALSE),IFERROR(MATCH(TRIM($G48),'Transparency List 2018_04'!$D:$D,0),FALSE)),\"On the 2018_04 List\",\"-\")","v":"-"},{"$f":"IF(OR(IFERROR(MATCH($D48,'Transparency List 2017'!$L:$L,0),FALSE),IFERROR(MATCH(TRIM($G48),'Transparency List 2017'!$C:$C,0),FALSE)),\"On the 2017 List\",\"-\")","v":"-"},{"$f":"IF(OR(IFERROR(MATCH($D48,'Transparency List 2015'!$H:$H,0),FALSE),IFERROR(MATCH(TRIM($G48),'Transparency List 2015'!$C:$C,0),FALSE)),\"On the 2015 List\",\"-\")","v":"-"}]
[null,null,4,"",null,null,null,"-",{"$f":"IF(OR(IFERROR(MATCH($D49,'Transparency List 2018_10'!$L:$L,0),FALSE),IFERROR(MATCH(TRIM($G49),'Transparency List 2018_10'!$D:$D,0),FALSE)),\"On the 2018_10 List\",\"-\")","v":"-"},{"$f":"IF(OR(IFERROR(MATCH($D49,'Transparency List 2018_04'!$L:$L,0),FALSE),IFERROR(MATCH(TRIM($G49),'Transparency List 2018_04'!$D:$D,0),FALSE)),\"On the 2018_04 List\",\"-\")","v":"-"},{"$f":"IF(OR(IFERROR(MATCH($D49,'Transparency List 2017'!$L:$L,0),FALSE),IFERROR(MATCH(TRIM($G49),'Transparency List 2017'!$C:$C,0),FALSE)),\"On the 2017 List\",\"-\")","v":"-"},{"$f":"IF(OR(IFERROR(MATCH($D49,'Transparency List 2015'!$H:$H,0),FALSE),IFERROR(MATCH(TRIM($G49),'Transparency List 2015'!$C:$C,0),FALSE)),\"On the 2015 List\",\"-\")","v":"-"}]
[null,null,4,"",null,null,null,"-",{"$f":"IF(OR(IFERROR(MATCH($D50,'Transparency List 2018_10'!$L:$L,0),FALSE),IFERROR(MATCH(TRIM($G50),'Transparency List 2018_10'!$D:$D,0),FALSE)),\"On the 2018_10 List\",\"-\")","v":"-"},{"$f":"IF(OR(IFERROR(MATCH($D50,'Transparency List 2018_04'!$L:$L,0),FALSE),IFERROR(MATCH(TRIM($G50),'Transparency List 2018_04'!$D:$D,0),FALSE)),\"On the 2018_04 List\",\"-\")","v":"-"},{"$f":"IF(OR(IFERROR(MATCH($D50,'Transparency List 2017'!$L:$L,0),FALSE),IFERROR(MATCH(TRIM($G50),'Transparency List 2017'!$C:$C,0),FALSE)),\"On the 2017 List\",\"-\")","v":"-"},{"$f":"IF(OR(IFERROR(MATCH($D50,'Transparency List 2015'!$H:$H,0),FALSE),IFERROR(MATCH(TRIM($G50),'Transparency List 2015'!$C:$C,0),FALSE)),\"On the 2015 List\",\"-\")","v":"-"}]
[null,null,4,"",null,null,null,"-",{"$f":"IF(OR(IFERROR(MATCH($D51,'Transparency List 2018_10'!$L:$L,0),FALSE),IFERROR(MATCH(TRIM($G51),'Transparency List 2018_10'!$D:$D,0),FALSE)),\"On the 2018_10 List\",\"-\")","v":"-"},{"$f":"IF(OR(IFERROR(MATCH($D51,'Transparency List 2018_04'!$L:$L,0),FALSE),IFERROR(MATCH(TRIM($G51),'Transparency List 2018_04'!$D:$D,0),FALSE)),\"On the 2018_04 List\",\"-\")","v":"-"},{"$f":"IF(OR(IFERROR(MATCH($D51,'Transparency List 2017'!$L:$L,0),FALSE),IFERROR(MATCH(TRIM($G51),'Transparency List 2017'!$C:$C,0),FALSE)),\"On the 2017 List\",\"-\")","v":"-"},{"$f":"IF(OR(IFERROR(MATCH($D51,'Transparency List 2015'!$H:$H,0),FALSE),IFERROR(MATCH(TRIM($G51),'Transparency List 2015'!$C:$C,0),FALSE)),\"On the 2015 List\",\"-\")","v":"-"}]
[null,null,4,"",null,null,null,"-",{"$f":"IF(OR(IFERROR(MATCH($D52,'Transparency List 2018_10'!$L:$L,0),FALSE),IFERROR(MATCH(TRIM($G52),'Transparency List 2018_10'!$D:$D,0),FALSE)),\"On the 2018_10 List\",\"-\")","v":"-"},{"$f":"IF(OR(IFERROR(MATCH($D52,'Transparency List 2018_04'!$L:$L,0),FALSE),IFERROR(MATCH(TRIM($G52),'Transparency List 2018_04'!$D:$D,0),FALSE)),\"On the 2018_04 List\",\"-\")","v":"-"},{"$f":"IF(OR(IFERROR(MATCH($D52,'Transparency List 2017'!$L:$L,0),FALSE),IFERROR(MATCH(TRIM($G52),'Transparency List 2017'!$C:$C,0),FALSE)),\"On the 2017 List\",\"-\")","v":"-"},{"$f":"IF(OR(IFERROR(MATCH($D52,'Transparency List 2015'!$H:$H,0),FALSE),IFERROR(MATCH(TRIM($G52),'Transparency List 2015'!$C:$C,0),FALSE)),\"On the 2015 List\",\"-\")","v":"-"}]
[null,null,4,"",null,null,null,"-",{"$f":"IF(OR(IFERROR(MATCH($D53,'Transparency List 2018_10'!$L:$L,0),FALSE),IFERROR(MATCH(TRIM($G53),'Transparency List 2018_10'!$D:$D,0),FALSE)),\"On the 2018_10 List\",\"-\")","v":"-"},{"$f":"IF(OR(IFERROR(MATCH($D53,'Transparency List 2018_04'!$L:$L,0),FALSE),IFERROR(MATCH(TRIM($G53),'Transparency List 2018_04'!$D:$D,0),FALSE)),\"On the 2018_04 List\",\"-\")","v":"-"},{"$f":"IF(OR(IFERROR(MATCH($D53,'Transparency List 2017'!$L:$L,0),FALSE),IFERROR(MATCH(TRIM($G53),'Transparency List 2017'!$C:$C,0),FALSE)),\"On the 2017 List\",\"-\")","v":"-"},{"$f":"IF(OR(IFERROR(MATCH($D53,'Transparency List 2015'!$H:$H,0),FALSE),IFERROR(MATCH(TRIM($G53),'Transparency List 2015'!$C:$C,0),FALSE)),\"On the 2015 List\",\"-\")","v":"-"}]
[null,null,4,"",null,null,null,"-",{"$f":"IF(OR(IFERROR(MATCH($D54,'Transparency List 2018_10'!$L:$L,0),FALSE),IFERROR(MATCH(TRIM($G54),'Transparency List 2018_10'!$D:$D,0),FALSE)),\"On the 2018_10 List\",\"-\")","v":"-"},{"$f":"IF(OR(IFERROR(MATCH($D54,'Transparency List 2018_04'!$L:$L,0),FALSE),IFERROR(MATCH(TRIM($G54),'Transparency List 2018_04'!$D:$D,0),FALSE)),\"On the 2018_04 List\",\"-\")","v":"-"},{"$f":"IF(OR(IFERROR(MATCH($D54,'Transparency List 2017'!$L:$L,0),FALSE),IFERROR(MATCH(TRIM($G54),'Transparency List 2017'!$C:$C,0),FALSE)),\"On the 2017 List\",\"-\")","v":"-"},{"$f":"IF(OR(IFERROR(MATCH($D54,'Transparency List 2015'!$H:$H,0),FALSE),IFERROR(MATCH(TRIM($G54),'Transparency List 2015'!$C:$C,0),FALSE)),\"On the 2015 List\",\"-\")","v":"-"}]
[null,null,4,"",null,null,null,"-",{"$f":"IF(OR(IFERROR(MATCH($D55,'Transparency List 2018_10'!$L:$L,0),FALSE),IFERROR(MATCH(TRIM($G55),'Transparency List 2018_10'!$D:$D,0),FALSE)),\"On the 2018_10 List\",\"-\")","v":"-"},{"$f":"IF(OR(IFERROR(MATCH($D55,'Transparency List 2018_04'!$L:$L,0),FALSE),IFERROR(MATCH(TRIM($G55),'Transparency List 2018_04'!$D:$D,0),FALSE)),\"On the 2018_04 List\",\"-\")","v":"-"},{"$f":"IF(OR(IFERROR(MATCH($D55,'Transparency List 2017'!$L:$L,0),FALSE),IFERROR(MATCH(TRIM($G55),'Transparency List 2017'!$C:$C,0),FALSE)),\"On the 2017 List\",\"-\")","v":"-"},{"$f":"IF(OR(IFERROR(MATCH($D55,'Transparency List 2015'!$H:$H,0),FALSE),IFERROR(MATCH(TRIM($G55),'Transparency List 2015'!$C:$C,0),FALSE)),\"On the 2015 List\",\"-\")","v":"-"}]
[null,null,4,"",null,null,null,"-",{"$f":"IF(OR(IFERROR(MATCH($D56,'Transparency List 2018_10'!$L:$L,0),FALSE),IFERROR(MATCH(TRIM($G56),'Transparency List 2018_10'!$D:$D,0),FALSE)),\"On the 2018_10 List\",\"-\")","v":"-"},{"$f":"IF(OR(IFERROR(MATCH($D56,'Transparency List 2018_04'!$L:$L,0),FALSE),IFERROR(MATCH(TRIM($G56),'Transparency List 2018_04'!$D:$D,0),FALSE)),\"On the 2018_04 List\",\"-\")","v":"-"},{"$f":"IF(OR(IFERROR(MATCH($D56,'Transparency List 2017'!$L:$L,0),FALSE),IFERROR(MATCH(TRIM($G56),'Transparency List 2017'!$C:$C,0),FALSE)),\"On the 2017 List\",\"-\")","v":"-"},{"$f":"IF(OR(IFERROR(MATCH($D56,'Transparency List 2015'!$H:$H,0),FALSE),IFERROR(MATCH(TRIM($G56),'Transparency List 2015'!$C:$C,0),FALSE)),\"On the 2015 List\",\"-\")","v":"-"}]
[null,null,4,"",null,null,null,"-",{"$f":"IF(OR(IFERROR(MATCH($D57,'Transparency List 2018_10'!$L:$L,0),FALSE),IFERROR(MATCH(TRIM($G57),'Transparency List 2018_10'!$D:$D,0),FALSE)),\"On the 2018_10 List\",\"-\")","v":"-"},{"$f":"IF(OR(IFERROR(MATCH($D57,'Transparency List 2018_04'!$L:$L,0),FALSE),IFERROR(MATCH(TRIM($G57),'Transparency List 2018_04'!$D:$D,0),FALSE)),\"On the 2018_04 List\",\"-\")","v":"-"},{"$f":"IF(OR(IFERROR(MATCH($D57,'Transparency List 2017'!$L:$L,0),FALSE),IFERROR(MATCH(TRIM($G57),'Transparency List 2017'!$C:$C,0),FALSE)),\"On the 2017 List\",\"-\")","v":"-"},{"$f":"IF(OR(IFERROR(MATCH($D57,'Transparency List 2015'!$H:$H,0),FALSE),IFERROR(MATCH(TRIM($G57),'Transparency List 2015'!$C:$C,0),FALSE)),\"On the 2015 List\",\"-\")","v":"-"}]
[null,null,4,"",null,null,null,"-",{"$f":"IF(OR(IFERROR(MATCH($D58,'Transparency List 2018_10'!$L:$L,0),FALSE),IFERROR(MATCH(TRIM($G58),'Transparency List 2018_10'!$D:$D,0),FALSE)),\"On the 2018_10 List\",\"-\")","v":"-"},{"$f":"IF(OR(IFERROR(MATCH($D58,'Transparency List 2018_04'!$L:$L,0),FALSE),IFERROR(MATCH(TRIM($G58),'Transparency List 2018_04'!$D:$D,0),FALSE)),\"On the 2018_04 List\",\"-\")","v":"-"},{"$f":"IF(OR(IFERROR(MATCH($D58,'Transparency List 2017'!$L:$L,0),FALSE),IFERROR(MATCH(TRIM($G58),'Transparency List 2017'!$C:$C,0),FALSE)),\"On the 2017 List\",\"-\")","v":"-"},{"$f":"IF(OR(IFERROR(MATCH($D58,'Transparency List 2015'!$H:$H,0),FALSE),IFERROR(MATCH(TRIM($G58),'Transparency List 2015'!$C:$C,0),FALSE)),\"On the 2015 List\",\"-\")","v":"-"}]
[null,null,4,"",null,null,null,"-",{"$f":"IF(OR(IFERROR(MATCH($D59,'Transparency List 2018_10'!$L:$L,0),FALSE),IFERROR(MATCH(TRIM($G59),'Transparency List 2018_10'!$D:$D,0),FALSE)),\"On the 2018_10 List\",\"-\")","v":"-"},{"$f":"IF(OR(IFERROR(MATCH($D59,'Transparency List 2018_04'!$L:$L,0),FALSE),IFERROR(MATCH(TRIM($G59),'Transparency List 2018_04'!$D:$D,0),FALSE)),\"On the 2018_04 List\",\"-\")","v":"-"},{"$f":"IF(OR(IFERROR(MATCH($D59,'Transparency List 2017'!$L:$L,0),FALSE),IFERROR(MATCH(TRIM($G59),'Transparency List 2017'!$C:$C,0),FALSE)),\"On the 2017 List\",\"-\")","v":"-"},{"$f":"IF(OR(IFERROR(MATCH($D59,'Transparency List 2015'!$H:$H,0),FALSE),IFERROR(MATCH(TRIM($G59),'Transparency List 2015'!$C:$C,0),FALSE)),\"On the 2015 List\",\"-\")","v":"-"}]
[null,null,4,"",null,null,null,"-",{"$f":"IF(OR(IFERROR(MATCH($D60,'Transparency List 2018_10'!$L:$L,0),FALSE),IFERROR(MATCH(TRIM($G60),'Transparency List 2018_10'!$D:$D,0),FALSE)),\"On the 2018_10 List\",\"-\")","v":"-"},{"$f":"IF(OR(IFERROR(MATCH($D60,'Transparency List 2018_04'!$L:$L,0),FALSE),IFERROR(MATCH(TRIM($G60),'Transparency List 2018_04'!$D:$D,0),FALSE)),\"On the 2018_04 List\",\"-\")","v":"-"},{"$f":"IF(OR(IFERROR(MATCH($D60,'Transparency List 2017'!$L:$L,0),FALSE),IFERROR(MATCH(TRIM($G60),'Transparency List 2017'!$C:$C,0),FALSE)),\"On the 2017 List\",\"-\")","v":"-"},{"$f":"IF(OR(IFERROR(MATCH($D60,'Transparency List 2015'!$H:$H,0),FALSE),IFERROR(MATCH(TRIM($G60),'Transparency List 2015'!$C:$C,0),FALSE)),\"On the 2015 List\",\"-\")","v":"-"}]
[null,null,4,"",null,null,null,"-",{"$f":"IF(OR(IFERROR(MATCH($D61,'Transparency List 2018_10'!$L:$L,0),FALSE),IFERROR(MATCH(TRIM($G61),'Transparency List 2018_10'!$D:$D,0),FALSE)),\"On the 2018_10 List\",\"-\")","v":"-"},{"$f":"IF(OR(IFERROR(MATCH($D61,'Transparency List 2018_04'!$L:$L,0),FALSE),IFERROR(MATCH(TRIM($G61),'Transparency List 2018_04'!$D:$D,0),FALSE)),\"On the 2018_04 List\",\"-\")","v":"-"},{"$f":"IF(OR(IFERROR(MATCH($D61,'Transparency List 2017'!$L:$L,0),FALSE),IFERROR(MATCH(TRIM($G61),'Transparency List 2017'!$C:$C,0),FALSE)),\"On the 2017 List\",\"-\")","v":"-"},{"$f":"IF(OR(IFERROR(MATCH($D61,'Transparency List 2015'!$H:$H,0),FALSE),IFERROR(MATCH(TRIM($G61),'Transparency List 2015'!$C:$C,0),FALSE)),\"On the 2015 List\",\"-\")","v":"-"}]
[null,null,4,"",null,null,null,"-",{"$f":"IF(OR(IFERROR(MATCH($D62,'Transparency List 2018_10'!$L:$L,0),FALSE),IFERROR(MATCH(TRIM($G62),'Transparency List 2018_10'!$D:$D,0),FALSE)),\"On the 2018_10 List\",\"-\")","v":"-"},{"$f":"IF(OR(IFERROR(MATCH($D62,'Transparency List 2018_04'!$L:$L,0),FALSE),IFERROR(MATCH(TRIM($G62),'Transparency List 2018_04'!$D:$D,0),FALSE)),\"On the 2018_04 List\",\"-\")","v":"-"},{"$f":"IF(OR(IFERROR(MATCH($D62,'Transparency List 2017'!$L:$L,0),FALSE),IFERROR(MATCH(TRIM($G62),'Transparency List 2017'!$C:$C,0),FALSE)),\"On the 2017 List\",\"-\")","v":"-"},{"$f":"IF(OR(IFERROR(MATCH($D62,'Transparency List 2015'!$H:$H,0),FALSE),IFERROR(MATCH(TRIM($G62),'Transparency List 2015'!$C:$C,0),FALSE)),\"On the 2015 List\",\"-\")","v":"-"}]
[null,null,4,"",null,null,null,"-",{"$f":"IF(OR(IFERROR(MATCH($D63,'Transparency List 2018_10'!$L:$L,0),FALSE),IFERROR(MATCH(TRIM($G63),'Transparency List 2018_10'!$D:$D,0),FALSE)),\"On the 2018_10 List\",\"-\")","v":"-"},{"$f":"IF(OR(IFERROR(MATCH($D63,'Transparency List 2018_04'!$L:$L,0),FALSE),IFERROR(MATCH(TRIM($G63),'Transparency List 2018_04'!$D:$D,0),FALSE)),\"On the 2018_04 List\",\"-\")","v":"-"},{"$f":"IF(OR(IFERROR(MATCH($D63,'Transparency List 2017'!$L:$L,0),FALSE),IFERROR(MATCH(TRIM($G63),'Transparency List 2017'!$C:$C,0),FALSE)),\"On the 2017 List\",\"-\")","v":"-"},{"$f":"IF(OR(IFERROR(MATCH($D63,'Transparency List 2015'!$H:$H,0),FALSE),IFERROR(MATCH(TRIM($G63),'Transparency List 2015'!$C:$C,0),FALSE)),\"On the 2015 List\",\"-\")","v":"-"}]
[null,null,4,"",null,null,null,"-",{"$f":"IF(OR(IFERROR(MATCH($D64,'Transparency List 2018_10'!$L:$L,0),FALSE),IFERROR(MATCH(TRIM($G64),'Transparency List 2018_10'!$D:$D,0),FALSE)),\"On the 2018_10 List\",\"-\")","v":"-"},{"$f":"IF(OR(IFERROR(MATCH($D64,'Transparency List 2018_04'!$L:$L,0),FALSE),IFERROR(MATCH(TRIM($G64),'Transparency List 2018_04'!$D:$D,0),FALSE)),\"On the 2018_04 List\",\"-\")","v":"-"},{"$f":"IF(OR(IFERROR(MATCH($D64,'Transparency List 2017'!$L:$L,0),FALSE),IFERROR(MATCH(TRIM($G64),'Transparency List 2017'!$C:$C,0),FALSE)),\"On the 2017 List\",\"-\")","v":"-"},{"$f":"IF(OR(IFERROR(MATCH($D64,'Transparency List 2015'!$H:$H,0),FALSE),IFERROR(MATCH(TRIM($G64),'Transparency List 2015'!$C:$C,0),FALSE)),\"On the 2015 List\",\"-\")","v":"-"}]
[null,null,4,"",null,null,null,"-",{"$f":"IF(OR(IFERROR(MATCH($D65,'Transparency List 2018_10'!$L:$L,0),FALSE),IFERROR(MATCH(TRIM($G65),'Transparency List 2018_10'!$D:$D,0),FALSE)),\"On the 2018_10 List\",\"-\")","v":"-"},{"$f":"IF(OR(IFERROR(MATCH($D65,'Transparency List 2018_04'!$L:$L,0),FALSE),IFERROR(MATCH(TRIM($G65),'Transparency List 2018_04'!$D:$D,0),FALSE)),\"On the 2018_04 List\",\"-\")","v":"-"},{"$f":"IF(OR(IFERROR(MATCH($D65,'Transparency List 2017'!$L:$L,0),FALSE),IFERROR(MATCH(TRIM($G65),'Transparency List 2017'!$C:$C,0),FALSE)),\"On the 2017 List\",\"-\")","v":"-"},{"$f":"IF(OR(IFERROR(MATCH($D65,'Transparency List 2015'!$H:$H,0),FALSE),IFERROR(MATCH(TRIM($G65),'Transparency List 2015'!$C:$C,0),FALSE)),\"On the 2015 List\",\"-\")","v":"-"}]
[null,null,4,"",null,null,null,"-",{"$f":"IF(OR(IFERROR(MATCH($D66,'Transparency List 2018_10'!$L:$L,0),FALSE),IFERROR(MATCH(TRIM($G66),'Transparency List 2018_10'!$D:$D,0),FALSE)),\"On the 2018_10 List\",\"-\")","v":"-"},{"$f":"IF(OR(IFERROR(MATCH($D66,'Transparency List 2018_04'!$L:$L,0),FALSE),IFERROR(MATCH(TRIM($G66),'Transparency List 2018_04'!$D:$D,0),FALSE)),\"On the 2018_04 List\",\"-\")","v":"-"},{"$f":"IF(OR(IFERROR(MATCH($D66,'Transparency List 2017'!$L:$L,0),FALSE),IFERROR(MATCH(TRIM($G66),'Transparency List 2017'!$C:$C,0),FALSE)),\"On the 2017 List\",\"-\")","v":"-"},{"$f":"IF(OR(IFERROR(MATCH($D66,'Transparency List 2015'!$H:$H,0),FALSE),IFERROR(MATCH(TRIM($G66),'Transparency List 2015'!$C:$C,0),FALSE)),\"On the 2015 List\",\"-\")","v":"-"}]
[null,null,4,"",null,null,null,"-",{"$f":"IF(OR(IFERROR(MATCH($D67,'Transparency List 2018_10'!$L:$L,0),FALSE),IFERROR(MATCH(TRIM($G67),'Transparency List 2018_10'!$D:$D,0),FALSE)),\"On the 2018_10 List\",\"-\")","v":"-"},{"$f":"IF(OR(IFERROR(MATCH($D67,'Transparency List 2018_04'!$L:$L,0),FALSE),IFERROR(MATCH(TRIM($G67),'Transparency List 2018_04'!$D:$D,0),FALSE)),\"On the 2018_04 List\",\"-\")","v":"-"},{"$f":"IF(OR(IFERROR(MATCH($D67,'Transparency List 2017'!$L:$L,0),FALSE),IFERROR(MATCH(TRIM($G67),'Transparency List 2017'!$C:$C,0),FALSE)),\"On the 2017 List\",\"-\")","v":"-"},{"$f":"IF(OR(IFERROR(MATCH($D67,'Transparency List 2015'!$H:$H,0),FALSE),IFERROR(MATCH(TRIM($G67),'Transparency List 2015'!$C:$C,0),FALSE)),\"On the 2015 List\",\"-\")","v":"-"}]
[null,null,4,"",null,null,null,"-",{"$f":"IF(OR(IFERROR(MATCH($D68,'Transparency List 2018_10'!$L:$L,0),FALSE),IFERROR(MATCH(TRIM($G68),'Transparency List 2018_10'!$D:$D,0),FALSE)),\"On the 2018_10 List\",\"-\")","v":"-"},{"$f":"IF(OR(IFERROR(MATCH($D68,'Transparency List 2018_04'!$L:$L,0),FALSE),IFERROR(MATCH(TRIM($G68),'Transparency List 2018_04'!$D:$D,0),FALSE)),\"On the 2018_04 List\",\"-\")","v":"-"},{"$f":"IF(OR(IFERROR(MATCH($D68,'Transparency List 2017'!$L:$L,0),FALSE),IFERROR(MATCH(TRIM($G68),'Transparency List 2017'!$C:$C,0),FALSE)),\"On the 2017 List\",\"-\")","v":"-"},{"$f":"IF(OR(IFERROR(MATCH($D68,'Transparency List 2015'!$H:$H,0),FALSE),IFERROR(MATCH(TRIM($G68),'Transparency List 2015'!$C:$C,0),FALSE)),\"On the 2015 List\",\"-\")","v":"-"}]
[null,null,4,"",null,null,null,"-",{"$f":"IF(OR(IFERROR(MATCH($D69,'Transparency List 2018_10'!$L:$L,0),FALSE),IFERROR(MATCH(TRIM($G69),'Transparency List 2018_10'!$D:$D,0),FALSE)),\"On the 2018_10 List\",\"-\")","v":"-"},{"$f":"IF(OR(IFERROR(MATCH($D69,'Transparency List 2018_04'!$L:$L,0),FALSE),IFERROR(MATCH(TRIM($G69),'Transparency List 2018_04'!$D:$D,0),FALSE)),\"On the 2018_04 List\",\"-\")","v":"-"},{"$f":"IF(OR(IFERROR(MATCH($D69,'Transparency List 2017'!$L:$L,0),FALSE),IFERROR(MATCH(TRIM($G69),'Transparency List 2017'!$C:$C,0),FALSE)),\"On the 2017 List\",\"-\")","v":"-"},{"$f":"IF(OR(IFERROR(MATCH($D69,'Transparency List 2015'!$H:$H,0),FALSE),IFERROR(MATCH(TRIM($G69),'Transparency List 2015'!$C:$C,0),FALSE)),\"On the 2015 List\",\"-\")","v":"-"}]
[null,null,4,"",null,null,null,"-",{"$f":"IF(OR(IFERROR(MATCH($D70,'Transparency List 2018_10'!$L:$L,0),FALSE),IFERROR(MATCH(TRIM($G70),'Transparency List 2018_10'!$D:$D,0),FALSE)),\"On the 2018_10 List\",\"-\")","v":"-"},{"$f":"IF(OR(IFERROR(MATCH($D70,'Transparency List 2018_04'!$L:$L,0),FALSE),IFERROR(MATCH(TRIM($G70),'Transparency List 2018_04'!$D:$D,0),FALSE)),\"On the 2018_04 List\",\"-\")","v":"-"},{"$f":"IF(OR(IFERROR(MATCH($D70,'Transparency List 2017'!$L:$L,0),FALSE),IFERROR(MATCH(TRIM($G70),'Transparency List 2017'!$C:$C,0),FALSE)),\"On the 2017 List\",\"-\")","v":"-"},{"$f":"IF(OR(IFERROR(MATCH($D70,'Transparency List 2015'!$H:$H,0),FALSE),IFERROR(MATCH(TRIM($G70),'Transparency List 2015'!$C:$C,0),FALSE)),\"On the 2015 List\",\"-\")","v":"-"}]
[null,null,4,"",null,null,null,"-",{"$f":"IF(OR(IFERROR(MATCH($D71,'Transparency List 2018_10'!$L:$L,0),FALSE),IFERROR(MATCH(TRIM($G71),'Transparency List 2018_10'!$D:$D,0),FALSE)),\"On the 2018_10 List\",\"-\")","v":"-"},{"$f":"IF(OR(IFERROR(MATCH($D71,'Transparency List 2018_04'!$L:$L,0),FALSE),IFERROR(MATCH(TRIM($G71),'Transparency List 2018_04'!$D:$D,0),FALSE)),\"On the 2018_04 List\",\"-\")","v":"-"},{"$f":"IF(OR(IFERROR(MATCH($D71,'Transparency List 2017'!$L:$L,0),FALSE),IFERROR(MATCH(TRIM($G71),'Transparency List 2017'!$C:$C,0),FALSE)),\"On the 2017 List\",\"-\")","v":"-"},{"$f":"IF(OR(IFERROR(MATCH($D71,'Transparency List 2015'!$H:$H,0),FALSE),IFERROR(MATCH(TRIM($G71),'Transparency List 2015'!$C:$C,0),FALSE)),\"On the 2015 List\",\"-\")","v":"-"}]
[null,null,4,"",null,null,null,"-",{"$f":"IF(OR(IFERROR(MATCH($D72,'Transparency List 2018_10'!$L:$L,0),FALSE),IFERROR(MATCH(TRIM($G72),'Transparency List 2018_10'!$D:$D,0),FALSE)),\"On the 2018_10 List\",\"-\")","v":"-"},{"$f":"IF(OR(IFERROR(MATCH($D72,'Transparency List 2018_04'!$L:$L,0),FALSE),IFERROR(MATCH(TRIM($G72),'Transparency List 2018_04'!$D:$D,0),FALSE)),\"On the 2018_04 List\",\"-\")","v":"-"},{"$f":"IF(OR(IFERROR(MATCH($D72,'Transparency List 2017'!$L:$L,0),FALSE),IFERROR(MATCH(TRIM($G72),'Transparency List 2017'!$C:$C,0),FALSE)),\"On the 2017 List\",\"-\")","v":"-"},{"$f":"IF(OR(IFERROR(MATCH($D72,'Transparency List 2015'!$H:$H,0),FALSE),IFERROR(MATCH(TRIM($G72),'Transparency List 2015'!$C:$C,0),FALSE)),\"On the 2015 List\",\"-\")","v":"-"}]
[null,null,4,"",null,null,null,"-",{"$f":"IF(OR(IFERROR(MATCH($D73,'Transparency List 2018_10'!$L:$L,0),FALSE),IFERROR(MATCH(TRIM($G73),'Transparency List 2018_10'!$D:$D,0),FALSE)),\"On the 2018_10 List\",\"-\")","v":"-"},{"$f":"IF(OR(IFERROR(MATCH($D73,'Transparency List 2018_04'!$L:$L,0),FALSE),IFERROR(MATCH(TRIM($G73),'Transparency List 2018_04'!$D:$D,0),FALSE)),\"On the 2018_04 List\",\"-\")","v":"-"},{"$f":"IF(OR(IFERROR(MATCH($D73,'Transparency List 2017'!$L:$L,0),FALSE),IFERROR(MATCH(TRIM($G73),'Transparency List 2017'!$C:$C,0),FALSE)),\"On the 2017 List\",\"-\")","v":"-"},{"$f":"IF(OR(IFERROR(MATCH($D73,'Transparency List 2015'!$H:$H,0),FALSE),IFERROR(MATCH(TRIM($G73),'Transparency List 2015'!$C:$C,0),FALSE)),\"On the 2015 List\",\"-\")","v":"-"}]
[null,null,4,"",null,null,null,"-",{"$f":"IF(OR(IFERROR(MATCH($D74,'Transparency List 2018_10'!$L:$L,0),FALSE),IFERROR(MATCH(TRIM($G74),'Transparency List 2018_10'!$D:$D,0),FALSE)),\"On the 2018_10 List\",\"-\")","v":"-"},{"$f":"IF(OR(IFERROR(MATCH($D74,'Transparency List 2018_04'!$L:$L,0),FALSE),IFERROR(MATCH(TRIM($G74),'Transparency List 2018_04'!$D:$D,0),FALSE)),\"On the 2018_04 List\",\"-\")","v":"-"},{"$f":"IF(OR(IFERROR(MATCH($D74,'Transparency List 2017'!$L:$L,0),FALSE),IFERROR(MATCH(TRIM($G74),'Transparency List 2017'!$C:$C,0),FALSE)),\"On the 2017 List\",\"-\")","v":"-"},{"$f":"IF(OR(IFERROR(MATCH($D74,'Transparency List 2015'!$H:$H,0),FALSE),IFERROR(MATCH(TRIM($G74),'Transparency List 2015'!$C:$C,0),FALSE)),\"On the 2015 List\",\"-\")","v":"-"}]
[null,null,4,"",null,null,null,"-",{"$f":"IF(OR(IFERROR(MATCH($D75,'Transparency List 2018_10'!$L:$L,0),FALSE),IFERROR(MATCH(TRIM($G75),'Transparency List 2018_10'!$D:$D,0),FALSE)),\"On the 2018_10 List\",\"-\")","v":"-"},{"$f":"IF(OR(IFERROR(MATCH($D75,'Transparency List 2018_04'!$L:$L,0),FALSE),IFERROR(MATCH(TRIM($G75),'Transparency List 2018_04'!$D:$D,0),FALSE)),\"On the 2018_04 List\",\"-\")","v":"-"},{"$f":"IF(OR(IFERROR(MATCH($D75,'Transparency List 2017'!$L:$L,0),FALSE),IFERROR(MATCH(TRIM($G75),'Transparency List 2017'!$C:$C,0),FALSE)),\"On the 2017 List\",\"-\")","v":"-"},{"$f":"IF(OR(IFERROR(MATCH($D75,'Transparency List 2015'!$H:$H,0),FALSE),IFERROR(MATCH(TRIM($G75),'Transparency List 2015'!$C:$C,0),FALSE)),\"On the 2015 List\",\"-\")","v":"-"}]
[null,null,4,"",null,null,null,"-",{"$f":"IF(OR(IFERROR(MATCH($D76,'Transparency List 2018_10'!$L:$L,0),FALSE),IFERROR(MATCH(TRIM($G76),'Transparency List 2018_10'!$D:$D,0),FALSE)),\"On the 2018_10 List\",\"-\")","v":"-"},{"$f":"IF(OR(IFERROR(MATCH($D76,'Transparency List 2018_04'!$L:$L,0),FALSE),IFERROR(MATCH(TRIM($G76),'Transparency List 2018_04'!$D:$D,0),FALSE)),\"On the 2018_04 List\",\"-\")","v":"-"},{"$f":"IF(OR(IFERROR(MATCH($D76,'Transparency List 2017'!$L:$L,0),FALSE),IFERROR(MATCH(TRIM($G76),'Transparency List 2017'!$C:$C,0),FALSE)),\"On the 2017 List\",\"-\")","v":"-"},{"$f":"IF(OR(IFERROR(MATCH($D76,'Transparency List 2015'!$H:$H,0),FALSE),IFERROR(MATCH(TRIM($G76),'Transparency List 2015'!$C:$C,0),FALSE)),\"On the 2015 List\",\"-\")","v":"-"}]
[null,null,4,"",null,null,null,"-",{"$f":"IF(OR(IFERROR(MATCH($D77,'Transparency List 2018_10'!$L:$L,0),FALSE),IFERROR(MATCH(TRIM($G77),'Transparency List 2018_10'!$D:$D,0),FALSE)),\"On the 2018_10 List\",\"-\")","v":"-"},{"$f":"IF(OR(IFERROR(MATCH($D77,'Transparency List 2018_04'!$L:$L,0),FALSE),IFERROR(MATCH(TRIM($G77),'Transparency List 2018_04'!$D:$D,0),FALSE)),\"On the 2018_04 List\",\"-\")","v":"-"},{"$f":"IF(OR(IFERROR(MATCH($D77,'Transparency List 2017'!$L:$L,0),FALSE),IFERROR(MATCH(TRIM($G77),'Transparency List 2017'!$C:$C,0),FALSE)),\"On the 2017 List\",\"-\")","v":"-"},{"$f":"IF(OR(IFERROR(MATCH($D77,'Transparency List 2015'!$H:$H,0),FALSE),IFERROR(MATCH(TRIM($G77),'Transparency List 2015'!$C:$C,0),FALSE)),\"On the 2015 List\",\"-\")","v":"-"}]
[null,null,4,"",null,null,null,"-",{"$f":"IF(OR(IFERROR(MATCH($D78,'Transparency List 2018_10'!$L:$L,0),FALSE),IFERROR(MATCH(TRIM($G78),'Transparency List 2018_10'!$D:$D,0),FALSE)),\"On the 2018_10 List\",\"-\")","v":"-"},{"$f":"IF(OR(IFERROR(MATCH($D78,'Transparency List 2018_04'!$L:$L,0),FALSE),IFERROR(MATCH(TRIM($G78),'Transparency List 2018_04'!$D:$D,0),FALSE)),\"On the 2018_04 List\",\"-\")","v":"-"},{"$f":"IF(OR(IFERROR(MATCH($D78,'Transparency List 2017'!$L:$L,0),FALSE),IFERROR(MATCH(TRIM($G78),'Transparency List 2017'!$C:$C,0),FALSE)),\"On the 2017 List\",\"-\")","v":"-"},{"$f":"IF(OR(IFERROR(MATCH($D78,'Transparency List 2015'!$H:$H,0),FALSE),IFERROR(MATCH(TRIM($G78),'Transparency List 2015'!$C:$C,0),FALSE)),\"On the 2015 List\",\"-\")","v":"-"}]
[null,null,4,"",null,null,null,"-",{"$f":"IF(OR(IFERROR(MATCH($D79,'Transparency List 2018_10'!$L:$L,0),FALSE),IFERROR(MATCH(TRIM($G79),'Transparency List 2018_10'!$D:$D,0),FALSE)),\"On the 2018_10 List\",\"-\")","v":"-"},{"$f":"IF(OR(IFERROR(MATCH($D79,'Transparency List 2018_04'!$L:$L,0),FALSE),IFERROR(MATCH(TRIM($G79),'Transparency List 2018_04'!$D:$D,0),FALSE)),\"On the 2018_04 List\",\"-\")","v":"-"},{"$f":"IF(OR(IFERROR(MATCH($D79,'Transparency List 2017'!$L:$L,0),FALSE),IFERROR(MATCH(TRIM($G79),'Transparency List 2017'!$C:$C,0),FALSE)),\"On the 2017 List\",\"-\")","v":"-"},{"$f":"IF(OR(IFERROR(MATCH($D79,'Transparency List 2015'!$H:$H,0),FALSE),IFERROR(MATCH(TRIM($G79),'Transparency List 2015'!$C:$C,0),FALSE)),\"On the 2015 List\",\"-\")","v":"-"}]
[null,null,4,"",null,null,null,"-",{"$f":"IF(OR(IFERROR(MATCH($D80,'Transparency List 2018_10'!$L:$L,0),FALSE),IFERROR(MATCH(TRIM($G80),'Transparency List 2018_10'!$D:$D,0),FALSE)),\"On the 2018_10 List\",\"-\")","v":"-"},{"$f":"IF(OR(IFERROR(MATCH($D80,'Transparency List 2018_04'!$L:$L,0),FALSE),IFERROR(MATCH(TRIM($G80),'Transparency List 2018_04'!$D:$D,0),FALSE)),\"On the 2018_04 List\",\"-\")","v":"-"},{"$f":"IF(OR(IFERROR(MATCH($D80,'Transparency List 2017'!$L:$L,0),FALSE),IFERROR(MATCH(TRIM($G80),'Transparency List 2017'!$C:$C,0),FALSE)),\"On the 2017 List\",\"-\")","v":"-"},{"$f":"IF(OR(IFERROR(MATCH($D80,'Transparency List 2015'!$H:$H,0),FALSE),IFERROR(MATCH(TRIM($G80),'Transparency List 2015'!$C:$C,0),FALSE)),\"On the 2015 List\",\"-\")","v":"-"}]
[null,null,4,"",null,null,null,"-",{"$f":"IF(OR(IFERROR(MATCH($D81,'Transparency List 2018_10'!$L:$L,0),FALSE),IFERROR(MATCH(TRIM($G81),'Transparency List 2018_10'!$D:$D,0),FALSE)),\"On the 2018_10 List\",\"-\")","v":"-"},{"$f":"IF(OR(IFERROR(MATCH($D81,'Transparency List 2018_04'!$L:$L,0),FALSE),IFERROR(MATCH(TRIM($G81),'Transparency List 2018_04'!$D:$D,0),FALSE)),\"On the 2018_04 List\",\"-\")","v":"-"},{"$f":"IF(OR(IFERROR(MATCH($D81,'Transparency List 2017'!$L:$L,0),FALSE),IFERROR(MATCH(TRIM($G81),'Transparency List 2017'!$C:$C,0),FALSE)),\"On the 2017 List\",\"-\")","v":"-"},{"$f":"IF(OR(IFERROR(MATCH($D81,'Transparency List 2015'!$H:$H,0),FALSE),IFERROR(MATCH(TRIM($G81),'Transparency List 2015'!$C:$C,0),FALSE)),\"On the 2015 List\",\"-\")","v":"-"}]
[null,null,4,"",null,null,null,"-",{"$f":"IF(OR(IFERROR(MATCH($D82,'Transparency List 2018_10'!$L:$L,0),FALSE),IFERROR(MATCH(TRIM($G82),'Transparency List 2018_10'!$D:$D,0),FALSE)),\"On the 2018_10 List\",\"-\")","v":"-"},{"$f":"IF(OR(IFERROR(MATCH($D82,'Transparency List 2018_04'!$L:$L,0),FALSE),IFERROR(MATCH(TRIM($G82),'Transparency List 2018_04'!$D:$D,0),FALSE)),\"On the 2018_04 List\",\"-\")","v":"-"},{"$f":"IF(OR(IFERROR(MATCH($D82,'Transparency List 2017'!$L:$L,0),FALSE),IFERROR(MATCH(TRIM($G82),'Transparency List 2017'!$C:$C,0),FALSE)),\"On the 2017 List\",\"-\")","v":"-"},{"$f":"IF(OR(IFERROR(MATCH($D82,'Transparency List 2015'!$H:$H,0),FALSE),IFERROR(MATCH(TRIM($G82),'Transparency List 2015'!$C:$C,0),FALSE)),\"On the 2015 List\",\"-\")","v":"-"}]
[null,null,4,"",null,null,null,"-",{"$f":"IF(OR(IFERROR(MATCH($D83,'Transparency List 2018_10'!$L:$L,0),FALSE),IFERROR(MATCH(TRIM($G83),'Transparency List 2018_10'!$D:$D,0),FALSE)),\"On the 2018_10 List\",\"-\")","v":"-"},{"$f":"IF(OR(IFERROR(MATCH($D83,'Transparency List 2018_04'!$L:$L,0),FALSE),IFERROR(MATCH(TRIM($G83),'Transparency List 2018_04'!$D:$D,0),FALSE)),\"On the 2018_04 List\",\"-\")","v":"-"},{"$f":"IF(OR(IFERROR(MATCH($D83,'Transparency List 2017'!$L:$L,0),FALSE),IFERROR(MATCH(TRIM($G83),'Transparency List 2017'!$C:$C,0),FALSE)),\"On the 2017 List\",\"-\")","v":"-"},{"$f":"IF(OR(IFERROR(MATCH($D83,'Transparency List 2015'!$H:$H,0),FALSE),IFERROR(MATCH(TRIM($G83),'Transparency List 2015'!$C:$C,0),FALSE)),\"On the 2015 List\",\"-\")","v":"-"}]
[null,null,4,"",null,null,null,"-",{"$f":"IF(OR(IFERROR(MATCH($D84,'Transparency List 2018_10'!$L:$L,0),FALSE),IFERROR(MATCH(TRIM($G84),'Transparency List 2018_10'!$D:$D,0),FALSE)),\"On the 2018_10 List\",\"-\")","v":"-"},{"$f":"IF(OR(IFERROR(MATCH($D84,'Transparency List 2018_04'!$L:$L,0),FALSE),IFERROR(MATCH(TRIM($G84),'Transparency List 2018_04'!$D:$D,0),FALSE)),\"On the 2018_04 List\",\"-\")","v":"-"},{"$f":"IF(OR(IFERROR(MATCH($D84,'Transparency List 2017'!$L:$L,0),FALSE),IFERROR(MATCH(TRIM($G84),'Transparency List 2017'!$C:$C,0),FALSE)),\"On the 2017 List\",\"-\")","v":"-"},{"$f":"IF(OR(IFERROR(MATCH($D84,'Transparency List 2015'!$H:$H,0),FALSE),IFERROR(MATCH(TRIM($G84),'Transparency List 2015'!$C:$C,0),FALSE)),\"On the 2015 List\",\"-\")","v":"-"}]
[null,null,4,"",null,null,null,"-",{"$f":"IF(OR(IFERROR(MATCH($D85,'Transparency List 2018_10'!$L:$L,0),FALSE),IFERROR(MATCH(TRIM($G85),'Transparency List 2018_10'!$D:$D,0),FALSE)),\"On the 2018_10 List\",\"-\")","v":"-"},{"$f":"IF(OR(IFERROR(MATCH($D85,'Transparency List 2018_04'!$L:$L,0),FALSE),IFERROR(MATCH(TRIM($G85),'Transparency List 2018_04'!$D:$D,0),FALSE)),\"On the 2018_04 List\",\"-\")","v":"-"},{"$f":"IF(OR(IFERROR(MATCH($D85,'Transparency List 2017'!$L:$L,0),FALSE),IFERROR(MATCH(TRIM($G85),'Transparency List 2017'!$C:$C,0),FALSE)),\"On the 2017 List\",\"-\")","v":"-"},{"$f":"IF(OR(IFERROR(MATCH($D85,'Transparency List 2015'!$H:$H,0),FALSE),IFERROR(MATCH(TRIM($G85),'Transparency List 2015'!$C:$C,0),FALSE)),\"On the 2015 List\",\"-\")","v":"-"}]
[null,null,4,"",null,null,null,"-",{"$f":"IF(OR(IFERROR(MATCH($D86,'Transparency List 2018_10'!$L:$L,0),FALSE),IFERROR(MATCH(TRIM($G86),'Transparency List 2018_10'!$D:$D,0),FALSE)),\"On the 2018_10 List\",\"-\")","v":"-"},{"$f":"IF(OR(IFERROR(MATCH($D86,'Transparency List 2018_04'!$L:$L,0),FALSE),IFERROR(MATCH(TRIM($G86),'Transparency List 2018_04'!$D:$D,0),FALSE)),\"On the 2018_04 List\",\"-\")","v":"-"},{"$f":"IF(OR(IFERROR(MATCH($D86,'Transparency List 2017'!$L:$L,0),FALSE),IFERROR(MATCH(TRIM($G86),'Transparency List 2017'!$C:$C,0),FALSE)),\"On the 2017 List\",\"-\")","v":"-"},{"$f":"IF(OR(IFERROR(MATCH($D86,'Transparency List 2015'!$H:$H,0),FALSE),IFERROR(MATCH(TRIM($G86),'Transparency List 2015'!$C:$C,0),FALSE)),\"On the 2015 List\",\"-\")","v":"-"}]
[null,null,4,"",null,null,null,"-",{"$f":"IF(OR(IFERROR(MATCH($D87,'Transparency List 2018_10'!$L:$L,0),FALSE),IFERROR(MATCH(TRIM($G87),'Transparency List 2018_10'!$D:$D,0),FALSE)),\"On the 2018_10 List\",\"-\")","v":"-"},{"$f":"IF(OR(IFERROR(MATCH($D87,'Transparency List 2018_04'!$L:$L,0),FALSE),IFERROR(MATCH(TRIM($G87),'Transparency List 2018_04'!$D:$D,0),FALSE)),\"On the 2018_04 List\",\"-\")","v":"-"},{"$f":"IF(OR(IFERROR(MATCH($D87,'Transparency List 2017'!$L:$L,0),FALSE),IFERROR(MATCH(TRIM($G87),'Transparency List 2017'!$C:$C,0),FALSE)),\"On the 2017 List\",\"-\")","v":"-"},{"$f":"IF(OR(IFERROR(MATCH($D87,'Transparency List 2015'!$H:$H,0),FALSE),IFERROR(MATCH(TRIM($G87),'Transparency List 2015'!$C:$C,0),FALSE)),\"On the 2015 List\",\"-\")","v":"-"}]
[null,null,4,"",null,null,null,"-",{"$f":"IF(OR(IFERROR(MATCH($D88,'Transparency List 2018_10'!$L:$L,0),FALSE),IFERROR(MATCH(TRIM($G88),'Transparency List 2018_10'!$D:$D,0),FALSE)),\"On the 2018_10 List\",\"-\")","v":"-"},{"$f":"IF(OR(IFERROR(MATCH($D88,'Transparency List 2018_04'!$L:$L,0),FALSE),IFERROR(MATCH(TRIM($G88),'Transparency List 2018_04'!$D:$D,0),FALSE)),\"On the 2018_04 List\",\"-\")","v":"-"},{"$f":"IF(OR(IFERROR(MATCH($D88,'Transparency List 2017'!$L:$L,0),FALSE),IFERROR(MATCH(TRIM($G88),'Transparency List 2017'!$C:$C,0),FALSE)),\"On the 2017 List\",\"-\")","v":"-"},{"$f":"IF(OR(IFERROR(MATCH($D88,'Transparency List 2015'!$H:$H,0),FALSE),IFERROR(MATCH(TRIM($G88),'Transparency List 2015'!$C:$C,0),FALSE)),\"On the 2015 List\",\"-\")","v":"-"}]
[null,null,4,"",null,null,null,"-",{"$f":"IF(OR(IFERROR(MATCH($D89,'Transparency List 2018_10'!$L:$L,0),FALSE),IFERROR(MATCH(TRIM($G89),'Transparency List 2018_10'!$D:$D,0),FALSE)),\"On the 2018_10 List\",\"-\")","v":"-"},{"$f":"IF(OR(IFERROR(MATCH($D89,'Transparency List 2018_04'!$L:$L,0),FALSE),IFERROR(MATCH(TRIM($G89),'Transparency List 2018_04'!$D:$D,0),FALSE)),\"On the 2018_04 List\",\"-\")","v":"-"},{"$f":"IF(OR(IFERROR(MATCH($D89,'Transparency List 2017'!$L:$L,0),FALSE),IFERROR(MATCH(TRIM($G89),'Transparency List 2017'!$C:$C,0),FALSE)),\"On the 2017 List\",\"-\")","v":"-"},{"$f":"IF(OR(IFERROR(MATCH($D89,'Transparency List 2015'!$H:$H,0),FALSE),IFERROR(MATCH(TRIM($G89),'Transparency List 2015'!$C:$C,0),FALSE)),\"On the 2015 List\",\"-\")","v":"-"}]
[null,null,4,"",null,null,null,"-",{"$f":"IF(OR(IFERROR(MATCH($D90,'Transparency List 2018_10'!$L:$L,0),FALSE),IFERROR(MATCH(TRIM($G90),'Transparency List 2018_10'!$D:$D,0),FALSE)),\"On the 2018_10 List\",\"-\")","v":"-"},{"$f":"IF(OR(IFERROR(MATCH($D90,'Transparency List 2018_04'!$L:$L,0),FALSE),IFERROR(MATCH(TRIM($G90),'Transparency List 2018_04'!$D:$D,0),FALSE)),\"On the 2018_04 List\",\"-\")","v":"-"},{"$f":"IF(OR(IFERROR(MATCH($D90,'Transparency List 2017'!$L:$L,0),FALSE),IFERROR(MATCH(TRIM($G90),'Transparency List 2017'!$C:$C,0),FALSE)),\"On the 2017 List\",\"-\")","v":"-"},{"$f":"IF(OR(IFERROR(MATCH($D90,'Transparency List 2015'!$H:$H,0),FALSE),IFERROR(MATCH(TRIM($G90),'Transparency List 2015'!$C:$C,0),FALSE)),\"On the 2015 List\",\"-\")","v":"-"}]
[null,null,4,"",null,null,null,"-",{"$f":"IF(OR(IFERROR(MATCH($D91,'Transparency List 2018_10'!$L:$L,0),FALSE),IFERROR(MATCH(TRIM($G91),'Transparency List 2018_10'!$D:$D,0),FALSE)),\"On the 2018_10 List\",\"-\")","v":"-"},{"$f":"IF(OR(IFERROR(MATCH($D91,'Transparency List 2018_04'!$L:$L,0),FALSE),IFERROR(MATCH(TRIM($G91),'Transparency List 2018_04'!$D:$D,0),FALSE)),\"On the 2018_04 List\",\"-\")","v":"-"},{"$f":"IF(OR(IFERROR(MATCH($D91,'Transparency List 2017'!$L:$L,0),FALSE),IFERROR(MATCH(TRIM($G91),'Transparency List 2017'!$C:$C,0),FALSE)),\"On the 2017 List\",\"-\")","v":"-"},{"$f":"IF(OR(IFERROR(MATCH($D91,'Transparency List 2015'!$H:$H,0),FALSE),IFERROR(MATCH(TRIM($G91),'Transparency List 2015'!$C:$C,0),FALSE)),\"On the 2015 List\",\"-\")","v":"-"}]
[null,null,4,"",null,null,null,"-",{"$f":"IF(OR(IFERROR(MATCH($D92,'Transparency List 2018_10'!$L:$L,0),FALSE),IFERROR(MATCH(TRIM($G92),'Transparency List 2018_10'!$D:$D,0),FALSE)),\"On the 2018_10 List\",\"-\")","v":"-"},{"$f":"IF(OR(IFERROR(MATCH($D92,'Transparency List 2018_04'!$L:$L,0),FALSE),IFERROR(MATCH(TRIM($G92),'Transparency List 2018_04'!$D:$D,0),FALSE)),\"On the 2018_04 List\",\"-\")","v":"-"},{"$f":"IF(OR(IFERROR(MATCH($D92,'Transparency List 2017'!$L:$L,0),FALSE),IFERROR(MATCH(TRIM($G92),'Transparency List 2017'!$C:$C,0),FALSE)),\"On the 2017 List\",\"-\")","v":"-"},{"$f":"IF(OR(IFERROR(MATCH($D92,'Transparency List 2015'!$H:$H,0),FALSE),IFERROR(MATCH(TRIM($G92),'Transparency List 2015'!$C:$C,0),FALSE)),\"On the 2015 List\",\"-\")","v":"-"}]
[null,null,4,"",null,null,null,"-",{"$f":"IF(OR(IFERROR(MATCH($D93,'Transparency List 2018_10'!$L:$L,0),FALSE),IFERROR(MATCH(TRIM($G93),'Transparency List 2018_10'!$D:$D,0),FALSE)),\"On the 2018_10 List\",\"-\")","v":"-"},{"$f":"IF(OR(IFERROR(MATCH($D93,'Transparency List 2018_04'!$L:$L,0),FALSE),IFERROR(MATCH(TRIM($G93),'Transparency List 2018_04'!$D:$D,0),FALSE)),\"On the 2018_04 List\",\"-\")","v":"-"},{"$f":"IF(OR(IFERROR(MATCH($D93,'Transparency List 2017'!$L:$L,0),FALSE),IFERROR(MATCH(TRIM($G93),'Transparency List 2017'!$C:$C,0),FALSE)),\"On the 2017 List\",\"-\")","v":"-"},{"$f":"IF(OR(IFERROR(MATCH($D93,'Transparency List 2015'!$H:$H,0),FALSE),IFERROR(MATCH(TRIM($G93),'Transparency List 2015'!$C:$C,0),FALSE)),\"On the 2015 List\",\"-\")","v":"-"}]
[null,null,4,"",null,null,null,"-",{"$f":"IF(OR(IFERROR(MATCH($D94,'Transparency List 2018_10'!$L:$L,0),FALSE),IFERROR(MATCH(TRIM($G94),'Transparency List 2018_10'!$D:$D,0),FALSE)),\"On the 2018_10 List\",\"-\")","v":"-"},{"$f":"IF(OR(IFERROR(MATCH($D94,'Transparency List 2018_04'!$L:$L,0),FALSE),IFERROR(MATCH(TRIM($G94),'Transparency List 2018_04'!$D:$D,0),FALSE)),\"On the 2018_04 List\",\"-\")","v":"-"},{"$f":"IF(OR(IFERROR(MATCH($D94,'Transparency List 2017'!$L:$L,0),FALSE),IFERROR(MATCH(TRIM($G94),'Transparency List 2017'!$C:$C,0),FALSE)),\"On the 2017 List\",\"-\")","v":"-"},{"$f":"IF(OR(IFERROR(MATCH($D94,'Transparency List 2015'!$H:$H,0),FALSE),IFERROR(MATCH(TRIM($G94),'Transparency List 2015'!$C:$C,0),FALSE)),\"On the 2015 List\",\"-\")","v":"-"}]
[null,null,{"$f":"COUNTIF($I95:$L95,\"-\")","v":4},{"$f":"SUBSTITUTE(SUBSTITUTE(SUBSTITUTE(SUBSTITUTE($G95,\" \",\"\"),\".\",\"\"),\"-\",\"\"),\"/\",\"\")","v":""},null,null,null,{"$f":"IFERROR(IF($C95=4,\"-\",\"Risk Farmer - Please conduct further steps\"),)","v":"-"},{"$f":"IF(OR(IFERROR(MATCH($D95,'Transparency List 2018_10'!$L:$L,0),FALSE),IFERROR(MATCH(TRIM($G95),'Transparency List 2018_10'!$D:$D,0),FALSE)),\"On the 2018_10 List\",\"-\")","v":"-"},{"$f":"IF(OR(IFERROR(MATCH($D95,'Transparency List 2018_04'!$L:$L,0),FALSE),IFERROR(MATCH(TRIM($G95),'Transparency List 2018_04'!$D:$D,0),FALSE)),\"On the 2018_04 List\",\"-\")","v":"-"},{"$f":"IF(OR(IFERROR(MATCH($D95,'Transparency List 2017'!$L:$L,0),FALSE),IFERROR(MATCH(TRIM($G95),'Transparency List 2017'!$C:$C,0),FALSE)),\"On the 2017 List\",\"-\")","v":"-"},{"$f":"IF(OR(IFERROR(MATCH($D95,'Transparency List 2015'!$H:$H,0),FALSE),IFERROR(MATCH(TRIM($G95),'Transparency List 2015'!$C:$C,0),FALSE)),\"On the 2015 List\",\"-\")","v":"-"}]
[null,null,4,"",null,null,null,"-",{"$f":"IF(OR(IFERROR(MATCH($D96,'Transparency List 2018_10'!$L:$L,0),FALSE),IFERROR(MATCH(TRIM($G96),'Transparency List 2018_10'!$D:$D,0),FALSE)),\"On the 2018_10 List\",\"-\")","v":"-"},{"$f":"IF(OR(IFERROR(MATCH($D96,'Transparency List 2018_04'!$L:$L,0),FALSE),IFERROR(MATCH(TRIM($G96),'Transparency List 2018_04'!$D:$D,0),FALSE)),\"On the 2018_04 List\",\"-\")","v":"-"},{"$f":"IF(OR(IFERROR(MATCH($D96,'Transparency List 2017'!$L:$L,0),FALSE),IFERROR(MATCH(TRIM($G96),'Transparency List 2017'!$C:$C,0),FALSE)),\"On the 2017 List\",\"-\")","v":"-"},{"$f":"IF(OR(IFERROR(MATCH($D96,'Transparency List 2015'!$H:$H,0),FALSE),IFERROR(MATCH(TRIM($G96),'Transparency List 2015'!$C:$C,0),FALSE)),\"On the 2015 List\",\"-\")","v":"-"}]
[null,null,4,"",null,null,null,"-",{"$f":"IF(OR(IFERROR(MATCH($D97,'Transparency List 2018_10'!$L:$L,0),FALSE),IFERROR(MATCH(TRIM($G97),'Transparency List 2018_10'!$D:$D,0),FALSE)),\"On the 2018_10 List\",\"-\")","v":"-"},{"$f":"IF(OR(IFERROR(MATCH($D97,'Transparency List 2018_04'!$L:$L,0),FALSE),IFERROR(MATCH(TRIM($G97),'Transparency List 2018_04'!$D:$D,0),FALSE)),\"On the 2018_04 List\",\"-\")","v":"-"},{"$f":"IF(OR(IFERROR(MATCH($D97,'Transparency List 2017'!$L:$L,0),FALSE),IFERROR(MATCH(TRIM($G97),'Transparency List 2017'!$C:$C,0),FALSE)),\"On the 2017 List\",\"-\")","v":"-"},{"$f":"IF(OR(IFERROR(MATCH($D97,'Transparency List 2015'!$H:$H,0),FALSE),IFERROR(MATCH(TRIM($G97),'Transparency List 2015'!$C:$C,0),FALSE)),\"On the 2015 List\",\"-\")","v":"-"}]
[null,null,4,"",null,null,null,"-",{"$f":"IF(OR(IFERROR(MATCH($D98,'Transparency List 2018_10'!$L:$L,0),FALSE),IFERROR(MATCH(TRIM($G98),'Transparency List 2018_10'!$D:$D,0),FALSE)),\"On the 2018_10 List\",\"-\")","v":"-"},{"$f":"IF(OR(IFERROR(MATCH($D98,'Transparency List 2018_04'!$L:$L,0),FALSE),IFERROR(MATCH(TRIM($G98),'Transparency List 2018_04'!$D:$D,0),FALSE)),\"On the 2018_04 List\",\"-\")","v":"-"},{"$f":"IF(OR(IFERROR(MATCH($D98,'Transparency List 2017'!$L:$L,0),FALSE),IFERROR(MATCH(TRIM($G98),'Transparency List 2017'!$C:$C,0),FALSE)),\"On the 2017 List\",\"-\")","v":"-"},{"$f":"IF(OR(IFERROR(MATCH($D98,'Transparency List 2015'!$H:$H,0),FALSE),IFERROR(MATCH(TRIM($G98),'Transparency List 2015'!$C:$C,0),FALSE)),\"On the 2015 List\",\"-\")","v":"-"}]
[null,null,4,"",null,null,null,"-",{"$f":"IF(OR(IFERROR(MATCH($D99,'Transparency List 2018_10'!$L:$L,0),FALSE),IFERROR(MATCH(TRIM($G99),'Transparency List 2018_10'!$D:$D,0),FALSE)),\"On the 2018_10 List\",\"-\")","v":"-"},{"$f":"IF(OR(IFERROR(MATCH($D99,'Transparency List 2018_04'!$L:$L,0),FALSE),IFERROR(MATCH(TRIM($G99),'Transparency List 2018_04'!$D:$D,0),FALSE)),\"On the 2018_04 List\",\"-\")","v":"-"},{"$f":"IF(OR(IFERROR(MATCH($D99,'Transparency List 2017'!$L:$L,0),FALSE),IFERROR(MATCH(TRIM($G99),'Transparency List 2017'!$C:$C,0),FALSE)),\"On the 2017 List\",\"-\")","v":"-"},{"$f":"IF(OR(IFERROR(MATCH($D99,'Transparency List 2015'!$H:$H,0),FALSE),IFERROR(MATCH(TRIM($G99),'Transparency List 2015'!$C:$C,0),FALSE)),\"On the 2015 List\",\"-\")","v":"-"}]
[null,null,4,"",null,null,null,"-",{"$f":"IF(OR(IFERROR(MATCH($D100,'Transparency List 2018_10'!$L:$L,0),FALSE),IFERROR(MATCH(TRIM($G100),'Transparency List 2018_10'!$D:$D,0),FALSE)),\"On the 2018_10 List\",\"-\")","v":"-"},{"$f":"IF(OR(IFERROR(MATCH($D100,'Transparency List 2018_04'!$L:$L,0),FALSE),IFERROR(MATCH(TRIM($G100),'Transparency List 2018_04'!$D:$D,0),FALSE)),\"On the 2018_04 List\",\"-\")","v":"-"},{"$f":"IF(OR(IFERROR(MATCH($D100,'Transparency List 2017'!$L:$L,0),FALSE),IFERROR(MATCH(TRIM($G100),'Transparency List 2017'!$C:$C,0),FALSE)),\"On the 2017 List\",\"-\")","v":"-"},{"$f":"IF(OR(IFERROR(MATCH($D100,'Transparency List 2015'!$H:$H,0),FALSE),IFERROR(MATCH(TRIM($G100),'Transparency List 2015'!$C:$C,0),FALSE)),\"On the 2015 List\",\"-\")","v":"-"}]
[null,null,4,"",null,null,null,"-",{"$f":"IF(OR(IFERROR(MATCH($D101,'Transparency List 2018_10'!$L:$L,0),FALSE),IFERROR(MATCH(TRIM($G101),'Transparency List 2018_10'!$D:$D,0),FALSE)),\"On the 2018_10 List\",\"-\")","v":"-"},{"$f":"IF(OR(IFERROR(MATCH($D101,'Transparency List 2018_04'!$L:$L,0),FALSE),IFERROR(MATCH(TRIM($G101),'Transparency List 2018_04'!$D:$D,0),FALSE)),\"On the 2018_04 List\",\"-\")","v":"-"},{"$f":"IF(OR(IFERROR(MATCH($D101,'Transparency List 2017'!$L:$L,0),FALSE),IFERROR(MATCH(TRIM($G101),'Transparency List 2017'!$C:$C,0),FALSE)),\"On the 2017 List\",\"-\")","v":"-"},{"$f":"IF(OR(IFERROR(MATCH($D101,'Transparency List 2015'!$H:$H,0),FALSE),IFERROR(MATCH(TRIM($G101),'Transparency List 2015'!$C:$C,0),FALSE)),\"On the 2015 List\",\"-\")","v":"-"}]
[null,null,4,"",null,null,null,"-",{"$f":"IF(OR(IFERROR(MATCH($D102,'Transparency List 2018_10'!$L:$L,0),FALSE),IFERROR(MATCH(TRIM($G102),'Transparency List 2018_10'!$D:$D,0),FALSE)),\"On the 2018_10 List\",\"-\")","v":"-"},{"$f":"IF(OR(IFERROR(MATCH($D102,'Transparency List 2018_04'!$L:$L,0),FALSE),IFERROR(MATCH(TRIM($G102),'Transparency List 2018_04'!$D:$D,0),FALSE)),\"On the 2018_04 List\",\"-\")","v":"-"},{"$f":"IF(OR(IFERROR(MATCH($D102,'Transparency List 2017'!$L:$L,0),FALSE),IFERROR(MATCH(TRIM($G102),'Transparency List 2017'!$C:$C,0),FALSE)),\"On the 2017 List\",\"-\")","v":"-"},{"$f":"IF(OR(IFERROR(MATCH($D102,'Transparency List 2015'!$H:$H,0),FALSE),IFERROR(MATCH(TRIM($G102),'Transparency List 2015'!$C:$C,0),FALSE)),\"On the 2015 List\",\"-\")","v":"-"}]
[null,null,4,"",null,null,null,"-",{"$f":"IF(OR(IFERROR(MATCH($D103,'Transparency List 2018_10'!$L:$L,0),FALSE),IFERROR(MATCH(TRIM($G103),'Transparency List 2018_10'!$D:$D,0),FALSE)),\"On the 2018_10 List\",\"-\")","v":"-"},{"$f":"IF(OR(IFERROR(MATCH($D103,'Transparency List 2018_04'!$L:$L,0),FALSE),IFERROR(MATCH(TRIM($G103),'Transparency List 2018_04'!$D:$D,0),FALSE)),\"On the 2018_04 List\",\"-\")","v":"-"},{"$f":"IF(OR(IFERROR(MATCH($D103,'Transparency List 2017'!$L:$L,0),FALSE),IFERROR(MATCH(TRIM($G103),'Transparency List 2017'!$C:$C,0),FALSE)),\"On the 2017 List\",\"-\")","v":"-"},{"$f":"IF(OR(IFERROR(MATCH($D103,'Transparency List 2015'!$H:$H,0),FALSE),IFERROR(MATCH(TRIM($G103),'Transparency List 2015'!$C:$C,0),FALSE)),\"On the 2015 List\",\"-\")","v":"-"}]
[null,null,4,"",null,null,null,"-",{"$f":"IF(OR(IFERROR(MATCH($D104,'Transparency List 2018_10'!$L:$L,0),FALSE),IFERROR(MATCH(TRIM($G104),'Transparency List 2018_10'!$D:$D,0),FALSE)),\"On the 2018_10 List\",\"-\")","v":"-"},{"$f":"IF(OR(IFERROR(MATCH($D104,'Transparency List 2018_04'!$L:$L,0),FALSE),IFERROR(MATCH(TRIM($G104),'Transparency List 2018_04'!$D:$D,0),FALSE)),\"On the 2018_04 List\",\"-\")","v":"-"},{"$f":"IF(OR(IFERROR(MATCH($D104,'Transparency List 2017'!$L:$L,0),FALSE),IFERROR(MATCH(TRIM($G104),'Transparency List 2017'!$C:$C,0),FALSE)),\"On the 2017 List\",\"-\")","v":"-"},{"$f":"IF(OR(IFERROR(MATCH($D104,'Transparency List 2015'!$H:$H,0),FALSE),IFERROR(MATCH(TRIM($G104),'Transparency List 2015'!$C:$C,0),FALSE)),\"On the 2015 List\",\"-\")","v":"-"}]
[null,null,4,"",null,null,null,"-",{"$f":"IF(OR(IFERROR(MATCH($D105,'Transparency List 2018_10'!$L:$L,0),FALSE),IFERROR(MATCH(TRIM($G105),'Transparency List 2018_10'!$D:$D,0),FALSE)),\"On the 2018_10 List\",\"-\")","v":"-"},{"$f":"IF(OR(IFERROR(MATCH($D105,'Transparency List 2018_04'!$L:$L,0),FALSE),IFERROR(MATCH(TRIM($G105),'Transparency List 2018_04'!$D:$D,0),FALSE)),\"On the 2018_04 List\",\"-\")","v":"-"},{"$f":"IF(OR(IFERROR(MATCH($D105,'Transparency List 2017'!$L:$L,0),FALSE),IFERROR(MATCH(TRIM($G105),'Transparency List 2017'!$C:$C,0),FALSE)),\"On the 2017 List\",\"-\")","v":"-"},{"$f":"IF(OR(IFERROR(MATCH($D105,'Transparency List 2015'!$H:$H,0),FALSE),IFERROR(MATCH(TRIM($G105),'Transparency List 2015'!$C:$C,0),FALSE)),\"On the 2015 List\",\"-\")","v":"-"}]
[null,null,4,"",null,null,null,"-",{"$f":"IF(OR(IFERROR(MATCH($D106,'Transparency List 2018_10'!$L:$L,0),FALSE),IFERROR(MATCH(TRIM($G106),'Transparency List 2018_10'!$D:$D,0),FALSE)),\"On the 2018_10 List\",\"-\")","v":"-"},{"$f":"IF(OR(IFERROR(MATCH($D106,'Transparency List 2018_04'!$L:$L,0),FALSE),IFERROR(MATCH(TRIM($G106),'Transparency List 2018_04'!$D:$D,0),FALSE)),\"On the 2018_04 List\",\"-\")","v":"-"},{"$f":"IF(OR(IFERROR(MATCH($D106,'Transparency List 2017'!$L:$L,0),FALSE),IFERROR(MATCH(TRIM($G106),'Transparency List 2017'!$C:$C,0),FALSE)),\"On the 2017 List\",\"-\")","v":"-"},{"$f":"IF(OR(IFERROR(MATCH($D106,'Transparency List 2015'!$H:$H,0),FALSE),IFERROR(MATCH(TRIM($G106),'Transparency List 2015'!$C:$C,0),FALSE)),\"On the 2015 List\",\"-\")","v":"-"}]
[null,null,4,"",null,null,null,"-",{"$f":"IF(OR(IFERROR(MATCH($D107,'Transparency List 2018_10'!$L:$L,0),FALSE),IFERROR(MATCH(TRIM($G107),'Transparency List 2018_10'!$D:$D,0),FALSE)),\"On the 2018_10 List\",\"-\")","v":"-"},{"$f":"IF(OR(IFERROR(MATCH($D107,'Transparency List 2018_04'!$L:$L,0),FALSE),IFERROR(MATCH(TRIM($G107),'Transparency List 2018_04'!$D:$D,0),FALSE)),\"On the 2018_04 List\",\"-\")","v":"-"},{"$f":"IF(OR(IFERROR(MATCH($D107,'Transparency List 2017'!$L:$L,0),FALSE),IFERROR(MATCH(TRIM($G107),'Transparency List 2017'!$C:$C,0),FALSE)),\"On the 2017 List\",\"-\")","v":"-"},{"$f":"IF(OR(IFERROR(MATCH($D107,'Transparency List 2015'!$H:$H,0),FALSE),IFERROR(MATCH(TRIM($G107),'Transparency List 2015'!$C:$C,0),FALSE)),\"On the 2015 List\",\"-\")","v":"-"}]
[null,null,4,"",null,null,null,"-",{"$f":"IF(OR(IFERROR(MATCH($D108,'Transparency List 2018_10'!$L:$L,0),FALSE),IFERROR(MATCH(TRIM($G108),'Transparency List 2018_10'!$D:$D,0),FALSE)),\"On the 2018_10 List\",\"-\")","v":"-"},{"$f":"IF(OR(IFERROR(MATCH($D108,'Transparency List 2018_04'!$L:$L,0),FALSE),IFERROR(MATCH(TRIM($G108),'Transparency List 2018_04'!$D:$D,0),FALSE)),\"On the 2018_04 List\",\"-\")","v":"-"},{"$f":"IF(OR(IFERROR(MATCH($D108,'Transparency List 2017'!$L:$L,0),FALSE),IFERROR(MATCH(TRIM($G108),'Transparency List 2017'!$C:$C,0),FALSE)),\"On the 2017 List\",\"-\")","v":"-"},{"$f":"IF(OR(IFERROR(MATCH($D108,'Transparency List 2015'!$H:$H,0),FALSE),IFERROR(MATCH(TRIM($G108),'Transparency List 2015'!$C:$C,0),FALSE)),\"On the 2015 List\",\"-\")","v":"-"}]
[null,null,4,"",null,null,null,"-",{"$f":"IF(OR(IFERROR(MATCH($D109,'Transparency List 2018_10'!$L:$L,0),FALSE),IFERROR(MATCH(TRIM($G109),'Transparency List 2018_10'!$D:$D,0),FALSE)),\"On the 2018_10 List\",\"-\")","v":"-"},{"$f":"IF(OR(IFERROR(MATCH($D109,'Transparency List 2018_04'!$L:$L,0),FALSE),IFERROR(MATCH(TRIM($G109),'Transparency List 2018_04'!$D:$D,0),FALSE)),\"On the 2018_04 List\",\"-\")","v":"-"},{"$f":"IF(OR(IFERROR(MATCH($D109,'Transparency List 2017'!$L:$L,0),FALSE),IFERROR(MATCH(TRIM($G109),'Transparency List 2017'!$C:$C,0),FALSE)),\"On the 2017 List\",\"-\")","v":"-"},{"$f":"IF(OR(IFERROR(MATCH($D109,'Transparency List 2015'!$H:$H,0),FALSE),IFERROR(MATCH(TRIM($G109),'Transparency List 2015'!$C:$C,0),FALSE)),\"On the 2015 List\",\"-\")","v":"-"}]
[null,null,4,"",null,null,null,"-",{"$f":"IF(OR(IFERROR(MATCH($D110,'Transparency List 2018_10'!$L:$L,0),FALSE),IFERROR(MATCH(TRIM($G110),'Transparency List 2018_10'!$D:$D,0),FALSE)),\"On the 2018_10 List\",\"-\")","v":"-"},{"$f":"IF(OR(IFERROR(MATCH($D110,'Transparency List 2018_04'!$L:$L,0),FALSE),IFERROR(MATCH(TRIM($G110),'Transparency List 2018_04'!$D:$D,0),FALSE)),\"On the 2018_04 List\",\"-\")","v":"-"},{"$f":"IF(OR(IFERROR(MATCH($D110,'Transparency List 2017'!$L:$L,0),FALSE),IFERROR(MATCH(TRIM($G110),'Transparency List 2017'!$C:$C,0),FALSE)),\"On the 2017 List\",\"-\")","v":"-"},{"$f":"IF(OR(IFERROR(MATCH($D110,'Transparency List 2015'!$H:$H,0),FALSE),IFERROR(MATCH(TRIM($G110),'Transparency List 2015'!$C:$C,0),FALSE)),\"On the 2015 List\",\"-\")","v":"-"}]
[null,null,4,"",null,null,null,"-",{"$f":"IF(OR(IFERROR(MATCH($D111,'Transparency List 2018_10'!$L:$L,0),FALSE),IFERROR(MATCH(TRIM($G111),'Transparency List 2018_10'!$D:$D,0),FALSE)),\"On the 2018_10 List\",\"-\")","v":"-"},{"$f":"IF(OR(IFERROR(MATCH($D111,'Transparency List 2018_04'!$L:$L,0),FALSE),IFERROR(MATCH(TRIM($G111),'Transparency List 2018_04'!$D:$D,0),FALSE)),\"On the 2018_04 List\",\"-\")","v":"-"},{"$f":"IF(OR(IFERROR(MATCH($D111,'Transparency List 2017'!$L:$L,0),FALSE),IFERROR(MATCH(TRIM($G111),'Transparency List 2017'!$C:$C,0),FALSE)),\"On the 2017 List\",\"-\")","v":"-"},{"$f":"IF(OR(IFERROR(MATCH($D111,'Transparency List 2015'!$H:$H,0),FALSE),IFERROR(MATCH(TRIM($G111),'Transparency List 2015'!$C:$C,0),FALSE)),\"On the 2015 List\",\"-\")","v":"-"}]
[null,null,4,"",null,null,null,"-",{"$f":"IF(OR(IFERROR(MATCH($D112,'Transparency List 2018_10'!$L:$L,0),FALSE),IFERROR(MATCH(TRIM($G112),'Transparency List 2018_10'!$D:$D,0),FALSE)),\"On the 2018_10 List\",\"-\")","v":"-"},{"$f":"IF(OR(IFERROR(MATCH($D112,'Transparency List 2018_04'!$L:$L,0),FALSE),IFERROR(MATCH(TRIM($G112),'Transparency List 2018_04'!$D:$D,0),FALSE)),\"On the 2018_04 List\",\"-\")","v":"-"},{"$f":"IF(OR(IFERROR(MATCH($D112,'Transparency List 2017'!$L:$L,0),FALSE),IFERROR(MATCH(TRIM($G112),'Transparency List 2017'!$C:$C,0),FALSE)),\"On the 2017 List\",\"-\")","v":"-"},{"$f":"IF(OR(IFERROR(MATCH($D112,'Transparency List 2015'!$H:$H,0),FALSE),IFERROR(MATCH(TRIM($G112),'Transparency List 2015'!$C:$C,0),FALSE)),\"On the 2015 List\",\"-\")","v":"-"}]
[null,null,4,"",null,null,null,"-",{"$f":"IF(OR(IFERROR(MATCH($D113,'Transparency List 2018_10'!$L:$L,0),FALSE),IFERROR(MATCH(TRIM($G113),'Transparency List 2018_10'!$D:$D,0),FALSE)),\"On the 2018_10 List\",\"-\")","v":"-"},{"$f":"IF(OR(IFERROR(MATCH($D113,'Transparency List 2018_04'!$L:$L,0),FALSE),IFERROR(MATCH(TRIM($G113),'Transparency List 2018_04'!$D:$D,0),FALSE)),\"On the 2018_04 List\",\"-\")","v":"-"},{"$f":"IF(OR(IFERROR(MATCH($D113,'Transparency List 2017'!$L:$L,0),FALSE),IFERROR(MATCH(TRIM($G113),'Transparency List 2017'!$C:$C,0),FALSE)),\"On the 2017 List\",\"-\")","v":"-"},{"$f":"IF(OR(IFERROR(MATCH($D113,'Transparency List 2015'!$H:$H,0),FALSE),IFERROR(MATCH(TRIM($G113),'Transparency List 2015'!$C:$C,0),FALSE)),\"On the 2015 List\",\"-\")","v":"-"}]
[null,null,4,"",null,null,null,"-",{"$f":"IF(OR(IFERROR(MATCH($D114,'Transparency List 2018_10'!$L:$L,0),FALSE),IFERROR(MATCH(TRIM($G114),'Transparency List 2018_10'!$D:$D,0),FALSE)),\"On the 2018_10 List\",\"-\")","v":"-"},{"$f":"IF(OR(IFERROR(MATCH($D114,'Transparency List 2018_04'!$L:$L,0),FALSE),IFERROR(MATCH(TRIM($G114),'Transparency List 2018_04'!$D:$D,0),FALSE)),\"On the 2018_04 List\",\"-\")","v":"-"},{"$f":"IF(OR(IFERROR(MATCH($D114,'Transparency List 2017'!$L:$L,0),FALSE),IFERROR(MATCH(TRIM($G114),'Transparency List 2017'!$C:$C,0),FALSE)),\"On the 2017 List\",\"-\")","v":"-"},{"$f":"IF(OR(IFERROR(MATCH($D114,'Transparency List 2015'!$H:$H,0),FALSE),IFERROR(MATCH(TRIM($G114),'Transparency List 2015'!$C:$C,0),FALSE)),\"On the 2015 List\",\"-\")","v":"-"}]
[null,null,4,"",null,null,null,"-",{"$f":"IF(OR(IFERROR(MATCH($D115,'Transparency List 2018_10'!$L:$L,0),FALSE),IFERROR(MATCH(TRIM($G115),'Transparency List 2018_10'!$D:$D,0),FALSE)),\"On the 2018_10 List\",\"-\")","v":"-"},{"$f":"IF(OR(IFERROR(MATCH($D115,'Transparency List 2018_04'!$L:$L,0),FALSE),IFERROR(MATCH(TRIM($G115),'Transparency List 2018_04'!$D:$D,0),FALSE)),\"On the 2018_04 List\",\"-\")","v":"-"},{"$f":"IF(OR(IFERROR(MATCH($D115,'Transparency List 2017'!$L:$L,0),FALSE),IFERROR(MATCH(TRIM($G115),'Transparency List 2017'!$C:$C,0),FALSE)),\"On the 2017 List\",\"-\")","v":"-"},{"$f":"IF(OR(IFERROR(MATCH($D115,'Transparency List 2015'!$H:$H,0),FALSE),IFERROR(MATCH(TRIM($G115),'Transparency List 2015'!$C:$C,0),FALSE)),\"On the 2015 List\",\"-\")","v":"-"}]
[null,null,4,"",null,null,null,"-",{"$f":"IF(OR(IFERROR(MATCH($D116,'Transparency List 2018_10'!$L:$L,0),FALSE),IFERROR(MATCH(TRIM($G116),'Transparency List 2018_10'!$D:$D,0),FALSE)),\"On the 2018_10 List\",\"-\")","v":"-"},{"$f":"IF(OR(IFERROR(MATCH($D116,'Transparency List 2018_04'!$L:$L,0),FALSE),IFERROR(MATCH(TRIM($G116),'Transparency List 2018_04'!$D:$D,0),FALSE)),\"On the 2018_04 List\",\"-\")","v":"-"},{"$f":"IF(OR(IFERROR(MATCH($D116,'Transparency List 2017'!$L:$L,0),FALSE),IFERROR(MATCH(TRIM($G116),'Transparency List 2017'!$C:$C,0),FALSE)),\"On the 2017 List\",\"-\")","v":"-"},{"$f":"IF(OR(IFERROR(MATCH($D116,'Transparency List 2015'!$H:$H,0),FALSE),IFERROR(MATCH(TRIM($G116),'Transparency List 2015'!$C:$C,0),FALSE)),\"On the 2015 List\",\"-\")","v":"-"}]
[null,null,4,"",null,null,null,"-",{"$f":"IF(OR(IFERROR(MATCH($D117,'Transparency List 2018_10'!$L:$L,0),FALSE),IFERROR(MATCH(TRIM($G117),'Transparency List 2018_10'!$D:$D,0),FALSE)),\"On the 2018_10 List\",\"-\")","v":"-"},{"$f":"IF(OR(IFERROR(MATCH($D117,'Transparency List 2018_04'!$L:$L,0),FALSE),IFERROR(MATCH(TRIM($G117),'Transparency List 2018_04'!$D:$D,0),FALSE)),\"On the 2018_04 List\",\"-\")","v":"-"},{"$f":"IF(OR(IFERROR(MATCH($D117,'Transparency List 2017'!$L:$L,0),FALSE),IFERROR(MATCH(TRIM($G117),'Transparency List 2017'!$C:$C,0),FALSE)),\"On the 2017 List\",\"-\")","v":"-"},{"$f":"IF(OR(IFERROR(MATCH($D117,'Transparency List 2015'!$H:$H,0),FALSE),IFERROR(MATCH(TRIM($G117),'Transparency List 2015'!$C:$C,0),FALSE)),\"On the 2015 List\",\"-\")","v":"-"}]
[null,null,4,"",null,null,null,"-",{"$f":"IF(OR(IFERROR(MATCH($D118,'Transparency List 2018_10'!$L:$L,0),FALSE),IFERROR(MATCH(TRIM($G118),'Transparency List 2018_10'!$D:$D,0),FALSE)),\"On the 2018_10 List\",\"-\")","v":"-"},{"$f":"IF(OR(IFERROR(MATCH($D118,'Transparency List 2018_04'!$L:$L,0),FALSE),IFERROR(MATCH(TRIM($G118),'Transparency List 2018_04'!$D:$D,0),FALSE)),\"On the 2018_04 List\",\"-\")","v":"-"},{"$f":"IF(OR(IFERROR(MATCH($D118,'Transparency List 2017'!$L:$L,0),FALSE),IFERROR(MATCH(TRIM($G118),'Transparency List 2017'!$C:$C,0),FALSE)),\"On the 2017 List\",\"-\")","v":"-"},{"$f":"IF(OR(IFERROR(MATCH($D118,'Transparency List 2015'!$H:$H,0),FALSE),IFERROR(MATCH(TRIM($G118),'Transparency List 2015'!$C:$C,0),FALSE)),\"On the 2015 List\",\"-\")","v":"-"}]
[null,null,4,"",null,null,null,"-",{"$f":"IF(OR(IFERROR(MATCH($D119,'Transparency List 2018_10'!$L:$L,0),FALSE),IFERROR(MATCH(TRIM($G119),'Transparency List 2018_10'!$D:$D,0),FALSE)),\"On the 2018_10 List\",\"-\")","v":"-"},{"$f":"IF(OR(IFERROR(MATCH($D119,'Transparency List 2018_04'!$L:$L,0),FALSE),IFERROR(MATCH(TRIM($G119),'Transparency List 2018_04'!$D:$D,0),FALSE)),\"On the 2018_04 List\",\"-\")","v":"-"},{"$f":"IF(OR(IFERROR(MATCH($D119,'Transparency List 2017'!$L:$L,0),FALSE),IFERROR(MATCH(TRIM($G119),'Transparency List 2017'!$C:$C,0),FALSE)),\"On the 2017 List\",\"-\")","v":"-"},{"$f":"IF(OR(IFERROR(MATCH($D119,'Transparency List 2015'!$H:$H,0),FALSE),IFERROR(MATCH(TRIM($G119),'Transparency List 2015'!$C:$C,0),FALSE)),\"On the 2015 List\",\"-\")","v":"-"}]
[null,null,4,"",null,null,null,"-",{"$f":"IF(OR(IFERROR(MATCH($D120,'Transparency List 2018_10'!$L:$L,0),FALSE),IFERROR(MATCH(TRIM($G120),'Transparency List 2018_10'!$D:$D,0),FALSE)),\"On the 2018_10 List\",\"-\")","v":"-"},{"$f":"IF(OR(IFERROR(MATCH($D120,'Transparency List 2018_04'!$L:$L,0),FALSE),IFERROR(MATCH(TRIM($G120),'Transparency List 2018_04'!$D:$D,0),FALSE)),\"On the 2018_04 List\",\"-\")","v":"-"},{"$f":"IF(OR(IFERROR(MATCH($D120,'Transparency List 2017'!$L:$L,0),FALSE),IFERROR(MATCH(TRIM($G120),'Transparency List 2017'!$C:$C,0),FALSE)),\"On the 2017 List\",\"-\")","v":"-"},{"$f":"IF(OR(IFERROR(MATCH($D120,'Transparency List 2015'!$H:$H,0),FALSE),IFERROR(MATCH(TRIM($G120),'Transparency List 2015'!$C:$C,0),FALSE)),\"On the 2015 List\",\"-\")","v":"-"}]
[null,null,4,"",null,null,null,"-",{"$f":"IF(OR(IFERROR(MATCH($D121,'Transparency List 2018_10'!$L:$L,0),FALSE),IFERROR(MATCH(TRIM($G121),'Transparency List 2018_10'!$D:$D,0),FALSE)),\"On the 2018_10 List\",\"-\")","v":"-"},{"$f":"IF(OR(IFERROR(MATCH($D121,'Transparency List 2018_04'!$L:$L,0),FALSE),IFERROR(MATCH(TRIM($G121),'Transparency List 2018_04'!$D:$D,0),FALSE)),\"On the 2018_04 List\",\"-\")","v":"-"},{"$f":"IF(OR(IFERROR(MATCH($D121,'Transparency List 2017'!$L:$L,0),FALSE),IFERROR(MATCH(TRIM($G121),'Transparency List 2017'!$C:$C,0),FALSE)),\"On the 2017 List\",\"-\")","v":"-"},{"$f":"IF(OR(IFERROR(MATCH($D121,'Transparency List 2015'!$H:$H,0),FALSE),IFERROR(MATCH(TRIM($G121),'Transparency List 2015'!$C:$C,0),FALSE)),\"On the 2015 List\",\"-\")","v":"-"}]
[null,null,4,"",null,null,null,"-",{"$f":"IF(OR(IFERROR(MATCH($D122,'Transparency List 2018_10'!$L:$L,0),FALSE),IFERROR(MATCH(TRIM($G122),'Transparency List 2018_10'!$D:$D,0),FALSE)),\"On the 2018_10 List\",\"-\")","v":"-"},{"$f":"IF(OR(IFERROR(MATCH($D122,'Transparency List 2018_04'!$L:$L,0),FALSE),IFERROR(MATCH(TRIM($G122),'Transparency List 2018_04'!$D:$D,0),FALSE)),\"On the 2018_04 List\",\"-\")","v":"-"},{"$f":"IF(OR(IFERROR(MATCH($D122,'Transparency List 2017'!$L:$L,0),FALSE),IFERROR(MATCH(TRIM($G122),'Transparency List 2017'!$C:$C,0),FALSE)),\"On the 2017 List\",\"-\")","v":"-"},{"$f":"IF(OR(IFERROR(MATCH($D122,'Transparency List 2015'!$H:$H,0),FALSE),IFERROR(MATCH(TRIM($G122),'Transparency List 2015'!$C:$C,0),FALSE)),\"On the 2015 List\",\"-\")","v":"-"}]
[null,null,4,"",null,null,null,"-",{"$f":"IF(OR(IFERROR(MATCH($D123,'Transparency List 2018_10'!$L:$L,0),FALSE),IFERROR(MATCH(TRIM($G123),'Transparency List 2018_10'!$D:$D,0),FALSE)),\"On the 2018_10 List\",\"-\")","v":"-"},{"$f":"IF(OR(IFERROR(MATCH($D123,'Transparency List 2018_04'!$L:$L,0),FALSE),IFERROR(MATCH(TRIM($G123),'Transparency List 2018_04'!$D:$D,0),FALSE)),\"On the 2018_04 List\",\"-\")","v":"-"},{"$f":"IF(OR(IFERROR(MATCH($D123,'Transparency List 2017'!$L:$L,0),FALSE),IFERROR(MATCH(TRIM($G123),'Transparency List 2017'!$C:$C,0),FALSE)),\"On the 2017 List\",\"-\")","v":"-"},{"$f":"IF(OR(IFERROR(MATCH($D123,'Transparency List 2015'!$H:$H,0),FALSE),IFERROR(MATCH(TRIM($G123),'Transparency List 2015'!$C:$C,0),FALSE)),\"On the 2015 List\",\"-\")","v":"-"}]
[null,null,4,"",null,null,null,"-",{"$f":"IF(OR(IFERROR(MATCH($D124,'Transparency List 2018_10'!$L:$L,0),FALSE),IFERROR(MATCH(TRIM($G124),'Transparency List 2018_10'!$D:$D,0),FALSE)),\"On the 2018_10 List\",\"-\")","v":"-"},{"$f":"IF(OR(IFERROR(MATCH($D124,'Transparency List 2018_04'!$L:$L,0),FALSE),IFERROR(MATCH(TRIM($G124),'Transparency List 2018_04'!$D:$D,0),FALSE)),\"On the 2018_04 List\",\"-\")","v":"-"},{"$f":"IF(OR(IFERROR(MATCH($D124,'Transparency List 2017'!$L:$L,0),FALSE),IFERROR(MATCH(TRIM($G124),'Transparency List 2017'!$C:$C,0),FALSE)),\"On the 2017 List\",\"-\")","v":"-"},{"$f":"IF(OR(IFERROR(MATCH($D124,'Transparency List 2015'!$H:$H,0),FALSE),IFERROR(MATCH(TRIM($G124),'Transparency List 2015'!$C:$C,0),FALSE)),\"On the 2015 List\",\"-\")","v":"-"}]
[null,null,4,"",null,null,null,"-",{"$f":"IF(OR(IFERROR(MATCH($D125,'Transparency List 2018_10'!$L:$L,0),FALSE),IFERROR(MATCH(TRIM($G125),'Transparency List 2018_10'!$D:$D,0),FALSE)),\"On the 2018_10 List\",\"-\")","v":"-"},{"$f":"IF(OR(IFERROR(MATCH($D125,'Transparency List 2018_04'!$L:$L,0),FALSE),IFERROR(MATCH(TRIM($G125),'Transparency List 2018_04'!$D:$D,0),FALSE)),\"On the 2018_04 List\",\"-\")","v":"-"},{"$f":"IF(OR(IFERROR(MATCH($D125,'Transparency List 2017'!$L:$L,0),FALSE),IFERROR(MATCH(TRIM($G125),'Transparency List 2017'!$C:$C,0),FALSE)),\"On the 2017 List\",\"-\")","v":"-"},{"$f":"IF(OR(IFERROR(MATCH($D125,'Transparency List 2015'!$H:$H,0),FALSE),IFERROR(MATCH(TRIM($G125),'Transparency List 2015'!$C:$C,0),FALSE)),\"On the 2015 List\",\"-\")","v":"-"}]
[null,null,4,"",null,null,null,"-",{"$f":"IF(OR(IFERROR(MATCH($D126,'Transparency List 2018_10'!$L:$L,0),FALSE),IFERROR(MATCH(TRIM($G126),'Transparency List 2018_10'!$D:$D,0),FALSE)),\"On the 2018_10 List\",\"-\")","v":"-"},{"$f":"IF(OR(IFERROR(MATCH($D126,'Transparency List 2018_04'!$L:$L,0),FALSE),IFERROR(MATCH(TRIM($G126),'Transparency List 2018_04'!$D:$D,0),FALSE)),\"On the 2018_04 List\",\"-\")","v":"-"},{"$f":"IF(OR(IFERROR(MATCH($D126,'Transparency List 2017'!$L:$L,0),FALSE),IFERROR(MATCH(TRIM($G126),'Transparency List 2017'!$C:$C,0),FALSE)),\"On the 2017 List\",\"-\")","v":"-"},{"$f":"IF(OR(IFERROR(MATCH($D126,'Transparency List 2015'!$H:$H,0),FALSE),IFERROR(MATCH(TRIM($G126),'Transparency List 2015'!$C:$C,0),FALSE)),\"On the 2015 List\",\"-\")","v":"-"}]
[null,null,4,"",null,null,null,"-",{"$f":"IF(OR(IFERROR(MATCH($D127,'Transparency List 2018_10'!$L:$L,0),FALSE),IFERROR(MATCH(TRIM($G127),'Transparency List 2018_10'!$D:$D,0),FALSE)),\"On the 2018_10 List\",\"-\")","v":"-"},{"$f":"IF(OR(IFERROR(MATCH($D127,'Transparency List 2018_04'!$L:$L,0),FALSE),IFERROR(MATCH(TRIM($G127),'Transparency List 2018_04'!$D:$D,0),FALSE)),\"On the 2018_04 List\",\"-\")","v":"-"},{"$f":"IF(OR(IFERROR(MATCH($D127,'Transparency List 2017'!$L:$L,0),FALSE),IFERROR(MATCH(TRIM($G127),'Transparency List 2017'!$C:$C,0),FALSE)),\"On the 2017 List\",\"-\")","v":"-"},{"$f":"IF(OR(IFERROR(MATCH($D127,'Transparency List 2015'!$H:$H,0),FALSE),IFERROR(MATCH(TRIM($G127),'Transparency List 2015'!$C:$C,0),FALSE)),\"On the 2015 List\",\"-\")","v":"-"}]
[null,null,4,"",null,null,null,"-",{"$f":"IF(OR(IFERROR(MATCH($D128,'Transparency List 2018_10'!$L:$L,0),FALSE),IFERROR(MATCH(TRIM($G128),'Transparency List 2018_10'!$D:$D,0),FALSE)),\"On the 2018_10 List\",\"-\")","v":"-"},{"$f":"IF(OR(IFERROR(MATCH($D128,'Transparency List 2018_04'!$L:$L,0),FALSE),IFERROR(MATCH(TRIM($G128),'Transparency List 2018_04'!$D:$D,0),FALSE)),\"On the 2018_04 List\",\"-\")","v":"-"},{"$f":"IF(OR(IFERROR(MATCH($D128,'Transparency List 2017'!$L:$L,0),FALSE),IFERROR(MATCH(TRIM($G128),'Transparency List 2017'!$C:$C,0),FALSE)),\"On the 2017 List\",\"-\")","v":"-"},{"$f":"IF(OR(IFERROR(MATCH($D128,'Transparency List 2015'!$H:$H,0),FALSE),IFERROR(MATCH(TRIM($G128),'Transparency List 2015'!$C:$C,0),FALSE)),\"On the 2015 List\",\"-\")","v":"-"}]
[null,null,4,"",null,null,null,"-",{"$f":"IF(OR(IFERROR(MATCH($D129,'Transparency List 2018_10'!$L:$L,0),FALSE),IFERROR(MATCH(TRIM($G129),'Transparency List 2018_10'!$D:$D,0),FALSE)),\"On the 2018_10 List\",\"-\")","v":"-"},{"$f":"IF(OR(IFERROR(MATCH($D129,'Transparency List 2018_04'!$L:$L,0),FALSE),IFERROR(MATCH(TRIM($G129),'Transparency List 2018_04'!$D:$D,0),FALSE)),\"On the 2018_04 List\",\"-\")","v":"-"},{"$f":"IF(OR(IFERROR(MATCH($D129,'Transparency List 2017'!$L:$L,0),FALSE),IFERROR(MATCH(TRIM($G129),'Transparency List 2017'!$C:$C,0),FALSE)),\"On the 2017 List\",\"-\")","v":"-"},{"$f":"IF(OR(IFERROR(MATCH($D129,'Transparency List 2015'!$H:$H,0),FALSE),IFERROR(MATCH(TRIM($G129),'Transparency List 2015'!$C:$C,0),FALSE)),\"On the 2015 List\",\"-\")","v":"-"}]
[null,null,4,"",null,null,null,"-",{"$f":"IF(OR(IFERROR(MATCH($D130,'Transparency List 2018_10'!$L:$L,0),FALSE),IFERROR(MATCH(TRIM($G130),'Transparency List 2018_10'!$D:$D,0),FALSE)),\"On the 2018_10 List\",\"-\")","v":"-"},{"$f":"IF(OR(IFERROR(MATCH($D130,'Transparency List 2018_04'!$L:$L,0),FALSE),IFERROR(MATCH(TRIM($G130),'Transparency List 2018_04'!$D:$D,0),FALSE)),\"On the 2018_04 List\",\"-\")","v":"-"},{"$f":"IF(OR(IFERROR(MATCH($D130,'Transparency List 2017'!$L:$L,0),FALSE),IFERROR(MATCH(TRIM($G130),'Transparency List 2017'!$C:$C,0),FALSE)),\"On the 2017 List\",\"-\")","v":"-"},{"$f":"IF(OR(IFERROR(MATCH($D130,'Transparency List 2015'!$H:$H,0),FALSE),IFERROR(MATCH(TRIM($G130),'Transparency List 2015'!$C:$C,0),FALSE)),\"On the 2015 List\",\"-\")","v":"-"}]
[null,null,4,"",null,null,null,"-",{"$f":"IF(OR(IFERROR(MATCH($D131,'Transparency List 2018_10'!$L:$L,0),FALSE),IFERROR(MATCH(TRIM($G131),'Transparency List 2018_10'!$D:$D,0),FALSE)),\"On the 2018_10 List\",\"-\")","v":"-"},{"$f":"IF(OR(IFERROR(MATCH($D131,'Transparency List 2018_04'!$L:$L,0),FALSE),IFERROR(MATCH(TRIM($G131),'Transparency List 2018_04'!$D:$D,0),FALSE)),\"On the 2018_04 List\",\"-\")","v":"-"},{"$f":"IF(OR(IFERROR(MATCH($D131,'Transparency List 2017'!$L:$L,0),FALSE),IFERROR(MATCH(TRIM($G131),'Transparency List 2017'!$C:$C,0),FALSE)),\"On the 2017 List\",\"-\")","v":"-"},{"$f":"IF(OR(IFERROR(MATCH($D131,'Transparency List 2015'!$H:$H,0),FALSE),IFERROR(MATCH(TRIM($G131),'Transparency List 2015'!$C:$C,0),FALSE)),\"On the 2015 List\",\"-\")","v":"-"}]
[null,null,4,"",null,null,null,"-",{"$f":"IF(OR(IFERROR(MATCH($D132,'Transparency List 2018_10'!$L:$L,0),FALSE),IFERROR(MATCH(TRIM($G132),'Transparency List 2018_10'!$D:$D,0),FALSE)),\"On the 2018_10 List\",\"-\")","v":"-"},{"$f":"IF(OR(IFERROR(MATCH($D132,'Transparency List 2018_04'!$L:$L,0),FALSE),IFERROR(MATCH(TRIM($G132),'Transparency List 2018_04'!$D:$D,0),FALSE)),\"On the 2018_04 List\",\"-\")","v":"-"},{"$f":"IF(OR(IFERROR(MATCH($D132,'Transparency List 2017'!$L:$L,0),FALSE),IFERROR(MATCH(TRIM($G132),'Transparency List 2017'!$C:$C,0),FALSE)),\"On the 2017 List\",\"-\")","v":"-"},{"$f":"IF(OR(IFERROR(MATCH($D132,'Transparency List 2015'!$H:$H,0),FALSE),IFERROR(MATCH(TRIM($G132),'Transparency List 2015'!$C:$C,0),FALSE)),\"On the 2015 List\",\"-\")","v":"-"}]
[null,null,4,"",null,null,null,"-",{"$f":"IF(OR(IFERROR(MATCH($D133,'Transparency List 2018_10'!$L:$L,0),FALSE),IFERROR(MATCH(TRIM($G133),'Transparency List 2018_10'!$D:$D,0),FALSE)),\"On the 2018_10 List\",\"-\")","v":"-"},{"$f":"IF(OR(IFERROR(MATCH($D133,'Transparency List 2018_04'!$L:$L,0),FALSE),IFERROR(MATCH(TRIM($G133),'Transparency List 2018_04'!$D:$D,0),FALSE)),\"On the 2018_04 List\",\"-\")","v":"-"},{"$f":"IF(OR(IFERROR(MATCH($D133,'Transparency List 2017'!$L:$L,0),FALSE),IFERROR(MATCH(TRIM($G133),'Transparency List 2017'!$C:$C,0),FALSE)),\"On the 2017 List\",\"-\")","v":"-"},{"$f":"IF(OR(IFERROR(MATCH($D133,'Transparency List 2015'!$H:$H,0),FALSE),IFERROR(MATCH(TRIM($G133),'Transparency List 2015'!$C:$C,0),FALSE)),\"On the 2015 List\",\"-\")","v":"-"}]
[null,null,4,"",null,null,null,"-",{"$f":"IF(OR(IFERROR(MATCH($D134,'Transparency List 2018_10'!$L:$L,0),FALSE),IFERROR(MATCH(TRIM($G134),'Transparency List 2018_10'!$D:$D,0),FALSE)),\"On the 2018_10 List\",\"-\")","v":"-"},{"$f":"IF(OR(IFERROR(MATCH($D134,'Transparency List 2018_04'!$L:$L,0),FALSE),IFERROR(MATCH(TRIM($G134),'Transparency List 2018_04'!$D:$D,0),FALSE)),\"On the 2018_04 List\",\"-\")","v":"-"},{"$f":"IF(OR(IFERROR(MATCH($D134,'Transparency List 2017'!$L:$L,0),FALSE),IFERROR(MATCH(TRIM($G134),'Transparency List 2017'!$C:$C,0),FALSE)),\"On the 2017 List\",\"-\")","v":"-"},{"$f":"IF(OR(IFERROR(MATCH($D134,'Transparency List 2015'!$H:$H,0),FALSE),IFERROR(MATCH(TRIM($G134),'Transparency List 2015'!$C:$C,0),FALSE)),\"On the 2015 List\",\"-\")","v":"-"}]
[null,null,4,"",null,null,null,"-",{"$f":"IF(OR(IFERROR(MATCH($D135,'Transparency List 2018_10'!$L:$L,0),FALSE),IFERROR(MATCH(TRIM($G135),'Transparency List 2018_10'!$D:$D,0),FALSE)),\"On the 2018_10 List\",\"-\")","v":"-"},{"$f":"IF(OR(IFERROR(MATCH($D135,'Transparency List 2018_04'!$L:$L,0),FALSE),IFERROR(MATCH(TRIM($G135),'Transparency List 2018_04'!$D:$D,0),FALSE)),\"On the 2018_04 List\",\"-\")","v":"-"},{"$f":"IF(OR(IFERROR(MATCH($D135,'Transparency List 2017'!$L:$L,0),FALSE),IFERROR(MATCH(TRIM($G135),'Transparency List 2017'!$C:$C,0),FALSE)),\"On the 2017 List\",\"-\")","v":"-"},{"$f":"IF(OR(IFERROR(MATCH($D135,'Transparency List 2015'!$H:$H,0),FALSE),IFERROR(MATCH(TRIM($G135),'Transparency List 2015'!$C:$C,0),FALSE)),\"On the 2015 List\",\"-\")","v":"-"}]
[null,null,4,"",null,null,null,"-",{"$f":"IF(OR(IFERROR(MATCH($D136,'Transparency List 2018_10'!$L:$L,0),FALSE),IFERROR(MATCH(TRIM($G136),'Transparency List 2018_10'!$D:$D,0),FALSE)),\"On the 2018_10 List\",\"-\")","v":"-"},{"$f":"IF(OR(IFERROR(MATCH($D136,'Transparency List 2018_04'!$L:$L,0),FALSE),IFERROR(MATCH(TRIM($G136),'Transparency List 2018_04'!$D:$D,0),FALSE)),\"On the 2018_04 List\",\"-\")","v":"-"},{"$f":"IF(OR(IFERROR(MATCH($D136,'Transparency List 2017'!$L:$L,0),FALSE),IFERROR(MATCH(TRIM($G136),'Transparency List 2017'!$C:$C,0),FALSE)),\"On the 2017 List\",\"-\")","v":"-"},{"$f":"IF(OR(IFERROR(MATCH($D136,'Transparency List 2015'!$H:$H,0),FALSE),IFERROR(MATCH(TRIM($G136),'Transparency List 2015'!$C:$C,0),FALSE)),\"On the 2015 List\",\"-\")","v":"-"}]
[null,null,4,"",null,null,null,"-",{"$f":"IF(OR(IFERROR(MATCH($D137,'Transparency List 2018_10'!$L:$L,0),FALSE),IFERROR(MATCH(TRIM($G137),'Transparency List 2018_10'!$D:$D,0),FALSE)),\"On the 2018_10 List\",\"-\")","v":"-"},{"$f":"IF(OR(IFERROR(MATCH($D137,'Transparency List 2018_04'!$L:$L,0),FALSE),IFERROR(MATCH(TRIM($G137),'Transparency List 2018_04'!$D:$D,0),FALSE)),\"On the 2018_04 List\",\"-\")","v":"-"},{"$f":"IF(OR(IFERROR(MATCH($D137,'Transparency List 2017'!$L:$L,0),FALSE),IFERROR(MATCH(TRIM($G137),'Transparency List 2017'!$C:$C,0),FALSE)),\"On the 2017 List\",\"-\")","v":"-"},{"$f":"IF(OR(IFERROR(MATCH($D137,'Transparency List 2015'!$H:$H,0),FALSE),IFERROR(MATCH(TRIM($G137),'Transparency List 2015'!$C:$C,0),FALSE)),\"On the 2015 List\",\"-\")","v":"-"}]
[null,null,4,"",null,null,null,"-",{"$f":"IF(OR(IFERROR(MATCH($D138,'Transparency List 2018_10'!$L:$L,0),FALSE),IFERROR(MATCH(TRIM($G138),'Transparency List 2018_10'!$D:$D,0),FALSE)),\"On the 2018_10 List\",\"-\")","v":"-"},{"$f":"IF(OR(IFERROR(MATCH($D138,'Transparency List 2018_04'!$L:$L,0),FALSE),IFERROR(MATCH(TRIM($G138),'Transparency List 2018_04'!$D:$D,0),FALSE)),\"On the 2018_04 List\",\"-\")","v":"-"},{"$f":"IF(OR(IFERROR(MATCH($D138,'Transparency List 2017'!$L:$L,0),FALSE),IFERROR(MATCH(TRIM($G138),'Transparency List 2017'!$C:$C,0),FALSE)),\"On the 2017 List\",\"-\")","v":"-"},{"$f":"IF(OR(IFERROR(MATCH($D138,'Transparency List 2015'!$H:$H,0),FALSE),IFERROR(MATCH(TRIM($G138),'Transparency List 2015'!$C:$C,0),FALSE)),\"On the 2015 List\",\"-\")","v":"-"}]
[null,null,4,"",null,null,null,"-",{"$f":"IF(OR(IFERROR(MATCH($D139,'Transparency List 2018_10'!$L:$L,0),FALSE),IFERROR(MATCH(TRIM($G139),'Transparency List 2018_10'!$D:$D,0),FALSE)),\"On the 2018_10 List\",\"-\")","v":"-"},{"$f":"IF(OR(IFERROR(MATCH($D139,'Transparency List 2018_04'!$L:$L,0),FALSE),IFERROR(MATCH(TRIM($G139),'Transparency List 2018_04'!$D:$D,0),FALSE)),\"On the 2018_04 List\",\"-\")","v":"-"},{"$f":"IF(OR(IFERROR(MATCH($D139,'Transparency List 2017'!$L:$L,0),FALSE),IFERROR(MATCH(TRIM($G139),'Transparency List 2017'!$C:$C,0),FALSE)),\"On the 2017 List\",\"-\")","v":"-"},{"$f":"IF(OR(IFERROR(MATCH($D139,'Transparency List 2015'!$H:$H,0),FALSE),IFERROR(MATCH(TRIM($G139),'Transparency List 2015'!$C:$C,0),FALSE)),\"On the 2015 List\",\"-\")","v":"-"}]
[null,null,4,"",null,null,null,"-",{"$f":"IF(OR(IFERROR(MATCH($D140,'Transparency List 2018_10'!$L:$L,0),FALSE),IFERROR(MATCH(TRIM($G140),'Transparency List 2018_10'!$D:$D,0),FALSE)),\"On the 2018_10 List\",\"-\")","v":"-"},{"$f":"IF(OR(IFERROR(MATCH($D140,'Transparency List 2018_04'!$L:$L,0),FALSE),IFERROR(MATCH(TRIM($G140),'Transparency List 2018_04'!$D:$D,0),FALSE)),\"On the 2018_04 List\",\"-\")","v":"-"},{"$f":"IF(OR(IFERROR(MATCH($D140,'Transparency List 2017'!$L:$L,0),FALSE),IFERROR(MATCH(TRIM($G140),'Transparency List 2017'!$C:$C,0),FALSE)),\"On the 2017 List\",\"-\")","v":"-"},{"$f":"IF(OR(IFERROR(MATCH($D140,'Transparency List 2015'!$H:$H,0),FALSE),IFERROR(MATCH(TRIM($G140),'Transparency List 2015'!$C:$C,0),FALSE)),\"On the 2015 List\",\"-\")","v":"-"}]
[null,null,4,"",null,null,null,"-",{"$f":"IF(OR(IFERROR(MATCH($D141,'Transparency List 2018_10'!$L:$L,0),FALSE),IFERROR(MATCH(TRIM($G141),'Transparency List 2018_10'!$D:$D,0),FALSE)),\"On the 2018_10 List\",\"-\")","v":"-"},{"$f":"IF(OR(IFERROR(MATCH($D141,'Transparency List 2018_04'!$L:$L,0),FALSE),IFERROR(MATCH(TRIM($G141),'Transparency List 2018_04'!$D:$D,0),FALSE)),\"On the 2018_04 List\",\"-\")","v":"-"},{"$f":"IF(OR(IFERROR(MATCH($D141,'Transparency List 2017'!$L:$L,0),FALSE),IFERROR(MATCH(TRIM($G141),'Transparency List 2017'!$C:$C,0),FALSE)),\"On the 2017 List\",\"-\")","v":"-"},{"$f":"IF(OR(IFERROR(MATCH($D141,'Transparency List 2015'!$H:$H,0),FALSE),IFERROR(MATCH(TRIM($G141),'Transparency List 2015'!$C:$C,0),FALSE)),\"On the 2015 List\",\"-\")","v":"-"}]
[null,null,4,"",null,null,null,"-",{"$f":"IF(OR(IFERROR(MATCH($D142,'Transparency List 2018_10'!$L:$L,0),FALSE),IFERROR(MATCH(TRIM($G142),'Transparency List 2018_10'!$D:$D,0),FALSE)),\"On the 2018_10 List\",\"-\")","v":"-"},{"$f":"IF(OR(IFERROR(MATCH($D142,'Transparency List 2018_04'!$L:$L,0),FALSE),IFERROR(MATCH(TRIM($G142),'Transparency List 2018_04'!$D:$D,0),FALSE)),\"On the 2018_04 List\",\"-\")","v":"-"},{"$f":"IF(OR(IFERROR(MATCH($D142,'Transparency List 2017'!$L:$L,0),FALSE),IFERROR(MATCH(TRIM($G142),'Transparency List 2017'!$C:$C,0),FALSE)),\"On the 2017 List\",\"-\")","v":"-"},{"$f":"IF(OR(IFERROR(MATCH($D142,'Transparency List 2015'!$H:$H,0),FALSE),IFERROR(MATCH(TRIM($G142),'Transparency List 2015'!$C:$C,0),FALSE)),\"On the 2015 List\",\"-\")","v":"-"}]
[null,null,4,"",null,null,null,"-",{"$f":"IF(OR(IFERROR(MATCH($D143,'Transparency List 2018_10'!$L:$L,0),FALSE),IFERROR(MATCH(TRIM($G143),'Transparency List 2018_10'!$D:$D,0),FALSE)),\"On the 2018_10 List\",\"-\")","v":"-"},{"$f":"IF(OR(IFERROR(MATCH($D143,'Transparency List 2018_04'!$L:$L,0),FALSE),IFERROR(MATCH(TRIM($G143),'Transparency List 2018_04'!$D:$D,0),FALSE)),\"On the 2018_04 List\",\"-\")","v":"-"},{"$f":"IF(OR(IFERROR(MATCH($D143,'Transparency List 2017'!$L:$L,0),FALSE),IFERROR(MATCH(TRIM($G143),'Transparency List 2017'!$C:$C,0),FALSE)),\"On the 2017 List\",\"-\")","v":"-"},{"$f":"IF(OR(IFERROR(MATCH($D143,'Transparency List 2015'!$H:$H,0),FALSE),IFERROR(MATCH(TRIM($G143),'Transparency List 2015'!$C:$C,0),FALSE)),\"On the 2015 List\",\"-\")","v":"-"}]
[null,null,4,"",null,null,null,"-",{"$f":"IF(OR(IFERROR(MATCH($D144,'Transparency List 2018_10'!$L:$L,0),FALSE),IFERROR(MATCH(TRIM($G144),'Transparency List 2018_10'!$D:$D,0),FALSE)),\"On the 2018_10 List\",\"-\")","v":"-"},{"$f":"IF(OR(IFERROR(MATCH($D144,'Transparency List 2018_04'!$L:$L,0),FALSE),IFERROR(MATCH(TRIM($G144),'Transparency List 2018_04'!$D:$D,0),FALSE)),\"On the 2018_04 List\",\"-\")","v":"-"},{"$f":"IF(OR(IFERROR(MATCH($D144,'Transparency List 2017'!$L:$L,0),FALSE),IFERROR(MATCH(TRIM($G144),'Transparency List 2017'!$C:$C,0),FALSE)),\"On the 2017 List\",\"-\")","v":"-"},{"$f":"IF(OR(IFERROR(MATCH($D144,'Transparency List 2015'!$H:$H,0),FALSE),IFERROR(MATCH(TRIM($G144),'Transparency List 2015'!$C:$C,0),FALSE)),\"On the 2015 List\",\"-\")","v":"-"}]
[null,null,4,"",null,null,null,"-",{"$f":"IF(OR(IFERROR(MATCH($D145,'Transparency List 2018_10'!$L:$L,0),FALSE),IFERROR(MATCH(TRIM($G145),'Transparency List 2018_10'!$D:$D,0),FALSE)),\"On the 2018_10 List\",\"-\")","v":"-"},{"$f":"IF(OR(IFERROR(MATCH($D145,'Transparency List 2018_04'!$L:$L,0),FALSE),IFERROR(MATCH(TRIM($G145),'Transparency List 2018_04'!$D:$D,0),FALSE)),\"On the 2018_04 List\",\"-\")","v":"-"},{"$f":"IF(OR(IFERROR(MATCH($D145,'Transparency List 2017'!$L:$L,0),FALSE),IFERROR(MATCH(TRIM($G145),'Transparency List 2017'!$C:$C,0),FALSE)),\"On the 2017 List\",\"-\")","v":"-"},{"$f":"IF(OR(IFERROR(MATCH($D145,'Transparency List 2015'!$H:$H,0),FALSE),IFERROR(MATCH(TRIM($G145),'Transparency List 2015'!$C:$C,0),FALSE)),\"On the 2015 List\",\"-\")","v":"-"}]
[null,null,4,"",null,null,null,"-",{"$f":"IF(OR(IFERROR(MATCH($D146,'Transparency List 2018_10'!$L:$L,0),FALSE),IFERROR(MATCH(TRIM($G146),'Transparency List 2018_10'!$D:$D,0),FALSE)),\"On the 2018_10 List\",\"-\")","v":"-"},{"$f":"IF(OR(IFERROR(MATCH($D146,'Transparency List 2018_04'!$L:$L,0),FALSE),IFERROR(MATCH(TRIM($G146),'Transparency List 2018_04'!$D:$D,0),FALSE)),\"On the 2018_04 List\",\"-\")","v":"-"},{"$f":"IF(OR(IFERROR(MATCH($D146,'Transparency List 2017'!$L:$L,0),FALSE),IFERROR(MATCH(TRIM($G146),'Transparency List 2017'!$C:$C,0),FALSE)),\"On the 2017 List\",\"-\")","v":"-"},{"$f":"IF(OR(IFERROR(MATCH($D146,'Transparency List 2015'!$H:$H,0),FALSE),IFERROR(MATCH(TRIM($G146),'Transparency List 2015'!$C:$C,0),FALSE)),\"On the 2015 List\",\"-\")","v":"-"}]
[null,null,4,"",null,null,null,"-",{"$f":"IF(OR(IFERROR(MATCH($D147,'Transparency List 2018_10'!$L:$L,0),FALSE),IFERROR(MATCH(TRIM($G147),'Transparency List 2018_10'!$D:$D,0),FALSE)),\"On the 2018_10 List\",\"-\")","v":"-"},{"$f":"IF(OR(IFERROR(MATCH($D147,'Transparency List 2018_04'!$L:$L,0),FALSE),IFERROR(MATCH(TRIM($G147),'Transparency List 2018_04'!$D:$D,0),FALSE)),\"On the 2018_04 List\",\"-\")","v":"-"},{"$f":"IF(OR(IFERROR(MATCH($D147,'Transparency List 2017'!$L:$L,0),FALSE),IFERROR(MATCH(TRIM($G147),'Transparency List 2017'!$C:$C,0),FALSE)),\"On the 2017 List\",\"-\")","v":"-"},{"$f":"IF(OR(IFERROR(MATCH($D147,'Transparency List 2015'!$H:$H,0),FALSE),IFERROR(MATCH(TRIM($G147),'Transparency List 2015'!$C:$C,0),FALSE)),\"On the 2015 List\",\"-\")","v":"-"}]
[null,null,4,"",null,null,null,"-",{"$f":"IF(OR(IFERROR(MATCH($D148,'Transparency List 2018_10'!$L:$L,0),FALSE),IFERROR(MATCH(TRIM($G148),'Transparency List 2018_10'!$D:$D,0),FALSE)),\"On the 2018_10 List\",\"-\")","v":"-"},{"$f":"IF(OR(IFERROR(MATCH($D148,'Transparency List 2018_04'!$L:$L,0),FALSE),IFERROR(MATCH(TRIM($G148),'Transparency List 2018_04'!$D:$D,0),FALSE)),\"On the 2018_04 List\",\"-\")","v":"-"},{"$f":"IF(OR(IFERROR(MATCH($D148,'Transparency List 2017'!$L:$L,0),FALSE),IFERROR(MATCH(TRIM($G148),'Transparency List 2017'!$C:$C,0),FALSE)),\"On the 2017 List\",\"-\")","v":"-"},{"$f":"IF(OR(IFERROR(MATCH($D148,'Transparency List 2015'!$H:$H,0),FALSE),IFERROR(MATCH(TRIM($G148),'Transparency List 2015'!$C:$C,0),FALSE)),\"On the 2015 List\",\"-\")","v":"-"}]
[null,null,4,"",null,null,null,"-",{"$f":"IF(OR(IFERROR(MATCH($D149,'Transparency List 2018_10'!$L:$L,0),FALSE),IFERROR(MATCH(TRIM($G149),'Transparency List 2018_10'!$D:$D,0),FALSE)),\"On the 2018_10 List\",\"-\")","v":"-"},{"$f":"IF(OR(IFERROR(MATCH($D149,'Transparency List 2018_04'!$L:$L,0),FALSE),IFERROR(MATCH(TRIM($G149),'Transparency List 2018_04'!$D:$D,0),FALSE)),\"On the 2018_04 List\",\"-\")","v":"-"},{"$f":"IF(OR(IFERROR(MATCH($D149,'Transparency List 2017'!$L:$L,0),FALSE),IFERROR(MATCH(TRIM($G149),'Transparency List 2017'!$C:$C,0),FALSE)),\"On the 2017 List\",\"-\")","v":"-"},{"$f":"IF(OR(IFERROR(MATCH($D149,'Transparency List 2015'!$H:$H,0),FALSE),IFERROR(MATCH(TRIM($G149),'Transparency List 2015'!$C:$C,0),FALSE)),\"On the 2015 List\",\"-\")","v":"-"}]
[null,null,4,"",null,null,null,"-",{"$f":"IF(OR(IFERROR(MATCH($D150,'Transparency List 2018_10'!$L:$L,0),FALSE),IFERROR(MATCH(TRIM($G150),'Transparency List 2018_10'!$D:$D,0),FALSE)),\"On the 2018_10 List\",\"-\")","v":"-"},{"$f":"IF(OR(IFERROR(MATCH($D150,'Transparency List 2018_04'!$L:$L,0),FALSE),IFERROR(MATCH(TRIM($G150),'Transparency List 2018_04'!$D:$D,0),FALSE)),\"On the 2018_04 List\",\"-\")","v":"-"},{"$f":"IF(OR(IFERROR(MATCH($D150,'Transparency List 2017'!$L:$L,0),FALSE),IFERROR(MATCH(TRIM($G150),'Transparency List 2017'!$C:$C,0),FALSE)),\"On the 2017 List\",\"-\")","v":"-"},{"$f":"IF(OR(IFERROR(MATCH($D150,'Transparency List 2015'!$H:$H,0),FALSE),IFERROR(MATCH(TRIM($G150),'Transparency List 2015'!$C:$C,0),FALSE)),\"On the 2015 List\",\"-\")","v":"-"}]
[null,null,4,"",null,null,null,"-",{"$f":"IF(OR(IFERROR(MATCH($D151,'Transparency List 2018_10'!$L:$L,0),FALSE),IFERROR(MATCH(TRIM($G151),'Transparency List 2018_10'!$D:$D,0),FALSE)),\"On the 2018_10 List\",\"-\")","v":"-"},{"$f":"IF(OR(IFERROR(MATCH($D151,'Transparency List 2018_04'!$L:$L,0),FALSE),IFERROR(MATCH(TRIM($G151),'Transparency List 2018_04'!$D:$D,0),FALSE)),\"On the 2018_04 List\",\"-\")","v":"-"},{"$f":"IF(OR(IFERROR(MATCH($D151,'Transparency List 2017'!$L:$L,0),FALSE),IFERROR(MATCH(TRIM($G151),'Transparency List 2017'!$C:$C,0),FALSE)),\"On the 2017 List\",\"-\")","v":"-"},{"$f":"IF(OR(IFERROR(MATCH($D151,'Transparency List 2015'!$H:$H,0),FALSE),IFERROR(MATCH(TRIM($G151),'Transparency List 2015'!$C:$C,0),FALSE)),\"On the 2015 List\",\"-\")","v":"-"}]
[null,null,4,"",null,null,null,"-",{"$f":"IF(OR(IFERROR(MATCH($D152,'Transparency List 2018_10'!$L:$L,0),FALSE),IFERROR(MATCH(TRIM($G152),'Transparency List 2018_10'!$D:$D,0),FALSE)),\"On the 2018_10 List\",\"-\")","v":"-"},{"$f":"IF(OR(IFERROR(MATCH($D152,'Transparency List 2018_04'!$L:$L,0),FALSE),IFERROR(MATCH(TRIM($G152),'Transparency List 2018_04'!$D:$D,0),FALSE)),\"On the 2018_04 List\",\"-\")","v":"-"},{"$f":"IF(OR(IFERROR(MATCH($D152,'Transparency List 2017'!$L:$L,0),FALSE),IFERROR(MATCH(TRIM($G152),'Transparency List 2017'!$C:$C,0),FALSE)),\"On the 2017 List\",\"-\")","v":"-"},{"$f":"IF(OR(IFERROR(MATCH($D152,'Transparency List 2015'!$H:$H,0),FALSE),IFERROR(MATCH(TRIM($G152),'Transparency List 2015'!$C:$C,0),FALSE)),\"On the 2015 List\",\"-\")","v":"-"}]
[null,null,4,"",null,null,null,"-",{"$f":"IF(OR(IFERROR(MATCH($D153,'Transparency List 2018_10'!$L:$L,0),FALSE),IFERROR(MATCH(TRIM($G153),'Transparency List 2018_10'!$D:$D,0),FALSE)),\"On the 2018_10 List\",\"-\")","v":"-"},{"$f":"IF(OR(IFERROR(MATCH($D153,'Transparency List 2018_04'!$L:$L,0),FALSE),IFERROR(MATCH(TRIM($G153),'Transparency List 2018_04'!$D:$D,0),FALSE)),\"On the 2018_04 List\",\"-\")","v":"-"},{"$f":"IF(OR(IFERROR(MATCH($D153,'Transparency List 2017'!$L:$L,0),FALSE),IFERROR(MATCH(TRIM($G153),'Transparency List 2017'!$C:$C,0),FALSE)),\"On the 2017 List\",\"-\")","v":"-"},{"$f":"IF(OR(IFERROR(MATCH($D153,'Transparency List 2015'!$H:$H,0),FALSE),IFERROR(MATCH(TRIM($G153),'Transparency List 2015'!$C:$C,0),FALSE)),\"On the 2015 List\",\"-\")","v":"-"}]
[null,null,4,"",null,null,null,"-",{"$f":"IF(OR(IFERROR(MATCH($D154,'Transparency List 2018_10'!$L:$L,0),FALSE),IFERROR(MATCH(TRIM($G154),'Transparency List 2018_10'!$D:$D,0),FALSE)),\"On the 2018_10 List\",\"-\")","v":"-"},{"$f":"IF(OR(IFERROR(MATCH($D154,'Transparency List 2018_04'!$L:$L,0),FALSE),IFERROR(MATCH(TRIM($G154),'Transparency List 2018_04'!$D:$D,0),FALSE)),\"On the 2018_04 List\",\"-\")","v":"-"},{"$f":"IF(OR(IFERROR(MATCH($D154,'Transparency List 2017'!$L:$L,0),FALSE),IFERROR(MATCH(TRIM($G154),'Transparency List 2017'!$C:$C,0),FALSE)),\"On the 2017 List\",\"-\")","v":"-"},{"$f":"IF(OR(IFERROR(MATCH($D154,'Transparency List 2015'!$H:$H,0),FALSE),IFERROR(MATCH(TRIM($G154),'Transparency List 2015'!$C:$C,0),FALSE)),\"On the 2015 List\",\"-\")","v":"-"}]
[null,null,4,"",null,null,null,"-",{"$f":"IF(OR(IFERROR(MATCH($D155,'Transparency List 2018_10'!$L:$L,0),FALSE),IFERROR(MATCH(TRIM($G155),'Transparency List 2018_10'!$D:$D,0),FALSE)),\"On the 2018_10 List\",\"-\")","v":"-"},{"$f":"IF(OR(IFERROR(MATCH($D155,'Transparency List 2018_04'!$L:$L,0),FALSE),IFERROR(MATCH(TRIM($G155),'Transparency List 2018_04'!$D:$D,0),FALSE)),\"On the 2018_04 List\",\"-\")","v":"-"},{"$f":"IF(OR(IFERROR(MATCH($D155,'Transparency List 2017'!$L:$L,0),FALSE),IFERROR(MATCH(TRIM($G155),'Transparency List 2017'!$C:$C,0),FALSE)),\"On the 2017 List\",\"-\")","v":"-"},{"$f":"IF(OR(IFERROR(MATCH($D155,'Transparency List 2015'!$H:$H,0),FALSE),IFERROR(MATCH(TRIM($G155),'Transparency List 2015'!$C:$C,0),FALSE)),\"On the 2015 List\",\"-\")","v":"-"}]
[null,null,4,"",null,null,null,"-",{"$f":"IF(OR(IFERROR(MATCH($D156,'Transparency List 2018_10'!$L:$L,0),FALSE),IFERROR(MATCH(TRIM($G156),'Transparency List 2018_10'!$D:$D,0),FALSE)),\"On the 2018_10 List\",\"-\")","v":"-"},{"$f":"IF(OR(IFERROR(MATCH($D156,'Transparency List 2018_04'!$L:$L,0),FALSE),IFERROR(MATCH(TRIM($G156),'Transparency List 2018_04'!$D:$D,0),FALSE)),\"On the 2018_04 List\",\"-\")","v":"-"},{"$f":"IF(OR(IFERROR(MATCH($D156,'Transparency List 2017'!$L:$L,0),FALSE),IFERROR(MATCH(TRIM($G156),'Transparency List 2017'!$C:$C,0),FALSE)),\"On the 2017 List\",\"-\")","v":"-"},{"$f":"IF(OR(IFERROR(MATCH($D156,'Transparency List 2015'!$H:$H,0),FALSE),IFERROR(MATCH(TRIM($G156),'Transparency List 2015'!$C:$C,0),FALSE)),\"On the 2015 List\",\"-\")","v":"-"}]
[null,null,4,"",null,null,null,"-",{"$f":"IF(OR(IFERROR(MATCH($D157,'Transparency List 2018_10'!$L:$L,0),FALSE),IFERROR(MATCH(TRIM($G157),'Transparency List 2018_10'!$D:$D,0),FALSE)),\"On the 2018_10 List\",\"-\")","v":"-"},{"$f":"IF(OR(IFERROR(MATCH($D157,'Transparency List 2018_04'!$L:$L,0),FALSE),IFERROR(MATCH(TRIM($G157),'Transparency List 2018_04'!$D:$D,0),FALSE)),\"On the 2018_04 List\",\"-\")","v":"-"},{"$f":"IF(OR(IFERROR(MATCH($D157,'Transparency List 2017'!$L:$L,0),FALSE),IFERROR(MATCH(TRIM($G157),'Transparency List 2017'!$C:$C,0),FALSE)),\"On the 2017 List\",\"-\")","v":"-"},{"$f":"IF(OR(IFERROR(MATCH($D157,'Transparency List 2015'!$H:$H,0),FALSE),IFERROR(MATCH(TRIM($G157),'Transparency List 2015'!$C:$C,0),FALSE)),\"On the 2015 List\",\"-\")","v":"-"}]
[null,null,4,"",null,null,null,"-",{"$f":"IF(OR(IFERROR(MATCH($D158,'Transparency List 2018_10'!$L:$L,0),FALSE),IFERROR(MATCH(TRIM($G158),'Transparency List 2018_10'!$D:$D,0),FALSE)),\"On the 2018_10 List\",\"-\")","v":"-"},{"$f":"IF(OR(IFERROR(MATCH($D158,'Transparency List 2018_04'!$L:$L,0),FALSE),IFERROR(MATCH(TRIM($G158),'Transparency List 2018_04'!$D:$D,0),FALSE)),\"On the 2018_04 List\",\"-\")","v":"-"},{"$f":"IF(OR(IFERROR(MATCH($D158,'Transparency List 2017'!$L:$L,0),FALSE),IFERROR(MATCH(TRIM($G158),'Transparency List 2017'!$C:$C,0),FALSE)),\"On the 2017 List\",\"-\")","v":"-"},{"$f":"IF(OR(IFERROR(MATCH($D158,'Transparency List 2015'!$H:$H,0),FALSE),IFERROR(MATCH(TRIM($G158),'Transparency List 2015'!$C:$C,0),FALSE)),\"On the 2015 List\",\"-\")","v":"-"}]
[null,null,{"$f":"COUNTIF($I159:$L159,\"-\")","v":4},{"$f":"SUBSTITUTE(SUBSTITUTE(SUBSTITUTE(SUBSTITUTE($G159,\" \",\"\"),\".\",\"\"),\"-\",\"\"),\"/\",\"\")","v":""},null,null,null,{"$f":"IFERROR(IF($C159=4,\"-\",\"Risk Farmer - Please conduct further steps\"),)","v":"-"},{"$f":"IF(OR(IFERROR(MATCH($D159,'Transparency List 2018_10'!$L:$L,0),FALSE),IFERROR(MATCH(TRIM($G159),'Transparency List 2018_10'!$D:$D,0),FALSE)),\"On the 2018_10 List\",\"-\")","v":"-"},{"$f":"IF(OR(IFERROR(MATCH($D159,'Transparency List 2018_04'!$L:$L,0),FALSE),IFERROR(MATCH(TRIM($G159),'Transparency List 2018_04'!$D:$D,0),FALSE)),\"On the 2018_04 List\",\"-\")","v":"-"},{"$f":"IF(OR(IFERROR(MATCH($D159,'Transparency List 2017'!$L:$L,0),FALSE),IFERROR(MATCH(TRIM($G159),'Transparency List 2017'!$C:$C,0),FALSE)),\"On the 2017 List\",\"-\")","v":"-"},{"$f":"IF(OR(IFERROR(MATCH($D159,'Transparency List 2015'!$H:$H,0),FALSE),IFERROR(MATCH(TRIM($G159),'Transparency List 2015'!$C:$C,0),FALSE)),\"On the 2015 List\",\"-\")","v":"-"}]
[null,null,4,"",null,null,null,"-",{"$f":"IF(OR(IFERROR(MATCH($D160,'Transparency List 2018_10'!$L:$L,0),FALSE),IFERROR(MATCH(TRIM($G160),'Transparency List 2018_10'!$D:$D,0),FALSE)),\"On the 2018_10 List\",\"-\")","v":"-"},{"$f":"IF(OR(IFERROR(MATCH($D160,'Transparency List 2018_04'!$L:$L,0),FALSE),IFERROR(MATCH(TRIM($G160),'Transparency List 2018_04'!$D:$D,0),FALSE)),\"On the 2018_04 List\",\"-\")","v":"-"},{"$f":"IF(OR(IFERROR(MATCH($D160,'Transparency List 2017'!$L:$L,0),FALSE),IFERROR(MATCH(TRIM($G160),'Transparency List 2017'!$C:$C,0),FALSE)),\"On the 2017 List\",\"-\")","v":"-"},{"$f":"IF(OR(IFERROR(MATCH($D160,'Transparency List 2015'!$H:$H,0),FALSE),IFERROR(MATCH(TRIM($G160),'Transparency List 2015'!$C:$C,0),FALSE)),\"On the 2015 List\",\"-\")","v":"-"}]
[null,null,4,"",null,null,null,"-",{"$f":"IF(OR(IFERROR(MATCH($D161,'Transparency List 2018_10'!$L:$L,0),FALSE),IFERROR(MATCH(TRIM($G161),'Transparency List 2018_10'!$D:$D,0),FALSE)),\"On the 2018_10 List\",\"-\")","v":"-"},{"$f":"IF(OR(IFERROR(MATCH($D161,'Transparency List 2018_04'!$L:$L,0),FALSE),IFERROR(MATCH(TRIM($G161),'Transparency List 2018_04'!$D:$D,0),FALSE)),\"On the 2018_04 List\",\"-\")","v":"-"},{"$f":"IF(OR(IFERROR(MATCH($D161,'Transparency List 2017'!$L:$L,0),FALSE),IFERROR(MATCH(TRIM($G161),'Transparency List 2017'!$C:$C,0),FALSE)),\"On the 2017 List\",\"-\")","v":"-"},{"$f":"IF(OR(IFERROR(MATCH($D161,'Transparency List 2015'!$H:$H,0),FALSE),IFERROR(MATCH(TRIM($G161),'Transparency List 2015'!$C:$C,0),FALSE)),\"On the 2015 List\",\"-\")","v":"-"}]
[null,null,4,"",null,null,null,"-",{"$f":"IF(OR(IFERROR(MATCH($D162,'Transparency List 2018_10'!$L:$L,0),FALSE),IFERROR(MATCH(TRIM($G162),'Transparency List 2018_10'!$D:$D,0),FALSE)),\"On the 2018_10 List\",\"-\")","v":"-"},{"$f":"IF(OR(IFERROR(MATCH($D162,'Transparency List 2018_04'!$L:$L,0),FALSE),IFERROR(MATCH(TRIM($G162),'Transparency List 2018_04'!$D:$D,0),FALSE)),\"On the 2018_04 List\",\"-\")","v":"-"},{"$f":"IF(OR(IFERROR(MATCH($D162,'Transparency List 2017'!$L:$L,0),FALSE),IFERROR(MATCH(TRIM($G162),'Transparency List 2017'!$C:$C,0),FALSE)),\"On the 2017 List\",\"-\")","v":"-"},{"$f":"IF(OR(IFERROR(MATCH($D162,'Transparency List 2015'!$H:$H,0),FALSE),IFERROR(MATCH(TRIM($G162),'Transparency List 2015'!$C:$C,0),FALSE)),\"On the 2015 List\",\"-\")","v":"-"}]
[null,null,4,"",null,null,null,"-",{"$f":"IF(OR(IFERROR(MATCH($D163,'Transparency List 2018_10'!$L:$L,0),FALSE),IFERROR(MATCH(TRIM($G163),'Transparency List 2018_10'!$D:$D,0),FALSE)),\"On the 2018_10 List\",\"-\")","v":"-"},{"$f":"IF(OR(IFERROR(MATCH($D163,'Transparency List 2018_04'!$L:$L,0),FALSE),IFERROR(MATCH(TRIM($G163),'Transparency List 2018_04'!$D:$D,0),FALSE)),\"On the 2018_04 List\",\"-\")","v":"-"},{"$f":"IF(OR(IFERROR(MATCH($D163,'Transparency List 2017'!$L:$L,0),FALSE),IFERROR(MATCH(TRIM($G163),'Transparency List 2017'!$C:$C,0),FALSE)),\"On the 2017 List\",\"-\")","v":"-"},{"$f":"IF(OR(IFERROR(MATCH($D163,'Transparency List 2015'!$H:$H,0),FALSE),IFERROR(MATCH(TRIM($G163),'Transparency List 2015'!$C:$C,0),FALSE)),\"On the 2015 List\",\"-\")","v":"-"}]
[null,null,4,"",null,null,null,"-",{"$f":"IF(OR(IFERROR(MATCH($D164,'Transparency List 2018_10'!$L:$L,0),FALSE),IFERROR(MATCH(TRIM($G164),'Transparency List 2018_10'!$D:$D,0),FALSE)),\"On the 2018_10 List\",\"-\")","v":"-"},{"$f":"IF(OR(IFERROR(MATCH($D164,'Transparency List 2018_04'!$L:$L,0),FALSE),IFERROR(MATCH(TRIM($G164),'Transparency List 2018_04'!$D:$D,0),FALSE)),\"On the 2018_04 List\",\"-\")","v":"-"},{"$f":"IF(OR(IFERROR(MATCH($D164,'Transparency List 2017'!$L:$L,0),FALSE),IFERROR(MATCH(TRIM($G164),'Transparency List 2017'!$C:$C,0),FALSE)),\"On the 2017 List\",\"-\")","v":"-"},{"$f":"IF(OR(IFERROR(MATCH($D164,'Transparency List 2015'!$H:$H,0),FALSE),IFERROR(MATCH(TRIM($G164),'Transparency List 2015'!$C:$C,0),FALSE)),\"On the 2015 List\",\"-\")","v":"-"}]
[null,null,4,"",null,null,null,"-",{"$f":"IF(OR(IFERROR(MATCH($D165,'Transparency List 2018_10'!$L:$L,0),FALSE),IFERROR(MATCH(TRIM($G165),'Transparency List 2018_10'!$D:$D,0),FALSE)),\"On the 2018_10 List\",\"-\")","v":"-"},{"$f":"IF(OR(IFERROR(MATCH($D165,'Transparency List 2018_04'!$L:$L,0),FALSE),IFERROR(MATCH(TRIM($G165),'Transparency List 2018_04'!$D:$D,0),FALSE)),\"On the 2018_04 List\",\"-\")","v":"-"},{"$f":"IF(OR(IFERROR(MATCH($D165,'Transparency List 2017'!$L:$L,0),FALSE),IFERROR(MATCH(TRIM($G165),'Transparency List 2017'!$C:$C,0),FALSE)),\"On the 2017 List\",\"-\")","v":"-"},{"$f":"IF(OR(IFERROR(MATCH($D165,'Transparency List 2015'!$H:$H,0),FALSE),IFERROR(MATCH(TRIM($G165),'Transparency List 2015'!$C:$C,0),FALSE)),\"On the 2015 List\",\"-\")","v":"-"}]
[null,null,4,"",null,null,null,"-",{"$f":"IF(OR(IFERROR(MATCH($D166,'Transparency List 2018_10'!$L:$L,0),FALSE),IFERROR(MATCH(TRIM($G166),'Transparency List 2018_10'!$D:$D,0),FALSE)),\"On the 2018_10 List\",\"-\")","v":"-"},{"$f":"IF(OR(IFERROR(MATCH($D166,'Transparency List 2018_04'!$L:$L,0),FALSE),IFERROR(MATCH(TRIM($G166),'Transparency List 2018_04'!$D:$D,0),FALSE)),\"On the 2018_04 List\",\"-\")","v":"-"},{"$f":"IF(OR(IFERROR(MATCH($D166,'Transparency List 2017'!$L:$L,0),FALSE),IFERROR(MATCH(TRIM($G166),'Transparency List 2017'!$C:$C,0),FALSE)),\"On the 2017 List\",\"-\")","v":"-"},{"$f":"IF(OR(IFERROR(MATCH($D166,'Transparency List 2015'!$H:$H,0),FALSE),IFERROR(MATCH(TRIM($G166),'Transparency List 2015'!$C:$C,0),FALSE)),\"On the 2015 List\",\"-\")","v":"-"}]
[null,null,4,"",null,null,null,"-",{"$f":"IF(OR(IFERROR(MATCH($D167,'Transparency List 2018_10'!$L:$L,0),FALSE),IFERROR(MATCH(TRIM($G167),'Transparency List 2018_10'!$D:$D,0),FALSE)),\"On the 2018_10 List\",\"-\")","v":"-"},{"$f":"IF(OR(IFERROR(MATCH($D167,'Transparency List 2018_04'!$L:$L,0),FALSE),IFERROR(MATCH(TRIM($G167),'Transparency List 2018_04'!$D:$D,0),FALSE)),\"On the 2018_04 List\",\"-\")","v":"-"},{"$f":"IF(OR(IFERROR(MATCH($D167,'Transparency List 2017'!$L:$L,0),FALSE),IFERROR(MATCH(TRIM($G167),'Transparency List 2017'!$C:$C,0),FALSE)),\"On the 2017 List\",\"-\")","v":"-"},{"$f":"IF(OR(IFERROR(MATCH($D167,'Transparency List 2015'!$H:$H,0),FALSE),IFERROR(MATCH(TRIM($G167),'Transparency List 2015'!$C:$C,0),FALSE)),\"On the 2015 List\",\"-\")","v":"-"}]
[null,null,4,"",null,null,null,"-",{"$f":"IF(OR(IFERROR(MATCH($D168,'Transparency List 2018_10'!$L:$L,0),FALSE),IFERROR(MATCH(TRIM($G168),'Transparency List 2018_10'!$D:$D,0),FALSE)),\"On the 2018_10 List\",\"-\")","v":"-"},{"$f":"IF(OR(IFERROR(MATCH($D168,'Transparency List 2018_04'!$L:$L,0),FALSE),IFERROR(MATCH(TRIM($G168),'Transparency List 2018_04'!$D:$D,0),FALSE)),\"On the 2018_04 List\",\"-\")","v":"-"},{"$f":"IF(OR(IFERROR(MATCH($D168,'Transparency List 2017'!$L:$L,0),FALSE),IFERROR(MATCH(TRIM($G168),'Transparency List 2017'!$C:$C,0),FALSE)),\"On the 2017 List\",\"-\")","v":"-"},{"$f":"IF(OR(IFERROR(MATCH($D168,'Transparency List 2015'!$H:$H,0),FALSE),IFERROR(MATCH(TRIM($G168),'Transparency List 2015'!$C:$C,0),FALSE)),\"On the 2015 List\",\"-\")","v":"-"}]
[null,null,4,"",null,null,null,"-",{"$f":"IF(OR(IFERROR(MATCH($D169,'Transparency List 2018_10'!$L:$L,0),FALSE),IFERROR(MATCH(TRIM($G169),'Transparency List 2018_10'!$D:$D,0),FALSE)),\"On the 2018_10 List\",\"-\")","v":"-"},{"$f":"IF(OR(IFERROR(MATCH($D169,'Transparency List 2018_04'!$L:$L,0),FALSE),IFERROR(MATCH(TRIM($G169),'Transparency List 2018_04'!$D:$D,0),FALSE)),\"On the 2018_04 List\",\"-\")","v":"-"},{"$f":"IF(OR(IFERROR(MATCH($D169,'Transparency List 2017'!$L:$L,0),FALSE),IFERROR(MATCH(TRIM($G169),'Transparency List 2017'!$C:$C,0),FALSE)),\"On the 2017 List\",\"-\")","v":"-"},{"$f":"IF(OR(IFERROR(MATCH($D169,'Transparency List 2015'!$H:$H,0),FALSE),IFERROR(MATCH(TRIM($G169),'Transparency List 2015'!$C:$C,0),FALSE)),\"On the 2015 List\",\"-\")","v":"-"}]
[null,null,4,"",null,null,null,"-",{"$f":"IF(OR(IFERROR(MATCH($D170,'Transparency List 2018_10'!$L:$L,0),FALSE),IFERROR(MATCH(TRIM($G170),'Transparency List 2018_10'!$D:$D,0),FALSE)),\"On the 2018_10 List\",\"-\")","v":"-"},{"$f":"IF(OR(IFERROR(MATCH($D170,'Transparency List 2018_04'!$L:$L,0),FALSE),IFERROR(MATCH(TRIM($G170),'Transparency List 2018_04'!$D:$D,0),FALSE)),\"On the 2018_04 List\",\"-\")","v":"-"},{"$f":"IF(OR(IFERROR(MATCH($D170,'Transparency List 2017'!$L:$L,0),FALSE),IFERROR(MATCH(TRIM($G170),'Transparency List 2017'!$C:$C,0),FALSE)),\"On the 2017 List\",\"-\")","v":"-"},{"$f":"IF(OR(IFERROR(MATCH($D170,'Transparency List 2015'!$H:$H,0),FALSE),IFERROR(MATCH(TRIM($G170),'Transparency List 2015'!$C:$C,0),FALSE)),\"On the 2015 List\",\"-\")","v":"-"}]
[null,null,4,"",null,null,null,"-",{"$f":"IF(OR(IFERROR(MATCH($D171,'Transparency List 2018_10'!$L:$L,0),FALSE),IFERROR(MATCH(TRIM($G171),'Transparency List 2018_10'!$D:$D,0),FALSE)),\"On the 2018_10 List\",\"-\")","v":"-"},{"$f":"IF(OR(IFERROR(MATCH($D171,'Transparency List 2018_04'!$L:$L,0),FALSE),IFERROR(MATCH(TRIM($G171),'Transparency List 2018_04'!$D:$D,0),FALSE)),\"On the 2018_04 List\",\"-\")","v":"-"},{"$f":"IF(OR(IFERROR(MATCH($D171,'Transparency List 2017'!$L:$L,0),FALSE),IFERROR(MATCH(TRIM($G171),'Transparency List 2017'!$C:$C,0),FALSE)),\"On the 2017 List\",\"-\")","v":"-"},{"$f":"IF(OR(IFERROR(MATCH($D171,'Transparency List 2015'!$H:$H,0),FALSE),IFERROR(MATCH(TRIM($G171),'Transparency List 2015'!$C:$C,0),FALSE)),\"On the 2015 List\",\"-\")","v":"-"}]
[null,null,4,"",null,null,null,"-",{"$f":"IF(OR(IFERROR(MATCH($D172,'Transparency List 2018_10'!$L:$L,0),FALSE),IFERROR(MATCH(TRIM($G172),'Transparency List 2018_10'!$D:$D,0),FALSE)),\"On the 2018_10 List\",\"-\")","v":"-"},{"$f":"IF(OR(IFERROR(MATCH($D172,'Transparency List 2018_04'!$L:$L,0),FALSE),IFERROR(MATCH(TRIM($G172),'Transparency List 2018_04'!$D:$D,0),FALSE)),\"On the 2018_04 List\",\"-\")","v":"-"},{"$f":"IF(OR(IFERROR(MATCH($D172,'Transparency List 2017'!$L:$L,0),FALSE),IFERROR(MATCH(TRIM($G172),'Transparency List 2017'!$C:$C,0),FALSE)),\"On the 2017 List\",\"-\")","v":"-"},{"$f":"IF(OR(IFERROR(MATCH($D172,'Transparency List 2015'!$H:$H,0),FALSE),IFERROR(MATCH(TRIM($G172),'Transparency List 2015'!$C:$C,0),FALSE)),\"On the 2015 List\",\"-\")","v":"-"}]
[null,null,4,"",null,null,null,"-",{"$f":"IF(OR(IFERROR(MATCH($D173,'Transparency List 2018_10'!$L:$L,0),FALSE),IFERROR(MATCH(TRIM($G173),'Transparency List 2018_10'!$D:$D,0),FALSE)),\"On the 2018_10 List\",\"-\")","v":"-"},{"$f":"IF(OR(IFERROR(MATCH($D173,'Transparency List 2018_04'!$L:$L,0),FALSE),IFERROR(MATCH(TRIM($G173),'Transparency List 2018_04'!$D:$D,0),FALSE)),\"On the 2018_04 List\",\"-\")","v":"-"},{"$f":"IF(OR(IFERROR(MATCH($D173,'Transparency List 2017'!$L:$L,0),FALSE),IFERROR(MATCH(TRIM($G173),'Transparency List 2017'!$C:$C,0),FALSE)),\"On the 2017 List\",\"-\")","v":"-"},{"$f":"IF(OR(IFERROR(MATCH($D173,'Transparency List 2015'!$H:$H,0),FALSE),IFERROR(MATCH(TRIM($G173),'Transparency List 2015'!$C:$C,0),FALSE)),\"On the 2015 List\",\"-\")","v":"-"}]
[null,null,4,"",null,null,null,"-",{"$f":"IF(OR(IFERROR(MATCH($D174,'Transparency List 2018_10'!$L:$L,0),FALSE),IFERROR(MATCH(TRIM($G174),'Transparency List 2018_10'!$D:$D,0),FALSE)),\"On the 2018_10 List\",\"-\")","v":"-"},{"$f":"IF(OR(IFERROR(MATCH($D174,'Transparency List 2018_04'!$L:$L,0),FALSE),IFERROR(MATCH(TRIM($G174),'Transparency List 2018_04'!$D:$D,0),FALSE)),\"On the 2018_04 List\",\"-\")","v":"-"},{"$f":"IF(OR(IFERROR(MATCH($D174,'Transparency List 2017'!$L:$L,0),FALSE),IFERROR(MATCH(TRIM($G174),'Transparency List 2017'!$C:$C,0),FALSE)),\"On the 2017 List\",\"-\")","v":"-"},{"$f":"IF(OR(IFERROR(MATCH($D174,'Transparency List 2015'!$H:$H,0),FALSE),IFERROR(MATCH(TRIM($G174),'Transparency List 2015'!$C:$C,0),FALSE)),\"On the 2015 List\",\"-\")","v":"-"}]
[null,null,4,"",null,null,null,"-",{"$f":"IF(OR(IFERROR(MATCH($D175,'Transparency List 2018_10'!$L:$L,0),FALSE),IFERROR(MATCH(TRIM($G175),'Transparency List 2018_10'!$D:$D,0),FALSE)),\"On the 2018_10 List\",\"-\")","v":"-"},{"$f":"IF(OR(IFERROR(MATCH($D175,'Transparency List 2018_04'!$L:$L,0),FALSE),IFERROR(MATCH(TRIM($G175),'Transparency List 2018_04'!$D:$D,0),FALSE)),\"On the 2018_04 List\",\"-\")","v":"-"},{"$f":"IF(OR(IFERROR(MATCH($D175,'Transparency List 2017'!$L:$L,0),FALSE),IFERROR(MATCH(TRIM($G175),'Transparency List 2017'!$C:$C,0),FALSE)),\"On the 2017 List\",\"-\")","v":"-"},{"$f":"IF(OR(IFERROR(MATCH($D175,'Transparency List 2015'!$H:$H,0),FALSE),IFERROR(MATCH(TRIM($G175),'Transparency List 2015'!$C:$C,0),FALSE)),\"On the 2015 List\",\"-\")","v":"-"}]
[null,null,4,"",null,null,null,"-",{"$f":"IF(OR(IFERROR(MATCH($D176,'Transparency List 2018_10'!$L:$L,0),FALSE),IFERROR(MATCH(TRIM($G176),'Transparency List 2018_10'!$D:$D,0),FALSE)),\"On the 2018_10 List\",\"-\")","v":"-"},{"$f":"IF(OR(IFERROR(MATCH($D176,'Transparency List 2018_04'!$L:$L,0),FALSE),IFERROR(MATCH(TRIM($G176),'Transparency List 2018_04'!$D:$D,0),FALSE)),\"On the 2018_04 List\",\"-\")","v":"-"},{"$f":"IF(OR(IFERROR(MATCH($D176,'Transparency List 2017'!$L:$L,0),FALSE),IFERROR(MATCH(TRIM($G176),'Transparency List 2017'!$C:$C,0),FALSE)),\"On the 2017 List\",\"-\")","v":"-"},{"$f":"IF(OR(IFERROR(MATCH($D176,'Transparency List 2015'!$H:$H,0),FALSE),IFERROR(MATCH(TRIM($G176),'Transparency List 2015'!$C:$C,0),FALSE)),\"On the 2015 List\",\"-\")","v":"-"}]
[null,null,4,"",null,null,null,"-",{"$f":"IF(OR(IFERROR(MATCH($D177,'Transparency List 2018_10'!$L:$L,0),FALSE),IFERROR(MATCH(TRIM($G177),'Transparency List 2018_10'!$D:$D,0),FALSE)),\"On the 2018_10 List\",\"-\")","v":"-"},{"$f":"IF(OR(IFERROR(MATCH($D177,'Transparency List 2018_04'!$L:$L,0),FALSE),IFERROR(MATCH(TRIM($G177),'Transparency List 2018_04'!$D:$D,0),FALSE)),\"On the 2018_04 List\",\"-\")","v":"-"},{"$f":"IF(OR(IFERROR(MATCH($D177,'Transparency List 2017'!$L:$L,0),FALSE),IFERROR(MATCH(TRIM($G177),'Transparency List 2017'!$C:$C,0),FALSE)),\"On the 2017 List\",\"-\")","v":"-"},{"$f":"IF(OR(IFERROR(MATCH($D177,'Transparency List 2015'!$H:$H,0),FALSE),IFERROR(MATCH(TRIM($G177),'Transparency List 2015'!$C:$C,0),FALSE)),\"On the 2015 List\",\"-\")","v":"-"}]
[null,null,4,"",null,null,null,"-",{"$f":"IF(OR(IFERROR(MATCH($D178,'Transparency List 2018_10'!$L:$L,0),FALSE),IFERROR(MATCH(TRIM($G178),'Transparency List 2018_10'!$D:$D,0),FALSE)),\"On the 2018_10 List\",\"-\")","v":"-"},{"$f":"IF(OR(IFERROR(MATCH($D178,'Transparency List 2018_04'!$L:$L,0),FALSE),IFERROR(MATCH(TRIM($G178),'Transparency List 2018_04'!$D:$D,0),FALSE)),\"On the 2018_04 List\",\"-\")","v":"-"},{"$f":"IF(OR(IFERROR(MATCH($D178,'Transparency List 2017'!$L:$L,0),FALSE),IFERROR(MATCH(TRIM($G178),'Transparency List 2017'!$C:$C,0),FALSE)),\"On the 2017 List\",\"-\")","v":"-"},{"$f":"IF(OR(IFERROR(MATCH($D178,'Transparency List 2015'!$H:$H,0),FALSE),IFERROR(MATCH(TRIM($G178),'Transparency List 2015'!$C:$C,0),FALSE)),\"On the 2015 List\",\"-\")","v":"-"}]
[null,null,4,"",null,null,null,"-",{"$f":"IF(OR(IFERROR(MATCH($D179,'Transparency List 2018_10'!$L:$L,0),FALSE),IFERROR(MATCH(TRIM($G179),'Transparency List 2018_10'!$D:$D,0),FALSE)),\"On the 2018_10 List\",\"-\")","v":"-"},{"$f":"IF(OR(IFERROR(MATCH($D179,'Transparency List 2018_04'!$L:$L,0),FALSE),IFERROR(MATCH(TRIM($G179),'Transparency List 2018_04'!$D:$D,0),FALSE)),\"On the 2018_04 List\",\"-\")","v":"-"},{"$f":"IF(OR(IFERROR(MATCH($D179,'Transparency List 2017'!$L:$L,0),FALSE),IFERROR(MATCH(TRIM($G179),'Transparency List 2017'!$C:$C,0),FALSE)),\"On the 2017 List\",\"-\")","v":"-"},{"$f":"IF(OR(IFERROR(MATCH($D179,'Transparency List 2015'!$H:$H,0),FALSE),IFERROR(MATCH(TRIM($G179),'Transparency List 2015'!$C:$C,0),FALSE)),\"On the 2015 List\",\"-\")","v":"-"}]
[null,null,4,"",null,null,null,"-",{"$f":"IF(OR(IFERROR(MATCH($D180,'Transparency List 2018_10'!$L:$L,0),FALSE),IFERROR(MATCH(TRIM($G180),'Transparency List 2018_10'!$D:$D,0),FALSE)),\"On the 2018_10 List\",\"-\")","v":"-"},{"$f":"IF(OR(IFERROR(MATCH($D180,'Transparency List 2018_04'!$L:$L,0),FALSE),IFERROR(MATCH(TRIM($G180),'Transparency List 2018_04'!$D:$D,0),FALSE)),\"On the 2018_04 List\",\"-\")","v":"-"},{"$f":"IF(OR(IFERROR(MATCH($D180,'Transparency List 2017'!$L:$L,0),FALSE),IFERROR(MATCH(TRIM($G180),'Transparency List 2017'!$C:$C,0),FALSE)),\"On the 2017 List\",\"-\")","v":"-"},{"$f":"IF(OR(IFERROR(MATCH($D180,'Transparency List 2015'!$H:$H,0),FALSE),IFERROR(MATCH(TRIM($G180),'Transparency List 2015'!$C:$C,0),FALSE)),\"On the 2015 List\",\"-\")","v":"-"}]
[null,null,4,"",null,null,null,"-",{"$f":"IF(OR(IFERROR(MATCH($D181,'Transparency List 2018_10'!$L:$L,0),FALSE),IFERROR(MATCH(TRIM($G181),'Transparency List 2018_10'!$D:$D,0),FALSE)),\"On the 2018_10 List\",\"-\")","v":"-"},{"$f":"IF(OR(IFERROR(MATCH($D181,'Transparency List 2018_04'!$L:$L,0),FALSE),IFERROR(MATCH(TRIM($G181),'Transparency List 2018_04'!$D:$D,0),FALSE)),\"On the 2018_04 List\",\"-\")","v":"-"},{"$f":"IF(OR(IFERROR(MATCH($D181,'Transparency List 2017'!$L:$L,0),FALSE),IFERROR(MATCH(TRIM($G181),'Transparency List 2017'!$C:$C,0),FALSE)),\"On the 2017 List\",\"-\")","v":"-"},{"$f":"IF(OR(IFERROR(MATCH($D181,'Transparency List 2015'!$H:$H,0),FALSE),IFERROR(MATCH(TRIM($G181),'Transparency List 2015'!$C:$C,0),FALSE)),\"On the 2015 List\",\"-\")","v":"-"}]
[null,null,4,"",null,null,null,"-",{"$f":"IF(OR(IFERROR(MATCH($D182,'Transparency List 2018_10'!$L:$L,0),FALSE),IFERROR(MATCH(TRIM($G182),'Transparency List 2018_10'!$D:$D,0),FALSE)),\"On the 2018_10 List\",\"-\")","v":"-"},{"$f":"IF(OR(IFERROR(MATCH($D182,'Transparency List 2018_04'!$L:$L,0),FALSE),IFERROR(MATCH(TRIM($G182),'Transparency List 2018_04'!$D:$D,0),FALSE)),\"On the 2018_04 List\",\"-\")","v":"-"},{"$f":"IF(OR(IFERROR(MATCH($D182,'Transparency List 2017'!$L:$L,0),FALSE),IFERROR(MATCH(TRIM($G182),'Transparency List 2017'!$C:$C,0),FALSE)),\"On the 2017 List\",\"-\")","v":"-"},{"$f":"IF(OR(IFERROR(MATCH($D182,'Transparency List 2015'!$H:$H,0),FALSE),IFERROR(MATCH(TRIM($G182),'Transparency List 2015'!$C:$C,0),FALSE)),\"On the 2015 List\",\"-\")","v":"-"}]
[null,null,4,"",null,null,null,"-",{"$f":"IF(OR(IFERROR(MATCH($D183,'Transparency List 2018_10'!$L:$L,0),FALSE),IFERROR(MATCH(TRIM($G183),'Transparency List 2018_10'!$D:$D,0),FALSE)),\"On the 2018_10 List\",\"-\")","v":"-"},{"$f":"IF(OR(IFERROR(MATCH($D183,'Transparency List 2018_04'!$L:$L,0),FALSE),IFERROR(MATCH(TRIM($G183),'Transparency List 2018_04'!$D:$D,0),FALSE)),\"On the 2018_04 List\",\"-\")","v":"-"},{"$f":"IF(OR(IFERROR(MATCH($D183,'Transparency List 2017'!$L:$L,0),FALSE),IFERROR(MATCH(TRIM($G183),'Transparency List 2017'!$C:$C,0),FALSE)),\"On the 2017 List\",\"-\")","v":"-"},{"$f":"IF(OR(IFERROR(MATCH($D183,'Transparency List 2015'!$H:$H,0),FALSE),IFERROR(MATCH(TRIM($G183),'Transparency List 2015'!$C:$C,0),FALSE)),\"On the 2015 List\",\"-\")","v":"-"}]
[null,null,4,"",null,null,null,"-",{"$f":"IF(OR(IFERROR(MATCH($D184,'Transparency List 2018_10'!$L:$L,0),FALSE),IFERROR(MATCH(TRIM($G184),'Transparency List 2018_10'!$D:$D,0),FALSE)),\"On the 2018_10 List\",\"-\")","v":"-"},{"$f":"IF(OR(IFERROR(MATCH($D184,'Transparency List 2018_04'!$L:$L,0),FALSE),IFERROR(MATCH(TRIM($G184),'Transparency List 2018_04'!$D:$D,0),FALSE)),\"On the 2018_04 List\",\"-\")","v":"-"},{"$f":"IF(OR(IFERROR(MATCH($D184,'Transparency List 2017'!$L:$L,0),FALSE),IFERROR(MATCH(TRIM($G184),'Transparency List 2017'!$C:$C,0),FALSE)),\"On the 2017 List\",\"-\")","v":"-"},{"$f":"IF(OR(IFERROR(MATCH($D184,'Transparency List 2015'!$H:$H,0),FALSE),IFERROR(MATCH(TRIM($G184),'Transparency List 2015'!$C:$C,0),FALSE)),\"On the 2015 List\",\"-\")","v":"-"}]
[null,null,4,"",null,null,null,"-",{"$f":"IF(OR(IFERROR(MATCH($D185,'Transparency List 2018_10'!$L:$L,0),FALSE),IFERROR(MATCH(TRIM($G185),'Transparency List 2018_10'!$D:$D,0),FALSE)),\"On the 2018_10 List\",\"-\")","v":"-"},{"$f":"IF(OR(IFERROR(MATCH($D185,'Transparency List 2018_04'!$L:$L,0),FALSE),IFERROR(MATCH(TRIM($G185),'Transparency List 2018_04'!$D:$D,0),FALSE)),\"On the 2018_04 List\",\"-\")","v":"-"},{"$f":"IF(OR(IFERROR(MATCH($D185,'Transparency List 2017'!$L:$L,0),FALSE),IFERROR(MATCH(TRIM($G185),'Transparency List 2017'!$C:$C,0),FALSE)),\"On the 2017 List\",\"-\")","v":"-"},{"$f":"IF(OR(IFERROR(MATCH($D185,'Transparency List 2015'!$H:$H,0),FALSE),IFERROR(MATCH(TRIM($G185),'Transparency List 2015'!$C:$C,0),FALSE)),\"On the 2015 List\",\"-\")","v":"-"}]
[null,null,4,"",null,null,null,"-",{"$f":"IF(OR(IFERROR(MATCH($D186,'Transparency List 2018_10'!$L:$L,0),FALSE),IFERROR(MATCH(TRIM($G186),'Transparency List 2018_10'!$D:$D,0),FALSE)),\"On the 2018_10 List\",\"-\")","v":"-"},{"$f":"IF(OR(IFERROR(MATCH($D186,'Transparency List 2018_04'!$L:$L,0),FALSE),IFERROR(MATCH(TRIM($G186),'Transparency List 2018_04'!$D:$D,0),FALSE)),\"On the 2018_04 List\",\"-\")","v":"-"},{"$f":"IF(OR(IFERROR(MATCH($D186,'Transparency List 2017'!$L:$L,0),FALSE),IFERROR(MATCH(TRIM($G186),'Transparency List 2017'!$C:$C,0),FALSE)),\"On the 2017 List\",\"-\")","v":"-"},{"$f":"IF(OR(IFERROR(MATCH($D186,'Transparency List 2015'!$H:$H,0),FALSE),IFERROR(MATCH(TRIM($G186),'Transparency List 2015'!$C:$C,0),FALSE)),\"On the 2015 List\",\"-\")","v":"-"}]
[null,null,4,"",null,null,null,"-",{"$f":"IF(OR(IFERROR(MATCH($D187,'Transparency List 2018_10'!$L:$L,0),FALSE),IFERROR(MATCH(TRIM($G187),'Transparency List 2018_10'!$D:$D,0),FALSE)),\"On the 2018_10 List\",\"-\")","v":"-"},{"$f":"IF(OR(IFERROR(MATCH($D187,'Transparency List 2018_04'!$L:$L,0),FALSE),IFERROR(MATCH(TRIM($G187),'Transparency List 2018_04'!$D:$D,0),FALSE)),\"On the 2018_04 List\",\"-\")","v":"-"},{"$f":"IF(OR(IFERROR(MATCH($D187,'Transparency List 2017'!$L:$L,0),FALSE),IFERROR(MATCH(TRIM($G187),'Transparency List 2017'!$C:$C,0),FALSE)),\"On the 2017 List\",\"-\")","v":"-"},{"$f":"IF(OR(IFERROR(MATCH($D187,'Transparency List 2015'!$H:$H,0),FALSE),IFERROR(MATCH(TRIM($G187),'Transparency List 2015'!$C:$C,0),FALSE)),\"On the 2015 List\",\"-\")","v":"-"}]
[null,null,4,"",null,null,null,"-",{"$f":"IF(OR(IFERROR(MATCH($D188,'Transparency List 2018_10'!$L:$L,0),FALSE),IFERROR(MATCH(TRIM($G188),'Transparency List 2018_10'!$D:$D,0),FALSE)),\"On the 2018_10 List\",\"-\")","v":"-"},{"$f":"IF(OR(IFERROR(MATCH($D188,'Transparency List 2018_04'!$L:$L,0),FALSE),IFERROR(MATCH(TRIM($G188),'Transparency List 2018_04'!$D:$D,0),FALSE)),\"On the 2018_04 List\",\"-\")","v":"-"},{"$f":"IF(OR(IFERROR(MATCH($D188,'Transparency List 2017'!$L:$L,0),FALSE),IFERROR(MATCH(TRIM($G188),'Transparency List 2017'!$C:$C,0),FALSE)),\"On the 2017 List\",\"-\")","v":"-"},{"$f":"IF(OR(IFERROR(MATCH($D188,'Transparency List 2015'!$H:$H,0),FALSE),IFERROR(MATCH(TRIM($G188),'Transparency List 2015'!$C:$C,0),FALSE)),\"On the 2015 List\",\"-\")","v":"-"}]
[null,null,4,"",null,null,null,"-",{"$f":"IF(OR(IFERROR(MATCH($D189,'Transparency List 2018_10'!$L:$L,0),FALSE),IFERROR(MATCH(TRIM($G189),'Transparency List 2018_10'!$D:$D,0),FALSE)),\"On the 2018_10 List\",\"-\")","v":"-"},{"$f":"IF(OR(IFERROR(MATCH($D189,'Transparency List 2018_04'!$L:$L,0),FALSE),IFERROR(MATCH(TRIM($G189),'Transparency List 2018_04'!$D:$D,0),FALSE)),\"On the 2018_04 List\",\"-\")","v":"-"},{"$f":"IF(OR(IFERROR(MATCH($D189,'Transparency List 2017'!$L:$L,0),FALSE),IFERROR(MATCH(TRIM($G189),'Transparency List 2017'!$C:$C,0),FALSE)),\"On the 2017 List\",\"-\")","v":"-"},{"$f":"IF(OR(IFERROR(MATCH($D189,'Transparency List 2015'!$H:$H,0),FALSE),IFERROR(MATCH(TRIM($G189),'Transparency List 2015'!$C:$C,0),FALSE)),\"On the 2015 List\",\"-\")","v":"-"}]
[null,null,4,"",null,null,null,"-",{"$f":"IF(OR(IFERROR(MATCH($D190,'Transparency List 2018_10'!$L:$L,0),FALSE),IFERROR(MATCH(TRIM($G190),'Transparency List 2018_10'!$D:$D,0),FALSE)),\"On the 2018_10 List\",\"-\")","v":"-"},{"$f":"IF(OR(IFERROR(MATCH($D190,'Transparency List 2018_04'!$L:$L,0),FALSE),IFERROR(MATCH(TRIM($G190),'Transparency List 2018_04'!$D:$D,0),FALSE)),\"On the 2018_04 List\",\"-\")","v":"-"},{"$f":"IF(OR(IFERROR(MATCH($D190,'Transparency List 2017'!$L:$L,0),FALSE),IFERROR(MATCH(TRIM($G190),'Transparency List 2017'!$C:$C,0),FALSE)),\"On the 2017 List\",\"-\")","v":"-"},{"$f":"IF(OR(IFERROR(MATCH($D190,'Transparency List 2015'!$H:$H,0),FALSE),IFERROR(MATCH(TRIM($G190),'Transparency List 2015'!$C:$C,0),FALSE)),\"On the 2015 List\",\"-\")","v":"-"}]
[null,null,4,"",null,null,null,"-",{"$f":"IF(OR(IFERROR(MATCH($D191,'Transparency List 2018_10'!$L:$L,0),FALSE),IFERROR(MATCH(TRIM($G191),'Transparency List 2018_10'!$D:$D,0),FALSE)),\"On the 2018_10 List\",\"-\")","v":"-"},{"$f":"IF(OR(IFERROR(MATCH($D191,'Transparency List 2018_04'!$L:$L,0),FALSE),IFERROR(MATCH(TRIM($G191),'Transparency List 2018_04'!$D:$D,0),FALSE)),\"On the 2018_04 List\",\"-\")","v":"-"},{"$f":"IF(OR(IFERROR(MATCH($D191,'Transparency List 2017'!$L:$L,0),FALSE),IFERROR(MATCH(TRIM($G191),'Transparency List 2017'!$C:$C,0),FALSE)),\"On the 2017 List\",\"-\")","v":"-"},{"$f":"IF(OR(IFERROR(MATCH($D191,'Transparency List 2015'!$H:$H,0),FALSE),IFERROR(MATCH(TRIM($G191),'Transparency List 2015'!$C:$C,0),FALSE)),\"On the 2015 List\",\"-\")","v":"-"}]
[null,null,4,"",null,null,null,"-",{"$f":"IF(OR(IFERROR(MATCH($D192,'Transparency List 2018_10'!$L:$L,0),FALSE),IFERROR(MATCH(TRIM($G192),'Transparency List 2018_10'!$D:$D,0),FALSE)),\"On the 2018_10 List\",\"-\")","v":"-"},{"$f":"IF(OR(IFERROR(MATCH($D192,'Transparency List 2018_04'!$L:$L,0),FALSE),IFERROR(MATCH(TRIM($G192),'Transparency List 2018_04'!$D:$D,0),FALSE)),\"On the 2018_04 List\",\"-\")","v":"-"},{"$f":"IF(OR(IFERROR(MATCH($D192,'Transparency List 2017'!$L:$L,0),FALSE),IFERROR(MATCH(TRIM($G192),'Transparency List 2017'!$C:$C,0),FALSE)),\"On the 2017 List\",\"-\")","v":"-"},{"$f":"IF(OR(IFERROR(MATCH($D192,'Transparency List 2015'!$H:$H,0),FALSE),IFERROR(MATCH(TRIM($G192),'Transparency List 2015'!$C:$C,0),FALSE)),\"On the 2015 List\",\"-\")","v":"-"}]
[null,null,4,"",null,null,null,"-",{"$f":"IF(OR(IFERROR(MATCH($D193,'Transparency List 2018_10'!$L:$L,0),FALSE),IFERROR(MATCH(TRIM($G193),'Transparency List 2018_10'!$D:$D,0),FALSE)),\"On the 2018_10 List\",\"-\")","v":"-"},{"$f":"IF(OR(IFERROR(MATCH($D193,'Transparency List 2018_04'!$L:$L,0),FALSE),IFERROR(MATCH(TRIM($G193),'Transparency List 2018_04'!$D:$D,0),FALSE)),\"On the 2018_04 List\",\"-\")","v":"-"},{"$f":"IF(OR(IFERROR(MATCH($D193,'Transparency List 2017'!$L:$L,0),FALSE),IFERROR(MATCH(TRIM($G193),'Transparency List 2017'!$C:$C,0),FALSE)),\"On the 2017 List\",\"-\")","v":"-"},{"$f":"IF(OR(IFERROR(MATCH($D193,'Transparency List 2015'!$H:$H,0),FALSE),IFERROR(MATCH(TRIM($G193),'Transparency List 2015'!$C:$C,0),FALSE)),\"On the 2015 List\",\"-\")","v":"-"}]
[null,null,4,"",null,null,null,"-",{"$f":"IF(OR(IFERROR(MATCH($D194,'Transparency List 2018_10'!$L:$L,0),FALSE),IFERROR(MATCH(TRIM($G194),'Transparency List 2018_10'!$D:$D,0),FALSE)),\"On the 2018_10 List\",\"-\")","v":"-"},{"$f":"IF(OR(IFERROR(MATCH($D194,'Transparency List 2018_04'!$L:$L,0),FALSE),IFERROR(MATCH(TRIM($G194),'Transparency List 2018_04'!$D:$D,0),FALSE)),\"On the 2018_04 List\",\"-\")","v":"-"},{"$f":"IF(OR(IFERROR(MATCH($D194,'Transparency List 2017'!$L:$L,0),FALSE),IFERROR(MATCH(TRIM($G194),'Transparency List 2017'!$C:$C,0),FALSE)),\"On the 2017 List\",\"-\")","v":"-"},{"$f":"IF(OR(IFERROR(MATCH($D194,'Transparency List 2015'!$H:$H,0),FALSE),IFERROR(MATCH(TRIM($G194),'Transparency List 2015'!$C:$C,0),FALSE)),\"On the 2015 List\",\"-\")","v":"-"}]
[null,null,4,"",null,null,null,"-",{"$f":"IF(OR(IFERROR(MATCH($D195,'Transparency List 2018_10'!$L:$L,0),FALSE),IFERROR(MATCH(TRIM($G195),'Transparency List 2018_10'!$D:$D,0),FALSE)),\"On the 2018_10 List\",\"-\")","v":"-"},{"$f":"IF(OR(IFERROR(MATCH($D195,'Transparency List 2018_04'!$L:$L,0),FALSE),IFERROR(MATCH(TRIM($G195),'Transparency List 2018_04'!$D:$D,0),FALSE)),\"On the 2018_04 List\",\"-\")","v":"-"},{"$f":"IF(OR(IFERROR(MATCH($D195,'Transparency List 2017'!$L:$L,0),FALSE),IFERROR(MATCH(TRIM($G195),'Transparency List 2017'!$C:$C,0),FALSE)),\"On the 2017 List\",\"-\")","v":"-"},{"$f":"IF(OR(IFERROR(MATCH($D195,'Transparency List 2015'!$H:$H,0),FALSE),IFERROR(MATCH(TRIM($G195),'Transparency List 2015'!$C:$C,0),FALSE)),\"On the 2015 List\",\"-\")","v":"-"}]
[null,null,4,"",null,null,null,"-",{"$f":"IF(OR(IFERROR(MATCH($D196,'Transparency List 2018_10'!$L:$L,0),FALSE),IFERROR(MATCH(TRIM($G196),'Transparency List 2018_10'!$D:$D,0),FALSE)),\"On the 2018_10 List\",\"-\")","v":"-"},{"$f":"IF(OR(IFERROR(MATCH($D196,'Transparency List 2018_04'!$L:$L,0),FALSE),IFERROR(MATCH(TRIM($G196),'Transparency List 2018_04'!$D:$D,0),FALSE)),\"On the 2018_04 List\",\"-\")","v":"-"},{"$f":"IF(OR(IFERROR(MATCH($D196,'Transparency List 2017'!$L:$L,0),FALSE),IFERROR(MATCH(TRIM($G196),'Transparency List 2017'!$C:$C,0),FALSE)),\"On the 2017 List\",\"-\")","v":"-"},{"$f":"IF(OR(IFERROR(MATCH($D196,'Transparency List 2015'!$H:$H,0),FALSE),IFERROR(MATCH(TRIM($G196),'Transparency List 2015'!$C:$C,0),FALSE)),\"On the 2015 List\",\"-\")","v":"-"}]
[null,null,4,"",null,null,null,"-",{"$f":"IF(OR(IFERROR(MATCH($D197,'Transparency List 2018_10'!$L:$L,0),FALSE),IFERROR(MATCH(TRIM($G197),'Transparency List 2018_10'!$D:$D,0),FALSE)),\"On the 2018_10 List\",\"-\")","v":"-"},{"$f":"IF(OR(IFERROR(MATCH($D197,'Transparency List 2018_04'!$L:$L,0),FALSE),IFERROR(MATCH(TRIM($G197),'Transparency List 2018_04'!$D:$D,0),FALSE)),\"On the 2018_04 List\",\"-\")","v":"-"},{"$f":"IF(OR(IFERROR(MATCH($D197,'Transparency List 2017'!$L:$L,0),FALSE),IFERROR(MATCH(TRIM($G197),'Transparency List 2017'!$C:$C,0),FALSE)),\"On the 2017 List\",\"-\")","v":"-"},{"$f":"IF(OR(IFERROR(MATCH($D197,'Transparency List 2015'!$H:$H,0),FALSE),IFERROR(MATCH(TRIM($G197),'Transparency List 2015'!$C:$C,0),FALSE)),\"On the 2015 List\",\"-\")","v":"-"}]
[null,null,4,"",null,null,null,"-",{"$f":"IF(OR(IFERROR(MATCH($D198,'Transparency List 2018_10'!$L:$L,0),FALSE),IFERROR(MATCH(TRIM($G198),'Transparency List 2018_10'!$D:$D,0),FALSE)),\"On the 2018_10 List\",\"-\")","v":"-"},{"$f":"IF(OR(IFERROR(MATCH($D198,'Transparency List 2018_04'!$L:$L,0),FALSE),IFERROR(MATCH(TRIM($G198),'Transparency List 2018_04'!$D:$D,0),FALSE)),\"On the 2018_04 List\",\"-\")","v":"-"},{"$f":"IF(OR(IFERROR(MATCH($D198,'Transparency List 2017'!$L:$L,0),FALSE),IFERROR(MATCH(TRIM($G198),'Transparency List 2017'!$C:$C,0),FALSE)),\"On the 2017 List\",\"-\")","v":"-"},{"$f":"IF(OR(IFERROR(MATCH($D198,'Transparency List 2015'!$H:$H,0),FALSE),IFERROR(MATCH(TRIM($G198),'Transparency List 2015'!$C:$C,0),FALSE)),\"On the 2015 List\",\"-\")","v":"-"}]
[null,null,4,"",null,null,null,"-",{"$f":"IF(OR(IFERROR(MATCH($D199,'Transparency List 2018_10'!$L:$L,0),FALSE),IFERROR(MATCH(TRIM($G199),'Transparency List 2018_10'!$D:$D,0),FALSE)),\"On the 2018_10 List\",\"-\")","v":"-"},{"$f":"IF(OR(IFERROR(MATCH($D199,'Transparency List 2018_04'!$L:$L,0),FALSE),IFERROR(MATCH(TRIM($G199),'Transparency List 2018_04'!$D:$D,0),FALSE)),\"On the 2018_04 List\",\"-\")","v":"-"},{"$f":"IF(OR(IFERROR(MATCH($D199,'Transparency List 2017'!$L:$L,0),FALSE),IFERROR(MATCH(TRIM($G199),'Transparency List 2017'!$C:$C,0),FALSE)),\"On the 2017 List\",\"-\")","v":"-"},{"$f":"IF(OR(IFERROR(MATCH($D199,'Transparency List 2015'!$H:$H,0),FALSE),IFERROR(MATCH(TRIM($G199),'Transparency List 2015'!$C:$C,0),FALSE)),\"On the 2015 List\",\"-\")","v":"-"}]
[null,null,4,"",null,null,null,"-",{"$f":"IF(OR(IFERROR(MATCH($D200,'Transparency List 2018_10'!$L:$L,0),FALSE),IFERROR(MATCH(TRIM($G200),'Transparency List 2018_10'!$D:$D,0),FALSE)),\"On the 2018_10 List\",\"-\")","v":"-"},{"$f":"IF(OR(IFERROR(MATCH($D200,'Transparency List 2018_04'!$L:$L,0),FALSE),IFERROR(MATCH(TRIM($G200),'Transparency List 2018_04'!$D:$D,0),FALSE)),\"On the 2018_04 List\",\"-\")","v":"-"},{"$f":"IF(OR(IFERROR(MATCH($D200,'Transparency List 2017'!$L:$L,0),FALSE),IFERROR(MATCH(TRIM($G200),'Transparency List 2017'!$C:$C,0),FALSE)),\"On the 2017 List\",\"-\")","v":"-"},{"$f":"IF(OR(IFERROR(MATCH($D200,'Transparency List 2015'!$H:$H,0),FALSE),IFERROR(MATCH(TRIM($G200),'Transparency List 2015'!$C:$C,0),FALSE)),\"On the 2015 List\",\"-\")","v":"-"}]
[null,null,4,"",null,null,null,"-",{"$f":"IF(OR(IFERROR(MATCH($D201,'Transparency List 2018_10'!$L:$L,0),FALSE),IFERROR(MATCH(TRIM($G201),'Transparency List 2018_10'!$D:$D,0),FALSE)),\"On the 2018_10 List\",\"-\")","v":"-"},{"$f":"IF(OR(IFERROR(MATCH($D201,'Transparency List 2018_04'!$L:$L,0),FALSE),IFERROR(MATCH(TRIM($G201),'Transparency List 2018_04'!$D:$D,0),FALSE)),\"On the 2018_04 List\",\"-\")","v":"-"},{"$f":"IF(OR(IFERROR(MATCH($D201,'Transparency List 2017'!$L:$L,0),FALSE),IFERROR(MATCH(TRIM($G201),'Transparency List 2017'!$C:$C,0),FALSE)),\"On the 2017 List\",\"-\")","v":"-"},{"$f":"IF(OR(IFERROR(MATCH($D201,'Transparency List 2015'!$H:$H,0),FALSE),IFERROR(MATCH(TRIM($G201),'Transparency List 2015'!$C:$C,0),FALSE)),\"On the 2015 List\",\"-\")","v":"-"}]
[null,null,4,"",null,null,null,"-",{"$f":"IF(OR(IFERROR(MATCH($D202,'Transparency List 2018_10'!$L:$L,0),FALSE),IFERROR(MATCH(TRIM($G202),'Transparency List 2018_10'!$D:$D,0),FALSE)),\"On the 2018_10 List\",\"-\")","v":"-"},{"$f":"IF(OR(IFERROR(MATCH($D202,'Transparency List 2018_04'!$L:$L,0),FALSE),IFERROR(MATCH(TRIM($G202),'Transparency List 2018_04'!$D:$D,0),FALSE)),\"On the 2018_04 List\",\"-\")","v":"-"},{"$f":"IF(OR(IFERROR(MATCH($D202,'Transparency List 2017'!$L:$L,0),FALSE),IFERROR(MATCH(TRIM($G202),'Transparency List 2017'!$C:$C,0),FALSE)),\"On the 2017 List\",\"-\")","v":"-"},{"$f":"IF(OR(IFERROR(MATCH($D202,'Transparency List 2015'!$H:$H,0),FALSE),IFERROR(MATCH(TRIM($G202),'Transparency List 2015'!$C:$C,0),FALSE)),\"On the 2015 List\",\"-\")","v":"-"}]
[null,null,4,"",null,null,null,"-",{"$f":"IF(OR(IFERROR(MATCH($D203,'Transparency List 2018_10'!$L:$L,0),FALSE),IFERROR(MATCH(TRIM($G203),'Transparency List 2018_10'!$D:$D,0),FALSE)),\"On the 2018_10 List\",\"-\")","v":"-"},{"$f":"IF(OR(IFERROR(MATCH($D203,'Transparency List 2018_04'!$L:$L,0),FALSE),IFERROR(MATCH(TRIM($G203),'Transparency List 2018_04'!$D:$D,0),FALSE)),\"On the 2018_04 List\",\"-\")","v":"-"},{"$f":"IF(OR(IFERROR(MATCH($D203,'Transparency List 2017'!$L:$L,0),FALSE),IFERROR(MATCH(TRIM($G203),'Transparency List 2017'!$C:$C,0),FALSE)),\"On the 2017 List\",\"-\")","v":"-"},{"$f":"IF(OR(IFERROR(MATCH($D203,'Transparency List 2015'!$H:$H,0),FALSE),IFERROR(MATCH(TRIM($G203),'Transparency List 2015'!$C:$C,0),FALSE)),\"On the 2015 List\",\"-\")","v":"-"}]
[null,null,4,"",null,null,null,"-",{"$f":"IF(OR(IFERROR(MATCH($D204,'Transparency List 2018_10'!$L:$L,0),FALSE),IFERROR(MATCH(TRIM($G204),'Transparency List 2018_10'!$D:$D,0),FALSE)),\"On the 2018_10 List\",\"-\")","v":"-"},{"$f":"IF(OR(IFERROR(MATCH($D204,'Transparency List 2018_04'!$L:$L,0),FALSE),IFERROR(MATCH(TRIM($G204),'Transparency List 2018_04'!$D:$D,0),FALSE)),\"On the 2018_04 List\",\"-\")","v":"-"},{"$f":"IF(OR(IFERROR(MATCH($D204,'Transparency List 2017'!$L:$L,0),FALSE),IFERROR(MATCH(TRIM($G204),'Transparency List 2017'!$C:$C,0),FALSE)),\"On the 2017 List\",\"-\")","v":"-"},{"$f":"IF(OR(IFERROR(MATCH($D204,'Transparency List 2015'!$H:$H,0),FALSE),IFERROR(MATCH(TRIM($G204),'Transparency List 2015'!$C:$C,0),FALSE)),\"On the 2015 List\",\"-\")","v":"-"}]
[null,null,4,"",null,null,null,"-",{"$f":"IF(OR(IFERROR(MATCH($D205,'Transparency List 2018_10'!$L:$L,0),FALSE),IFERROR(MATCH(TRIM($G205),'Transparency List 2018_10'!$D:$D,0),FALSE)),\"On the 2018_10 List\",\"-\")","v":"-"},{"$f":"IF(OR(IFERROR(MATCH($D205,'Transparency List 2018_04'!$L:$L,0),FALSE),IFERROR(MATCH(TRIM($G205),'Transparency List 2018_04'!$D:$D,0),FALSE)),\"On the 2018_04 List\",\"-\")","v":"-"},{"$f":"IF(OR(IFERROR(MATCH($D205,'Transparency List 2017'!$L:$L,0),FALSE),IFERROR(MATCH(TRIM($G205),'Transparency List 2017'!$C:$C,0),FALSE)),\"On the 2017 List\",\"-\")","v":"-"},{"$f":"IF(OR(IFERROR(MATCH($D205,'Transparency List 2015'!$H:$H,0),FALSE),IFERROR(MATCH(TRIM($G205),'Transparency List 2015'!$C:$C,0),FALSE)),\"On the 2015 List\",\"-\")","v":"-"}]
[null,null,4,"",null,null,null,"-",{"$f":"IF(OR(IFERROR(MATCH($D206,'Transparency List 2018_10'!$L:$L,0),FALSE),IFERROR(MATCH(TRIM($G206),'Transparency List 2018_10'!$D:$D,0),FALSE)),\"On the 2018_10 List\",\"-\")","v":"-"},{"$f":"IF(OR(IFERROR(MATCH($D206,'Transparency List 2018_04'!$L:$L,0),FALSE),IFERROR(MATCH(TRIM($G206),'Transparency List 2018_04'!$D:$D,0),FALSE)),\"On the 2018_04 List\",\"-\")","v":"-"},{"$f":"IF(OR(IFERROR(MATCH($D206,'Transparency List 2017'!$L:$L,0),FALSE),IFERROR(MATCH(TRIM($G206),'Transparency List 2017'!$C:$C,0),FALSE)),\"On the 2017 List\",\"-\")","v":"-"},{"$f":"IF(OR(IFERROR(MATCH($D206,'Transparency List 2015'!$H:$H,0),FALSE),IFERROR(MATCH(TRIM($G206),'Transparency List 2015'!$C:$C,0),FALSE)),\"On the 2015 List\",\"-\")","v":"-"}]
[null,null,4,"",null,null,null,"-",{"$f":"IF(OR(IFERROR(MATCH($D207,'Transparency List 2018_10'!$L:$L,0),FALSE),IFERROR(MATCH(TRIM($G207),'Transparency List 2018_10'!$D:$D,0),FALSE)),\"On the 2018_10 List\",\"-\")","v":"-"},{"$f":"IF(OR(IFERROR(MATCH($D207,'Transparency List 2018_04'!$L:$L,0),FALSE),IFERROR(MATCH(TRIM($G207),'Transparency List 2018_04'!$D:$D,0),FALSE)),\"On the 2018_04 List\",\"-\")","v":"-"},{"$f":"IF(OR(IFERROR(MATCH($D207,'Transparency List 2017'!$L:$L,0),FALSE),IFERROR(MATCH(TRIM($G207),'Transparency List 2017'!$C:$C,0),FALSE)),\"On the 2017 List\",\"-\")","v":"-"},{"$f":"IF(OR(IFERROR(MATCH($D207,'Transparency List 2015'!$H:$H,0),FALSE),IFERROR(MATCH(TRIM($G207),'Transparency List 2015'!$C:$C,0),FALSE)),\"On the 2015 List\",\"-\")","v":"-"}]
[null,null,4,"",null,null,null,"-",{"$f":"IF(OR(IFERROR(MATCH($D208,'Transparency List 2018_10'!$L:$L,0),FALSE),IFERROR(MATCH(TRIM($G208),'Transparency List 2018_10'!$D:$D,0),FALSE)),\"On the 2018_10 List\",\"-\")","v":"-"},{"$f":"IF(OR(IFERROR(MATCH($D208,'Transparency List 2018_04'!$L:$L,0),FALSE),IFERROR(MATCH(TRIM($G208),'Transparency List 2018_04'!$D:$D,0),FALSE)),\"On the 2018_04 List\",\"-\")","v":"-"},{"$f":"IF(OR(IFERROR(MATCH($D208,'Transparency List 2017'!$L:$L,0),FALSE),IFERROR(MATCH(TRIM($G208),'Transparency List 2017'!$C:$C,0),FALSE)),\"On the 2017 List\",\"-\")","v":"-"},{"$f":"IF(OR(IFERROR(MATCH($D208,'Transparency List 2015'!$H:$H,0),FALSE),IFERROR(MATCH(TRIM($G208),'Transparency List 2015'!$C:$C,0),FALSE)),\"On the 2015 List\",\"-\")","v":"-"}]
[null,null,4,"",null,null,null,"-",{"$f":"IF(OR(IFERROR(MATCH($D209,'Transparency List 2018_10'!$L:$L,0),FALSE),IFERROR(MATCH(TRIM($G209),'Transparency List 2018_10'!$D:$D,0),FALSE)),\"On the 2018_10 List\",\"-\")","v":"-"},{"$f":"IF(OR(IFERROR(MATCH($D209,'Transparency List 2018_04'!$L:$L,0),FALSE),IFERROR(MATCH(TRIM($G209),'Transparency List 2018_04'!$D:$D,0),FALSE)),\"On the 2018_04 List\",\"-\")","v":"-"},{"$f":"IF(OR(IFERROR(MATCH($D209,'Transparency List 2017'!$L:$L,0),FALSE),IFERROR(MATCH(TRIM($G209),'Transparency List 2017'!$C:$C,0),FALSE)),\"On the 2017 List\",\"-\")","v":"-"},{"$f":"IF(OR(IFERROR(MATCH($D209,'Transparency List 2015'!$H:$H,0),FALSE),IFERROR(MATCH(TRIM($G209),'Transparency List 2015'!$C:$C,0),FALSE)),\"On the 2015 List\",\"-\")","v":"-"}]
[null,null,4,"",null,null,null,"-",{"$f":"IF(OR(IFERROR(MATCH($D210,'Transparency List 2018_10'!$L:$L,0),FALSE),IFERROR(MATCH(TRIM($G210),'Transparency List 2018_10'!$D:$D,0),FALSE)),\"On the 2018_10 List\",\"-\")","v":"-"},{"$f":"IF(OR(IFERROR(MATCH($D210,'Transparency List 2018_04'!$L:$L,0),FALSE),IFERROR(MATCH(TRIM($G210),'Transparency List 2018_04'!$D:$D,0),FALSE)),\"On the 2018_04 List\",\"-\")","v":"-"},{"$f":"IF(OR(IFERROR(MATCH($D210,'Transparency List 2017'!$L:$L,0),FALSE),IFERROR(MATCH(TRIM($G210),'Transparency List 2017'!$C:$C,0),FALSE)),\"On the 2017 List\",\"-\")","v":"-"},{"$f":"IF(OR(IFERROR(MATCH($D210,'Transparency List 2015'!$H:$H,0),FALSE),IFERROR(MATCH(TRIM($G210),'Transparency List 2015'!$C:$C,0),FALSE)),\"On the 2015 List\",\"-\")","v":"-"}]
[null,null,4,"",null,null,null,"-",{"$f":"IF(OR(IFERROR(MATCH($D211,'Transparency List 2018_10'!$L:$L,0),FALSE),IFERROR(MATCH(TRIM($G211),'Transparency List 2018_10'!$D:$D,0),FALSE)),\"On the 2018_10 List\",\"-\")","v":"-"},{"$f":"IF(OR(IFERROR(MATCH($D211,'Transparency List 2018_04'!$L:$L,0),FALSE),IFERROR(MATCH(TRIM($G211),'Transparency List 2018_04'!$D:$D,0),FALSE)),\"On the 2018_04 List\",\"-\")","v":"-"},{"$f":"IF(OR(IFERROR(MATCH($D211,'Transparency List 2017'!$L:$L,0),FALSE),IFERROR(MATCH(TRIM($G211),'Transparency List 2017'!$C:$C,0),FALSE)),\"On the 2017 List\",\"-\")","v":"-"},{"$f":"IF(OR(IFERROR(MATCH($D211,'Transparency List 2015'!$H:$H,0),FALSE),IFERROR(MATCH(TRIM($G211),'Transparency List 2015'!$C:$C,0),FALSE)),\"On the 2015 List\",\"-\")","v":"-"}]
[null,null,4,"",null,null,null,"-",{"$f":"IF(OR(IFERROR(MATCH($D212,'Transparency List 2018_10'!$L:$L,0),FALSE),IFERROR(MATCH(TRIM($G212),'Transparency List 2018_10'!$D:$D,0),FALSE)),\"On the 2018_10 List\",\"-\")","v":"-"},{"$f":"IF(OR(IFERROR(MATCH($D212,'Transparency List 2018_04'!$L:$L,0),FALSE),IFERROR(MATCH(TRIM($G212),'Transparency List 2018_04'!$D:$D,0),FALSE)),\"On the 2018_04 List\",\"-\")","v":"-"},{"$f":"IF(OR(IFERROR(MATCH($D212,'Transparency List 2017'!$L:$L,0),FALSE),IFERROR(MATCH(TRIM($G212),'Transparency List 2017'!$C:$C,0),FALSE)),\"On the 2017 List\",\"-\")","v":"-"},{"$f":"IF(OR(IFERROR(MATCH($D212,'Transparency List 2015'!$H:$H,0),FALSE),IFERROR(MATCH(TRIM($G212),'Transparency List 2015'!$C:$C,0),FALSE)),\"On the 2015 List\",\"-\")","v":"-"}]
[null,null,4,"",null,null,null,"-",{"$f":"IF(OR(IFERROR(MATCH($D213,'Transparency List 2018_10'!$L:$L,0),FALSE),IFERROR(MATCH(TRIM($G213),'Transparency List 2018_10'!$D:$D,0),FALSE)),\"On the 2018_10 List\",\"-\")","v":"-"},{"$f":"IF(OR(IFERROR(MATCH($D213,'Transparency List 2018_04'!$L:$L,0),FALSE),IFERROR(MATCH(TRIM($G213),'Transparency List 2018_04'!$D:$D,0),FALSE)),\"On the 2018_04 List\",\"-\")","v":"-"},{"$f":"IF(OR(IFERROR(MATCH($D213,'Transparency List 2017'!$L:$L,0),FALSE),IFERROR(MATCH(TRIM($G213),'Transparency List 2017'!$C:$C,0),FALSE)),\"On the 2017 List\",\"-\")","v":"-"},{"$f":"IF(OR(IFERROR(MATCH($D213,'Transparency List 2015'!$H:$H,0),FALSE),IFERROR(MATCH(TRIM($G213),'Transparency List 2015'!$C:$C,0),FALSE)),\"On the 2015 List\",\"-\")","v":"-"}]
[null,null,4,"",null,null,null,"-",{"$f":"IF(OR(IFERROR(MATCH($D214,'Transparency List 2018_10'!$L:$L,0),FALSE),IFERROR(MATCH(TRIM($G214),'Transparency List 2018_10'!$D:$D,0),FALSE)),\"On the 2018_10 List\",\"-\")","v":"-"},{"$f":"IF(OR(IFERROR(MATCH($D214,'Transparency List 2018_04'!$L:$L,0),FALSE),IFERROR(MATCH(TRIM($G214),'Transparency List 2018_04'!$D:$D,0),FALSE)),\"On the 2018_04 List\",\"-\")","v":"-"},{"$f":"IF(OR(IFERROR(MATCH($D214,'Transparency List 2017'!$L:$L,0),FALSE),IFERROR(MATCH(TRIM($G214),'Transparency List 2017'!$C:$C,0),FALSE)),\"On the 2017 List\",\"-\")","v":"-"},{"$f":"IF(OR(IFERROR(MATCH($D214,'Transparency List 2015'!$H:$H,0),FALSE),IFERROR(MATCH(TRIM($G214),'Transparency List 2015'!$C:$C,0),FALSE)),\"On the 2015 List\",\"-\")","v":"-"}]
[null,null,4,"",null,null,null,"-",{"$f":"IF(OR(IFERROR(MATCH($D215,'Transparency List 2018_10'!$L:$L,0),FALSE),IFERROR(MATCH(TRIM($G215),'Transparency List 2018_10'!$D:$D,0),FALSE)),\"On the 2018_10 List\",\"-\")","v":"-"},{"$f":"IF(OR(IFERROR(MATCH($D215,'Transparency List 2018_04'!$L:$L,0),FALSE),IFERROR(MATCH(TRIM($G215),'Transparency List 2018_04'!$D:$D,0),FALSE)),\"On the 2018_04 List\",\"-\")","v":"-"},{"$f":"IF(OR(IFERROR(MATCH($D215,'Transparency List 2017'!$L:$L,0),FALSE),IFERROR(MATCH(TRIM($G215),'Transparency List 2017'!$C:$C,0),FALSE)),\"On the 2017 List\",\"-\")","v":"-"},{"$f":"IF(OR(IFERROR(MATCH($D215,'Transparency List 2015'!$H:$H,0),FALSE),IFERROR(MATCH(TRIM($G215),'Transparency List 2015'!$C:$C,0),FALSE)),\"On the 2015 List\",\"-\")","v":"-"}]
[null,null,4,"",null,null,null,"-",{"$f":"IF(OR(IFERROR(MATCH($D216,'Transparency List 2018_10'!$L:$L,0),FALSE),IFERROR(MATCH(TRIM($G216),'Transparency List 2018_10'!$D:$D,0),FALSE)),\"On the 2018_10 List\",\"-\")","v":"-"},{"$f":"IF(OR(IFERROR(MATCH($D216,'Transparency List 2018_04'!$L:$L,0),FALSE),IFERROR(MATCH(TRIM($G216),'Transparency List 2018_04'!$D:$D,0),FALSE)),\"On the 2018_04 List\",\"-\")","v":"-"},{"$f":"IF(OR(IFERROR(MATCH($D216,'Transparency List 2017'!$L:$L,0),FALSE),IFERROR(MATCH(TRIM($G216),'Transparency List 2017'!$C:$C,0),FALSE)),\"On the 2017 List\",\"-\")","v":"-"},{"$f":"IF(OR(IFERROR(MATCH($D216,'Transparency List 2015'!$H:$H,0),FALSE),IFERROR(MATCH(TRIM($G216),'Transparency List 2015'!$C:$C,0),FALSE)),\"On the 2015 List\",\"-\")","v":"-"}]
[null,null,4,"",null,null,null,"-",{"$f":"IF(OR(IFERROR(MATCH($D217,'Transparency List 2018_10'!$L:$L,0),FALSE),IFERROR(MATCH(TRIM($G217),'Transparency List 2018_10'!$D:$D,0),FALSE)),\"On the 2018_10 List\",\"-\")","v":"-"},{"$f":"IF(OR(IFERROR(MATCH($D217,'Transparency List 2018_04'!$L:$L,0),FALSE),IFERROR(MATCH(TRIM($G217),'Transparency List 2018_04'!$D:$D,0),FALSE)),\"On the 2018_04 List\",\"-\")","v":"-"},{"$f":"IF(OR(IFERROR(MATCH($D217,'Transparency List 2017'!$L:$L,0),FALSE),IFERROR(MATCH(TRIM($G217),'Transparency List 2017'!$C:$C,0),FALSE)),\"On the 2017 List\",\"-\")","v":"-"},{"$f":"IF(OR(IFERROR(MATCH($D217,'Transparency List 2015'!$H:$H,0),FALSE),IFERROR(MATCH(TRIM($G217),'Transparency List 2015'!$C:$C,0),FALSE)),\"On the 2015 List\",\"-\")","v":"-"}]
[null,null,4,"",null,null,null,"-",{"$f":"IF(OR(IFERROR(MATCH($D218,'Transparency List 2018_10'!$L:$L,0),FALSE),IFERROR(MATCH(TRIM($G218),'Transparency List 2018_10'!$D:$D,0),FALSE)),\"On the 2018_10 List\",\"-\")","v":"-"},{"$f":"IF(OR(IFERROR(MATCH($D218,'Transparency List 2018_04'!$L:$L,0),FALSE),IFERROR(MATCH(TRIM($G218),'Transparency List 2018_04'!$D:$D,0),FALSE)),\"On the 2018_04 List\",\"-\")","v":"-"},{"$f":"IF(OR(IFERROR(MATCH($D218,'Transparency List 2017'!$L:$L,0),FALSE),IFERROR(MATCH(TRIM($G218),'Transparency List 2017'!$C:$C,0),FALSE)),\"On the 2017 List\",\"-\")","v":"-"},{"$f":"IF(OR(IFERROR(MATCH($D218,'Transparency List 2015'!$H:$H,0),FALSE),IFERROR(MATCH(TRIM($G218),'Transparency List 2015'!$C:$C,0),FALSE)),\"On the 2015 List\",\"-\")","v":"-"}]
[null,null,4,"",null,null,null,"-",{"$f":"IF(OR(IFERROR(MATCH($D219,'Transparency List 2018_10'!$L:$L,0),FALSE),IFERROR(MATCH(TRIM($G219),'Transparency List 2018_10'!$D:$D,0),FALSE)),\"On the 2018_10 List\",\"-\")","v":"-"},{"$f":"IF(OR(IFERROR(MATCH($D219,'Transparency List 2018_04'!$L:$L,0),FALSE),IFERROR(MATCH(TRIM($G219),'Transparency List 2018_04'!$D:$D,0),FALSE)),\"On the 2018_04 List\",\"-\")","v":"-"},{"$f":"IF(OR(IFERROR(MATCH($D219,'Transparency List 2017'!$L:$L,0),FALSE),IFERROR(MATCH(TRIM($G219),'Transparency List 2017'!$C:$C,0),FALSE)),\"On the 2017 List\",\"-\")","v":"-"},{"$f":"IF(OR(IFERROR(MATCH($D219,'Transparency List 2015'!$H:$H,0),FALSE),IFERROR(MATCH(TRIM($G219),'Transparency List 2015'!$C:$C,0),FALSE)),\"On the 2015 List\",\"-\")","v":"-"}]
[null,null,4,"",null,null,null,"-",{"$f":"IF(OR(IFERROR(MATCH($D220,'Transparency List 2018_10'!$L:$L,0),FALSE),IFERROR(MATCH(TRIM($G220),'Transparency List 2018_10'!$D:$D,0),FALSE)),\"On the 2018_10 List\",\"-\")","v":"-"},{"$f":"IF(OR(IFERROR(MATCH($D220,'Transparency List 2018_04'!$L:$L,0),FALSE),IFERROR(MATCH(TRIM($G220),'Transparency List 2018_04'!$D:$D,0),FALSE)),\"On the 2018_04 List\",\"-\")","v":"-"},{"$f":"IF(OR(IFERROR(MATCH($D220,'Transparency List 2017'!$L:$L,0),FALSE),IFERROR(MATCH(TRIM($G220),'Transparency List 2017'!$C:$C,0),FALSE)),\"On the 2017 List\",\"-\")","v":"-"},{"$f":"IF(OR(IFERROR(MATCH($D220,'Transparency List 2015'!$H:$H,0),FALSE),IFERROR(MATCH(TRIM($G220),'Transparency List 2015'!$C:$C,0),FALSE)),\"On the 2015 List\",\"-\")","v":"-"}]
[null,null,4,"",null,null,null,"-",{"$f":"IF(OR(IFERROR(MATCH($D221,'Transparency List 2018_10'!$L:$L,0),FALSE),IFERROR(MATCH(TRIM($G221),'Transparency List 2018_10'!$D:$D,0),FALSE)),\"On the 2018_10 List\",\"-\")","v":"-"},{"$f":"IF(OR(IFERROR(MATCH($D221,'Transparency List 2018_04'!$L:$L,0),FALSE),IFERROR(MATCH(TRIM($G221),'Transparency List 2018_04'!$D:$D,0),FALSE)),\"On the 2018_04 List\",\"-\")","v":"-"},{"$f":"IF(OR(IFERROR(MATCH($D221,'Transparency List 2017'!$L:$L,0),FALSE),IFERROR(MATCH(TRIM($G221),'Transparency List 2017'!$C:$C,0),FALSE)),\"On the 2017 List\",\"-\")","v":"-"},{"$f":"IF(OR(IFERROR(MATCH($D221,'Transparency List 2015'!$H:$H,0),FALSE),IFERROR(MATCH(TRIM($G221),'Transparency List 2015'!$C:$C,0),FALSE)),\"On the 2015 List\",\"-\")","v":"-"}]
[null,null,4,"",null,null,null,"-",{"$f":"IF(OR(IFERROR(MATCH($D222,'Transparency List 2018_10'!$L:$L,0),FALSE),IFERROR(MATCH(TRIM($G222),'Transparency List 2018_10'!$D:$D,0),FALSE)),\"On the 2018_10 List\",\"-\")","v":"-"},{"$f":"IF(OR(IFERROR(MATCH($D222,'Transparency List 2018_04'!$L:$L,0),FALSE),IFERROR(MATCH(TRIM($G222),'Transparency List 2018_04'!$D:$D,0),FALSE)),\"On the 2018_04 List\",\"-\")","v":"-"},{"$f":"IF(OR(IFERROR(MATCH($D222,'Transparency List 2017'!$L:$L,0),FALSE),IFERROR(MATCH(TRIM($G222),'Transparency List 2017'!$C:$C,0),FALSE)),\"On the 2017 List\",\"-\")","v":"-"},{"$f":"IF(OR(IFERROR(MATCH($D222,'Transparency List 2015'!$H:$H,0),FALSE),IFERROR(MATCH(TRIM($G222),'Transparency List 2015'!$C:$C,0),FALSE)),\"On the 2015 List\",\"-\")","v":"-"}]
[null,null,{"$f":"COUNTIF($I223:$L223,\"-\")","v":4},{"$f":"SUBSTITUTE(SUBSTITUTE(SUBSTITUTE(SUBSTITUTE($G223,\" \",\"\"),\".\",\"\"),\"-\",\"\"),\"/\",\"\")","v":""},null,null,null,{"$f":"IFERROR(IF($C223=4,\"-\",\"Risk Farmer - Please conduct further steps\"),)","v":"-"},{"$f":"IF(OR(IFERROR(MATCH($D223,'Transparency List 2018_10'!$L:$L,0),FALSE),IFERROR(MATCH(TRIM($G223),'Transparency List 2018_10'!$D:$D,0),FALSE)),\"On the 2018_10 List\",\"-\")","v":"-"},{"$f":"IF(OR(IFERROR(MATCH($D223,'Transparency List 2018_04'!$L:$L,0),FALSE),IFERROR(MATCH(TRIM($G223),'Transparency List 2018_04'!$D:$D,0),FALSE)),\"On the 2018_04 List\",\"-\")","v":"-"},{"$f":"IF(OR(IFERROR(MATCH($D223,'Transparency List 2017'!$L:$L,0),FALSE),IFERROR(MATCH(TRIM($G223),'Transparency List 2017'!$C:$C,0),FALSE)),\"On the 2017 List\",\"-\")","v":"-"},{"$f":"IF(OR(IFERROR(MATCH($D223,'Transparency List 2015'!$H:$H,0),FALSE),IFERROR(MATCH(TRIM($G223),'Transparency List 2015'!$C:$C,0),FALSE)),\"On the 2015 List\",\"-\")","v":"-"}]
[null,null,4,"",null,null,null,"-",{"$f":"IF(OR(IFERROR(MATCH($D224,'Transparency List 2018_10'!$L:$L,0),FALSE),IFERROR(MATCH(TRIM($G224),'Transparency List 2018_10'!$D:$D,0),FALSE)),\"On the 2018_10 List\",\"-\")","v":"-"},{"$f":"IF(OR(IFERROR(MATCH($D224,'Transparency List 2018_04'!$L:$L,0),FALSE),IFERROR(MATCH(TRIM($G224),'Transparency List 2018_04'!$D:$D,0),FALSE)),\"On the 2018_04 List\",\"-\")","v":"-"},{"$f":"IF(OR(IFERROR(MATCH($D224,'Transparency List 2017'!$L:$L,0),FALSE),IFERROR(MATCH(TRIM($G224),'Transparency List 2017'!$C:$C,0),FALSE)),\"On the 2017 List\",\"-\")","v":"-"},{"$f":"IF(OR(IFERROR(MATCH($D224,'Transparency List 2015'!$H:$H,0),FALSE),IFERROR(MATCH(TRIM($G224),'Transparency List 2015'!$C:$C,0),FALSE)),\"On the 2015 List\",\"-\")","v":"-"}]
[null,null,4,"",null,null,null,"-",{"$f":"IF(OR(IFERROR(MATCH($D225,'Transparency List 2018_10'!$L:$L,0),FALSE),IFERROR(MATCH(TRIM($G225),'Transparency List 2018_10'!$D:$D,0),FALSE)),\"On the 2018_10 List\",\"-\")","v":"-"},{"$f":"IF(OR(IFERROR(MATCH($D225,'Transparency List 2018_04'!$L:$L,0),FALSE),IFERROR(MATCH(TRIM($G225),'Transparency List 2018_04'!$D:$D,0),FALSE)),\"On the 2018_04 List\",\"-\")","v":"-"},{"$f":"IF(OR(IFERROR(MATCH($D225,'Transparency List 2017'!$L:$L,0),FALSE),IFERROR(MATCH(TRIM($G225),'Transparency List 2017'!$C:$C,0),FALSE)),\"On the 2017 List\",\"-\")","v":"-"},{"$f":"IF(OR(IFERROR(MATCH($D225,'Transparency List 2015'!$H:$H,0),FALSE),IFERROR(MATCH(TRIM($G225),'Transparency List 2015'!$C:$C,0),FALSE)),\"On the 2015 List\",\"-\")","v":"-"}]
[null,null,4,"",null,null,null,"-",{"$f":"IF(OR(IFERROR(MATCH($D226,'Transparency List 2018_10'!$L:$L,0),FALSE),IFERROR(MATCH(TRIM($G226),'Transparency List 2018_10'!$D:$D,0),FALSE)),\"On the 2018_10 List\",\"-\")","v":"-"},{"$f":"IF(OR(IFERROR(MATCH($D226,'Transparency List 2018_04'!$L:$L,0),FALSE),IFERROR(MATCH(TRIM($G226),'Transparency List 2018_04'!$D:$D,0),FALSE)),\"On the 2018_04 List\",\"-\")","v":"-"},{"$f":"IF(OR(IFERROR(MATCH($D226,'Transparency List 2017'!$L:$L,0),FALSE),IFERROR(MATCH(TRIM($G226),'Transparency List 2017'!$C:$C,0),FALSE)),\"On the 2017 List\",\"-\")","v":"-"},{"$f":"IF(OR(IFERROR(MATCH($D226,'Transparency List 2015'!$H:$H,0),FALSE),IFERROR(MATCH(TRIM($G226),'Transparency List 2015'!$C:$C,0),FALSE)),\"On the 2015 List\",\"-\")","v":"-"}]
[null,null,4,"",null,null,null,"-",{"$f":"IF(OR(IFERROR(MATCH($D227,'Transparency List 2018_10'!$L:$L,0),FALSE),IFERROR(MATCH(TRIM($G227),'Transparency List 2018_10'!$D:$D,0),FALSE)),\"On the 2018_10 List\",\"-\")","v":"-"},{"$f":"IF(OR(IFERROR(MATCH($D227,'Transparency List 2018_04'!$L:$L,0),FALSE),IFERROR(MATCH(TRIM($G227),'Transparency List 2018_04'!$D:$D,0),FALSE)),\"On the 2018_04 List\",\"-\")","v":"-"},{"$f":"IF(OR(IFERROR(MATCH($D227,'Transparency List 2017'!$L:$L,0),FALSE),IFERROR(MATCH(TRIM($G227),'Transparency List 2017'!$C:$C,0),FALSE)),\"On the 2017 List\",\"-\")","v":"-"},{"$f":"IF(OR(IFERROR(MATCH($D227,'Transparency List 2015'!$H:$H,0),FALSE),IFERROR(MATCH(TRIM($G227),'Transparency List 2015'!$C:$C,0),FALSE)),\"On the 2015 List\",\"-\")","v":"-"}]
[null,null,4,"",null,null,null,"-",{"$f":"IF(OR(IFERROR(MATCH($D228,'Transparency List 2018_10'!$L:$L,0),FALSE),IFERROR(MATCH(TRIM($G228),'Transparency List 2018_10'!$D:$D,0),FALSE)),\"On the 2018_10 List\",\"-\")","v":"-"},{"$f":"IF(OR(IFERROR(MATCH($D228,'Transparency List 2018_04'!$L:$L,0),FALSE),IFERROR(MATCH(TRIM($G228),'Transparency List 2018_04'!$D:$D,0),FALSE)),\"On the 2018_04 List\",\"-\")","v":"-"},{"$f":"IF(OR(IFERROR(MATCH($D228,'Transparency List 2017'!$L:$L,0),FALSE),IFERROR(MATCH(TRIM($G228),'Transparency List 2017'!$C:$C,0),FALSE)),\"On the 2017 List\",\"-\")","v":"-"},{"$f":"IF(OR(IFERROR(MATCH($D228,'Transparency List 2015'!$H:$H,0),FALSE),IFERROR(MATCH(TRIM($G228),'Transparency List 2015'!$C:$C,0),FALSE)),\"On the 2015 List\",\"-\")","v":"-"}]
[null,null,4,"",null,null,null,"-",{"$f":"IF(OR(IFERROR(MATCH($D229,'Transparency List 2018_10'!$L:$L,0),FALSE),IFERROR(MATCH(TRIM($G229),'Transparency List 2018_10'!$D:$D,0),FALSE)),\"On the 2018_10 List\",\"-\")","v":"-"},{"$f":"IF(OR(IFERROR(MATCH($D229,'Transparency List 2018_04'!$L:$L,0),FALSE),IFERROR(MATCH(TRIM($G229),'Transparency List 2018_04'!$D:$D,0),FALSE)),\"On the 2018_04 List\",\"-\")","v":"-"},{"$f":"IF(OR(IFERROR(MATCH($D229,'Transparency List 2017'!$L:$L,0),FALSE),IFERROR(MATCH(TRIM($G229),'Transparency List 2017'!$C:$C,0),FALSE)),\"On the 2017 List\",\"-\")","v":"-"},{"$f":"IF(OR(IFERROR(MATCH($D229,'Transparency List 2015'!$H:$H,0),FALSE),IFERROR(MATCH(TRIM($G229),'Transparency List 2015'!$C:$C,0),FALSE)),\"On the 2015 List\",\"-\")","v":"-"}]
[null,null,4,"",null,null,null,"-",{"$f":"IF(OR(IFERROR(MATCH($D230,'Transparency List 2018_10'!$L:$L,0),FALSE),IFERROR(MATCH(TRIM($G230),'Transparency List 2018_10'!$D:$D,0),FALSE)),\"On the 2018_10 List\",\"-\")","v":"-"},{"$f":"IF(OR(IFERROR(MATCH($D230,'Transparency List 2018_04'!$L:$L,0),FALSE),IFERROR(MATCH(TRIM($G230),'Transparency List 2018_04'!$D:$D,0),FALSE)),\"On the 2018_04 List\",\"-\")","v":"-"},{"$f":"IF(OR(IFERROR(MATCH($D230,'Transparency List 2017'!$L:$L,0),FALSE),IFERROR(MATCH(TRIM($G230),'Transparency List 2017'!$C:$C,0),FALSE)),\"On the 2017 List\",\"-\")","v":"-"},{"$f":"IF(OR(IFERROR(MATCH($D230,'Transparency List 2015'!$H:$H,0),FALSE),IFERROR(MATCH(TRIM($G230),'Transparency List 2015'!$C:$C,0),FALSE)),\"On the 2015 List\",\"-\")","v":"-"}]
[null,null,4,"",null,null,null,"-",{"$f":"IF(OR(IFERROR(MATCH($D231,'Transparency List 2018_10'!$L:$L,0),FALSE),IFERROR(MATCH(TRIM($G231),'Transparency List 2018_10'!$D:$D,0),FALSE)),\"On the 2018_10 List\",\"-\")","v":"-"},{"$f":"IF(OR(IFERROR(MATCH($D231,'Transparency List 2018_04'!$L:$L,0),FALSE),IFERROR(MATCH(TRIM($G231),'Transparency List 2018_04'!$D:$D,0),FALSE)),\"On the 2018_04 List\",\"-\")","v":"-"},{"$f":"IF(OR(IFERROR(MATCH($D231,'Transparency List 2017'!$L:$L,0),FALSE),IFERROR(MATCH(TRIM($G231),'Transparency List 2017'!$C:$C,0),FALSE)),\"On the 2017 List\",\"-\")","v":"-"},{"$f":"IF(OR(IFERROR(MATCH($D231,'Transparency List 2015'!$H:$H,0),FALSE),IFERROR(MATCH(TRIM($G231),'Transparency List 2015'!$C:$C,0),FALSE)),\"On the 2015 List\",\"-\")","v":"-"}]
[null,null,4,"",null,null,null,"-",{"$f":"IF(OR(IFERROR(MATCH($D232,'Transparency List 2018_10'!$L:$L,0),FALSE),IFERROR(MATCH(TRIM($G232),'Transparency List 2018_10'!$D:$D,0),FALSE)),\"On the 2018_10 List\",\"-\")","v":"-"},{"$f":"IF(OR(IFERROR(MATCH($D232,'Transparency List 2018_04'!$L:$L,0),FALSE),IFERROR(MATCH(TRIM($G232),'Transparency List 2018_04'!$D:$D,0),FALSE)),\"On the 2018_04 List\",\"-\")","v":"-"},{"$f":"IF(OR(IFERROR(MATCH($D232,'Transparency List 2017'!$L:$L,0),FALSE),IFERROR(MATCH(TRIM($G232),'Transparency List 2017'!$C:$C,0),FALSE)),\"On the 2017 List\",\"-\")","v":"-"},{"$f":"IF(OR(IFERROR(MATCH($D232,'Transparency List 2015'!$H:$H,0),FALSE),IFERROR(MATCH(TRIM($G232),'Transparency List 2015'!$C:$C,0),FALSE)),\"On the 2015 List\",\"-\")","v":"-"}]
[null,null,4,"",null,null,null,"-",{"$f":"IF(OR(IFERROR(MATCH($D233,'Transparency List 2018_10'!$L:$L,0),FALSE),IFERROR(MATCH(TRIM($G233),'Transparency List 2018_10'!$D:$D,0),FALSE)),\"On the 2018_10 List\",\"-\")","v":"-"},{"$f":"IF(OR(IFERROR(MATCH($D233,'Transparency List 2018_04'!$L:$L,0),FALSE),IFERROR(MATCH(TRIM($G233),'Transparency List 2018_04'!$D:$D,0),FALSE)),\"On the 2018_04 List\",\"-\")","v":"-"},{"$f":"IF(OR(IFERROR(MATCH($D233,'Transparency List 2017'!$L:$L,0),FALSE),IFERROR(MATCH(TRIM($G233),'Transparency List 2017'!$C:$C,0),FALSE)),\"On the 2017 List\",\"-\")","v":"-"},{"$f":"IF(OR(IFERROR(MATCH($D233,'Transparency List 2015'!$H:$H,0),FALSE),IFERROR(MATCH(TRIM($G233),'Transparency List 2015'!$C:$C,0),FALSE)),\"On the 2015 List\",\"-\")","v":"-"}]
[null,null,4,"",null,null,null,"-",{"$f":"IF(OR(IFERROR(MATCH($D234,'Transparency List 2018_10'!$L:$L,0),FALSE),IFERROR(MATCH(TRIM($G234),'Transparency List 2018_10'!$D:$D,0),FALSE)),\"On the 2018_10 List\",\"-\")","v":"-"},{"$f":"IF(OR(IFERROR(MATCH($D234,'Transparency List 2018_04'!$L:$L,0),FALSE),IFERROR(MATCH(TRIM($G234),'Transparency List 2018_04'!$D:$D,0),FALSE)),\"On the 2018_04 List\",\"-\")","v":"-"},{"$f":"IF(OR(IFERROR(MATCH($D234,'Transparency List 2017'!$L:$L,0),FALSE),IFERROR(MATCH(TRIM($G234),'Transparency List 2017'!$C:$C,0),FALSE)),\"On the 2017 List\",\"-\")","v":"-"},{"$f":"IF(OR(IFERROR(MATCH($D234,'Transparency List 2015'!$H:$H,0),FALSE),IFERROR(MATCH(TRIM($G234),'Transparency List 2015'!$C:$C,0),FALSE)),\"On the 2015 List\",\"-\")","v":"-"}]
[null,null,4,"",null,null,null,"-",{"$f":"IF(OR(IFERROR(MATCH($D235,'Transparency List 2018_10'!$L:$L,0),FALSE),IFERROR(MATCH(TRIM($G235),'Transparency List 2018_10'!$D:$D,0),FALSE)),\"On the 2018_10 List\",\"-\")","v":"-"},{"$f":"IF(OR(IFERROR(MATCH($D235,'Transparency List 2018_04'!$L:$L,0),FALSE),IFERROR(MATCH(TRIM($G235),'Transparency List 2018_04'!$D:$D,0),FALSE)),\"On the 2018_04 List\",\"-\")","v":"-"},{"$f":"IF(OR(IFERROR(MATCH($D235,'Transparency List 2017'!$L:$L,0),FALSE),IFERROR(MATCH(TRIM($G235),'Transparency List 2017'!$C:$C,0),FALSE)),\"On the 2017 List\",\"-\")","v":"-"},{"$f":"IF(OR(IFERROR(MATCH($D235,'Transparency List 2015'!$H:$H,0),FALSE),IFERROR(MATCH(TRIM($G235),'Transparency List 2015'!$C:$C,0),FALSE)),\"On the 2015 List\",\"-\")","v":"-"}]
[null,null,4,"",null,null,null,"-",{"$f":"IF(OR(IFERROR(MATCH($D236,'Transparency List 2018_10'!$L:$L,0),FALSE),IFERROR(MATCH(TRIM($G236),'Transparency List 2018_10'!$D:$D,0),FALSE)),\"On the 2018_10 List\",\"-\")","v":"-"},{"$f":"IF(OR(IFERROR(MATCH($D236,'Transparency List 2018_04'!$L:$L,0),FALSE),IFERROR(MATCH(TRIM($G236),'Transparency List 2018_04'!$D:$D,0),FALSE)),\"On the 2018_04 List\",\"-\")","v":"-"},{"$f":"IF(OR(IFERROR(MATCH($D236,'Transparency List 2017'!$L:$L,0),FALSE),IFERROR(MATCH(TRIM($G236),'Transparency List 2017'!$C:$C,0),FALSE)),\"On the 2017 List\",\"-\")","v":"-"},{"$f":"IF(OR(IFERROR(MATCH($D236,'Transparency List 2015'!$H:$H,0),FALSE),IFERROR(MATCH(TRIM($G236),'Transparency List 2015'!$C:$C,0),FALSE)),\"On the 2015 List\",\"-\")","v":"-"}]
[null,null,4,"",null,null,null,"-",{"$f":"IF(OR(IFERROR(MATCH($D237,'Transparency List 2018_10'!$L:$L,0),FALSE),IFERROR(MATCH(TRIM($G237),'Transparency List 2018_10'!$D:$D,0),FALSE)),\"On the 2018_10 List\",\"-\")","v":"-"},{"$f":"IF(OR(IFERROR(MATCH($D237,'Transparency List 2018_04'!$L:$L,0),FALSE),IFERROR(MATCH(TRIM($G237),'Transparency List 2018_04'!$D:$D,0),FALSE)),\"On the 2018_04 List\",\"-\")","v":"-"},{"$f":"IF(OR(IFERROR(MATCH($D237,'Transparency List 2017'!$L:$L,0),FALSE),IFERROR(MATCH(TRIM($G237),'Transparency List 2017'!$C:$C,0),FALSE)),\"On the 2017 List\",\"-\")","v":"-"},{"$f":"IF(OR(IFERROR(MATCH($D237,'Transparency List 2015'!$H:$H,0),FALSE),IFERROR(MATCH(TRIM($G237),'Transparency List 2015'!$C:$C,0),FALSE)),\"On the 2015 List\",\"-\")","v":"-"}]
[null,null,4,"",null,null,null,"-",{"$f":"IF(OR(IFERROR(MATCH($D238,'Transparency List 2018_10'!$L:$L,0),FALSE),IFERROR(MATCH(TRIM($G238),'Transparency List 2018_10'!$D:$D,0),FALSE)),\"On the 2018_10 List\",\"-\")","v":"-"},{"$f":"IF(OR(IFERROR(MATCH($D238,'Transparency List 2018_04'!$L:$L,0),FALSE),IFERROR(MATCH(TRIM($G238),'Transparency List 2018_04'!$D:$D,0),FALSE)),\"On the 2018_04 List\",\"-\")","v":"-"},{"$f":"IF(OR(IFERROR(MATCH($D238,'Transparency List 2017'!$L:$L,0),FALSE),IFERROR(MATCH(TRIM($G238),'Transparency List 2017'!$C:$C,0),FALSE)),\"On the 2017 List\",\"-\")","v":"-"},{"$f":"IF(OR(IFERROR(MATCH($D238,'Transparency List 2015'!$H:$H,0),FALSE),IFERROR(MATCH(TRIM($G238),'Transparency List 2015'!$C:$C,0),FALSE)),\"On the 2015 List\",\"-\")","v":"-"}]
[null,null,4,"",null,null,null,"-",{"$f":"IF(OR(IFERROR(MATCH($D239,'Transparency List 2018_10'!$L:$L,0),FALSE),IFERROR(MATCH(TRIM($G239),'Transparency List 2018_10'!$D:$D,0),FALSE)),\"On the 2018_10 List\",\"-\")","v":"-"},{"$f":"IF(OR(IFERROR(MATCH($D239,'Transparency List 2018_04'!$L:$L,0),FALSE),IFERROR(MATCH(TRIM($G239),'Transparency List 2018_04'!$D:$D,0),FALSE)),\"On the 2018_04 List\",\"-\")","v":"-"},{"$f":"IF(OR(IFERROR(MATCH($D239,'Transparency List 2017'!$L:$L,0),FALSE),IFERROR(MATCH(TRIM($G239),'Transparency List 2017'!$C:$C,0),FALSE)),\"On the 2017 List\",\"-\")","v":"-"},{"$f":"IF(OR(IFERROR(MATCH($D239,'Transparency List 2015'!$H:$H,0),FALSE),IFERROR(MATCH(TRIM($G239),'Transparency List 2015'!$C:$C,0),FALSE)),\"On the 2015 List\",\"-\")","v":"-"}]
[null,null,4,"",null,null,null,"-",{"$f":"IF(OR(IFERROR(MATCH($D240,'Transparency List 2018_10'!$L:$L,0),FALSE),IFERROR(MATCH(TRIM($G240),'Transparency List 2018_10'!$D:$D,0),FALSE)),\"On the 2018_10 List\",\"-\")","v":"-"},{"$f":"IF(OR(IFERROR(MATCH($D240,'Transparency List 2018_04'!$L:$L,0),FALSE),IFERROR(MATCH(TRIM($G240),'Transparency List 2018_04'!$D:$D,0),FALSE)),\"On the 2018_04 List\",\"-\")","v":"-"},{"$f":"IF(OR(IFERROR(MATCH($D240,'Transparency List 2017'!$L:$L,0),FALSE),IFERROR(MATCH(TRIM($G240),'Transparency List 2017'!$C:$C,0),FALSE)),\"On the 2017 List\",\"-\")","v":"-"},{"$f":"IF(OR(IFERROR(MATCH($D240,'Transparency List 2015'!$H:$H,0),FALSE),IFERROR(MATCH(TRIM($G240),'Transparency List 2015'!$C:$C,0),FALSE)),\"On the 2015 List\",\"-\")","v":"-"}]
[null,null,4,"",null,null,null,"-",{"$f":"IF(OR(IFERROR(MATCH($D241,'Transparency List 2018_10'!$L:$L,0),FALSE),IFERROR(MATCH(TRIM($G241),'Transparency List 2018_10'!$D:$D,0),FALSE)),\"On the 2018_10 List\",\"-\")","v":"-"},{"$f":"IF(OR(IFERROR(MATCH($D241,'Transparency List 2018_04'!$L:$L,0),FALSE),IFERROR(MATCH(TRIM($G241),'Transparency List 2018_04'!$D:$D,0),FALSE)),\"On the 2018_04 List\",\"-\")","v":"-"},{"$f":"IF(OR(IFERROR(MATCH($D241,'Transparency List 2017'!$L:$L,0),FALSE),IFERROR(MATCH(TRIM($G241),'Transparency List 2017'!$C:$C,0),FALSE)),\"On the 2017 List\",\"-\")","v":"-"},{"$f":"IF(OR(IFERROR(MATCH($D241,'Transparency List 2015'!$H:$H,0),FALSE),IFERROR(MATCH(TRIM($G241),'Transparency List 2015'!$C:$C,0),FALSE)),\"On the 2015 List\",\"-\")","v":"-"}]
[null,null,4,"",null,null,null,"-",{"$f":"IF(OR(IFERROR(MATCH($D242,'Transparency List 2018_10'!$L:$L,0),FALSE),IFERROR(MATCH(TRIM($G242),'Transparency List 2018_10'!$D:$D,0),FALSE)),\"On the 2018_10 List\",\"-\")","v":"-"},{"$f":"IF(OR(IFERROR(MATCH($D242,'Transparency List 2018_04'!$L:$L,0),FALSE),IFERROR(MATCH(TRIM($G242),'Transparency List 2018_04'!$D:$D,0),FALSE)),\"On the 2018_04 List\",\"-\")","v":"-"},{"$f":"IF(OR(IFERROR(MATCH($D242,'Transparency List 2017'!$L:$L,0),FALSE),IFERROR(MATCH(TRIM($G242),'Transparency List 2017'!$C:$C,0),FALSE)),\"On the 2017 List\",\"-\")","v":"-"},{"$f":"IF(OR(IFERROR(MATCH($D242,'Transparency List 2015'!$H:$H,0),FALSE),IFERROR(MATCH(TRIM($G242),'Transparency List 2015'!$C:$C,0),FALSE)),\"On the 2015 List\",\"-\")","v":"-"}]
[null,null,4,"",null,null,null,"-",{"$f":"IF(OR(IFERROR(MATCH($D243,'Transparency List 2018_10'!$L:$L,0),FALSE),IFERROR(MATCH(TRIM($G243),'Transparency List 2018_10'!$D:$D,0),FALSE)),\"On the 2018_10 List\",\"-\")","v":"-"},{"$f":"IF(OR(IFERROR(MATCH($D243,'Transparency List 2018_04'!$L:$L,0),FALSE),IFERROR(MATCH(TRIM($G243),'Transparency List 2018_04'!$D:$D,0),FALSE)),\"On the 2018_04 List\",\"-\")","v":"-"},{"$f":"IF(OR(IFERROR(MATCH($D243,'Transparency List 2017'!$L:$L,0),FALSE),IFERROR(MATCH(TRIM($G243),'Transparency List 2017'!$C:$C,0),FALSE)),\"On the 2017 List\",\"-\")","v":"-"},{"$f":"IF(OR(IFERROR(MATCH($D243,'Transparency List 2015'!$H:$H,0),FALSE),IFERROR(MATCH(TRIM($G243),'Transparency List 2015'!$C:$C,0),FALSE)),\"On the 2015 List\",\"-\")","v":"-"}]
[null,null,4,"",null,null,null,"-",{"$f":"IF(OR(IFERROR(MATCH($D244,'Transparency List 2018_10'!$L:$L,0),FALSE),IFERROR(MATCH(TRIM($G244),'Transparency List 2018_10'!$D:$D,0),FALSE)),\"On the 2018_10 List\",\"-\")","v":"-"},{"$f":"IF(OR(IFERROR(MATCH($D244,'Transparency List 2018_04'!$L:$L,0),FALSE),IFERROR(MATCH(TRIM($G244),'Transparency List 2018_04'!$D:$D,0),FALSE)),\"On the 2018_04 List\",\"-\")","v":"-"},{"$f":"IF(OR(IFERROR(MATCH($D244,'Transparency List 2017'!$L:$L,0),FALSE),IFERROR(MATCH(TRIM($G244),'Transparency List 2017'!$C:$C,0),FALSE)),\"On the 2017 List\",\"-\")","v":"-"},{"$f":"IF(OR(IFERROR(MATCH($D244,'Transparency List 2015'!$H:$H,0),FALSE),IFERROR(MATCH(TRIM($G244),'Transparency List 2015'!$C:$C,0),FALSE)),\"On the 2015 List\",\"-\")","v":"-"}]
[null,null,4,"",null,null,null,"-",{"$f":"IF(OR(IFERROR(MATCH($D245,'Transparency List 2018_10'!$L:$L,0),FALSE),IFERROR(MATCH(TRIM($G245),'Transparency List 2018_10'!$D:$D,0),FALSE)),\"On the 2018_10 List\",\"-\")","v":"-"},{"$f":"IF(OR(IFERROR(MATCH($D245,'Transparency List 2018_04'!$L:$L,0),FALSE),IFERROR(MATCH(TRIM($G245),'Transparency List 2018_04'!$D:$D,0),FALSE)),\"On the 2018_04 List\",\"-\")","v":"-"},{"$f":"IF(OR(IFERROR(MATCH($D245,'Transparency List 2017'!$L:$L,0),FALSE),IFERROR(MATCH(TRIM($G245),'Transparency List 2017'!$C:$C,0),FALSE)),\"On the 2017 List\",\"-\")","v":"-"},{"$f":"IF(OR(IFERROR(MATCH($D245,'Transparency List 2015'!$H:$H,0),FALSE),IFERROR(MATCH(TRIM($G245),'Transparency List 2015'!$C:$C,0),FALSE)),\"On the 2015 List\",\"-\")","v":"-"}]
[null,null,4,"",null,null,null,"-",{"$f":"IF(OR(IFERROR(MATCH($D246,'Transparency List 2018_10'!$L:$L,0),FALSE),IFERROR(MATCH(TRIM($G246),'Transparency List 2018_10'!$D:$D,0),FALSE)),\"On the 2018_10 List\",\"-\")","v":"-"},{"$f":"IF(OR(IFERROR(MATCH($D246,'Transparency List 2018_04'!$L:$L,0),FALSE),IFERROR(MATCH(TRIM($G246),'Transparency List 2018_04'!$D:$D,0),FALSE)),\"On the 2018_04 List\",\"-\")","v":"-"},{"$f":"IF(OR(IFERROR(MATCH($D246,'Transparency List 2017'!$L:$L,0),FALSE),IFERROR(MATCH(TRIM($G246),'Transparency List 2017'!$C:$C,0),FALSE)),\"On the 2017 List\",\"-\")","v":"-"},{"$f":"IF(OR(IFERROR(MATCH($D246,'Transparency List 2015'!$H:$H,0),FALSE),IFERROR(MATCH(TRIM($G246),'Transparency List 2015'!$C:$C,0),FALSE)),\"On the 2015 List\",\"-\")","v":"-"}]
[null,null,4,"",null,null,null,"-",{"$f":"IF(OR(IFERROR(MATCH($D247,'Transparency List 2018_10'!$L:$L,0),FALSE),IFERROR(MATCH(TRIM($G247),'Transparency List 2018_10'!$D:$D,0),FALSE)),\"On the 2018_10 List\",\"-\")","v":"-"},{"$f":"IF(OR(IFERROR(MATCH($D247,'Transparency List 2018_04'!$L:$L,0),FALSE),IFERROR(MATCH(TRIM($G247),'Transparency List 2018_04'!$D:$D,0),FALSE)),\"On the 2018_04 List\",\"-\")","v":"-"},{"$f":"IF(OR(IFERROR(MATCH($D247,'Transparency List 2017'!$L:$L,0),FALSE),IFERROR(MATCH(TRIM($G247),'Transparency List 2017'!$C:$C,0),FALSE)),\"On the 2017 List\",\"-\")","v":"-"},{"$f":"IF(OR(IFERROR(MATCH($D247,'Transparency List 2015'!$H:$H,0),FALSE),IFERROR(MATCH(TRIM($G247),'Transparency List 2015'!$C:$C,0),FALSE)),\"On the 2015 List\",\"-\")","v":"-"}]
[null,null,4,"",null,null,null,"-",{"$f":"IF(OR(IFERROR(MATCH($D248,'Transparency List 2018_10'!$L:$L,0),FALSE),IFERROR(MATCH(TRIM($G248),'Transparency List 2018_10'!$D:$D,0),FALSE)),\"On the 2018_10 List\",\"-\")","v":"-"},{"$f":"IF(OR(IFERROR(MATCH($D248,'Transparency List 2018_04'!$L:$L,0),FALSE),IFERROR(MATCH(TRIM($G248),'Transparency List 2018_04'!$D:$D,0),FALSE)),\"On the 2018_04 List\",\"-\")","v":"-"},{"$f":"IF(OR(IFERROR(MATCH($D248,'Transparency List 2017'!$L:$L,0),FALSE),IFERROR(MATCH(TRIM($G248),'Transparency List 2017'!$C:$C,0),FALSE)),\"On the 2017 List\",\"-\")","v":"-"},{"$f":"IF(OR(IFERROR(MATCH($D248,'Transparency List 2015'!$H:$H,0),FALSE),IFERROR(MATCH(TRIM($G248),'Transparency List 2015'!$C:$C,0),FALSE)),\"On the 2015 List\",\"-\")","v":"-"}]
[null,null,4,"",null,null,null,"-",{"$f":"IF(OR(IFERROR(MATCH($D249,'Transparency List 2018_10'!$L:$L,0),FALSE),IFERROR(MATCH(TRIM($G249),'Transparency List 2018_10'!$D:$D,0),FALSE)),\"On the 2018_10 List\",\"-\")","v":"-"},{"$f":"IF(OR(IFERROR(MATCH($D249,'Transparency List 2018_04'!$L:$L,0),FALSE),IFERROR(MATCH(TRIM($G249),'Transparency List 2018_04'!$D:$D,0),FALSE)),\"On the 2018_04 List\",\"-\")","v":"-"},{"$f":"IF(OR(IFERROR(MATCH($D249,'Transparency List 2017'!$L:$L,0),FALSE),IFERROR(MATCH(TRIM($G249),'Transparency List 2017'!$C:$C,0),FALSE)),\"On the 2017 List\",\"-\")","v":"-"},{"$f":"IF(OR(IFERROR(MATCH($D249,'Transparency List 2015'!$H:$H,0),FALSE),IFERROR(MATCH(TRIM($G249),'Transparency List 2015'!$C:$C,0),FALSE)),\"On the 2015 List\",\"-\")","v":"-"}]
[null,null,4,"",null,null,null,"-",{"$f":"IF(OR(IFERROR(MATCH($D250,'Transparency List 2018_10'!$L:$L,0),FALSE),IFERROR(MATCH(TRIM($G250),'Transparency List 2018_10'!$D:$D,0),FALSE)),\"On the 2018_10 List\",\"-\")","v":"-"},{"$f":"IF(OR(IFERROR(MATCH($D250,'Transparency List 2018_04'!$L:$L,0),FALSE),IFERROR(MATCH(TRIM($G250),'Transparency List 2018_04'!$D:$D,0),FALSE)),\"On the 2018_04 List\",\"-\")","v":"-"},{"$f":"IF(OR(IFERROR(MATCH($D250,'Transparency List 2017'!$L:$L,0),FALSE),IFERROR(MATCH(TRIM($G250),'Transparency List 2017'!$C:$C,0),FALSE)),\"On the 2017 List\",\"-\")","v":"-"},{"$f":"IF(OR(IFERROR(MATCH($D250,'Transparency List 2015'!$H:$H,0),FALSE),IFERROR(MATCH(TRIM($G250),'Transparency List 2015'!$C:$C,0),FALSE)),\"On the 2015 List\",\"-\")","v":"-"}]
[null,null,4,"",null,null,null,"-",{"$f":"IF(OR(IFERROR(MATCH($D251,'Transparency List 2018_10'!$L:$L,0),FALSE),IFERROR(MATCH(TRIM($G251),'Transparency List 2018_10'!$D:$D,0),FALSE)),\"On the 2018_10 List\",\"-\")","v":"-"},{"$f":"IF(OR(IFERROR(MATCH($D251,'Transparency List 2018_04'!$L:$L,0),FALSE),IFERROR(MATCH(TRIM($G251),'Transparency List 2018_04'!$D:$D,0),FALSE)),\"On the 2018_04 List\",\"-\")","v":"-"},{"$f":"IF(OR(IFERROR(MATCH($D251,'Transparency List 2017'!$L:$L,0),FALSE),IFERROR(MATCH(TRIM($G251),'Transparency List 2017'!$C:$C,0),FALSE)),\"On the 2017 List\",\"-\")","v":"-"},{"$f":"IF(OR(IFERROR(MATCH($D251,'Transparency List 2015'!$H:$H,0),FALSE),IFERROR(MATCH(TRIM($G251),'Transparency List 2015'!$C:$C,0),FALSE)),\"On the 2015 List\",\"-\")","v":"-"}]
[null,null,4,"",null,null,null,"-",{"$f":"IF(OR(IFERROR(MATCH($D252,'Transparency List 2018_10'!$L:$L,0),FALSE),IFERROR(MATCH(TRIM($G252),'Transparency List 2018_10'!$D:$D,0),FALSE)),\"On the 2018_10 List\",\"-\")","v":"-"},{"$f":"IF(OR(IFERROR(MATCH($D252,'Transparency List 2018_04'!$L:$L,0),FALSE),IFERROR(MATCH(TRIM($G252),'Transparency List 2018_04'!$D:$D,0),FALSE)),\"On the 2018_04 List\",\"-\")","v":"-"},{"$f":"IF(OR(IFERROR(MATCH($D252,'Transparency List 2017'!$L:$L,0),FALSE),IFERROR(MATCH(TRIM($G252),'Transparency List 2017'!$C:$C,0),FALSE)),\"On the 2017 List\",\"-\")","v":"-"},{"$f":"IF(OR(IFERROR(MATCH($D252,'Transparency List 2015'!$H:$H,0),FALSE),IFERROR(MATCH(TRIM($G252),'Transparency List 2015'!$C:$C,0),FALSE)),\"On the 2015 List\",\"-\")","v":"-"}]
[null,null,4,"",null,null,null,"-",{"$f":"IF(OR(IFERROR(MATCH($D253,'Transparency List 2018_10'!$L:$L,0),FALSE),IFERROR(MATCH(TRIM($G253),'Transparency List 2018_10'!$D:$D,0),FALSE)),\"On the 2018_10 List\",\"-\")","v":"-"},{"$f":"IF(OR(IFERROR(MATCH($D253,'Transparency List 2018_04'!$L:$L,0),FALSE),IFERROR(MATCH(TRIM($G253),'Transparency List 2018_04'!$D:$D,0),FALSE)),\"On the 2018_04 List\",\"-\")","v":"-"},{"$f":"IF(OR(IFERROR(MATCH($D253,'Transparency List 2017'!$L:$L,0),FALSE),IFERROR(MATCH(TRIM($G253),'Transparency List 2017'!$C:$C,0),FALSE)),\"On the 2017 List\",\"-\")","v":"-"},{"$f":"IF(OR(IFERROR(MATCH($D253,'Transparency List 2015'!$H:$H,0),FALSE),IFERROR(MATCH(TRIM($G253),'Transparency List 2015'!$C:$C,0),FALSE)),\"On the 2015 List\",\"-\")","v":"-"}]
[null,null,4,"",null,null,null,"-",{"$f":"IF(OR(IFERROR(MATCH($D254,'Transparency List 2018_10'!$L:$L,0),FALSE),IFERROR(MATCH(TRIM($G254),'Transparency List 2018_10'!$D:$D,0),FALSE)),\"On the 2018_10 List\",\"-\")","v":"-"},{"$f":"IF(OR(IFERROR(MATCH($D254,'Transparency List 2018_04'!$L:$L,0),FALSE),IFERROR(MATCH(TRIM($G254),'Transparency List 2018_04'!$D:$D,0),FALSE)),\"On the 2018_04 List\",\"-\")","v":"-"},{"$f":"IF(OR(IFERROR(MATCH($D254,'Transparency List 2017'!$L:$L,0),FALSE),IFERROR(MATCH(TRIM($G254),'Transparency List 2017'!$C:$C,0),FALSE)),\"On the 2017 List\",\"-\")","v":"-"},{"$f":"IF(OR(IFERROR(MATCH($D254,'Transparency List 2015'!$H:$H,0),FALSE),IFERROR(MATCH(TRIM($G254),'Transparency List 2015'!$C:$C,0),FALSE)),\"On the 2015 List\",\"-\")","v":"-"}]
[null,null,4,"",null,null,null,"-",{"$f":"IF(OR(IFERROR(MATCH($D255,'Transparency List 2018_10'!$L:$L,0),FALSE),IFERROR(MATCH(TRIM($G255),'Transparency List 2018_10'!$D:$D,0),FALSE)),\"On the 2018_10 List\",\"-\")","v":"-"},{"$f":"IF(OR(IFERROR(MATCH($D255,'Transparency List 2018_04'!$L:$L,0),FALSE),IFERROR(MATCH(TRIM($G255),'Transparency List 2018_04'!$D:$D,0),FALSE)),\"On the 2018_04 List\",\"-\")","v":"-"},{"$f":"IF(OR(IFERROR(MATCH($D255,'Transparency List 2017'!$L:$L,0),FALSE),IFERROR(MATCH(TRIM($G255),'Transparency List 2017'!$C:$C,0),FALSE)),\"On the 2017 List\",\"-\")","v":"-"},{"$f":"IF(OR(IFERROR(MATCH($D255,'Transparency List 2015'!$H:$H,0),FALSE),IFERROR(MATCH(TRIM($G255),'Transparency List 2015'!$C:$C,0),FALSE)),\"On the 2015 List\",\"-\")","v":"-"}]
[null,null,4,"",null,null,null,"-",{"$f":"IF(OR(IFERROR(MATCH($D256,'Transparency List 2018_10'!$L:$L,0),FALSE),IFERROR(MATCH(TRIM($G256),'Transparency List 2018_10'!$D:$D,0),FALSE)),\"On the 2018_10 List\",\"-\")","v":"-"},{"$f":"IF(OR(IFERROR(MATCH($D256,'Transparency List 2018_04'!$L:$L,0),FALSE),IFERROR(MATCH(TRIM($G256),'Transparency List 2018_04'!$D:$D,0),FALSE)),\"On the 2018_04 List\",\"-\")","v":"-"},{"$f":"IF(OR(IFERROR(MATCH($D256,'Transparency List 2017'!$L:$L,0),FALSE),IFERROR(MATCH(TRIM($G256),'Transparency List 2017'!$C:$C,0),FALSE)),\"On the 2017 List\",\"-\")","v":"-"},{"$f":"IF(OR(IFERROR(MATCH($D256,'Transparency List 2015'!$H:$H,0),FALSE),IFERROR(MATCH(TRIM($G256),'Transparency List 2015'!$C:$C,0),FALSE)),\"On the 2015 List\",\"-\")","v":"-"}]
[null,null,4,"",null,null,null,"-",{"$f":"IF(OR(IFERROR(MATCH($D257,'Transparency List 2018_10'!$L:$L,0),FALSE),IFERROR(MATCH(TRIM($G257),'Transparency List 2018_10'!$D:$D,0),FALSE)),\"On the 2018_10 List\",\"-\")","v":"-"},{"$f":"IF(OR(IFERROR(MATCH($D257,'Transparency List 2018_04'!$L:$L,0),FALSE),IFERROR(MATCH(TRIM($G257),'Transparency List 2018_04'!$D:$D,0),FALSE)),\"On the 2018_04 List\",\"-\")","v":"-"},{"$f":"IF(OR(IFERROR(MATCH($D257,'Transparency List 2017'!$L:$L,0),FALSE),IFERROR(MATCH(TRIM($G257),'Transparency List 2017'!$C:$C,0),FALSE)),\"On the 2017 List\",\"-\")","v":"-"},{"$f":"IF(OR(IFERROR(MATCH($D257,'Transparency List 2015'!$H:$H,0),FALSE),IFERROR(MATCH(TRIM($G257),'Transparency List 2015'!$C:$C,0),FALSE)),\"On the 2015 List\",\"-\")","v":"-"}]
[null,null,4,"",null,null,null,"-",{"$f":"IF(OR(IFERROR(MATCH($D258,'Transparency List 2018_10'!$L:$L,0),FALSE),IFERROR(MATCH(TRIM($G258),'Transparency List 2018_10'!$D:$D,0),FALSE)),\"On the 2018_10 List\",\"-\")","v":"-"},{"$f":"IF(OR(IFERROR(MATCH($D258,'Transparency List 2018_04'!$L:$L,0),FALSE),IFERROR(MATCH(TRIM($G258),'Transparency List 2018_04'!$D:$D,0),FALSE)),\"On the 2018_04 List\",\"-\")","v":"-"},{"$f":"IF(OR(IFERROR(MATCH($D258,'Transparency List 2017'!$L:$L,0),FALSE),IFERROR(MATCH(TRIM($G258),'Transparency List 2017'!$C:$C,0),FALSE)),\"On the 2017 List\",\"-\")","v":"-"},{"$f":"IF(OR(IFERROR(MATCH($D258,'Transparency List 2015'!$H:$H,0),FALSE),IFERROR(MATCH(TRIM($G258),'Transparency List 2015'!$C:$C,0),FALSE)),\"On the 2015 List\",\"-\")","v":"-"}]
[null,null,4,"",null,null,null,"-",{"$f":"IF(OR(IFERROR(MATCH($D259,'Transparency List 2018_10'!$L:$L,0),FALSE),IFERROR(MATCH(TRIM($G259),'Transparency List 2018_10'!$D:$D,0),FALSE)),\"On the 2018_10 List\",\"-\")","v":"-"},{"$f":"IF(OR(IFERROR(MATCH($D259,'Transparency List 2018_04'!$L:$L,0),FALSE),IFERROR(MATCH(TRIM($G259),'Transparency List 2018_04'!$D:$D,0),FALSE)),\"On the 2018_04 List\",\"-\")","v":"-"},{"$f":"IF(OR(IFERROR(MATCH($D259,'Transparency List 2017'!$L:$L,0),FALSE),IFERROR(MATCH(TRIM($G259),'Transparency List 2017'!$C:$C,0),FALSE)),\"On the 2017 List\",\"-\")","v":"-"},{"$f":"IF(OR(IFERROR(MATCH($D259,'Transparency List 2015'!$H:$H,0),FALSE),IFERROR(MATCH(TRIM($G259),'Transparency List 2015'!$C:$C,0),FALSE)),\"On the 2015 List\",\"-\")","v":"-"}]
[null,null,4,"",null,null,null,"-",{"$f":"IF(OR(IFERROR(MATCH($D260,'Transparency List 2018_10'!$L:$L,0),FALSE),IFERROR(MATCH(TRIM($G260),'Transparency List 2018_10'!$D:$D,0),FALSE)),\"On the 2018_10 List\",\"-\")","v":"-"},{"$f":"IF(OR(IFERROR(MATCH($D260,'Transparency List 2018_04'!$L:$L,0),FALSE),IFERROR(MATCH(TRIM($G260),'Transparency List 2018_04'!$D:$D,0),FALSE)),\"On the 2018_04 List\",\"-\")","v":"-"},{"$f":"IF(OR(IFERROR(MATCH($D260,'Transparency List 2017'!$L:$L,0),FALSE),IFERROR(MATCH(TRIM($G260),'Transparency List 2017'!$C:$C,0),FALSE)),\"On the 2017 List\",\"-\")","v":"-"},{"$f":"IF(OR(IFERROR(MATCH($D260,'Transparency List 2015'!$H:$H,0),FALSE),IFERROR(MATCH(TRIM($G260),'Transparency List 2015'!$C:$C,0),FALSE)),\"On the 2015 List\",\"-\")","v":"-"}]
[null,null,4,"",null,null,null,"-",{"$f":"IF(OR(IFERROR(MATCH($D261,'Transparency List 2018_10'!$L:$L,0),FALSE),IFERROR(MATCH(TRIM($G261),'Transparency List 2018_10'!$D:$D,0),FALSE)),\"On the 2018_10 List\",\"-\")","v":"-"},{"$f":"IF(OR(IFERROR(MATCH($D261,'Transparency List 2018_04'!$L:$L,0),FALSE),IFERROR(MATCH(TRIM($G261),'Transparency List 2018_04'!$D:$D,0),FALSE)),\"On the 2018_04 List\",\"-\")","v":"-"},{"$f":"IF(OR(IFERROR(MATCH($D261,'Transparency List 2017'!$L:$L,0),FALSE),IFERROR(MATCH(TRIM($G261),'Transparency List 2017'!$C:$C,0),FALSE)),\"On the 2017 List\",\"-\")","v":"-"},{"$f":"IF(OR(IFERROR(MATCH($D261,'Transparency List 2015'!$H:$H,0),FALSE),IFERROR(MATCH(TRIM($G261),'Transparency List 2015'!$C:$C,0),FALSE)),\"On the 2015 List\",\"-\")","v":"-"}]
[null,null,4,"",null,null,null,"-",{"$f":"IF(OR(IFERROR(MATCH($D262,'Transparency List 2018_10'!$L:$L,0),FALSE),IFERROR(MATCH(TRIM($G262),'Transparency List 2018_10'!$D:$D,0),FALSE)),\"On the 2018_10 List\",\"-\")","v":"-"},{"$f":"IF(OR(IFERROR(MATCH($D262,'Transparency List 2018_04'!$L:$L,0),FALSE),IFERROR(MATCH(TRIM($G262),'Transparency List 2018_04'!$D:$D,0),FALSE)),\"On the 2018_04 List\",\"-\")","v":"-"},{"$f":"IF(OR(IFERROR(MATCH($D262,'Transparency List 2017'!$L:$L,0),FALSE),IFERROR(MATCH(TRIM($G262),'Transparency List 2017'!$C:$C,0),FALSE)),\"On the 2017 List\",\"-\")","v":"-"},{"$f":"IF(OR(IFERROR(MATCH($D262,'Transparency List 2015'!$H:$H,0),FALSE),IFERROR(MATCH(TRIM($G262),'Transparency List 2015'!$C:$C,0),FALSE)),\"On the 2015 List\",\"-\")","v":"-"}]
[null,null,4,"",null,null,null,"-",{"$f":"IF(OR(IFERROR(MATCH($D263,'Transparency List 2018_10'!$L:$L,0),FALSE),IFERROR(MATCH(TRIM($G263),'Transparency List 2018_10'!$D:$D,0),FALSE)),\"On the 2018_10 List\",\"-\")","v":"-"},{"$f":"IF(OR(IFERROR(MATCH($D263,'Transparency List 2018_04'!$L:$L,0),FALSE),IFERROR(MATCH(TRIM($G263),'Transparency List 2018_04'!$D:$D,0),FALSE)),\"On the 2018_04 List\",\"-\")","v":"-"},{"$f":"IF(OR(IFERROR(MATCH($D263,'Transparency List 2017'!$L:$L,0),FALSE),IFERROR(MATCH(TRIM($G263),'Transparency List 2017'!$C:$C,0),FALSE)),\"On the 2017 List\",\"-\")","v":"-"},{"$f":"IF(OR(IFERROR(MATCH($D263,'Transparency List 2015'!$H:$H,0),FALSE),IFERROR(MATCH(TRIM($G263),'Transparency List 2015'!$C:$C,0),FALSE)),\"On the 2015 List\",\"-\")","v":"-"}]
[null,null,4,"",null,null,null,"-",{"$f":"IF(OR(IFERROR(MATCH($D264,'Transparency List 2018_10'!$L:$L,0),FALSE),IFERROR(MATCH(TRIM($G264),'Transparency List 2018_10'!$D:$D,0),FALSE)),\"On the 2018_10 List\",\"-\")","v":"-"},{"$f":"IF(OR(IFERROR(MATCH($D264,'Transparency List 2018_04'!$L:$L,0),FALSE),IFERROR(MATCH(TRIM($G264),'Transparency List 2018_04'!$D:$D,0),FALSE)),\"On the 2018_04 List\",\"-\")","v":"-"},{"$f":"IF(OR(IFERROR(MATCH($D264,'Transparency List 2017'!$L:$L,0),FALSE),IFERROR(MATCH(TRIM($G264),'Transparency List 2017'!$C:$C,0),FALSE)),\"On the 2017 List\",\"-\")","v":"-"},{"$f":"IF(OR(IFERROR(MATCH($D264,'Transparency List 2015'!$H:$H,0),FALSE),IFERROR(MATCH(TRIM($G264),'Transparency List 2015'!$C:$C,0),FALSE)),\"On the 2015 List\",\"-\")","v":"-"}]
[null,null,4,"",null,null,null,"-",{"$f":"IF(OR(IFERROR(MATCH($D265,'Transparency List 2018_10'!$L:$L,0),FALSE),IFERROR(MATCH(TRIM($G265),'Transparency List 2018_10'!$D:$D,0),FALSE)),\"On the 2018_10 List\",\"-\")","v":"-"},{"$f":"IF(OR(IFERROR(MATCH($D265,'Transparency List 2018_04'!$L:$L,0),FALSE),IFERROR(MATCH(TRIM($G265),'Transparency List 2018_04'!$D:$D,0),FALSE)),\"On the 2018_04 List\",\"-\")","v":"-"},{"$f":"IF(OR(IFERROR(MATCH($D265,'Transparency List 2017'!$L:$L,0),FALSE),IFERROR(MATCH(TRIM($G265),'Transparency List 2017'!$C:$C,0),FALSE)),\"On the 2017 List\",\"-\")","v":"-"},{"$f":"IF(OR(IFERROR(MATCH($D265,'Transparency List 2015'!$H:$H,0),FALSE),IFERROR(MATCH(TRIM($G265),'Transparency List 2015'!$C:$C,0),FALSE)),\"On the 2015 List\",\"-\")","v":"-"}]
[null,null,4,"",null,null,null,"-",{"$f":"IF(OR(IFERROR(MATCH($D266,'Transparency List 2018_10'!$L:$L,0),FALSE),IFERROR(MATCH(TRIM($G266),'Transparency List 2018_10'!$D:$D,0),FALSE)),\"On the 2018_10 List\",\"-\")","v":"-"},{"$f":"IF(OR(IFERROR(MATCH($D266,'Transparency List 2018_04'!$L:$L,0),FALSE),IFERROR(MATCH(TRIM($G266),'Transparency List 2018_04'!$D:$D,0),FALSE)),\"On the 2018_04 List\",\"-\")","v":"-"},{"$f":"IF(OR(IFERROR(MATCH($D266,'Transparency List 2017'!$L:$L,0),FALSE),IFERROR(MATCH(TRIM($G266),'Transparency List 2017'!$C:$C,0),FALSE)),\"On the 2017 List\",\"-\")","v":"-"},{"$f":"IF(OR(IFERROR(MATCH($D266,'Transparency List 2015'!$H:$H,0),FALSE),IFERROR(MATCH(TRIM($G266),'Transparency List 2015'!$C:$C,0),FALSE)),\"On the 2015 List\",\"-\")","v":"-"}]
[null,null,4,"",null,null,null,"-",{"$f":"IF(OR(IFERROR(MATCH($D267,'Transparency List 2018_10'!$L:$L,0),FALSE),IFERROR(MATCH(TRIM($G267),'Transparency List 2018_10'!$D:$D,0),FALSE)),\"On the 2018_10 List\",\"-\")","v":"-"},{"$f":"IF(OR(IFERROR(MATCH($D267,'Transparency List 2018_04'!$L:$L,0),FALSE),IFERROR(MATCH(TRIM($G267),'Transparency List 2018_04'!$D:$D,0),FALSE)),\"On the 2018_04 List\",\"-\")","v":"-"},{"$f":"IF(OR(IFERROR(MATCH($D267,'Transparency List 2017'!$L:$L,0),FALSE),IFERROR(MATCH(TRIM($G267),'Transparency List 2017'!$C:$C,0),FALSE)),\"On the 2017 List\",\"-\")","v":"-"},{"$f":"IF(OR(IFERROR(MATCH($D267,'Transparency List 2015'!$H:$H,0),FALSE),IFERROR(MATCH(TRIM($G267),'Transparency List 2015'!$C:$C,0),FALSE)),\"On the 2015 List\",\"-\")","v":"-"}]
[null,null,4,"",null,null,null,"-",{"$f":"IF(OR(IFERROR(MATCH($D268,'Transparency List 2018_10'!$L:$L,0),FALSE),IFERROR(MATCH(TRIM($G268),'Transparency List 2018_10'!$D:$D,0),FALSE)),\"On the 2018_10 List\",\"-\")","v":"-"},{"$f":"IF(OR(IFERROR(MATCH($D268,'Transparency List 2018_04'!$L:$L,0),FALSE),IFERROR(MATCH(TRIM($G268),'Transparency List 2018_04'!$D:$D,0),FALSE)),\"On the 2018_04 List\",\"-\")","v":"-"},{"$f":"IF(OR(IFERROR(MATCH($D268,'Transparency List 2017'!$L:$L,0),FALSE),IFERROR(MATCH(TRIM($G268),'Transparency List 2017'!$C:$C,0),FALSE)),\"On the 2017 List\",\"-\")","v":"-"},{"$f":"IF(OR(IFERROR(MATCH($D268,'Transparency List 2015'!$H:$H,0),FALSE),IFERROR(MATCH(TRIM($G268),'Transparency List 2015'!$C:$C,0),FALSE)),\"On the 2015 List\",\"-\")","v":"-"}]
[null,null,4,"",null,null,null,"-",{"$f":"IF(OR(IFERROR(MATCH($D269,'Transparency List 2018_10'!$L:$L,0),FALSE),IFERROR(MATCH(TRIM($G269),'Transparency List 2018_10'!$D:$D,0),FALSE)),\"On the 2018_10 List\",\"-\")","v":"-"},{"$f":"IF(OR(IFERROR(MATCH($D269,'Transparency List 2018_04'!$L:$L,0),FALSE),IFERROR(MATCH(TRIM($G269),'Transparency List 2018_04'!$D:$D,0),FALSE)),\"On the 2018_04 List\",\"-\")","v":"-"},{"$f":"IF(OR(IFERROR(MATCH($D269,'Transparency List 2017'!$L:$L,0),FALSE),IFERROR(MATCH(TRIM($G269),'Transparency List 2017'!$C:$C,0),FALSE)),\"On the 2017 List\",\"-\")","v":"-"},{"$f":"IF(OR(IFERROR(MATCH($D269,'Transparency List 2015'!$H:$H,0),FALSE),IFERROR(MATCH(TRIM($G269),'Transparency List 2015'!$C:$C,0),FALSE)),\"On the 2015 List\",\"-\")","v":"-"}]
[null,null,4,"",null,null,null,"-",{"$f":"IF(OR(IFERROR(MATCH($D270,'Transparency List 2018_10'!$L:$L,0),FALSE),IFERROR(MATCH(TRIM($G270),'Transparency List 2018_10'!$D:$D,0),FALSE)),\"On the 2018_10 List\",\"-\")","v":"-"},{"$f":"IF(OR(IFERROR(MATCH($D270,'Transparency List 2018_04'!$L:$L,0),FALSE),IFERROR(MATCH(TRIM($G270),'Transparency List 2018_04'!$D:$D,0),FALSE)),\"On the 2018_04 List\",\"-\")","v":"-"},{"$f":"IF(OR(IFERROR(MATCH($D270,'Transparency List 2017'!$L:$L,0),FALSE),IFERROR(MATCH(TRIM($G270),'Transparency List 2017'!$C:$C,0),FALSE)),\"On the 2017 List\",\"-\")","v":"-"},{"$f":"IF(OR(IFERROR(MATCH($D270,'Transparency List 2015'!$H:$H,0),FALSE),IFERROR(MATCH(TRIM($G270),'Transparency List 2015'!$C:$C,0),FALSE)),\"On the 2015 List\",\"-\")","v":"-"}]
[null,null,4,"",null,null,null,"-",{"$f":"IF(OR(IFERROR(MATCH($D271,'Transparency List 2018_10'!$L:$L,0),FALSE),IFERROR(MATCH(TRIM($G271),'Transparency List 2018_10'!$D:$D,0),FALSE)),\"On the 2018_10 List\",\"-\")","v":"-"},{"$f":"IF(OR(IFERROR(MATCH($D271,'Transparency List 2018_04'!$L:$L,0),FALSE),IFERROR(MATCH(TRIM($G271),'Transparency List 2018_04'!$D:$D,0),FALSE)),\"On the 2018_04 List\",\"-\")","v":"-"},{"$f":"IF(OR(IFERROR(MATCH($D271,'Transparency List 2017'!$L:$L,0),FALSE),IFERROR(MATCH(TRIM($G271),'Transparency List 2017'!$C:$C,0),FALSE)),\"On the 2017 List\",\"-\")","v":"-"},{"$f":"IF(OR(IFERROR(MATCH($D271,'Transparency List 2015'!$H:$H,0),FALSE),IFERROR(MATCH(TRIM($G271),'Transparency List 2015'!$C:$C,0),FALSE)),\"On the 2015 List\",\"-\")","v":"-"}]
[null,null,4,"",null,null,null,"-",{"$f":"IF(OR(IFERROR(MATCH($D272,'Transparency List 2018_10'!$L:$L,0),FALSE),IFERROR(MATCH(TRIM($G272),'Transparency List 2018_10'!$D:$D,0),FALSE)),\"On the 2018_10 List\",\"-\")","v":"-"},{"$f":"IF(OR(IFERROR(MATCH($D272,'Transparency List 2018_04'!$L:$L,0),FALSE),IFERROR(MATCH(TRIM($G272),'Transparency List 2018_04'!$D:$D,0),FALSE)),\"On the 2018_04 List\",\"-\")","v":"-"},{"$f":"IF(OR(IFERROR(MATCH($D272,'Transparency List 2017'!$L:$L,0),FALSE),IFERROR(MATCH(TRIM($G272),'Transparency List 2017'!$C:$C,0),FALSE)),\"On the 2017 List\",\"-\")","v":"-"},{"$f":"IF(OR(IFERROR(MATCH($D272,'Transparency List 2015'!$H:$H,0),FALSE),IFERROR(MATCH(TRIM($G272),'Transparency List 2015'!$C:$C,0),FALSE)),\"On the 2015 List\",\"-\")","v":"-"}]
[null,null,4,"",null,null,null,"-",{"$f":"IF(OR(IFERROR(MATCH($D273,'Transparency List 2018_10'!$L:$L,0),FALSE),IFERROR(MATCH(TRIM($G273),'Transparency List 2018_10'!$D:$D,0),FALSE)),\"On the 2018_10 List\",\"-\")","v":"-"},{"$f":"IF(OR(IFERROR(MATCH($D273,'Transparency List 2018_04'!$L:$L,0),FALSE),IFERROR(MATCH(TRIM($G273),'Transparency List 2018_04'!$D:$D,0),FALSE)),\"On the 2018_04 List\",\"-\")","v":"-"},{"$f":"IF(OR(IFERROR(MATCH($D273,'Transparency List 2017'!$L:$L,0),FALSE),IFERROR(MATCH(TRIM($G273),'Transparency List 2017'!$C:$C,0),FALSE)),\"On the 2017 List\",\"-\")","v":"-"},{"$f":"IF(OR(IFERROR(MATCH($D273,'Transparency List 2015'!$H:$H,0),FALSE),IFERROR(MATCH(TRIM($G273),'Transparency List 2015'!$C:$C,0),FALSE)),\"On the 2015 List\",\"-\")","v":"-"}]
[null,null,4,"",null,null,null,"-",{"$f":"IF(OR(IFERROR(MATCH($D274,'Transparency List 2018_10'!$L:$L,0),FALSE),IFERROR(MATCH(TRIM($G274),'Transparency List 2018_10'!$D:$D,0),FALSE)),\"On the 2018_10 List\",\"-\")","v":"-"},{"$f":"IF(OR(IFERROR(MATCH($D274,'Transparency List 2018_04'!$L:$L,0),FALSE),IFERROR(MATCH(TRIM($G274),'Transparency List 2018_04'!$D:$D,0),FALSE)),\"On the 2018_04 List\",\"-\")","v":"-"},{"$f":"IF(OR(IFERROR(MATCH($D274,'Transparency List 2017'!$L:$L,0),FALSE),IFERROR(MATCH(TRIM($G274),'Transparency List 2017'!$C:$C,0),FALSE)),\"On the 2017 List\",\"-\")","v":"-"},{"$f":"IF(OR(IFERROR(MATCH($D274,'Transparency List 2015'!$H:$H,0),FALSE),IFERROR(MATCH(TRIM($G274),'Transparency List 2015'!$C:$C,0),FALSE)),\"On the 2015 List\",\"-\")","v":"-"}]
[null,null,4,"",null,null,null,"-",{"$f":"IF(OR(IFERROR(MATCH($D275,'Transparency List 2018_10'!$L:$L,0),FALSE),IFERROR(MATCH(TRIM($G275),'Transparency List 2018_10'!$D:$D,0),FALSE)),\"On the 2018_10 List\",\"-\")","v":"-"},{"$f":"IF(OR(IFERROR(MATCH($D275,'Transparency List 2018_04'!$L:$L,0),FALSE),IFERROR(MATCH(TRIM($G275),'Transparency List 2018_04'!$D:$D,0),FALSE)),\"On the 2018_04 List\",\"-\")","v":"-"},{"$f":"IF(OR(IFERROR(MATCH($D275,'Transparency List 2017'!$L:$L,0),FALSE),IFERROR(MATCH(TRIM($G275),'Transparency List 2017'!$C:$C,0),FALSE)),\"On the 2017 List\",\"-\")","v":"-"},{"$f":"IF(OR(IFERROR(MATCH($D275,'Transparency List 2015'!$H:$H,0),FALSE),IFERROR(MATCH(TRIM($G275),'Transparency List 2015'!$C:$C,0),FALSE)),\"On the 2015 List\",\"-\")","v":"-"}]
[null,null,4,"",null,null,null,"-",{"$f":"IF(OR(IFERROR(MATCH($D276,'Transparency List 2018_10'!$L:$L,0),FALSE),IFERROR(MATCH(TRIM($G276),'Transparency List 2018_10'!$D:$D,0),FALSE)),\"On the 2018_10 List\",\"-\")","v":"-"},{"$f":"IF(OR(IFERROR(MATCH($D276,'Transparency List 2018_04'!$L:$L,0),FALSE),IFERROR(MATCH(TRIM($G276),'Transparency List 2018_04'!$D:$D,0),FALSE)),\"On the 2018_04 List\",\"-\")","v":"-"},{"$f":"IF(OR(IFERROR(MATCH($D276,'Transparency List 2017'!$L:$L,0),FALSE),IFERROR(MATCH(TRIM($G276),'Transparency List 2017'!$C:$C,0),FALSE)),\"On the 2017 List\",\"-\")","v":"-"},{"$f":"IF(OR(IFERROR(MATCH($D276,'Transparency List 2015'!$H:$H,0),FALSE),IFERROR(MATCH(TRIM($G276),'Transparency List 2015'!$C:$C,0),FALSE)),\"On the 2015 List\",\"-\")","v":"-"}]
[null,null,4,"",null,null,null,"-",{"$f":"IF(OR(IFERROR(MATCH($D277,'Transparency List 2018_10'!$L:$L,0),FALSE),IFERROR(MATCH(TRIM($G277),'Transparency List 2018_10'!$D:$D,0),FALSE)),\"On the 2018_10 List\",\"-\")","v":"-"},{"$f":"IF(OR(IFERROR(MATCH($D277,'Transparency List 2018_04'!$L:$L,0),FALSE),IFERROR(MATCH(TRIM($G277),'Transparency List 2018_04'!$D:$D,0),FALSE)),\"On the 2018_04 List\",\"-\")","v":"-"},{"$f":"IF(OR(IFERROR(MATCH($D277,'Transparency List 2017'!$L:$L,0),FALSE),IFERROR(MATCH(TRIM($G277),'Transparency List 2017'!$C:$C,0),FALSE)),\"On the 2017 List\",\"-\")","v":"-"},{"$f":"IF(OR(IFERROR(MATCH($D277,'Transparency List 2015'!$H:$H,0),FALSE),IFERROR(MATCH(TRIM($G277),'Transparency List 2015'!$C:$C,0),FALSE)),\"On the 2015 List\",\"-\")","v":"-"}]
[null,null,4,"",null,null,null,"-",{"$f":"IF(OR(IFERROR(MATCH($D278,'Transparency List 2018_10'!$L:$L,0),FALSE),IFERROR(MATCH(TRIM($G278),'Transparency List 2018_10'!$D:$D,0),FALSE)),\"On the 2018_10 List\",\"-\")","v":"-"},{"$f":"IF(OR(IFERROR(MATCH($D278,'Transparency List 2018_04'!$L:$L,0),FALSE),IFERROR(MATCH(TRIM($G278),'Transparency List 2018_04'!$D:$D,0),FALSE)),\"On the 2018_04 List\",\"-\")","v":"-"},{"$f":"IF(OR(IFERROR(MATCH($D278,'Transparency List 2017'!$L:$L,0),FALSE),IFERROR(MATCH(TRIM($G278),'Transparency List 2017'!$C:$C,0),FALSE)),\"On the 2017 List\",\"-\")","v":"-"},{"$f":"IF(OR(IFERROR(MATCH($D278,'Transparency List 2015'!$H:$H,0),FALSE),IFERROR(MATCH(TRIM($G278),'Transparency List 2015'!$C:$C,0),FALSE)),\"On the 2015 List\",\"-\")","v":"-"}]
[null,null,4,"",null,null,null,"-",{"$f":"IF(OR(IFERROR(MATCH($D279,'Transparency List 2018_10'!$L:$L,0),FALSE),IFERROR(MATCH(TRIM($G279),'Transparency List 2018_10'!$D:$D,0),FALSE)),\"On the 2018_10 List\",\"-\")","v":"-"},{"$f":"IF(OR(IFERROR(MATCH($D279,'Transparency List 2018_04'!$L:$L,0),FALSE),IFERROR(MATCH(TRIM($G279),'Transparency List 2018_04'!$D:$D,0),FALSE)),\"On the 2018_04 List\",\"-\")","v":"-"},{"$f":"IF(OR(IFERROR(MATCH($D279,'Transparency List 2017'!$L:$L,0),FALSE),IFERROR(MATCH(TRIM($G279),'Transparency List 2017'!$C:$C,0),FALSE)),\"On the 2017 List\",\"-\")","v":"-"},{"$f":"IF(OR(IFERROR(MATCH($D279,'Transparency List 2015'!$H:$H,0),FALSE),IFERROR(MATCH(TRIM($G279),'Transparency List 2015'!$C:$C,0),FALSE)),\"On the 2015 List\",\"-\")","v":"-"}]
[null,null,4,"",null,null,null,"-",{"$f":"IF(OR(IFERROR(MATCH($D280,'Transparency List 2018_10'!$L:$L,0),FALSE),IFERROR(MATCH(TRIM($G280),'Transparency List 2018_10'!$D:$D,0),FALSE)),\"On the 2018_10 List\",\"-\")","v":"-"},{"$f":"IF(OR(IFERROR(MATCH($D280,'Transparency List 2018_04'!$L:$L,0),FALSE),IFERROR(MATCH(TRIM($G280),'Transparency List 2018_04'!$D:$D,0),FALSE)),\"On the 2018_04 List\",\"-\")","v":"-"},{"$f":"IF(OR(IFERROR(MATCH($D280,'Transparency List 2017'!$L:$L,0),FALSE),IFERROR(MATCH(TRIM($G280),'Transparency List 2017'!$C:$C,0),FALSE)),\"On the 2017 List\",\"-\")","v":"-"},{"$f":"IF(OR(IFERROR(MATCH($D280,'Transparency List 2015'!$H:$H,0),FALSE),IFERROR(MATCH(TRIM($G280),'Transparency List 2015'!$C:$C,0),FALSE)),\"On the 2015 List\",\"-\")","v":"-"}]
[null,null,4,"",null,null,null,"-",{"$f":"IF(OR(IFERROR(MATCH($D281,'Transparency List 2018_10'!$L:$L,0),FALSE),IFERROR(MATCH(TRIM($G281),'Transparency List 2018_10'!$D:$D,0),FALSE)),\"On the 2018_10 List\",\"-\")","v":"-"},{"$f":"IF(OR(IFERROR(MATCH($D281,'Transparency List 2018_04'!$L:$L,0),FALSE),IFERROR(MATCH(TRIM($G281),'Transparency List 2018_04'!$D:$D,0),FALSE)),\"On the 2018_04 List\",\"-\")","v":"-"},{"$f":"IF(OR(IFERROR(MATCH($D281,'Transparency List 2017'!$L:$L,0),FALSE),IFERROR(MATCH(TRIM($G281),'Transparency List 2017'!$C:$C,0),FALSE)),\"On the 2017 List\",\"-\")","v":"-"},{"$f":"IF(OR(IFERROR(MATCH($D281,'Transparency List 2015'!$H:$H,0),FALSE),IFERROR(MATCH(TRIM($G281),'Transparency List 2015'!$C:$C,0),FALSE)),\"On the 2015 List\",\"-\")","v":"-"}]
[null,null,4,"",null,null,null,"-",{"$f":"IF(OR(IFERROR(MATCH($D282,'Transparency List 2018_10'!$L:$L,0),FALSE),IFERROR(MATCH(TRIM($G282),'Transparency List 2018_10'!$D:$D,0),FALSE)),\"On the 2018_10 List\",\"-\")","v":"-"},{"$f":"IF(OR(IFERROR(MATCH($D282,'Transparency List 2018_04'!$L:$L,0),FALSE),IFERROR(MATCH(TRIM($G282),'Transparency List 2018_04'!$D:$D,0),FALSE)),\"On the 2018_04 List\",\"-\")","v":"-"},{"$f":"IF(OR(IFERROR(MATCH($D282,'Transparency List 2017'!$L:$L,0),FALSE),IFERROR(MATCH(TRIM($G282),'Transparency List 2017'!$C:$C,0),FALSE)),\"On the 2017 List\",\"-\")","v":"-"},{"$f":"IF(OR(IFERROR(MATCH($D282,'Transparency List 2015'!$H:$H,0),FALSE),IFERROR(MATCH(TRIM($G282),'Transparency List 2015'!$C:$C,0),FALSE)),\"On the 2015 List\",\"-\")","v":"-"}]
[null,null,4,"",null,null,null,"-",{"$f":"IF(OR(IFERROR(MATCH($D283,'Transparency List 2018_10'!$L:$L,0),FALSE),IFERROR(MATCH(TRIM($G283),'Transparency List 2018_10'!$D:$D,0),FALSE)),\"On the 2018_10 List\",\"-\")","v":"-"},{"$f":"IF(OR(IFERROR(MATCH($D283,'Transparency List 2018_04'!$L:$L,0),FALSE),IFERROR(MATCH(TRIM($G283),'Transparency List 2018_04'!$D:$D,0),FALSE)),\"On the 2018_04 List\",\"-\")","v":"-"},{"$f":"IF(OR(IFERROR(MATCH($D283,'Transparency List 2017'!$L:$L,0),FALSE),IFERROR(MATCH(TRIM($G283),'Transparency List 2017'!$C:$C,0),FALSE)),\"On the 2017 List\",\"-\")","v":"-"},{"$f":"IF(OR(IFERROR(MATCH($D283,'Transparency List 2015'!$H:$H,0),FALSE),IFERROR(MATCH(TRIM($G283),'Transparency List 2015'!$C:$C,0),FALSE)),\"On the 2015 List\",\"-\")","v":"-"}]
[null,null,4,"",null,null,null,"-",{"$f":"IF(OR(IFERROR(MATCH($D284,'Transparency List 2018_10'!$L:$L,0),FALSE),IFERROR(MATCH(TRIM($G284),'Transparency List 2018_10'!$D:$D,0),FALSE)),\"On the 2018_10 List\",\"-\")","v":"-"},{"$f":"IF(OR(IFERROR(MATCH($D284,'Transparency List 2018_04'!$L:$L,0),FALSE),IFERROR(MATCH(TRIM($G284),'Transparency List 2018_04'!$D:$D,0),FALSE)),\"On the 2018_04 List\",\"-\")","v":"-"},{"$f":"IF(OR(IFERROR(MATCH($D284,'Transparency List 2017'!$L:$L,0),FALSE),IFERROR(MATCH(TRIM($G284),'Transparency List 2017'!$C:$C,0),FALSE)),\"On the 2017 List\",\"-\")","v":"-"},{"$f":"IF(OR(IFERROR(MATCH($D284,'Transparency List 2015'!$H:$H,0),FALSE),IFERROR(MATCH(TRIM($G284),'Transparency List 2015'!$C:$C,0),FALSE)),\"On the 2015 List\",\"-\")","v":"-"}]
[null,null,4,"",null,null,null,"-",{"$f":"IF(OR(IFERROR(MATCH($D285,'Transparency List 2018_10'!$L:$L,0),FALSE),IFERROR(MATCH(TRIM($G285),'Transparency List 2018_10'!$D:$D,0),FALSE)),\"On the 2018_10 List\",\"-\")","v":"-"},{"$f":"IF(OR(IFERROR(MATCH($D285,'Transparency List 2018_04'!$L:$L,0),FALSE),IFERROR(MATCH(TRIM($G285),'Transparency List 2018_04'!$D:$D,0),FALSE)),\"On the 2018_04 List\",\"-\")","v":"-"},{"$f":"IF(OR(IFERROR(MATCH($D285,'Transparency List 2017'!$L:$L,0),FALSE),IFERROR(MATCH(TRIM($G285),'Transparency List 2017'!$C:$C,0),FALSE)),\"On the 2017 List\",\"-\")","v":"-"},{"$f":"IF(OR(IFERROR(MATCH($D285,'Transparency List 2015'!$H:$H,0),FALSE),IFERROR(MATCH(TRIM($G285),'Transparency List 2015'!$C:$C,0),FALSE)),\"On the 2015 List\",\"-\")","v":"-"}]
[null,null,4,"",null,null,null,"-",{"$f":"IF(OR(IFERROR(MATCH($D286,'Transparency List 2018_10'!$L:$L,0),FALSE),IFERROR(MATCH(TRIM($G286),'Transparency List 2018_10'!$D:$D,0),FALSE)),\"On the 2018_10 List\",\"-\")","v":"-"},{"$f":"IF(OR(IFERROR(MATCH($D286,'Transparency List 2018_04'!$L:$L,0),FALSE),IFERROR(MATCH(TRIM($G286),'Transparency List 2018_04'!$D:$D,0),FALSE)),\"On the 2018_04 List\",\"-\")","v":"-"},{"$f":"IF(OR(IFERROR(MATCH($D286,'Transparency List 2017'!$L:$L,0),FALSE),IFERROR(MATCH(TRIM($G286),'Transparency List 2017'!$C:$C,0),FALSE)),\"On the 2017 List\",\"-\")","v":"-"},{"$f":"IF(OR(IFERROR(MATCH($D286,'Transparency List 2015'!$H:$H,0),FALSE),IFERROR(MATCH(TRIM($G286),'Transparency List 2015'!$C:$C,0),FALSE)),\"On the 2015 List\",\"-\")","v":"-"}]
[null,null,{"$f":"COUNTIF($I287:$L287,\"-\")","v":4},{"$f":"SUBSTITUTE(SUBSTITUTE(SUBSTITUTE(SUBSTITUTE($G287,\" \",\"\"),\".\",\"\"),\"-\",\"\"),\"/\",\"\")","v":""},null,null,null,{"$f":"IFERROR(IF($C287=4,\"-\",\"Risk Farmer - Please conduct further steps\"),)","v":"-"},{"$f":"IF(OR(IFERROR(MATCH($D287,'Transparency List 2018_10'!$L:$L,0),FALSE),IFERROR(MATCH(TRIM($G287),'Transparency List 2018_10'!$D:$D,0),FALSE)),\"On the 2018_10 List\",\"-\")","v":"-"},{"$f":"IF(OR(IFERROR(MATCH($D287,'Transparency List 2018_04'!$L:$L,0),FALSE),IFERROR(MATCH(TRIM($G287),'Transparency List 2018_04'!$D:$D,0),FALSE)),\"On the 2018_04 List\",\"-\")","v":"-"},{"$f":"IF(OR(IFERROR(MATCH($D287,'Transparency List 2017'!$L:$L,0),FALSE),IFERROR(MATCH(TRIM($G287),'Transparency List 2017'!$C:$C,0),FALSE)),\"On the 2017 List\",\"-\")","v":"-"},{"$f":"IF(OR(IFERROR(MATCH($D287,'Transparency List 2015'!$H:$H,0),FALSE),IFERROR(MATCH(TRIM($G287),'Transparency List 2015'!$C:$C,0),FALSE)),\"On the 2015 List\",\"-\")","v":"-"}]
[null,null,4,"",null,null,null,"-",{"$f":"IF(OR(IFERROR(MATCH($D288,'Transparency List 2018_10'!$L:$L,0),FALSE),IFERROR(MATCH(TRIM($G288),'Transparency List 2018_10'!$D:$D,0),FALSE)),\"On the 2018_10 List\",\"-\")","v":"-"},{"$f":"IF(OR(IFERROR(MATCH($D288,'Transparency List 2018_04'!$L:$L,0),FALSE),IFERROR(MATCH(TRIM($G288),'Transparency List 2018_04'!$D:$D,0),FALSE)),\"On the 2018_04 List\",\"-\")","v":"-"},{"$f":"IF(OR(IFERROR(MATCH($D288,'Transparency List 2017'!$L:$L,0),FALSE),IFERROR(MATCH(TRIM($G288),'Transparency List 2017'!$C:$C,0),FALSE)),\"On the 2017 List\",\"-\")","v":"-"},{"$f":"IF(OR(IFERROR(MATCH($D288,'Transparency List 2015'!$H:$H,0),FALSE),IFERROR(MATCH(TRIM($G288),'Transparency List 2015'!$C:$C,0),FALSE)),\"On the 2015 List\",\"-\")","v":"-"}]
[null,null,4,"",null,null,null,"-",{"$f":"IF(OR(IFERROR(MATCH($D289,'Transparency List 2018_10'!$L:$L,0),FALSE),IFERROR(MATCH(TRIM($G289),'Transparency List 2018_10'!$D:$D,0),FALSE)),\"On the 2018_10 List\",\"-\")","v":"-"},{"$f":"IF(OR(IFERROR(MATCH($D289,'Transparency List 2018_04'!$L:$L,0),FALSE),IFERROR(MATCH(TRIM($G289),'Transparency List 2018_04'!$D:$D,0),FALSE)),\"On the 2018_04 List\",\"-\")","v":"-"},{"$f":"IF(OR(IFERROR(MATCH($D289,'Transparency List 2017'!$L:$L,0),FALSE),IFERROR(MATCH(TRIM($G289),'Transparency List 2017'!$C:$C,0),FALSE)),\"On the 2017 List\",\"-\")","v":"-"},{"$f":"IF(OR(IFERROR(MATCH($D289,'Transparency List 2015'!$H:$H,0),FALSE),IFERROR(MATCH(TRIM($G289),'Transparency List 2015'!$C:$C,0),FALSE)),\"On the 2015 List\",\"-\")","v":"-"}]
[null,null,4,"",null,null,null,"-",{"$f":"IF(OR(IFERROR(MATCH($D290,'Transparency List 2018_10'!$L:$L,0),FALSE),IFERROR(MATCH(TRIM($G290),'Transparency List 2018_10'!$D:$D,0),FALSE)),\"On the 2018_10 List\",\"-\")","v":"-"},{"$f":"IF(OR(IFERROR(MATCH($D290,'Transparency List 2018_04'!$L:$L,0),FALSE),IFERROR(MATCH(TRIM($G290),'Transparency List 2018_04'!$D:$D,0),FALSE)),\"On the 2018_04 List\",\"-\")","v":"-"},{"$f":"IF(OR(IFERROR(MATCH($D290,'Transparency List 2017'!$L:$L,0),FALSE),IFERROR(MATCH(TRIM($G290),'Transparency List 2017'!$C:$C,0),FALSE)),\"On the 2017 List\",\"-\")","v":"-"},{"$f":"IF(OR(IFERROR(MATCH($D290,'Transparency List 2015'!$H:$H,0),FALSE),IFERROR(MATCH(TRIM($G290),'Transparency List 2015'!$C:$C,0),FALSE)),\"On the 2015 List\",\"-\")","v":"-"}]
[null,null,4,"",null,null,null,"-",{"$f":"IF(OR(IFERROR(MATCH($D291,'Transparency List 2018_10'!$L:$L,0),FALSE),IFERROR(MATCH(TRIM($G291),'Transparency List 2018_10'!$D:$D,0),FALSE)),\"On the 2018_10 List\",\"-\")","v":"-"},{"$f":"IF(OR(IFERROR(MATCH($D291,'Transparency List 2018_04'!$L:$L,0),FALSE),IFERROR(MATCH(TRIM($G291),'Transparency List 2018_04'!$D:$D,0),FALSE)),\"On the 2018_04 List\",\"-\")","v":"-"},{"$f":"IF(OR(IFERROR(MATCH($D291,'Transparency List 2017'!$L:$L,0),FALSE),IFERROR(MATCH(TRIM($G291),'Transparency List 2017'!$C:$C,0),FALSE)),\"On the 2017 List\",\"-\")","v":"-"},{"$f":"IF(OR(IFERROR(MATCH($D291,'Transparency List 2015'!$H:$H,0),FALSE),IFERROR(MATCH(TRIM($G291),'Transparency List 2015'!$C:$C,0),FALSE)),\"On the 2015 List\",\"-\")","v":"-"}]
[null,null,4,"",null,null,null,"-",{"$f":"IF(OR(IFERROR(MATCH($D292,'Transparency List 2018_10'!$L:$L,0),FALSE),IFERROR(MATCH(TRIM($G292),'Transparency List 2018_10'!$D:$D,0),FALSE)),\"On the 2018_10 List\",\"-\")","v":"-"},{"$f":"IF(OR(IFERROR(MATCH($D292,'Transparency List 2018_04'!$L:$L,0),FALSE),IFERROR(MATCH(TRIM($G292),'Transparency List 2018_04'!$D:$D,0),FALSE)),\"On the 2018_04 List\",\"-\")","v":"-"},{"$f":"IF(OR(IFERROR(MATCH($D292,'Transparency List 2017'!$L:$L,0),FALSE),IFERROR(MATCH(TRIM($G292),'Transparency List 2017'!$C:$C,0),FALSE)),\"On the 2017 List\",\"-\")","v":"-"},{"$f":"IF(OR(IFERROR(MATCH($D292,'Transparency List 2015'!$H:$H,0),FALSE),IFERROR(MATCH(TRIM($G292),'Transparency List 2015'!$C:$C,0),FALSE)),\"On the 2015 List\",\"-\")","v":"-"}]
[null,null,4,"",null,null,null,"-",{"$f":"IF(OR(IFERROR(MATCH($D293,'Transparency List 2018_10'!$L:$L,0),FALSE),IFERROR(MATCH(TRIM($G293),'Transparency List 2018_10'!$D:$D,0),FALSE)),\"On the 2018_10 List\",\"-\")","v":"-"},{"$f":"IF(OR(IFERROR(MATCH($D293,'Transparency List 2018_04'!$L:$L,0),FALSE),IFERROR(MATCH(TRIM($G293),'Transparency List 2018_04'!$D:$D,0),FALSE)),\"On the 2018_04 List\",\"-\")","v":"-"},{"$f":"IF(OR(IFERROR(MATCH($D293,'Transparency List 2017'!$L:$L,0),FALSE),IFERROR(MATCH(TRIM($G293),'Transparency List 2017'!$C:$C,0),FALSE)),\"On the 2017 List\",\"-\")","v":"-"},{"$f":"IF(OR(IFERROR(MATCH($D293,'Transparency List 2015'!$H:$H,0),FALSE),IFERROR(MATCH(TRIM($G293),'Transparency List 2015'!$C:$C,0),FALSE)),\"On the 2015 List\",\"-\")","v":"-"}]
[null,null,4,"",null,null,null,"-",{"$f":"IF(OR(IFERROR(MATCH($D294,'Transparency List 2018_10'!$L:$L,0),FALSE),IFERROR(MATCH(TRIM($G294),'Transparency List 2018_10'!$D:$D,0),FALSE)),\"On the 2018_10 List\",\"-\")","v":"-"},{"$f":"IF(OR(IFERROR(MATCH($D294,'Transparency List 2018_04'!$L:$L,0),FALSE),IFERROR(MATCH(TRIM($G294),'Transparency List 2018_04'!$D:$D,0),FALSE)),\"On the 2018_04 List\",\"-\")","v":"-"},{"$f":"IF(OR(IFERROR(MATCH($D294,'Transparency List 2017'!$L:$L,0),FALSE),IFERROR(MATCH(TRIM($G294),'Transparency List 2017'!$C:$C,0),FALSE)),\"On the 2017 List\",\"-\")","v":"-"},{"$f":"IF(OR(IFERROR(MATCH($D294,'Transparency List 2015'!$H:$H,0),FALSE),IFERROR(MATCH(TRIM($G294),'Transparency List 2015'!$C:$C,0),FALSE)),\"On the 2015 List\",\"-\")","v":"-"}]
[null,null,4,"",null,null,null,"-",{"$f":"IF(OR(IFERROR(MATCH($D295,'Transparency List 2018_10'!$L:$L,0),FALSE),IFERROR(MATCH(TRIM($G295),'Transparency List 2018_10'!$D:$D,0),FALSE)),\"On the 2018_10 List\",\"-\")","v":"-"},{"$f":"IF(OR(IFERROR(MATCH($D295,'Transparency List 2018_04'!$L:$L,0),FALSE),IFERROR(MATCH(TRIM($G295),'Transparency List 2018_04'!$D:$D,0),FALSE)),\"On the 2018_04 List\",\"-\")","v":"-"},{"$f":"IF(OR(IFERROR(MATCH($D295,'Transparency List 2017'!$L:$L,0),FALSE),IFERROR(MATCH(TRIM($G295),'Transparency List 2017'!$C:$C,0),FALSE)),\"On the 2017 List\",\"-\")","v":"-"},{"$f":"IF(OR(IFERROR(MATCH($D295,'Transparency List 2015'!$H:$H,0),FALSE),IFERROR(MATCH(TRIM($G295),'Transparency List 2015'!$C:$C,0),FALSE)),\"On the 2015 List\",\"-\")","v":"-"}]
[null,null,4,"",null,null,null,"-",{"$f":"IF(OR(IFERROR(MATCH($D296,'Transparency List 2018_10'!$L:$L,0),FALSE),IFERROR(MATCH(TRIM($G296),'Transparency List 2018_10'!$D:$D,0),FALSE)),\"On the 2018_10 List\",\"-\")","v":"-"},{"$f":"IF(OR(IFERROR(MATCH($D296,'Transparency List 2018_04'!$L:$L,0),FALSE),IFERROR(MATCH(TRIM($G296),'Transparency List 2018_04'!$D:$D,0),FALSE)),\"On the 2018_04 List\",\"-\")","v":"-"},{"$f":"IF(OR(IFERROR(MATCH($D296,'Transparency List 2017'!$L:$L,0),FALSE),IFERROR(MATCH(TRIM($G296),'Transparency List 2017'!$C:$C,0),FALSE)),\"On the 2017 List\",\"-\")","v":"-"},{"$f":"IF(OR(IFERROR(MATCH($D296,'Transparency List 2015'!$H:$H,0),FALSE),IFERROR(MATCH(TRIM($G296),'Transparency List 2015'!$C:$C,0),FALSE)),\"On the 2015 List\",\"-\")","v":"-"}]
[null,null,4,"",null,null,null,"-",{"$f":"IF(OR(IFERROR(MATCH($D297,'Transparency List 2018_10'!$L:$L,0),FALSE),IFERROR(MATCH(TRIM($G297),'Transparency List 2018_10'!$D:$D,0),FALSE)),\"On the 2018_10 List\",\"-\")","v":"-"},{"$f":"IF(OR(IFERROR(MATCH($D297,'Transparency List 2018_04'!$L:$L,0),FALSE),IFERROR(MATCH(TRIM($G297),'Transparency List 2018_04'!$D:$D,0),FALSE)),\"On the 2018_04 List\",\"-\")","v":"-"},{"$f":"IF(OR(IFERROR(MATCH($D297,'Transparency List 2017'!$L:$L,0),FALSE),IFERROR(MATCH(TRIM($G297),'Transparency List 2017'!$C:$C,0),FALSE)),\"On the 2017 List\",\"-\")","v":"-"},{"$f":"IF(OR(IFERROR(MATCH($D297,'Transparency List 2015'!$H:$H,0),FALSE),IFERROR(MATCH(TRIM($G297),'Transparency List 2015'!$C:$C,0),FALSE)),\"On the 2015 List\",\"-\")","v":"-"}]
[null,null,4,"",null,null,null,"-",{"$f":"IF(OR(IFERROR(MATCH($D298,'Transparency List 2018_10'!$L:$L,0),FALSE),IFERROR(MATCH(TRIM($G298),'Transparency List 2018_10'!$D:$D,0),FALSE)),\"On the 2018_10 List\",\"-\")","v":"-"},{"$f":"IF(OR(IFERROR(MATCH($D298,'Transparency List 2018_04'!$L:$L,0),FALSE),IFERROR(MATCH(TRIM($G298),'Transparency List 2018_04'!$D:$D,0),FALSE)),\"On the 2018_04 List\",\"-\")","v":"-"},{"$f":"IF(OR(IFERROR(MATCH($D298,'Transparency List 2017'!$L:$L,0),FALSE),IFERROR(MATCH(TRIM($G298),'Transparency List 2017'!$C:$C,0),FALSE)),\"On the 2017 List\",\"-\")","v":"-"},{"$f":"IF(OR(IFERROR(MATCH($D298,'Transparency List 2015'!$H:$H,0),FALSE),IFERROR(MATCH(TRIM($G298),'Transparency List 2015'!$C:$C,0),FALSE)),\"On the 2015 List\",\"-\")","v":"-"}]
[null,null,4,"",null,null,null,"-",{"$f":"IF(OR(IFERROR(MATCH($D299,'Transparency List 2018_10'!$L:$L,0),FALSE),IFERROR(MATCH(TRIM($G299),'Transparency List 2018_10'!$D:$D,0),FALSE)),\"On the 2018_10 List\",\"-\")","v":"-"},{"$f":"IF(OR(IFERROR(MATCH($D299,'Transparency List 2018_04'!$L:$L,0),FALSE),IFERROR(MATCH(TRIM($G299),'Transparency List 2018_04'!$D:$D,0),FALSE)),\"On the 2018_04 List\",\"-\")","v":"-"},{"$f":"IF(OR(IFERROR(MATCH($D299,'Transparency List 2017'!$L:$L,0),FALSE),IFERROR(MATCH(TRIM($G299),'Transparency List 2017'!$C:$C,0),FALSE)),\"On the 2017 List\",\"-\")","v":"-"},{"$f":"IF(OR(IFERROR(MATCH($D299,'Transparency List 2015'!$H:$H,0),FALSE),IFERROR(MATCH(TRIM($G299),'Transparency List 2015'!$C:$C,0),FALSE)),\"On the 2015 List\",\"-\")","v":"-"}]
[null,null,4,"",null,null,null,"-",{"$f":"IF(OR(IFERROR(MATCH($D300,'Transparency List 2018_10'!$L:$L,0),FALSE),IFERROR(MATCH(TRIM($G300),'Transparency List 2018_10'!$D:$D,0),FALSE)),\"On the 2018_10 List\",\"-\")","v":"-"},{"$f":"IF(OR(IFERROR(MATCH($D300,'Transparency List 2018_04'!$L:$L,0),FALSE),IFERROR(MATCH(TRIM($G300),'Transparency List 2018_04'!$D:$D,0),FALSE)),\"On the 2018_04 List\",\"-\")","v":"-"},{"$f":"IF(OR(IFERROR(MATCH($D300,'Transparency List 2017'!$L:$L,0),FALSE),IFERROR(MATCH(TRIM($G300),'Transparency List 2017'!$C:$C,0),FALSE)),\"On the 2017 List\",\"-\")","v":"-"},{"$f":"IF(OR(IFERROR(MATCH($D300,'Transparency List 2015'!$H:$H,0),FALSE),IFERROR(MATCH(TRIM($G300),'Transparency List 2015'!$C:$C,0),FALSE)),\"On the 2015 List\",\"-\")","v":"-"}]
[null,null,4,"",null,null,null,"-",{"$f":"IF(OR(IFERROR(MATCH($D301,'Transparency List 2018_10'!$L:$L,0),FALSE),IFERROR(MATCH(TRIM($G301),'Transparency List 2018_10'!$D:$D,0),FALSE)),\"On the 2018_10 List\",\"-\")","v":"-"},{"$f":"IF(OR(IFERROR(MATCH($D301,'Transparency List 2018_04'!$L:$L,0),FALSE),IFERROR(MATCH(TRIM($G301),'Transparency List 2018_04'!$D:$D,0),FALSE)),\"On the 2018_04 List\",\"-\")","v":"-"},{"$f":"IF(OR(IFERROR(MATCH($D301,'Transparency List 2017'!$L:$L,0),FALSE),IFERROR(MATCH(TRIM($G301),'Transparency List 2017'!$C:$C,0),FALSE)),\"On the 2017 List\",\"-\")","v":"-"},{"$f":"IF(OR(IFERROR(MATCH($D301,'Transparency List 2015'!$H:$H,0),FALSE),IFERROR(MATCH(TRIM($G301),'Transparency List 2015'!$C:$C,0),FALSE)),\"On the 2015 List\",\"-\")","v":"-"}]
[null,null,4,"",null,null,null,"-",{"$f":"IF(OR(IFERROR(MATCH($D302,'Transparency List 2018_10'!$L:$L,0),FALSE),IFERROR(MATCH(TRIM($G302),'Transparency List 2018_10'!$D:$D,0),FALSE)),\"On the 2018_10 List\",\"-\")","v":"-"},{"$f":"IF(OR(IFERROR(MATCH($D302,'Transparency List 2018_04'!$L:$L,0),FALSE),IFERROR(MATCH(TRIM($G302),'Transparency List 2018_04'!$D:$D,0),FALSE)),\"On the 2018_04 List\",\"-\")","v":"-"},{"$f":"IF(OR(IFERROR(MATCH($D302,'Transparency List 2017'!$L:$L,0),FALSE),IFERROR(MATCH(TRIM($G302),'Transparency List 2017'!$C:$C,0),FALSE)),\"On the 2017 List\",\"-\")","v":"-"},{"$f":"IF(OR(IFERROR(MATCH($D302,'Transparency List 2015'!$H:$H,0),FALSE),IFERROR(MATCH(TRIM($G302),'Transparency List 2015'!$C:$C,0),FALSE)),\"On the 2015 List\",\"-\")","v":"-"}]
[null,null,4,"",null,null,null,"-",{"$f":"IF(OR(IFERROR(MATCH($D303,'Transparency List 2018_10'!$L:$L,0),FALSE),IFERROR(MATCH(TRIM($G303),'Transparency List 2018_10'!$D:$D,0),FALSE)),\"On the 2018_10 List\",\"-\")","v":"-"},{"$f":"IF(OR(IFERROR(MATCH($D303,'Transparency List 2018_04'!$L:$L,0),FALSE),IFERROR(MATCH(TRIM($G303),'Transparency List 2018_04'!$D:$D,0),FALSE)),\"On the 2018_04 List\",\"-\")","v":"-"},{"$f":"IF(OR(IFERROR(MATCH($D303,'Transparency List 2017'!$L:$L,0),FALSE),IFERROR(MATCH(TRIM($G303),'Transparency List 2017'!$C:$C,0),FALSE)),\"On the 2017 List\",\"-\")","v":"-"},{"$f":"IF(OR(IFERROR(MATCH($D303,'Transparency List 2015'!$H:$H,0),FALSE),IFERROR(MATCH(TRIM($G303),'Transparency List 2015'!$C:$C,0),FALSE)),\"On the 2015 List\",\"-\")","v":"-"}]
[null,null,4,"",null,null,null,"-",{"$f":"IF(OR(IFERROR(MATCH($D304,'Transparency List 2018_10'!$L:$L,0),FALSE),IFERROR(MATCH(TRIM($G304),'Transparency List 2018_10'!$D:$D,0),FALSE)),\"On the 2018_10 List\",\"-\")","v":"-"},{"$f":"IF(OR(IFERROR(MATCH($D304,'Transparency List 2018_04'!$L:$L,0),FALSE),IFERROR(MATCH(TRIM($G304),'Transparency List 2018_04'!$D:$D,0),FALSE)),\"On the 2018_04 List\",\"-\")","v":"-"},{"$f":"IF(OR(IFERROR(MATCH($D304,'Transparency List 2017'!$L:$L,0),FALSE),IFERROR(MATCH(TRIM($G304),'Transparency List 2017'!$C:$C,0),FALSE)),\"On the 2017 List\",\"-\")","v":"-"},{"$f":"IF(OR(IFERROR(MATCH($D304,'Transparency List 2015'!$H:$H,0),FALSE),IFERROR(MATCH(TRIM($G304),'Transparency List 2015'!$C:$C,0),FALSE)),\"On the 2015 List\",\"-\")","v":"-"}]
[null,null,4,"",null,null,null,"-",{"$f":"IF(OR(IFERROR(MATCH($D305,'Transparency List 2018_10'!$L:$L,0),FALSE),IFERROR(MATCH(TRIM($G305),'Transparency List 2018_10'!$D:$D,0),FALSE)),\"On the 2018_10 List\",\"-\")","v":"-"},{"$f":"IF(OR(IFERROR(MATCH($D305,'Transparency List 2018_04'!$L:$L,0),FALSE),IFERROR(MATCH(TRIM($G305),'Transparency List 2018_04'!$D:$D,0),FALSE)),\"On the 2018_04 List\",\"-\")","v":"-"},{"$f":"IF(OR(IFERROR(MATCH($D305,'Transparency List 2017'!$L:$L,0),FALSE),IFERROR(MATCH(TRIM($G305),'Transparency List 2017'!$C:$C,0),FALSE)),\"On the 2017 List\",\"-\")","v":"-"},{"$f":"IF(OR(IFERROR(MATCH($D305,'Transparency List 2015'!$H:$H,0),FALSE),IFERROR(MATCH(TRIM($G305),'Transparency List 2015'!$C:$C,0),FALSE)),\"On the 2015 List\",\"-\")","v":"-"}]
[null,null,4,"",null,null,null,"-",{"$f":"IF(OR(IFERROR(MATCH($D306,'Transparency List 2018_10'!$L:$L,0),FALSE),IFERROR(MATCH(TRIM($G306),'Transparency List 2018_10'!$D:$D,0),FALSE)),\"On the 2018_10 List\",\"-\")","v":"-"},{"$f":"IF(OR(IFERROR(MATCH($D306,'Transparency List 2018_04'!$L:$L,0),FALSE),IFERROR(MATCH(TRIM($G306),'Transparency List 2018_04'!$D:$D,0),FALSE)),\"On the 2018_04 List\",\"-\")","v":"-"},{"$f":"IF(OR(IFERROR(MATCH($D306,'Transparency List 2017'!$L:$L,0),FALSE),IFERROR(MATCH(TRIM($G306),'Transparency List 2017'!$C:$C,0),FALSE)),\"On the 2017 List\",\"-\")","v":"-"},{"$f":"IF(OR(IFERROR(MATCH($D306,'Transparency List 2015'!$H:$H,0),FALSE),IFERROR(MATCH(TRIM($G306),'Transparency List 2015'!$C:$C,0),FALSE)),\"On the 2015 List\",\"-\")","v":"-"}]
[null,null,4,"",null,null,null,"-",{"$f":"IF(OR(IFERROR(MATCH($D307,'Transparency List 2018_10'!$L:$L,0),FALSE),IFERROR(MATCH(TRIM($G307),'Transparency List 2018_10'!$D:$D,0),FALSE)),\"On the 2018_10 List\",\"-\")","v":"-"},{"$f":"IF(OR(IFERROR(MATCH($D307,'Transparency List 2018_04'!$L:$L,0),FALSE),IFERROR(MATCH(TRIM($G307),'Transparency List 2018_04'!$D:$D,0),FALSE)),\"On the 2018_04 List\",\"-\")","v":"-"},{"$f":"IF(OR(IFERROR(MATCH($D307,'Transparency List 2017'!$L:$L,0),FALSE),IFERROR(MATCH(TRIM($G307),'Transparency List 2017'!$C:$C,0),FALSE)),\"On the 2017 List\",\"-\")","v":"-"},{"$f":"IF(OR(IFERROR(MATCH($D307,'Transparency List 2015'!$H:$H,0),FALSE),IFERROR(MATCH(TRIM($G307),'Transparency List 2015'!$C:$C,0),FALSE)),\"On the 2015 List\",\"-\")","v":"-"}]
[null,null,4,"",null,null,null,"-",{"$f":"IF(OR(IFERROR(MATCH($D308,'Transparency List 2018_10'!$L:$L,0),FALSE),IFERROR(MATCH(TRIM($G308),'Transparency List 2018_10'!$D:$D,0),FALSE)),\"On the 2018_10 List\",\"-\")","v":"-"},{"$f":"IF(OR(IFERROR(MATCH($D308,'Transparency List 2018_04'!$L:$L,0),FALSE),IFERROR(MATCH(TRIM($G308),'Transparency List 2018_04'!$D:$D,0),FALSE)),\"On the 2018_04 List\",\"-\")","v":"-"},{"$f":"IF(OR(IFERROR(MATCH($D308,'Transparency List 2017'!$L:$L,0),FALSE),IFERROR(MATCH(TRIM($G308),'Transparency List 2017'!$C:$C,0),FALSE)),\"On the 2017 List\",\"-\")","v":"-"},{"$f":"IF(OR(IFERROR(MATCH($D308,'Transparency List 2015'!$H:$H,0),FALSE),IFERROR(MATCH(TRIM($G308),'Transparency List 2015'!$C:$C,0),FALSE)),\"On the 2015 List\",\"-\")","v":"-"}]
[null,null,4,"",null,null,null,"-",{"$f":"IF(OR(IFERROR(MATCH($D309,'Transparency List 2018_10'!$L:$L,0),FALSE),IFERROR(MATCH(TRIM($G309),'Transparency List 2018_10'!$D:$D,0),FALSE)),\"On the 2018_10 List\",\"-\")","v":"-"},{"$f":"IF(OR(IFERROR(MATCH($D309,'Transparency List 2018_04'!$L:$L,0),FALSE),IFERROR(MATCH(TRIM($G309),'Transparency List 2018_04'!$D:$D,0),FALSE)),\"On the 2018_04 List\",\"-\")","v":"-"},{"$f":"IF(OR(IFERROR(MATCH($D309,'Transparency List 2017'!$L:$L,0),FALSE),IFERROR(MATCH(TRIM($G309),'Transparency List 2017'!$C:$C,0),FALSE)),\"On the 2017 List\",\"-\")","v":"-"},{"$f":"IF(OR(IFERROR(MATCH($D309,'Transparency List 2015'!$H:$H,0),FALSE),IFERROR(MATCH(TRIM($G309),'Transparency List 2015'!$C:$C,0),FALSE)),\"On the 2015 List\",\"-\")","v":"-"}]
[null,null,4,"",null,null,null,"-",{"$f":"IF(OR(IFERROR(MATCH($D310,'Transparency List 2018_10'!$L:$L,0),FALSE),IFERROR(MATCH(TRIM($G310),'Transparency List 2018_10'!$D:$D,0),FALSE)),\"On the 2018_10 List\",\"-\")","v":"-"},{"$f":"IF(OR(IFERROR(MATCH($D310,'Transparency List 2018_04'!$L:$L,0),FALSE),IFERROR(MATCH(TRIM($G310),'Transparency List 2018_04'!$D:$D,0),FALSE)),\"On the 2018_04 List\",\"-\")","v":"-"},{"$f":"IF(OR(IFERROR(MATCH($D310,'Transparency List 2017'!$L:$L,0),FALSE),IFERROR(MATCH(TRIM($G310),'Transparency List 2017'!$C:$C,0),FALSE)),\"On the 2017 List\",\"-\")","v":"-"},{"$f":"IF(OR(IFERROR(MATCH($D310,'Transparency List 2015'!$H:$H,0),FALSE),IFERROR(MATCH(TRIM($G310),'Transparency List 2015'!$C:$C,0),FALSE)),\"On the 2015 List\",\"-\")","v":"-"}]
[null,null,4,"",null,null,null,"-",{"$f":"IF(OR(IFERROR(MATCH($D311,'Transparency List 2018_10'!$L:$L,0),FALSE),IFERROR(MATCH(TRIM($G311),'Transparency List 2018_10'!$D:$D,0),FALSE)),\"On the 2018_10 List\",\"-\")","v":"-"},{"$f":"IF(OR(IFERROR(MATCH($D311,'Transparency List 2018_04'!$L:$L,0),FALSE),IFERROR(MATCH(TRIM($G311),'Transparency List 2018_04'!$D:$D,0),FALSE)),\"On the 2018_04 List\",\"-\")","v":"-"},{"$f":"IF(OR(IFERROR(MATCH($D311,'Transparency List 2017'!$L:$L,0),FALSE),IFERROR(MATCH(TRIM($G311),'Transparency List 2017'!$C:$C,0),FALSE)),\"On the 2017 List\",\"-\")","v":"-"},{"$f":"IF(OR(IFERROR(MATCH($D311,'Transparency List 2015'!$H:$H,0),FALSE),IFERROR(MATCH(TRIM($G311),'Transparency List 2015'!$C:$C,0),FALSE)),\"On the 2015 List\",\"-\")","v":"-"}]
[null,null,4,"",null,null,null,"-",{"$f":"IF(OR(IFERROR(MATCH($D312,'Transparency List 2018_10'!$L:$L,0),FALSE),IFERROR(MATCH(TRIM($G312),'Transparency List 2018_10'!$D:$D,0),FALSE)),\"On the 2018_10 List\",\"-\")","v":"-"},{"$f":"IF(OR(IFERROR(MATCH($D312,'Transparency List 2018_04'!$L:$L,0),FALSE),IFERROR(MATCH(TRIM($G312),'Transparency List 2018_04'!$D:$D,0),FALSE)),\"On the 2018_04 List\",\"-\")","v":"-"},{"$f":"IF(OR(IFERROR(MATCH($D312,'Transparency List 2017'!$L:$L,0),FALSE),IFERROR(MATCH(TRIM($G312),'Transparency List 2017'!$C:$C,0),FALSE)),\"On the 2017 List\",\"-\")","v":"-"},{"$f":"IF(OR(IFERROR(MATCH($D312,'Transparency List 2015'!$H:$H,0),FALSE),IFERROR(MATCH(TRIM($G312),'Transparency List 2015'!$C:$C,0),FALSE)),\"On the 2015 List\",\"-\")","v":"-"}]
[null,null,4,"",null,null,null,"-",{"$f":"IF(OR(IFERROR(MATCH($D313,'Transparency List 2018_10'!$L:$L,0),FALSE),IFERROR(MATCH(TRIM($G313),'Transparency List 2018_10'!$D:$D,0),FALSE)),\"On the 2018_10 List\",\"-\")","v":"-"},{"$f":"IF(OR(IFERROR(MATCH($D313,'Transparency List 2018_04'!$L:$L,0),FALSE),IFERROR(MATCH(TRIM($G313),'Transparency List 2018_04'!$D:$D,0),FALSE)),\"On the 2018_04 List\",\"-\")","v":"-"},{"$f":"IF(OR(IFERROR(MATCH($D313,'Transparency List 2017'!$L:$L,0),FALSE),IFERROR(MATCH(TRIM($G313),'Transparency List 2017'!$C:$C,0),FALSE)),\"On the 2017 List\",\"-\")","v":"-"},{"$f":"IF(OR(IFERROR(MATCH($D313,'Transparency List 2015'!$H:$H,0),FALSE),IFERROR(MATCH(TRIM($G313),'Transparency List 2015'!$C:$C,0),FALSE)),\"On the 2015 List\",\"-\")","v":"-"}]
[null,null,4,"",null,null,null,"-",{"$f":"IF(OR(IFERROR(MATCH($D314,'Transparency List 2018_10'!$L:$L,0),FALSE),IFERROR(MATCH(TRIM($G314),'Transparency List 2018_10'!$D:$D,0),FALSE)),\"On the 2018_10 List\",\"-\")","v":"-"},{"$f":"IF(OR(IFERROR(MATCH($D314,'Transparency List 2018_04'!$L:$L,0),FALSE),IFERROR(MATCH(TRIM($G314),'Transparency List 2018_04'!$D:$D,0),FALSE)),\"On the 2018_04 List\",\"-\")","v":"-"},{"$f":"IF(OR(IFERROR(MATCH($D314,'Transparency List 2017'!$L:$L,0),FALSE),IFERROR(MATCH(TRIM($G314),'Transparency List 2017'!$C:$C,0),FALSE)),\"On the 2017 List\",\"-\")","v":"-"},{"$f":"IF(OR(IFERROR(MATCH($D314,'Transparency List 2015'!$H:$H,0),FALSE),IFERROR(MATCH(TRIM($G314),'Transparency List 2015'!$C:$C,0),FALSE)),\"On the 2015 List\",\"-\")","v":"-"}]
[null,null,4,"",null,null,null,"-",{"$f":"IF(OR(IFERROR(MATCH($D315,'Transparency List 2018_10'!$L:$L,0),FALSE),IFERROR(MATCH(TRIM($G315),'Transparency List 2018_10'!$D:$D,0),FALSE)),\"On the 2018_10 List\",\"-\")","v":"-"},{"$f":"IF(OR(IFERROR(MATCH($D315,'Transparency List 2018_04'!$L:$L,0),FALSE),IFERROR(MATCH(TRIM($G315),'Transparency List 2018_04'!$D:$D,0),FALSE)),\"On the 2018_04 List\",\"-\")","v":"-"},{"$f":"IF(OR(IFERROR(MATCH($D315,'Transparency List 2017'!$L:$L,0),FALSE),IFERROR(MATCH(TRIM($G315),'Transparency List 2017'!$C:$C,0),FALSE)),\"On the 2017 List\",\"-\")","v":"-"},{"$f":"IF(OR(IFERROR(MATCH($D315,'Transparency List 2015'!$H:$H,0),FALSE),IFERROR(MATCH(TRIM($G315),'Transparency List 2015'!$C:$C,0),FALSE)),\"On the 2015 List\",\"-\")","v":"-"}]
[null,null,4,"",null,null,null,"-",{"$f":"IF(OR(IFERROR(MATCH($D316,'Transparency List 2018_10'!$L:$L,0),FALSE),IFERROR(MATCH(TRIM($G316),'Transparency List 2018_10'!$D:$D,0),FALSE)),\"On the 2018_10 List\",\"-\")","v":"-"},{"$f":"IF(OR(IFERROR(MATCH($D316,'Transparency List 2018_04'!$L:$L,0),FALSE),IFERROR(MATCH(TRIM($G316),'Transparency List 2018_04'!$D:$D,0),FALSE)),\"On the 2018_04 List\",\"-\")","v":"-"},{"$f":"IF(OR(IFERROR(MATCH($D316,'Transparency List 2017'!$L:$L,0),FALSE),IFERROR(MATCH(TRIM($G316),'Transparency List 2017'!$C:$C,0),FALSE)),\"On the 2017 List\",\"-\")","v":"-"},{"$f":"IF(OR(IFERROR(MATCH($D316,'Transparency List 2015'!$H:$H,0),FALSE),IFERROR(MATCH(TRIM($G316),'Transparency List 2015'!$C:$C,0),FALSE)),\"On the 2015 List\",\"-\")","v":"-"}]
[null,null,4,"",null,null,null,"-",{"$f":"IF(OR(IFERROR(MATCH($D317,'Transparency List 2018_10'!$L:$L,0),FALSE),IFERROR(MATCH(TRIM($G317),'Transparency List 2018_10'!$D:$D,0),FALSE)),\"On the 2018_10 List\",\"-\")","v":"-"},{"$f":"IF(OR(IFERROR(MATCH($D317,'Transparency List 2018_04'!$L:$L,0),FALSE),IFERROR(MATCH(TRIM($G317),'Transparency List 2018_04'!$D:$D,0),FALSE)),\"On the 2018_04 List\",\"-\")","v":"-"},{"$f":"IF(OR(IFERROR(MATCH($D317,'Transparency List 2017'!$L:$L,0),FALSE),IFERROR(MATCH(TRIM($G317),'Transparency List 2017'!$C:$C,0),FALSE)),\"On the 2017 List\",\"-\")","v":"-"},{"$f":"IF(OR(IFERROR(MATCH($D317,'Transparency List 2015'!$H:$H,0),FALSE),IFERROR(MATCH(TRIM($G317),'Transparency List 2015'!$C:$C,0),FALSE)),\"On the 2015 List\",\"-\")","v":"-"}]
[null,null,4,"",null,null,null,"-",{"$f":"IF(OR(IFERROR(MATCH($D318,'Transparency List 2018_10'!$L:$L,0),FALSE),IFERROR(MATCH(TRIM($G318),'Transparency List 2018_10'!$D:$D,0),FALSE)),\"On the 2018_10 List\",\"-\")","v":"-"},{"$f":"IF(OR(IFERROR(MATCH($D318,'Transparency List 2018_04'!$L:$L,0),FALSE),IFERROR(MATCH(TRIM($G318),'Transparency List 2018_04'!$D:$D,0),FALSE)),\"On the 2018_04 List\",\"-\")","v":"-"},{"$f":"IF(OR(IFERROR(MATCH($D318,'Transparency List 2017'!$L:$L,0),FALSE),IFERROR(MATCH(TRIM($G318),'Transparency List 2017'!$C:$C,0),FALSE)),\"On the 2017 List\",\"-\")","v":"-"},{"$f":"IF(OR(IFERROR(MATCH($D318,'Transparency List 2015'!$H:$H,0),FALSE),IFERROR(MATCH(TRIM($G318),'Transparency List 2015'!$C:$C,0),FALSE)),\"On the 2015 List\",\"-\")","v":"-"}]
[null,null,4,"",null,null,null,"-",{"$f":"IF(OR(IFERROR(MATCH($D319,'Transparency List 2018_10'!$L:$L,0),FALSE),IFERROR(MATCH(TRIM($G319),'Transparency List 2018_10'!$D:$D,0),FALSE)),\"On the 2018_10 List\",\"-\")","v":"-"},{"$f":"IF(OR(IFERROR(MATCH($D319,'Transparency List 2018_04'!$L:$L,0),FALSE),IFERROR(MATCH(TRIM($G319),'Transparency List 2018_04'!$D:$D,0),FALSE)),\"On the 2018_04 List\",\"-\")","v":"-"},{"$f":"IF(OR(IFERROR(MATCH($D319,'Transparency List 2017'!$L:$L,0),FALSE),IFERROR(MATCH(TRIM($G319),'Transparency List 2017'!$C:$C,0),FALSE)),\"On the 2017 List\",\"-\")","v":"-"},{"$f":"IF(OR(IFERROR(MATCH($D319,'Transparency List 2015'!$H:$H,0),FALSE),IFERROR(MATCH(TRIM($G319),'Transparency List 2015'!$C:$C,0),FALSE)),\"On the 2015 List\",\"-\")","v":"-"}]
[null,null,4,"",null,null,null,"-",{"$f":"IF(OR(IFERROR(MATCH($D320,'Transparency List 2018_10'!$L:$L,0),FALSE),IFERROR(MATCH(TRIM($G320),'Transparency List 2018_10'!$D:$D,0),FALSE)),\"On the 2018_10 List\",\"-\")","v":"-"},{"$f":"IF(OR(IFERROR(MATCH($D320,'Transparency List 2018_04'!$L:$L,0),FALSE),IFERROR(MATCH(TRIM($G320),'Transparency List 2018_04'!$D:$D,0),FALSE)),\"On the 2018_04 List\",\"-\")","v":"-"},{"$f":"IF(OR(IFERROR(MATCH($D320,'Transparency List 2017'!$L:$L,0),FALSE),IFERROR(MATCH(TRIM($G320),'Transparency List 2017'!$C:$C,0),FALSE)),\"On the 2017 List\",\"-\")","v":"-"},{"$f":"IF(OR(IFERROR(MATCH($D320,'Transparency List 2015'!$H:$H,0),FALSE),IFERROR(MATCH(TRIM($G320),'Transparency List 2015'!$C:$C,0),FALSE)),\"On the 2015 List\",\"-\")","v":"-"}]
[null,null,4,"",null,null,null,"-",{"$f":"IF(OR(IFERROR(MATCH($D321,'Transparency List 2018_10'!$L:$L,0),FALSE),IFERROR(MATCH(TRIM($G321),'Transparency List 2018_10'!$D:$D,0),FALSE)),\"On the 2018_10 List\",\"-\")","v":"-"},{"$f":"IF(OR(IFERROR(MATCH($D321,'Transparency List 2018_04'!$L:$L,0),FALSE),IFERROR(MATCH(TRIM($G321),'Transparency List 2018_04'!$D:$D,0),FALSE)),\"On the 2018_04 List\",\"-\")","v":"-"},{"$f":"IF(OR(IFERROR(MATCH($D321,'Transparency List 2017'!$L:$L,0),FALSE),IFERROR(MATCH(TRIM($G321),'Transparency List 2017'!$C:$C,0),FALSE)),\"On the 2017 List\",\"-\")","v":"-"},{"$f":"IF(OR(IFERROR(MATCH($D321,'Transparency List 2015'!$H:$H,0),FALSE),IFERROR(MATCH(TRIM($G321),'Transparency List 2015'!$C:$C,0),FALSE)),\"On the 2015 List\",\"-\")","v":"-"}]
[null,null,4,"",null,null,null,"-",{"$f":"IF(OR(IFERROR(MATCH($D322,'Transparency List 2018_10'!$L:$L,0),FALSE),IFERROR(MATCH(TRIM($G322),'Transparency List 2018_10'!$D:$D,0),FALSE)),\"On the 2018_10 List\",\"-\")","v":"-"},{"$f":"IF(OR(IFERROR(MATCH($D322,'Transparency List 2018_04'!$L:$L,0),FALSE),IFERROR(MATCH(TRIM($G322),'Transparency List 2018_04'!$D:$D,0),FALSE)),\"On the 2018_04 List\",\"-\")","v":"-"},{"$f":"IF(OR(IFERROR(MATCH($D322,'Transparency List 2017'!$L:$L,0),FALSE),IFERROR(MATCH(TRIM($G322),'Transparency List 2017'!$C:$C,0),FALSE)),\"On the 2017 List\",\"-\")","v":"-"},{"$f":"IF(OR(IFERROR(MATCH($D322,'Transparency List 2015'!$H:$H,0),FALSE),IFERROR(MATCH(TRIM($G322),'Transparency List 2015'!$C:$C,0),FALSE)),\"On the 2015 List\",\"-\")","v":"-"}]
[null,null,4,"",null,null,null,"-",{"$f":"IF(OR(IFERROR(MATCH($D323,'Transparency List 2018_10'!$L:$L,0),FALSE),IFERROR(MATCH(TRIM($G323),'Transparency List 2018_10'!$D:$D,0),FALSE)),\"On the 2018_10 List\",\"-\")","v":"-"},{"$f":"IF(OR(IFERROR(MATCH($D323,'Transparency List 2018_04'!$L:$L,0),FALSE),IFERROR(MATCH(TRIM($G323),'Transparency List 2018_04'!$D:$D,0),FALSE)),\"On the 2018_04 List\",\"-\")","v":"-"},{"$f":"IF(OR(IFERROR(MATCH($D323,'Transparency List 2017'!$L:$L,0),FALSE),IFERROR(MATCH(TRIM($G323),'Transparency List 2017'!$C:$C,0),FALSE)),\"On the 2017 List\",\"-\")","v":"-"},{"$f":"IF(OR(IFERROR(MATCH($D323,'Transparency List 2015'!$H:$H,0),FALSE),IFERROR(MATCH(TRIM($G323),'Transparency List 2015'!$C:$C,0),FALSE)),\"On the 2015 List\",\"-\")","v":"-"}]
[null,null,4,"",null,null,null,"-",{"$f":"IF(OR(IFERROR(MATCH($D324,'Transparency List 2018_10'!$L:$L,0),FALSE),IFERROR(MATCH(TRIM($G324),'Transparency List 2018_10'!$D:$D,0),FALSE)),\"On the 2018_10 List\",\"-\")","v":"-"},{"$f":"IF(OR(IFERROR(MATCH($D324,'Transparency List 2018_04'!$L:$L,0),FALSE),IFERROR(MATCH(TRIM($G324),'Transparency List 2018_04'!$D:$D,0),FALSE)),\"On the 2018_04 List\",\"-\")","v":"-"},{"$f":"IF(OR(IFERROR(MATCH($D324,'Transparency List 2017'!$L:$L,0),FALSE),IFERROR(MATCH(TRIM($G324),'Transparency List 2017'!$C:$C,0),FALSE)),\"On the 2017 List\",\"-\")","v":"-"},{"$f":"IF(OR(IFERROR(MATCH($D324,'Transparency List 2015'!$H:$H,0),FALSE),IFERROR(MATCH(TRIM($G324),'Transparency List 2015'!$C:$C,0),FALSE)),\"On the 2015 List\",\"-\")","v":"-"}]
[null,null,4,"",null,null,null,"-",{"$f":"IF(OR(IFERROR(MATCH($D325,'Transparency List 2018_10'!$L:$L,0),FALSE),IFERROR(MATCH(TRIM($G325),'Transparency List 2018_10'!$D:$D,0),FALSE)),\"On the 2018_10 List\",\"-\")","v":"-"},{"$f":"IF(OR(IFERROR(MATCH($D325,'Transparency List 2018_04'!$L:$L,0),FALSE),IFERROR(MATCH(TRIM($G325),'Transparency List 2018_04'!$D:$D,0),FALSE)),\"On the 2018_04 List\",\"-\")","v":"-"},{"$f":"IF(OR(IFERROR(MATCH($D325,'Transparency List 2017'!$L:$L,0),FALSE),IFERROR(MATCH(TRIM($G325),'Transparency List 2017'!$C:$C,0),FALSE)),\"On the 2017 List\",\"-\")","v":"-"},{"$f":"IF(OR(IFERROR(MATCH($D325,'Transparency List 2015'!$H:$H,0),FALSE),IFERROR(MATCH(TRIM($G325),'Transparency List 2015'!$C:$C,0),FALSE)),\"On the 2015 List\",\"-\")","v":"-"}]
[null,null,4,"",null,null,null,"-",{"$f":"IF(OR(IFERROR(MATCH($D326,'Transparency List 2018_10'!$L:$L,0),FALSE),IFERROR(MATCH(TRIM($G326),'Transparency List 2018_10'!$D:$D,0),FALSE)),\"On the 2018_10 List\",\"-\")","v":"-"},{"$f":"IF(OR(IFERROR(MATCH($D326,'Transparency List 2018_04'!$L:$L,0),FALSE),IFERROR(MATCH(TRIM($G326),'Transparency List 2018_04'!$D:$D,0),FALSE)),\"On the 2018_04 List\",\"-\")","v":"-"},{"$f":"IF(OR(IFERROR(MATCH($D326,'Transparency List 2017'!$L:$L,0),FALSE),IFERROR(MATCH(TRIM($G326),'Transparency List 2017'!$C:$C,0),FALSE)),\"On the 2017 List\",\"-\")","v":"-"},{"$f":"IF(OR(IFERROR(MATCH($D326,'Transparency List 2015'!$H:$H,0),FALSE),IFERROR(MATCH(TRIM($G326),'Transparency List 2015'!$C:$C,0),FALSE)),\"On the 2015 List\",\"-\")","v":"-"}]
[null,null,4,"",null,null,null,"-",{"$f":"IF(OR(IFERROR(MATCH($D327,'Transparency List 2018_10'!$L:$L,0),FALSE),IFERROR(MATCH(TRIM($G327),'Transparency List 2018_10'!$D:$D,0),FALSE)),\"On the 2018_10 List\",\"-\")","v":"-"},{"$f":"IF(OR(IFERROR(MATCH($D327,'Transparency List 2018_04'!$L:$L,0),FALSE),IFERROR(MATCH(TRIM($G327),'Transparency List 2018_04'!$D:$D,0),FALSE)),\"On the 2018_04 List\",\"-\")","v":"-"},{"$f":"IF(OR(IFERROR(MATCH($D327,'Transparency List 2017'!$L:$L,0),FALSE),IFERROR(MATCH(TRIM($G327),'Transparency List 2017'!$C:$C,0),FALSE)),\"On the 2017 List\",\"-\")","v":"-"},{"$f":"IF(OR(IFERROR(MATCH($D327,'Transparency List 2015'!$H:$H,0),FALSE),IFERROR(MATCH(TRIM($G327),'Transparency List 2015'!$C:$C,0),FALSE)),\"On the 2015 List\",\"-\")","v":"-"}]
[null,null,4,"",null,null,null,"-",{"$f":"IF(OR(IFERROR(MATCH($D328,'Transparency List 2018_10'!$L:$L,0),FALSE),IFERROR(MATCH(TRIM($G328),'Transparency List 2018_10'!$D:$D,0),FALSE)),\"On the 2018_10 List\",\"-\")","v":"-"},{"$f":"IF(OR(IFERROR(MATCH($D328,'Transparency List 2018_04'!$L:$L,0),FALSE),IFERROR(MATCH(TRIM($G328),'Transparency List 2018_04'!$D:$D,0),FALSE)),\"On the 2018_04 List\",\"-\")","v":"-"},{"$f":"IF(OR(IFERROR(MATCH($D328,'Transparency List 2017'!$L:$L,0),FALSE),IFERROR(MATCH(TRIM($G328),'Transparency List 2017'!$C:$C,0),FALSE)),\"On the 2017 List\",\"-\")","v":"-"},{"$f":"IF(OR(IFERROR(MATCH($D328,'Transparency List 2015'!$H:$H,0),FALSE),IFERROR(MATCH(TRIM($G328),'Transparency List 2015'!$C:$C,0),FALSE)),\"On the 2015 List\",\"-\")","v":"-"}]
[null,null,4,"",null,null,null,"-",{"$f":"IF(OR(IFERROR(MATCH($D329,'Transparency List 2018_10'!$L:$L,0),FALSE),IFERROR(MATCH(TRIM($G329),'Transparency List 2018_10'!$D:$D,0),FALSE)),\"On the 2018_10 List\",\"-\")","v":"-"},{"$f":"IF(OR(IFERROR(MATCH($D329,'Transparency List 2018_04'!$L:$L,0),FALSE),IFERROR(MATCH(TRIM($G329),'Transparency List 2018_04'!$D:$D,0),FALSE)),\"On the 2018_04 List\",\"-\")","v":"-"},{"$f":"IF(OR(IFERROR(MATCH($D329,'Transparency List 2017'!$L:$L,0),FALSE),IFERROR(MATCH(TRIM($G329),'Transparency List 2017'!$C:$C,0),FALSE)),\"On the 2017 List\",\"-\")","v":"-"},{"$f":"IF(OR(IFERROR(MATCH($D329,'Transparency List 2015'!$H:$H,0),FALSE),IFERROR(MATCH(TRIM($G329),'Transparency List 2015'!$C:$C,0),FALSE)),\"On the 2015 List\",\"-\")","v":"-"}]
[null,null,4,"",null,null,null,"-",{"$f":"IF(OR(IFERROR(MATCH($D330,'Transparency List 2018_10'!$L:$L,0),FALSE),IFERROR(MATCH(TRIM($G330),'Transparency List 2018_10'!$D:$D,0),FALSE)),\"On the 2018_10 List\",\"-\")","v":"-"},{"$f":"IF(OR(IFERROR(MATCH($D330,'Transparency List 2018_04'!$L:$L,0),FALSE),IFERROR(MATCH(TRIM($G330),'Transparency List 2018_04'!$D:$D,0),FALSE)),\"On the 2018_04 List\",\"-\")","v":"-"},{"$f":"IF(OR(IFERROR(MATCH($D330,'Transparency List 2017'!$L:$L,0),FALSE),IFERROR(MATCH(TRIM($G330),'Transparency List 2017'!$C:$C,0),FALSE)),\"On the 2017 List\",\"-\")","v":"-"},{"$f":"IF(OR(IFERROR(MATCH($D330,'Transparency List 2015'!$H:$H,0),FALSE),IFERROR(MATCH(TRIM($G330),'Transparency List 2015'!$C:$C,0),FALSE)),\"On the 2015 List\",\"-\")","v":"-"}]
[null,null,4,"",null,null,null,"-",{"$f":"IF(OR(IFERROR(MATCH($D331,'Transparency List 2018_10'!$L:$L,0),FALSE),IFERROR(MATCH(TRIM($G331),'Transparency List 2018_10'!$D:$D,0),FALSE)),\"On the 2018_10 List\",\"-\")","v":"-"},{"$f":"IF(OR(IFERROR(MATCH($D331,'Transparency List 2018_04'!$L:$L,0),FALSE),IFERROR(MATCH(TRIM($G331),'Transparency List 2018_04'!$D:$D,0),FALSE)),\"On the 2018_04 List\",\"-\")","v":"-"},{"$f":"IF(OR(IFERROR(MATCH($D331,'Transparency List 2017'!$L:$L,0),FALSE),IFERROR(MATCH(TRIM($G331),'Transparency List 2017'!$C:$C,0),FALSE)),\"On the 2017 List\",\"-\")","v":"-"},{"$f":"IF(OR(IFERROR(MATCH($D331,'Transparency List 2015'!$H:$H,0),FALSE),IFERROR(MATCH(TRIM($G331),'Transparency List 2015'!$C:$C,0),FALSE)),\"On the 2015 List\",\"-\")","v":"-"}]
[null,null,4,"",null,null,null,"-",{"$f":"IF(OR(IFERROR(MATCH($D332,'Transparency List 2018_10'!$L:$L,0),FALSE),IFERROR(MATCH(TRIM($G332),'Transparency List 2018_10'!$D:$D,0),FALSE)),\"On the 2018_10 List\",\"-\")","v":"-"},{"$f":"IF(OR(IFERROR(MATCH($D332,'Transparency List 2018_04'!$L:$L,0),FALSE),IFERROR(MATCH(TRIM($G332),'Transparency List 2018_04'!$D:$D,0),FALSE)),\"On the 2018_04 List\",\"-\")","v":"-"},{"$f":"IF(OR(IFERROR(MATCH($D332,'Transparency List 2017'!$L:$L,0),FALSE),IFERROR(MATCH(TRIM($G332),'Transparency List 2017'!$C:$C,0),FALSE)),\"On the 2017 List\",\"-\")","v":"-"},{"$f":"IF(OR(IFERROR(MATCH($D332,'Transparency List 2015'!$H:$H,0),FALSE),IFERROR(MATCH(TRIM($G332),'Transparency List 2015'!$C:$C,0),FALSE)),\"On the 2015 List\",\"-\")","v":"-"}]
[null,null,4,"",null,null,null,"-",{"$f":"IF(OR(IFERROR(MATCH($D333,'Transparency List 2018_10'!$L:$L,0),FALSE),IFERROR(MATCH(TRIM($G333),'Transparency List 2018_10'!$D:$D,0),FALSE)),\"On the 2018_10 List\",\"-\")","v":"-"},{"$f":"IF(OR(IFERROR(MATCH($D333,'Transparency List 2018_04'!$L:$L,0),FALSE),IFERROR(MATCH(TRIM($G333),'Transparency List 2018_04'!$D:$D,0),FALSE)),\"On the 2018_04 List\",\"-\")","v":"-"},{"$f":"IF(OR(IFERROR(MATCH($D333,'Transparency List 2017'!$L:$L,0),FALSE),IFERROR(MATCH(TRIM($G333),'Transparency List 2017'!$C:$C,0),FALSE)),\"On the 2017 List\",\"-\")","v":"-"},{"$f":"IF(OR(IFERROR(MATCH($D333,'Transparency List 2015'!$H:$H,0),FALSE),IFERROR(MATCH(TRIM($G333),'Transparency List 2015'!$C:$C,0),FALSE)),\"On the 2015 List\",\"-\")","v":"-"}]
[null,null,4,"",null,null,null,"-",{"$f":"IF(OR(IFERROR(MATCH($D334,'Transparency List 2018_10'!$L:$L,0),FALSE),IFERROR(MATCH(TRIM($G334),'Transparency List 2018_10'!$D:$D,0),FALSE)),\"On the 2018_10 List\",\"-\")","v":"-"},{"$f":"IF(OR(IFERROR(MATCH($D334,'Transparency List 2018_04'!$L:$L,0),FALSE),IFERROR(MATCH(TRIM($G334),'Transparency List 2018_04'!$D:$D,0),FALSE)),\"On the 2018_04 List\",\"-\")","v":"-"},{"$f":"IF(OR(IFERROR(MATCH($D334,'Transparency List 2017'!$L:$L,0),FALSE),IFERROR(MATCH(TRIM($G334),'Transparency List 2017'!$C:$C,0),FALSE)),\"On the 2017 List\",\"-\")","v":"-"},{"$f":"IF(OR(IFERROR(MATCH($D334,'Transparency List 2015'!$H:$H,0),FALSE),IFERROR(MATCH(TRIM($G334),'Transparency List 2015'!$C:$C,0),FALSE)),\"On the 2015 List\",\"-\")","v":"-"}]
[null,null,4,"",null,null,null,"-",{"$f":"IF(OR(IFERROR(MATCH($D335,'Transparency List 2018_10'!$L:$L,0),FALSE),IFERROR(MATCH(TRIM($G335),'Transparency List 2018_10'!$D:$D,0),FALSE)),\"On the 2018_10 List\",\"-\")","v":"-"},{"$f":"IF(OR(IFERROR(MATCH($D335,'Transparency List 2018_04'!$L:$L,0),FALSE),IFERROR(MATCH(TRIM($G335),'Transparency List 2018_04'!$D:$D,0),FALSE)),\"On the 2018_04 List\",\"-\")","v":"-"},{"$f":"IF(OR(IFERROR(MATCH($D335,'Transparency List 2017'!$L:$L,0),FALSE),IFERROR(MATCH(TRIM($G335),'Transparency List 2017'!$C:$C,0),FALSE)),\"On the 2017 List\",\"-\")","v":"-"},{"$f":"IF(OR(IFERROR(MATCH($D335,'Transparency List 2015'!$H:$H,0),FALSE),IFERROR(MATCH(TRIM($G335),'Transparency List 2015'!$C:$C,0),FALSE)),\"On the 2015 List\",\"-\")","v":"-"}]
[null,null,4,"",null,null,null,"-",{"$f":"IF(OR(IFERROR(MATCH($D336,'Transparency List 2018_10'!$L:$L,0),FALSE),IFERROR(MATCH(TRIM($G336),'Transparency List 2018_10'!$D:$D,0),FALSE)),\"On the 2018_10 List\",\"-\")","v":"-"},{"$f":"IF(OR(IFERROR(MATCH($D336,'Transparency List 2018_04'!$L:$L,0),FALSE),IFERROR(MATCH(TRIM($G336),'Transparency List 2018_04'!$D:$D,0),FALSE)),\"On the 2018_04 List\",\"-\")","v":"-"},{"$f":"IF(OR(IFERROR(MATCH($D336,'Transparency List 2017'!$L:$L,0),FALSE),IFERROR(MATCH(TRIM($G336),'Transparency List 2017'!$C:$C,0),FALSE)),\"On the 2017 List\",\"-\")","v":"-"},{"$f":"IF(OR(IFERROR(MATCH($D336,'Transparency List 2015'!$H:$H,0),FALSE),IFERROR(MATCH(TRIM($G336),'Transparency List 2015'!$C:$C,0),FALSE)),\"On the 2015 List\",\"-\")","v":"-"}]
[null,null,4,"",null,null,null,"-",{"$f":"IF(OR(IFERROR(MATCH($D337,'Transparency List 2018_10'!$L:$L,0),FALSE),IFERROR(MATCH(TRIM($G337),'Transparency List 2018_10'!$D:$D,0),FALSE)),\"On the 2018_10 List\",\"-\")","v":"-"},{"$f":"IF(OR(IFERROR(MATCH($D337,'Transparency List 2018_04'!$L:$L,0),FALSE),IFERROR(MATCH(TRIM($G337),'Transparency List 2018_04'!$D:$D,0),FALSE)),\"On the 2018_04 List\",\"-\")","v":"-"},{"$f":"IF(OR(IFERROR(MATCH($D337,'Transparency List 2017'!$L:$L,0),FALSE),IFERROR(MATCH(TRIM($G337),'Transparency List 2017'!$C:$C,0),FALSE)),\"On the 2017 List\",\"-\")","v":"-"},{"$f":"IF(OR(IFERROR(MATCH($D337,'Transparency List 2015'!$H:$H,0),FALSE),IFERROR(MATCH(TRIM($G337),'Transparency List 2015'!$C:$C,0),FALSE)),\"On the 2015 List\",\"-\")","v":"-"}]
[null,null,4,"",null,null,null,"-",{"$f":"IF(OR(IFERROR(MATCH($D338,'Transparency List 2018_10'!$L:$L,0),FALSE),IFERROR(MATCH(TRIM($G338),'Transparency List 2018_10'!$D:$D,0),FALSE)),\"On the 2018_10 List\",\"-\")","v":"-"},{"$f":"IF(OR(IFERROR(MATCH($D338,'Transparency List 2018_04'!$L:$L,0),FALSE),IFERROR(MATCH(TRIM($G338),'Transparency List 2018_04'!$D:$D,0),FALSE)),\"On the 2018_04 List\",\"-\")","v":"-"},{"$f":"IF(OR(IFERROR(MATCH($D338,'Transparency List 2017'!$L:$L,0),FALSE),IFERROR(MATCH(TRIM($G338),'Transparency List 2017'!$C:$C,0),FALSE)),\"On the 2017 List\",\"-\")","v":"-"},{"$f":"IF(OR(IFERROR(MATCH($D338,'Transparency List 2015'!$H:$H,0),FALSE),IFERROR(MATCH(TRIM($G338),'Transparency List 2015'!$C:$C,0),FALSE)),\"On the 2015 List\",\"-\")","v":"-"}]
[null,null,4,"",null,null,null,"-",{"$f":"IF(OR(IFERROR(MATCH($D339,'Transparency List 2018_10'!$L:$L,0),FALSE),IFERROR(MATCH(TRIM($G339),'Transparency List 2018_10'!$D:$D,0),FALSE)),\"On the 2018_10 List\",\"-\")","v":"-"},{"$f":"IF(OR(IFERROR(MATCH($D339,'Transparency List 2018_04'!$L:$L,0),FALSE),IFERROR(MATCH(TRIM($G339),'Transparency List 2018_04'!$D:$D,0),FALSE)),\"On the 2018_04 List\",\"-\")","v":"-"},{"$f":"IF(OR(IFERROR(MATCH($D339,'Transparency List 2017'!$L:$L,0),FALSE),IFERROR(MATCH(TRIM($G339),'Transparency List 2017'!$C:$C,0),FALSE)),\"On the 2017 List\",\"-\")","v":"-"},{"$f":"IF(OR(IFERROR(MATCH($D339,'Transparency List 2015'!$H:$H,0),FALSE),IFERROR(MATCH(TRIM($G339),'Transparency List 2015'!$C:$C,0),FALSE)),\"On the 2015 List\",\"-\")","v":"-"}]
[null,null,4,"",null,null,null,"-",{"$f":"IF(OR(IFERROR(MATCH($D340,'Transparency List 2018_10'!$L:$L,0),FALSE),IFERROR(MATCH(TRIM($G340),'Transparency List 2018_10'!$D:$D,0),FALSE)),\"On the 2018_10 List\",\"-\")","v":"-"},{"$f":"IF(OR(IFERROR(MATCH($D340,'Transparency List 2018_04'!$L:$L,0),FALSE),IFERROR(MATCH(TRIM($G340),'Transparency List 2018_04'!$D:$D,0),FALSE)),\"On the 2018_04 List\",\"-\")","v":"-"},{"$f":"IF(OR(IFERROR(MATCH($D340,'Transparency List 2017'!$L:$L,0),FALSE),IFERROR(MATCH(TRIM($G340),'Transparency List 2017'!$C:$C,0),FALSE)),\"On the 2017 List\",\"-\")","v":"-"},{"$f":"IF(OR(IFERROR(MATCH($D340,'Transparency List 2015'!$H:$H,0),FALSE),IFERROR(MATCH(TRIM($G340),'Transparency List 2015'!$C:$C,0),FALSE)),\"On the 2015 List\",\"-\")","v":"-"}]
[null,null,4,"",null,null,null,"-",{"$f":"IF(OR(IFERROR(MATCH($D341,'Transparency List 2018_10'!$L:$L,0),FALSE),IFERROR(MATCH(TRIM($G341),'Transparency List 2018_10'!$D:$D,0),FALSE)),\"On the 2018_10 List\",\"-\")","v":"-"},{"$f":"IF(OR(IFERROR(MATCH($D341,'Transparency List 2018_04'!$L:$L,0),FALSE),IFERROR(MATCH(TRIM($G341),'Transparency List 2018_04'!$D:$D,0),FALSE)),\"On the 2018_04 List\",\"-\")","v":"-"},{"$f":"IF(OR(IFERROR(MATCH($D341,'Transparency List 2017'!$L:$L,0),FALSE),IFERROR(MATCH(TRIM($G341),'Transparency List 2017'!$C:$C,0),FALSE)),\"On the 2017 List\",\"-\")","v":"-"},{"$f":"IF(OR(IFERROR(MATCH($D341,'Transparency List 2015'!$H:$H,0),FALSE),IFERROR(MATCH(TRIM($G341),'Transparency List 2015'!$C:$C,0),FALSE)),\"On the 2015 List\",\"-\")","v":"-"}]
[null,null,4,"",null,null,null,"-",{"$f":"IF(OR(IFERROR(MATCH($D342,'Transparency List 2018_10'!$L:$L,0),FALSE),IFERROR(MATCH(TRIM($G342),'Transparency List 2018_10'!$D:$D,0),FALSE)),\"On the 2018_10 List\",\"-\")","v":"-"},{"$f":"IF(OR(IFERROR(MATCH($D342,'Transparency List 2018_04'!$L:$L,0),FALSE),IFERROR(MATCH(TRIM($G342),'Transparency List 2018_04'!$D:$D,0),FALSE)),\"On the 2018_04 List\",\"-\")","v":"-"},{"$f":"IF(OR(IFERROR(MATCH($D342,'Transparency List 2017'!$L:$L,0),FALSE),IFERROR(MATCH(TRIM($G342),'Transparency List 2017'!$C:$C,0),FALSE)),\"On the 2017 List\",\"-\")","v":"-"},{"$f":"IF(OR(IFERROR(MATCH($D342,'Transparency List 2015'!$H:$H,0),FALSE),IFERROR(MATCH(TRIM($G342),'Transparency List 2015'!$C:$C,0),FALSE)),\"On the 2015 List\",\"-\")","v":"-"}]
[null,null,4,"",null,null,null,"-",{"$f":"IF(OR(IFERROR(MATCH($D343,'Transparency List 2018_10'!$L:$L,0),FALSE),IFERROR(MATCH(TRIM($G343),'Transparency List 2018_10'!$D:$D,0),FALSE)),\"On the 2018_10 List\",\"-\")","v":"-"},{"$f":"IF(OR(IFERROR(MATCH($D343,'Transparency List 2018_04'!$L:$L,0),FALSE),IFERROR(MATCH(TRIM($G343),'Transparency List 2018_04'!$D:$D,0),FALSE)),\"On the 2018_04 List\",\"-\")","v":"-"},{"$f":"IF(OR(IFERROR(MATCH($D343,'Transparency List 2017'!$L:$L,0),FALSE),IFERROR(MATCH(TRIM($G343),'Transparency List 2017'!$C:$C,0),FALSE)),\"On the 2017 List\",\"-\")","v":"-"},{"$f":"IF(OR(IFERROR(MATCH($D343,'Transparency List 2015'!$H:$H,0),FALSE),IFERROR(MATCH(TRIM($G343),'Transparency List 2015'!$C:$C,0),FALSE)),\"On the 2015 List\",\"-\")","v":"-"}]
[null,null,4,"",null,null,null,"-",{"$f":"IF(OR(IFERROR(MATCH($D344,'Transparency List 2018_10'!$L:$L,0),FALSE),IFERROR(MATCH(TRIM($G344),'Transparency List 2018_10'!$D:$D,0),FALSE)),\"On the 2018_10 List\",\"-\")","v":"-"},{"$f":"IF(OR(IFERROR(MATCH($D344,'Transparency List 2018_04'!$L:$L,0),FALSE),IFERROR(MATCH(TRIM($G344),'Transparency List 2018_04'!$D:$D,0),FALSE)),\"On the 2018_04 List\",\"-\")","v":"-"},{"$f":"IF(OR(IFERROR(MATCH($D344,'Transparency List 2017'!$L:$L,0),FALSE),IFERROR(MATCH(TRIM($G344),'Transparency List 2017'!$C:$C,0),FALSE)),\"On the 2017 List\",\"-\")","v":"-"},{"$f":"IF(OR(IFERROR(MATCH($D344,'Transparency List 2015'!$H:$H,0),FALSE),IFERROR(MATCH(TRIM($G344),'Transparency List 2015'!$C:$C,0),FALSE)),\"On the 2015 List\",\"-\")","v":"-"}]
[null,null,4,"",null,null,null,"-",{"$f":"IF(OR(IFERROR(MATCH($D345,'Transparency List 2018_10'!$L:$L,0),FALSE),IFERROR(MATCH(TRIM($G345),'Transparency List 2018_10'!$D:$D,0),FALSE)),\"On the 2018_10 List\",\"-\")","v":"-"},{"$f":"IF(OR(IFERROR(MATCH($D345,'Transparency List 2018_04'!$L:$L,0),FALSE),IFERROR(MATCH(TRIM($G345),'Transparency List 2018_04'!$D:$D,0),FALSE)),\"On the 2018_04 List\",\"-\")","v":"-"},{"$f":"IF(OR(IFERROR(MATCH($D345,'Transparency List 2017'!$L:$L,0),FALSE),IFERROR(MATCH(TRIM($G345),'Transparency List 2017'!$C:$C,0),FALSE)),\"On the 2017 List\",\"-\")","v":"-"},{"$f":"IF(OR(IFERROR(MATCH($D345,'Transparency List 2015'!$H:$H,0),FALSE),IFERROR(MATCH(TRIM($G345),'Transparency List 2015'!$C:$C,0),FALSE)),\"On the 2015 List\",\"-\")","v":"-"}]
[null,null,4,"",null,null,null,"-",{"$f":"IF(OR(IFERROR(MATCH($D346,'Transparency List 2018_10'!$L:$L,0),FALSE),IFERROR(MATCH(TRIM($G346),'Transparency List 2018_10'!$D:$D,0),FALSE)),\"On the 2018_10 List\",\"-\")","v":"-"},{"$f":"IF(OR(IFERROR(MATCH($D346,'Transparency List 2018_04'!$L:$L,0),FALSE),IFERROR(MATCH(TRIM($G346),'Transparency List 2018_04'!$D:$D,0),FALSE)),\"On the 2018_04 List\",\"-\")","v":"-"},{"$f":"IF(OR(IFERROR(MATCH($D346,'Transparency List 2017'!$L:$L,0),FALSE),IFERROR(MATCH(TRIM($G346),'Transparency List 2017'!$C:$C,0),FALSE)),\"On the 2017 List\",\"-\")","v":"-"},{"$f":"IF(OR(IFERROR(MATCH($D346,'Transparency List 2015'!$H:$H,0),FALSE),IFERROR(MATCH(TRIM($G346),'Transparency List 2015'!$C:$C,0),FALSE)),\"On the 2015 List\",\"-\")","v":"-"}]
[null,null,4,"",null,null,null,"-",{"$f":"IF(OR(IFERROR(MATCH($D347,'Transparency List 2018_10'!$L:$L,0),FALSE),IFERROR(MATCH(TRIM($G347),'Transparency List 2018_10'!$D:$D,0),FALSE)),\"On the 2018_10 List\",\"-\")","v":"-"},{"$f":"IF(OR(IFERROR(MATCH($D347,'Transparency List 2018_04'!$L:$L,0),FALSE),IFERROR(MATCH(TRIM($G347),'Transparency List 2018_04'!$D:$D,0),FALSE)),\"On the 2018_04 List\",\"-\")","v":"-"},{"$f":"IF(OR(IFERROR(MATCH($D347,'Transparency List 2017'!$L:$L,0),FALSE),IFERROR(MATCH(TRIM($G347),'Transparency List 2017'!$C:$C,0),FALSE)),\"On the 2017 List\",\"-\")","v":"-"},{"$f":"IF(OR(IFERROR(MATCH($D347,'Transparency List 2015'!$H:$H,0),FALSE),IFERROR(MATCH(TRIM($G347),'Transparency List 2015'!$C:$C,0),FALSE)),\"On the 2015 List\",\"-\")","v":"-"}]
[null,null,4,"",null,null,null,"-",{"$f":"IF(OR(IFERROR(MATCH($D348,'Transparency List 2018_10'!$L:$L,0),FALSE),IFERROR(MATCH(TRIM($G348),'Transparency List 2018_10'!$D:$D,0),FALSE)),\"On the 2018_10 List\",\"-\")","v":"-"},{"$f":"IF(OR(IFERROR(MATCH($D348,'Transparency List 2018_04'!$L:$L,0),FALSE),IFERROR(MATCH(TRIM($G348),'Transparency List 2018_04'!$D:$D,0),FALSE)),\"On the 2018_04 List\",\"-\")","v":"-"},{"$f":"IF(OR(IFERROR(MATCH($D348,'Transparency List 2017'!$L:$L,0),FALSE),IFERROR(MATCH(TRIM($G348),'Transparency List 2017'!$C:$C,0),FALSE)),\"On the 2017 List\",\"-\")","v":"-"},{"$f":"IF(OR(IFERROR(MATCH($D348,'Transparency List 2015'!$H:$H,0),FALSE),IFERROR(MATCH(TRIM($G348),'Transparency List 2015'!$C:$C,0),FALSE)),\"On the 2015 List\",\"-\")","v":"-"}]
[null,null,4,"",null,null,null,"-",{"$f":"IF(OR(IFERROR(MATCH($D349,'Transparency List 2018_10'!$L:$L,0),FALSE),IFERROR(MATCH(TRIM($G349),'Transparency List 2018_10'!$D:$D,0),FALSE)),\"On the 2018_10 List\",\"-\")","v":"-"},{"$f":"IF(OR(IFERROR(MATCH($D349,'Transparency List 2018_04'!$L:$L,0),FALSE),IFERROR(MATCH(TRIM($G349),'Transparency List 2018_04'!$D:$D,0),FALSE)),\"On the 2018_04 List\",\"-\")","v":"-"},{"$f":"IF(OR(IFERROR(MATCH($D349,'Transparency List 2017'!$L:$L,0),FALSE),IFERROR(MATCH(TRIM($G349),'Transparency List 2017'!$C:$C,0),FALSE)),\"On the 2017 List\",\"-\")","v":"-"},{"$f":"IF(OR(IFERROR(MATCH($D349,'Transparency List 2015'!$H:$H,0),FALSE),IFERROR(MATCH(TRIM($G349),'Transparency List 2015'!$C:$C,0),FALSE)),\"On the 2015 List\",\"-\")","v":"-"}]
[null,null,4,"",null,null,null,"-",{"$f":"IF(OR(IFERROR(MATCH($D350,'Transparency List 2018_10'!$L:$L,0),FALSE),IFERROR(MATCH(TRIM($G350),'Transparency List 2018_10'!$D:$D,0),FALSE)),\"On the 2018_10 List\",\"-\")","v":"-"},{"$f":"IF(OR(IFERROR(MATCH($D350,'Transparency List 2018_04'!$L:$L,0),FALSE),IFERROR(MATCH(TRIM($G350),'Transparency List 2018_04'!$D:$D,0),FALSE)),\"On the 2018_04 List\",\"-\")","v":"-"},{"$f":"IF(OR(IFERROR(MATCH($D350,'Transparency List 2017'!$L:$L,0),FALSE),IFERROR(MATCH(TRIM($G350),'Transparency List 2017'!$C:$C,0),FALSE)),\"On the 2017 List\",\"-\")","v":"-"},{"$f":"IF(OR(IFERROR(MATCH($D350,'Transparency List 2015'!$H:$H,0),FALSE),IFERROR(MATCH(TRIM($G350),'Transparency List 2015'!$C:$C,0),FALSE)),\"On the 2015 List\",\"-\")","v":"-"}]
[null,null,{"$f":"COUNTIF($I351:$L351,\"-\")","v":4},{"$f":"SUBSTITUTE(SUBSTITUTE(SUBSTITUTE(SUBSTITUTE($G351,\" \",\"\"),\".\",\"\"),\"-\",\"\"),\"/\",\"\")","v":""},null,null,null,{"$f":"IFERROR(IF($C351=4,\"-\",\"Risk Farmer - Please conduct further steps\"),)","v":"-"},{"$f":"IF(OR(IFERROR(MATCH($D351,'Transparency List 2018_10'!$L:$L,0),FALSE),IFERROR(MATCH(TRIM($G351),'Transparency List 2018_10'!$D:$D,0),FALSE)),\"On the 2018_10 List\",\"-\")","v":"-"},{"$f":"IF(OR(IFERROR(MATCH($D351,'Transparency List 2018_04'!$L:$L,0),FALSE),IFERROR(MATCH(TRIM($G351),'Transparency List 2018_04'!$D:$D,0),FALSE)),\"On the 2018_04 List\",\"-\")","v":"-"},{"$f":"IF(OR(IFERROR(MATCH($D351,'Transparency List 2017'!$L:$L,0),FALSE),IFERROR(MATCH(TRIM($G351),'Transparency List 2017'!$C:$C,0),FALSE)),\"On the 2017 List\",\"-\")","v":"-"},{"$f":"IF(OR(IFERROR(MATCH($D351,'Transparency List 2015'!$H:$H,0),FALSE),IFERROR(MATCH(TRIM($G351),'Transparency List 2015'!$C:$C,0),FALSE)),\"On the 2015 List\",\"-\")","v":"-"}]
[null,null,4,"",null,null,null,"-",{"$f":"IF(OR(IFERROR(MATCH($D352,'Transparency List 2018_10'!$L:$L,0),FALSE),IFERROR(MATCH(TRIM($G352),'Transparency List 2018_10'!$D:$D,0),FALSE)),\"On the 2018_10 List\",\"-\")","v":"-"},{"$f":"IF(OR(IFERROR(MATCH($D352,'Transparency List 2018_04'!$L:$L,0),FALSE),IFERROR(MATCH(TRIM($G352),'Transparency List 2018_04'!$D:$D,0),FALSE)),\"On the 2018_04 List\",\"-\")","v":"-"},{"$f":"IF(OR(IFERROR(MATCH($D352,'Transparency List 2017'!$L:$L,0),FALSE),IFERROR(MATCH(TRIM($G352),'Transparency List 2017'!$C:$C,0),FALSE)),\"On the 2017 List\",\"-\")","v":"-"},{"$f":"IF(OR(IFERROR(MATCH($D352,'Transparency List 2015'!$H:$H,0),FALSE),IFERROR(MATCH(TRIM($G352),'Transparency List 2015'!$C:$C,0),FALSE)),\"On the 2015 List\",\"-\")","v":"-"}]
[null,null,4,"",null,null,null,"-",{"$f":"IF(OR(IFERROR(MATCH($D353,'Transparency List 2018_10'!$L:$L,0),FALSE),IFERROR(MATCH(TRIM($G353),'Transparency List 2018_10'!$D:$D,0),FALSE)),\"On the 2018_10 List\",\"-\")","v":"-"},{"$f":"IF(OR(IFERROR(MATCH($D353,'Transparency List 2018_04'!$L:$L,0),FALSE),IFERROR(MATCH(TRIM($G353),'Transparency List 2018_04'!$D:$D,0),FALSE)),\"On the 2018_04 List\",\"-\")","v":"-"},{"$f":"IF(OR(IFERROR(MATCH($D353,'Transparency List 2017'!$L:$L,0),FALSE),IFERROR(MATCH(TRIM($G353),'Transparency List 2017'!$C:$C,0),FALSE)),\"On the 2017 List\",\"-\")","v":"-"},{"$f":"IF(OR(IFERROR(MATCH($D353,'Transparency List 2015'!$H:$H,0),FALSE),IFERROR(MATCH(TRIM($G353),'Transparency List 2015'!$C:$C,0),FALSE)),\"On the 2015 List\",\"-\")","v":"-"}]
[null,null,4,"",null,null,null,"-",{"$f":"IF(OR(IFERROR(MATCH($D354,'Transparency List 2018_10'!$L:$L,0),FALSE),IFERROR(MATCH(TRIM($G354),'Transparency List 2018_10'!$D:$D,0),FALSE)),\"On the 2018_10 List\",\"-\")","v":"-"},{"$f":"IF(OR(IFERROR(MATCH($D354,'Transparency List 2018_04'!$L:$L,0),FALSE),IFERROR(MATCH(TRIM($G354),'Transparency List 2018_04'!$D:$D,0),FALSE)),\"On the 2018_04 List\",\"-\")","v":"-"},{"$f":"IF(OR(IFERROR(MATCH($D354,'Transparency List 2017'!$L:$L,0),FALSE),IFERROR(MATCH(TRIM($G354),'Transparency List 2017'!$C:$C,0),FALSE)),\"On the 2017 List\",\"-\")","v":"-"},{"$f":"IF(OR(IFERROR(MATCH($D354,'Transparency List 2015'!$H:$H,0),FALSE),IFERROR(MATCH(TRIM($G354),'Transparency List 2015'!$C:$C,0),FALSE)),\"On the 2015 List\",\"-\")","v":"-"}]
[null,null,4,"",null,null,null,"-",{"$f":"IF(OR(IFERROR(MATCH($D355,'Transparency List 2018_10'!$L:$L,0),FALSE),IFERROR(MATCH(TRIM($G355),'Transparency List 2018_10'!$D:$D,0),FALSE)),\"On the 2018_10 List\",\"-\")","v":"-"},{"$f":"IF(OR(IFERROR(MATCH($D355,'Transparency List 2018_04'!$L:$L,0),FALSE),IFERROR(MATCH(TRIM($G355),'Transparency List 2018_04'!$D:$D,0),FALSE)),\"On the 2018_04 List\",\"-\")","v":"-"},{"$f":"IF(OR(IFERROR(MATCH($D355,'Transparency List 2017'!$L:$L,0),FALSE),IFERROR(MATCH(TRIM($G355),'Transparency List 2017'!$C:$C,0),FALSE)),\"On the 2017 List\",\"-\")","v":"-"},{"$f":"IF(OR(IFERROR(MATCH($D355,'Transparency List 2015'!$H:$H,0),FALSE),IFERROR(MATCH(TRIM($G355),'Transparency List 2015'!$C:$C,0),FALSE)),\"On the 2015 List\",\"-\")","v":"-"}]
[null,null,4,"",null,null,null,"-",{"$f":"IF(OR(IFERROR(MATCH($D356,'Transparency List 2018_10'!$L:$L,0),FALSE),IFERROR(MATCH(TRIM($G356),'Transparency List 2018_10'!$D:$D,0),FALSE)),\"On the 2018_10 List\",\"-\")","v":"-"},{"$f":"IF(OR(IFERROR(MATCH($D356,'Transparency List 2018_04'!$L:$L,0),FALSE),IFERROR(MATCH(TRIM($G356),'Transparency List 2018_04'!$D:$D,0),FALSE)),\"On the 2018_04 List\",\"-\")","v":"-"},{"$f":"IF(OR(IFERROR(MATCH($D356,'Transparency List 2017'!$L:$L,0),FALSE),IFERROR(MATCH(TRIM($G356),'Transparency List 2017'!$C:$C,0),FALSE)),\"On the 2017 List\",\"-\")","v":"-"},{"$f":"IF(OR(IFERROR(MATCH($D356,'Transparency List 2015'!$H:$H,0),FALSE),IFERROR(MATCH(TRIM($G356),'Transparency List 2015'!$C:$C,0),FALSE)),\"On the 2015 List\",\"-\")","v":"-"}]
[null,null,4,"",null,null,null,"-",{"$f":"IF(OR(IFERROR(MATCH($D357,'Transparency List 2018_10'!$L:$L,0),FALSE),IFERROR(MATCH(TRIM($G357),'Transparency List 2018_10'!$D:$D,0),FALSE)),\"On the 2018_10 List\",\"-\")","v":"-"},{"$f":"IF(OR(IFERROR(MATCH($D357,'Transparency List 2018_04'!$L:$L,0),FALSE),IFERROR(MATCH(TRIM($G357),'Transparency List 2018_04'!$D:$D,0),FALSE)),\"On the 2018_04 List\",\"-\")","v":"-"},{"$f":"IF(OR(IFERROR(MATCH($D357,'Transparency List 2017'!$L:$L,0),FALSE),IFERROR(MATCH(TRIM($G357),'Transparency List 2017'!$C:$C,0),FALSE)),\"On the 2017 List\",\"-\")","v":"-"},{"$f":"IF(OR(IFERROR(MATCH($D357,'Transparency List 2015'!$H:$H,0),FALSE),IFERROR(MATCH(TRIM($G357),'Transparency List 2015'!$C:$C,0),FALSE)),\"On the 2015 List\",\"-\")","v":"-"}]
[null,null,4,"",null,null,null,"-",{"$f":"IF(OR(IFERROR(MATCH($D358,'Transparency List 2018_10'!$L:$L,0),FALSE),IFERROR(MATCH(TRIM($G358),'Transparency List 2018_10'!$D:$D,0),FALSE)),\"On the 2018_10 List\",\"-\")","v":"-"},{"$f":"IF(OR(IFERROR(MATCH($D358,'Transparency List 2018_04'!$L:$L,0),FALSE),IFERROR(MATCH(TRIM($G358),'Transparency List 2018_04'!$D:$D,0),FALSE)),\"On the 2018_04 List\",\"-\")","v":"-"},{"$f":"IF(OR(IFERROR(MATCH($D358,'Transparency List 2017'!$L:$L,0),FALSE),IFERROR(MATCH(TRIM($G358),'Transparency List 2017'!$C:$C,0),FALSE)),\"On the 2017 List\",\"-\")","v":"-"},{"$f":"IF(OR(IFERROR(MATCH($D358,'Transparency List 2015'!$H:$H,0),FALSE),IFERROR(MATCH(TRIM($G358),'Transparency List 2015'!$C:$C,0),FALSE)),\"On the 2015 List\",\"-\")","v":"-"}]
[null,null,4,"",null,null,null,"-",{"$f":"IF(OR(IFERROR(MATCH($D359,'Transparency List 2018_10'!$L:$L,0),FALSE),IFERROR(MATCH(TRIM($G359),'Transparency List 2018_10'!$D:$D,0),FALSE)),\"On the 2018_10 List\",\"-\")","v":"-"},{"$f":"IF(OR(IFERROR(MATCH($D359,'Transparency List 2018_04'!$L:$L,0),FALSE),IFERROR(MATCH(TRIM($G359),'Transparency List 2018_04'!$D:$D,0),FALSE)),\"On the 2018_04 List\",\"-\")","v":"-"},{"$f":"IF(OR(IFERROR(MATCH($D359,'Transparency List 2017'!$L:$L,0),FALSE),IFERROR(MATCH(TRIM($G359),'Transparency List 2017'!$C:$C,0),FALSE)),\"On the 2017 List\",\"-\")","v":"-"},{"$f":"IF(OR(IFERROR(MATCH($D359,'Transparency List 2015'!$H:$H,0),FALSE),IFERROR(MATCH(TRIM($G359),'Transparency List 2015'!$C:$C,0),FALSE)),\"On the 2015 List\",\"-\")","v":"-"}]
[null,null,4,"",null,null,null,"-",{"$f":"IF(OR(IFERROR(MATCH($D360,'Transparency List 2018_10'!$L:$L,0),FALSE),IFERROR(MATCH(TRIM($G360),'Transparency List 2018_10'!$D:$D,0),FALSE)),\"On the 2018_10 List\",\"-\")","v":"-"},{"$f":"IF(OR(IFERROR(MATCH($D360,'Transparency List 2018_04'!$L:$L,0),FALSE),IFERROR(MATCH(TRIM($G360),'Transparency List 2018_04'!$D:$D,0),FALSE)),\"On the 2018_04 List\",\"-\")","v":"-"},{"$f":"IF(OR(IFERROR(MATCH($D360,'Transparency List 2017'!$L:$L,0),FALSE),IFERROR(MATCH(TRIM($G360),'Transparency List 2017'!$C:$C,0),FALSE)),\"On the 2017 List\",\"-\")","v":"-"},{"$f":"IF(OR(IFERROR(MATCH($D360,'Transparency List 2015'!$H:$H,0),FALSE),IFERROR(MATCH(TRIM($G360),'Transparency List 2015'!$C:$C,0),FALSE)),\"On the 2015 List\",\"-\")","v":"-"}]
[null,null,4,"",null,null,null,"-",{"$f":"IF(OR(IFERROR(MATCH($D361,'Transparency List 2018_10'!$L:$L,0),FALSE),IFERROR(MATCH(TRIM($G361),'Transparency List 2018_10'!$D:$D,0),FALSE)),\"On the 2018_10 List\",\"-\")","v":"-"},{"$f":"IF(OR(IFERROR(MATCH($D361,'Transparency List 2018_04'!$L:$L,0),FALSE),IFERROR(MATCH(TRIM($G361),'Transparency List 2018_04'!$D:$D,0),FALSE)),\"On the 2018_04 List\",\"-\")","v":"-"},{"$f":"IF(OR(IFERROR(MATCH($D361,'Transparency List 2017'!$L:$L,0),FALSE),IFERROR(MATCH(TRIM($G361),'Transparency List 2017'!$C:$C,0),FALSE)),\"On the 2017 List\",\"-\")","v":"-"},{"$f":"IF(OR(IFERROR(MATCH($D361,'Transparency List 2015'!$H:$H,0),FALSE),IFERROR(MATCH(TRIM($G361),'Transparency List 2015'!$C:$C,0),FALSE)),\"On the 2015 List\",\"-\")","v":"-"}]
[null,null,4,"",null,null,null,"-",{"$f":"IF(OR(IFERROR(MATCH($D362,'Transparency List 2018_10'!$L:$L,0),FALSE),IFERROR(MATCH(TRIM($G362),'Transparency List 2018_10'!$D:$D,0),FALSE)),\"On the 2018_10 List\",\"-\")","v":"-"},{"$f":"IF(OR(IFERROR(MATCH($D362,'Transparency List 2018_04'!$L:$L,0),FALSE),IFERROR(MATCH(TRIM($G362),'Transparency List 2018_04'!$D:$D,0),FALSE)),\"On the 2018_04 List\",\"-\")","v":"-"},{"$f":"IF(OR(IFERROR(MATCH($D362,'Transparency List 2017'!$L:$L,0),FALSE),IFERROR(MATCH(TRIM($G362),'Transparency List 2017'!$C:$C,0),FALSE)),\"On the 2017 List\",\"-\")","v":"-"},{"$f":"IF(OR(IFERROR(MATCH($D362,'Transparency List 2015'!$H:$H,0),FALSE),IFERROR(MATCH(TRIM($G362),'Transparency List 2015'!$C:$C,0),FALSE)),\"On the 2015 List\",\"-\")","v":"-"}]
[null,null,4,"",null,null,null,"-",{"$f":"IF(OR(IFERROR(MATCH($D363,'Transparency List 2018_10'!$L:$L,0),FALSE),IFERROR(MATCH(TRIM($G363),'Transparency List 2018_10'!$D:$D,0),FALSE)),\"On the 2018_10 List\",\"-\")","v":"-"},{"$f":"IF(OR(IFERROR(MATCH($D363,'Transparency List 2018_04'!$L:$L,0),FALSE),IFERROR(MATCH(TRIM($G363),'Transparency List 2018_04'!$D:$D,0),FALSE)),\"On the 2018_04 List\",\"-\")","v":"-"},{"$f":"IF(OR(IFERROR(MATCH($D363,'Transparency List 2017'!$L:$L,0),FALSE),IFERROR(MATCH(TRIM($G363),'Transparency List 2017'!$C:$C,0),FALSE)),\"On the 2017 List\",\"-\")","v":"-"},{"$f":"IF(OR(IFERROR(MATCH($D363,'Transparency List 2015'!$H:$H,0),FALSE),IFERROR(MATCH(TRIM($G363),'Transparency List 2015'!$C:$C,0),FALSE)),\"On the 2015 List\",\"-\")","v":"-"}]
[null,null,4,"",null,null,null,"-",{"$f":"IF(OR(IFERROR(MATCH($D364,'Transparency List 2018_10'!$L:$L,0),FALSE),IFERROR(MATCH(TRIM($G364),'Transparency List 2018_10'!$D:$D,0),FALSE)),\"On the 2018_10 List\",\"-\")","v":"-"},{"$f":"IF(OR(IFERROR(MATCH($D364,'Transparency List 2018_04'!$L:$L,0),FALSE),IFERROR(MATCH(TRIM($G364),'Transparency List 2018_04'!$D:$D,0),FALSE)),\"On the 2018_04 List\",\"-\")","v":"-"},{"$f":"IF(OR(IFERROR(MATCH($D364,'Transparency List 2017'!$L:$L,0),FALSE),IFERROR(MATCH(TRIM($G364),'Transparency List 2017'!$C:$C,0),FALSE)),\"On the 2017 List\",\"-\")","v":"-"},{"$f":"IF(OR(IFERROR(MATCH($D364,'Transparency List 2015'!$H:$H,0),FALSE),IFERROR(MATCH(TRIM($G364),'Transparency List 2015'!$C:$C,0),FALSE)),\"On the 2015 List\",\"-\")","v":"-"}]
[null,null,4,"",null,null,null,"-",{"$f":"IF(OR(IFERROR(MATCH($D365,'Transparency List 2018_10'!$L:$L,0),FALSE),IFERROR(MATCH(TRIM($G365),'Transparency List 2018_10'!$D:$D,0),FALSE)),\"On the 2018_10 List\",\"-\")","v":"-"},{"$f":"IF(OR(IFERROR(MATCH($D365,'Transparency List 2018_04'!$L:$L,0),FALSE),IFERROR(MATCH(TRIM($G365),'Transparency List 2018_04'!$D:$D,0),FALSE)),\"On the 2018_04 List\",\"-\")","v":"-"},{"$f":"IF(OR(IFERROR(MATCH($D365,'Transparency List 2017'!$L:$L,0),FALSE),IFERROR(MATCH(TRIM($G365),'Transparency List 2017'!$C:$C,0),FALSE)),\"On the 2017 List\",\"-\")","v":"-"},{"$f":"IF(OR(IFERROR(MATCH($D365,'Transparency List 2015'!$H:$H,0),FALSE),IFERROR(MATCH(TRIM($G365),'Transparency List 2015'!$C:$C,0),FALSE)),\"On the 2015 List\",\"-\")","v":"-"}]
[null,null,4,"",null,null,null,"-",{"$f":"IF(OR(IFERROR(MATCH($D366,'Transparency List 2018_10'!$L:$L,0),FALSE),IFERROR(MATCH(TRIM($G366),'Transparency List 2018_10'!$D:$D,0),FALSE)),\"On the 2018_10 List\",\"-\")","v":"-"},{"$f":"IF(OR(IFERROR(MATCH($D366,'Transparency List 2018_04'!$L:$L,0),FALSE),IFERROR(MATCH(TRIM($G366),'Transparency List 2018_04'!$D:$D,0),FALSE)),\"On the 2018_04 List\",\"-\")","v":"-"},{"$f":"IF(OR(IFERROR(MATCH($D366,'Transparency List 2017'!$L:$L,0),FALSE),IFERROR(MATCH(TRIM($G366),'Transparency List 2017'!$C:$C,0),FALSE)),\"On the 2017 List\",\"-\")","v":"-"},{"$f":"IF(OR(IFERROR(MATCH($D366,'Transparency List 2015'!$H:$H,0),FALSE),IFERROR(MATCH(TRIM($G366),'Transparency List 2015'!$C:$C,0),FALSE)),\"On the 2015 List\",\"-\")","v":"-"}]
[null,null,4,"",null,null,null,"-",{"$f":"IF(OR(IFERROR(MATCH($D367,'Transparency List 2018_10'!$L:$L,0),FALSE),IFERROR(MATCH(TRIM($G367),'Transparency List 2018_10'!$D:$D,0),FALSE)),\"On the 2018_10 List\",\"-\")","v":"-"},{"$f":"IF(OR(IFERROR(MATCH($D367,'Transparency List 2018_04'!$L:$L,0),FALSE),IFERROR(MATCH(TRIM($G367),'Transparency List 2018_04'!$D:$D,0),FALSE)),\"On the 2018_04 List\",\"-\")","v":"-"},{"$f":"IF(OR(IFERROR(MATCH($D367,'Transparency List 2017'!$L:$L,0),FALSE),IFERROR(MATCH(TRIM($G367),'Transparency List 2017'!$C:$C,0),FALSE)),\"On the 2017 List\",\"-\")","v":"-"},{"$f":"IF(OR(IFERROR(MATCH($D367,'Transparency List 2015'!$H:$H,0),FALSE),IFERROR(MATCH(TRIM($G367),'Transparency List 2015'!$C:$C,0),FALSE)),\"On the 2015 List\",\"-\")","v":"-"}]
[null,null,4,"",null,null,null,"-",{"$f":"IF(OR(IFERROR(MATCH($D368,'Transparency List 2018_10'!$L:$L,0),FALSE),IFERROR(MATCH(TRIM($G368),'Transparency List 2018_10'!$D:$D,0),FALSE)),\"On the 2018_10 List\",\"-\")","v":"-"},{"$f":"IF(OR(IFERROR(MATCH($D368,'Transparency List 2018_04'!$L:$L,0),FALSE),IFERROR(MATCH(TRIM($G368),'Transparency List 2018_04'!$D:$D,0),FALSE)),\"On the 2018_04 List\",\"-\")","v":"-"},{"$f":"IF(OR(IFERROR(MATCH($D368,'Transparency List 2017'!$L:$L,0),FALSE),IFERROR(MATCH(TRIM($G368),'Transparency List 2017'!$C:$C,0),FALSE)),\"On the 2017 List\",\"-\")","v":"-"},{"$f":"IF(OR(IFERROR(MATCH($D368,'Transparency List 2015'!$H:$H,0),FALSE),IFERROR(MATCH(TRIM($G368),'Transparency List 2015'!$C:$C,0),FALSE)),\"On the 2015 List\",\"-\")","v":"-"}]
[null,null,4,"",null,null,null,"-",{"$f":"IF(OR(IFERROR(MATCH($D369,'Transparency List 2018_10'!$L:$L,0),FALSE),IFERROR(MATCH(TRIM($G369),'Transparency List 2018_10'!$D:$D,0),FALSE)),\"On the 2018_10 List\",\"-\")","v":"-"},{"$f":"IF(OR(IFERROR(MATCH($D369,'Transparency List 2018_04'!$L:$L,0),FALSE),IFERROR(MATCH(TRIM($G369),'Transparency List 2018_04'!$D:$D,0),FALSE)),\"On the 2018_04 List\",\"-\")","v":"-"},{"$f":"IF(OR(IFERROR(MATCH($D369,'Transparency List 2017'!$L:$L,0),FALSE),IFERROR(MATCH(TRIM($G369),'Transparency List 2017'!$C:$C,0),FALSE)),\"On the 2017 List\",\"-\")","v":"-"},{"$f":"IF(OR(IFERROR(MATCH($D369,'Transparency List 2015'!$H:$H,0),FALSE),IFERROR(MATCH(TRIM($G369),'Transparency List 2015'!$C:$C,0),FALSE)),\"On the 2015 List\",\"-\")","v":"-"}]
[null,null,4,"",null,null,null,"-",{"$f":"IF(OR(IFERROR(MATCH($D370,'Transparency List 2018_10'!$L:$L,0),FALSE),IFERROR(MATCH(TRIM($G370),'Transparency List 2018_10'!$D:$D,0),FALSE)),\"On the 2018_10 List\",\"-\")","v":"-"},{"$f":"IF(OR(IFERROR(MATCH($D370,'Transparency List 2018_04'!$L:$L,0),FALSE),IFERROR(MATCH(TRIM($G370),'Transparency List 2018_04'!$D:$D,0),FALSE)),\"On the 2018_04 List\",\"-\")","v":"-"},{"$f":"IF(OR(IFERROR(MATCH($D370,'Transparency List 2017'!$L:$L,0),FALSE),IFERROR(MATCH(TRIM($G370),'Transparency List 2017'!$C:$C,0),FALSE)),\"On the 2017 List\",\"-\")","v":"-"},{"$f":"IF(OR(IFERROR(MATCH($D370,'Transparency List 2015'!$H:$H,0),FALSE),IFERROR(MATCH(TRIM($G370),'Transparency List 2015'!$C:$C,0),FALSE)),\"On the 2015 List\",\"-\")","v":"-"}]
[null,null,4,"",null,null,null,"-",{"$f":"IF(OR(IFERROR(MATCH($D371,'Transparency List 2018_10'!$L:$L,0),FALSE),IFERROR(MATCH(TRIM($G371),'Transparency List 2018_10'!$D:$D,0),FALSE)),\"On the 2018_10 List\",\"-\")","v":"-"},{"$f":"IF(OR(IFERROR(MATCH($D371,'Transparency List 2018_04'!$L:$L,0),FALSE),IFERROR(MATCH(TRIM($G371),'Transparency List 2018_04'!$D:$D,0),FALSE)),\"On the 2018_04 List\",\"-\")","v":"-"},{"$f":"IF(OR(IFERROR(MATCH($D371,'Transparency List 2017'!$L:$L,0),FALSE),IFERROR(MATCH(TRIM($G371),'Transparency List 2017'!$C:$C,0),FALSE)),\"On the 2017 List\",\"-\")","v":"-"},{"$f":"IF(OR(IFERROR(MATCH($D371,'Transparency List 2015'!$H:$H,0),FALSE),IFERROR(MATCH(TRIM($G371),'Transparency List 2015'!$C:$C,0),FALSE)),\"On the 2015 List\",\"-\")","v":"-"}]
[null,null,4,"",null,null,null,"-",{"$f":"IF(OR(IFERROR(MATCH($D372,'Transparency List 2018_10'!$L:$L,0),FALSE),IFERROR(MATCH(TRIM($G372),'Transparency List 2018_10'!$D:$D,0),FALSE)),\"On the 2018_10 List\",\"-\")","v":"-"},{"$f":"IF(OR(IFERROR(MATCH($D372,'Transparency List 2018_04'!$L:$L,0),FALSE),IFERROR(MATCH(TRIM($G372),'Transparency List 2018_04'!$D:$D,0),FALSE)),\"On the 2018_04 List\",\"-\")","v":"-"},{"$f":"IF(OR(IFERROR(MATCH($D372,'Transparency List 2017'!$L:$L,0),FALSE),IFERROR(MATCH(TRIM($G372),'Transparency List 2017'!$C:$C,0),FALSE)),\"On the 2017 List\",\"-\")","v":"-"},{"$f":"IF(OR(IFERROR(MATCH($D372,'Transparency List 2015'!$H:$H,0),FALSE),IFERROR(MATCH(TRIM($G372),'Transparency List 2015'!$C:$C,0),FALSE)),\"On the 2015 List\",\"-\")","v":"-"}]
[null,null,4,"",null,null,null,"-",{"$f":"IF(OR(IFERROR(MATCH($D373,'Transparency List 2018_10'!$L:$L,0),FALSE),IFERROR(MATCH(TRIM($G373),'Transparency List 2018_10'!$D:$D,0),FALSE)),\"On the 2018_10 List\",\"-\")","v":"-"},{"$f":"IF(OR(IFERROR(MATCH($D373,'Transparency List 2018_04'!$L:$L,0),FALSE),IFERROR(MATCH(TRIM($G373),'Transparency List 2018_04'!$D:$D,0),FALSE)),\"On the 2018_04 List\",\"-\")","v":"-"},{"$f":"IF(OR(IFERROR(MATCH($D373,'Transparency List 2017'!$L:$L,0),FALSE),IFERROR(MATCH(TRIM($G373),'Transparency List 2017'!$C:$C,0),FALSE)),\"On the 2017 List\",\"-\")","v":"-"},{"$f":"IF(OR(IFERROR(MATCH($D373,'Transparency List 2015'!$H:$H,0),FALSE),IFERROR(MATCH(TRIM($G373),'Transparency List 2015'!$C:$C,0),FALSE)),\"On the 2015 List\",\"-\")","v":"-"}]
[null,null,4,"",null,null,null,"-",{"$f":"IF(OR(IFERROR(MATCH($D374,'Transparency List 2018_10'!$L:$L,0),FALSE),IFERROR(MATCH(TRIM($G374),'Transparency List 2018_10'!$D:$D,0),FALSE)),\"On the 2018_10 List\",\"-\")","v":"-"},{"$f":"IF(OR(IFERROR(MATCH($D374,'Transparency List 2018_04'!$L:$L,0),FALSE),IFERROR(MATCH(TRIM($G374),'Transparency List 2018_04'!$D:$D,0),FALSE)),\"On the 2018_04 List\",\"-\")","v":"-"},{"$f":"IF(OR(IFERROR(MATCH($D374,'Transparency List 2017'!$L:$L,0),FALSE),IFERROR(MATCH(TRIM($G374),'Transparency List 2017'!$C:$C,0),FALSE)),\"On the 2017 List\",\"-\")","v":"-"},{"$f":"IF(OR(IFERROR(MATCH($D374,'Transparency List 2015'!$H:$H,0),FALSE),IFERROR(MATCH(TRIM($G374),'Transparency List 2015'!$C:$C,0),FALSE)),\"On the 2015 List\",\"-\")","v":"-"}]
[null,null,4,"",null,null,null,"-",{"$f":"IF(OR(IFERROR(MATCH($D375,'Transparency List 2018_10'!$L:$L,0),FALSE),IFERROR(MATCH(TRIM($G375),'Transparency List 2018_10'!$D:$D,0),FALSE)),\"On the 2018_10 List\",\"-\")","v":"-"},{"$f":"IF(OR(IFERROR(MATCH($D375,'Transparency List 2018_04'!$L:$L,0),FALSE),IFERROR(MATCH(TRIM($G375),'Transparency List 2018_04'!$D:$D,0),FALSE)),\"On the 2018_04 List\",\"-\")","v":"-"},{"$f":"IF(OR(IFERROR(MATCH($D375,'Transparency List 2017'!$L:$L,0),FALSE),IFERROR(MATCH(TRIM($G375),'Transparency List 2017'!$C:$C,0),FALSE)),\"On the 2017 List\",\"-\")","v":"-"},{"$f":"IF(OR(IFERROR(MATCH($D375,'Transparency List 2015'!$H:$H,0),FALSE),IFERROR(MATCH(TRIM($G375),'Transparency List 2015'!$C:$C,0),FALSE)),\"On the 2015 List\",\"-\")","v":"-"}]
[null,null,4,"",null,null,null,"-",{"$f":"IF(OR(IFERROR(MATCH($D376,'Transparency List 2018_10'!$L:$L,0),FALSE),IFERROR(MATCH(TRIM($G376),'Transparency List 2018_10'!$D:$D,0),FALSE)),\"On the 2018_10 List\",\"-\")","v":"-"},{"$f":"IF(OR(IFERROR(MATCH($D376,'Transparency List 2018_04'!$L:$L,0),FALSE),IFERROR(MATCH(TRIM($G376),'Transparency List 2018_04'!$D:$D,0),FALSE)),\"On the 2018_04 List\",\"-\")","v":"-"},{"$f":"IF(OR(IFERROR(MATCH($D376,'Transparency List 2017'!$L:$L,0),FALSE),IFERROR(MATCH(TRIM($G376),'Transparency List 2017'!$C:$C,0),FALSE)),\"On the 2017 List\",\"-\")","v":"-"},{"$f":"IF(OR(IFERROR(MATCH($D376,'Transparency List 2015'!$H:$H,0),FALSE),IFERROR(MATCH(TRIM($G376),'Transparency List 2015'!$C:$C,0),FALSE)),\"On the 2015 List\",\"-\")","v":"-"}]
[null,null,4,"",null,null,null,"-",{"$f":"IF(OR(IFERROR(MATCH($D377,'Transparency List 2018_10'!$L:$L,0),FALSE),IFERROR(MATCH(TRIM($G377),'Transparency List 2018_10'!$D:$D,0),FALSE)),\"On the 2018_10 List\",\"-\")","v":"-"},{"$f":"IF(OR(IFERROR(MATCH($D377,'Transparency List 2018_04'!$L:$L,0),FALSE),IFERROR(MATCH(TRIM($G377),'Transparency List 2018_04'!$D:$D,0),FALSE)),\"On the 2018_04 List\",\"-\")","v":"-"},{"$f":"IF(OR(IFERROR(MATCH($D377,'Transparency List 2017'!$L:$L,0),FALSE),IFERROR(MATCH(TRIM($G377),'Transparency List 2017'!$C:$C,0),FALSE)),\"On the 2017 List\",\"-\")","v":"-"},{"$f":"IF(OR(IFERROR(MATCH($D377,'Transparency List 2015'!$H:$H,0),FALSE),IFERROR(MATCH(TRIM($G377),'Transparency List 2015'!$C:$C,0),FALSE)),\"On the 2015 List\",\"-\")","v":"-"}]
[null,null,4,"",null,null,null,"-",{"$f":"IF(OR(IFERROR(MATCH($D378,'Transparency List 2018_10'!$L:$L,0),FALSE),IFERROR(MATCH(TRIM($G378),'Transparency List 2018_10'!$D:$D,0),FALSE)),\"On the 2018_10 List\",\"-\")","v":"-"},{"$f":"IF(OR(IFERROR(MATCH($D378,'Transparency List 2018_04'!$L:$L,0),FALSE),IFERROR(MATCH(TRIM($G378),'Transparency List 2018_04'!$D:$D,0),FALSE)),\"On the 2018_04 List\",\"-\")","v":"-"},{"$f":"IF(OR(IFERROR(MATCH($D378,'Transparency List 2017'!$L:$L,0),FALSE),IFERROR(MATCH(TRIM($G378),'Transparency List 2017'!$C:$C,0),FALSE)),\"On the 2017 List\",\"-\")","v":"-"},{"$f":"IF(OR(IFERROR(MATCH($D378,'Transparency List 2015'!$H:$H,0),FALSE),IFERROR(MATCH(TRIM($G378),'Transparency List 2015'!$C:$C,0),FALSE)),\"On the 2015 List\",\"-\")","v":"-"}]
[null,null,4,"",null,null,null,"-",{"$f":"IF(OR(IFERROR(MATCH($D379,'Transparency List 2018_10'!$L:$L,0),FALSE),IFERROR(MATCH(TRIM($G379),'Transparency List 2018_10'!$D:$D,0),FALSE)),\"On the 2018_10 List\",\"-\")","v":"-"},{"$f":"IF(OR(IFERROR(MATCH($D379,'Transparency List 2018_04'!$L:$L,0),FALSE),IFERROR(MATCH(TRIM($G379),'Transparency List 2018_04'!$D:$D,0),FALSE)),\"On the 2018_04 List\",\"-\")","v":"-"},{"$f":"IF(OR(IFERROR(MATCH($D379,'Transparency List 2017'!$L:$L,0),FALSE),IFERROR(MATCH(TRIM($G379),'Transparency List 2017'!$C:$C,0),FALSE)),\"On the 2017 List\",\"-\")","v":"-"},{"$f":"IF(OR(IFERROR(MATCH($D379,'Transparency List 2015'!$H:$H,0),FALSE),IFERROR(MATCH(TRIM($G379),'Transparency List 2015'!$C:$C,0),FALSE)),\"On the 2015 List\",\"-\")","v":"-"}]
[null,null,4,"",null,null,null,"-",{"$f":"IF(OR(IFERROR(MATCH($D380,'Transparency List 2018_10'!$L:$L,0),FALSE),IFERROR(MATCH(TRIM($G380),'Transparency List 2018_10'!$D:$D,0),FALSE)),\"On the 2018_10 List\",\"-\")","v":"-"},{"$f":"IF(OR(IFERROR(MATCH($D380,'Transparency List 2018_04'!$L:$L,0),FALSE),IFERROR(MATCH(TRIM($G380),'Transparency List 2018_04'!$D:$D,0),FALSE)),\"On the 2018_04 List\",\"-\")","v":"-"},{"$f":"IF(OR(IFERROR(MATCH($D380,'Transparency List 2017'!$L:$L,0),FALSE),IFERROR(MATCH(TRIM($G380),'Transparency List 2017'!$C:$C,0),FALSE)),\"On the 2017 List\",\"-\")","v":"-"},{"$f":"IF(OR(IFERROR(MATCH($D380,'Transparency List 2015'!$H:$H,0),FALSE),IFERROR(MATCH(TRIM($G380),'Transparency List 2015'!$C:$C,0),FALSE)),\"On the 2015 List\",\"-\")","v":"-"}]
[null,null,4,"",null,null,null,"-",{"$f":"IF(OR(IFERROR(MATCH($D381,'Transparency List 2018_10'!$L:$L,0),FALSE),IFERROR(MATCH(TRIM($G381),'Transparency List 2018_10'!$D:$D,0),FALSE)),\"On the 2018_10 List\",\"-\")","v":"-"},{"$f":"IF(OR(IFERROR(MATCH($D381,'Transparency List 2018_04'!$L:$L,0),FALSE),IFERROR(MATCH(TRIM($G381),'Transparency List 2018_04'!$D:$D,0),FALSE)),\"On the 2018_04 List\",\"-\")","v":"-"},{"$f":"IF(OR(IFERROR(MATCH($D381,'Transparency List 2017'!$L:$L,0),FALSE),IFERROR(MATCH(TRIM($G381),'Transparency List 2017'!$C:$C,0),FALSE)),\"On the 2017 List\",\"-\")","v":"-"},{"$f":"IF(OR(IFERROR(MATCH($D381,'Transparency List 2015'!$H:$H,0),FALSE),IFERROR(MATCH(TRIM($G381),'Transparency List 2015'!$C:$C,0),FALSE)),\"On the 2015 List\",\"-\")","v":"-"}]
[null,null,4,"",null,null,null,"-",{"$f":"IF(OR(IFERROR(MATCH($D382,'Transparency List 2018_10'!$L:$L,0),FALSE),IFERROR(MATCH(TRIM($G382),'Transparency List 2018_10'!$D:$D,0),FALSE)),\"On the 2018_10 List\",\"-\")","v":"-"},{"$f":"IF(OR(IFERROR(MATCH($D382,'Transparency List 2018_04'!$L:$L,0),FALSE),IFERROR(MATCH(TRIM($G382),'Transparency List 2018_04'!$D:$D,0),FALSE)),\"On the 2018_04 List\",\"-\")","v":"-"},{"$f":"IF(OR(IFERROR(MATCH($D382,'Transparency List 2017'!$L:$L,0),FALSE),IFERROR(MATCH(TRIM($G382),'Transparency List 2017'!$C:$C,0),FALSE)),\"On the 2017 List\",\"-\")","v":"-"},{"$f":"IF(OR(IFERROR(MATCH($D382,'Transparency List 2015'!$H:$H,0),FALSE),IFERROR(MATCH(TRIM($G382),'Transparency List 2015'!$C:$C,0),FALSE)),\"On the 2015 List\",\"-\")","v":"-"}]
[null,null,4,"",null,null,null,"-",{"$f":"IF(OR(IFERROR(MATCH($D383,'Transparency List 2018_10'!$L:$L,0),FALSE),IFERROR(MATCH(TRIM($G383),'Transparency List 2018_10'!$D:$D,0),FALSE)),\"On the 2018_10 List\",\"-\")","v":"-"},{"$f":"IF(OR(IFERROR(MATCH($D383,'Transparency List 2018_04'!$L:$L,0),FALSE),IFERROR(MATCH(TRIM($G383),'Transparency List 2018_04'!$D:$D,0),FALSE)),\"On the 2018_04 List\",\"-\")","v":"-"},{"$f":"IF(OR(IFERROR(MATCH($D383,'Transparency List 2017'!$L:$L,0),FALSE),IFERROR(MATCH(TRIM($G383),'Transparency List 2017'!$C:$C,0),FALSE)),\"On the 2017 List\",\"-\")","v":"-"},{"$f":"IF(OR(IFERROR(MATCH($D383,'Transparency List 2015'!$H:$H,0),FALSE),IFERROR(MATCH(TRIM($G383),'Transparency List 2015'!$C:$C,0),FALSE)),\"On the 2015 List\",\"-\")","v":"-"}]
[null,null,4,"",null,null,null,"-",{"$f":"IF(OR(IFERROR(MATCH($D384,'Transparency List 2018_10'!$L:$L,0),FALSE),IFERROR(MATCH(TRIM($G384),'Transparency List 2018_10'!$D:$D,0),FALSE)),\"On the 2018_10 List\",\"-\")","v":"-"},{"$f":"IF(OR(IFERROR(MATCH($D384,'Transparency List 2018_04'!$L:$L,0),FALSE),IFERROR(MATCH(TRIM($G384),'Transparency List 2018_04'!$D:$D,0),FALSE)),\"On the 2018_04 List\",\"-\")","v":"-"},{"$f":"IF(OR(IFERROR(MATCH($D384,'Transparency List 2017'!$L:$L,0),FALSE),IFERROR(MATCH(TRIM($G384),'Transparency List 2017'!$C:$C,0),FALSE)),\"On the 2017 List\",\"-\")","v":"-"},{"$f":"IF(OR(IFERROR(MATCH($D384,'Transparency List 2015'!$H:$H,0),FALSE),IFERROR(MATCH(TRIM($G384),'Transparency List 2015'!$C:$C,0),FALSE)),\"On the 2015 List\",\"-\")","v":"-"}]
[null,null,4,"",null,null,null,"-",{"$f":"IF(OR(IFERROR(MATCH($D385,'Transparency List 2018_10'!$L:$L,0),FALSE),IFERROR(MATCH(TRIM($G385),'Transparency List 2018_10'!$D:$D,0),FALSE)),\"On the 2018_10 List\",\"-\")","v":"-"},{"$f":"IF(OR(IFERROR(MATCH($D385,'Transparency List 2018_04'!$L:$L,0),FALSE),IFERROR(MATCH(TRIM($G385),'Transparency List 2018_04'!$D:$D,0),FALSE)),\"On the 2018_04 List\",\"-\")","v":"-"},{"$f":"IF(OR(IFERROR(MATCH($D385,'Transparency List 2017'!$L:$L,0),FALSE),IFERROR(MATCH(TRIM($G385),'Transparency List 2017'!$C:$C,0),FALSE)),\"On the 2017 List\",\"-\")","v":"-"},{"$f":"IF(OR(IFERROR(MATCH($D385,'Transparency List 2015'!$H:$H,0),FALSE),IFERROR(MATCH(TRIM($G385),'Transparency List 2015'!$C:$C,0),FALSE)),\"On the 2015 List\",\"-\")","v":"-"}]
[null,null,4,"",null,null,null,"-",{"$f":"IF(OR(IFERROR(MATCH($D386,'Transparency List 2018_10'!$L:$L,0),FALSE),IFERROR(MATCH(TRIM($G386),'Transparency List 2018_10'!$D:$D,0),FALSE)),\"On the 2018_10 List\",\"-\")","v":"-"},{"$f":"IF(OR(IFERROR(MATCH($D386,'Transparency List 2018_04'!$L:$L,0),FALSE),IFERROR(MATCH(TRIM($G386),'Transparency List 2018_04'!$D:$D,0),FALSE)),\"On the 2018_04 List\",\"-\")","v":"-"},{"$f":"IF(OR(IFERROR(MATCH($D386,'Transparency List 2017'!$L:$L,0),FALSE),IFERROR(MATCH(TRIM($G386),'Transparency List 2017'!$C:$C,0),FALSE)),\"On the 2017 List\",\"-\")","v":"-"},{"$f":"IF(OR(IFERROR(MATCH($D386,'Transparency List 2015'!$H:$H,0),FALSE),IFERROR(MATCH(TRIM($G386),'Transparency List 2015'!$C:$C,0),FALSE)),\"On the 2015 List\",\"-\")","v":"-"}]
[null,null,4,"",null,null,null,"-",{"$f":"IF(OR(IFERROR(MATCH($D387,'Transparency List 2018_10'!$L:$L,0),FALSE),IFERROR(MATCH(TRIM($G387),'Transparency List 2018_10'!$D:$D,0),FALSE)),\"On the 2018_10 List\",\"-\")","v":"-"},{"$f":"IF(OR(IFERROR(MATCH($D387,'Transparency List 2018_04'!$L:$L,0),FALSE),IFERROR(MATCH(TRIM($G387),'Transparency List 2018_04'!$D:$D,0),FALSE)),\"On the 2018_04 List\",\"-\")","v":"-"},{"$f":"IF(OR(IFERROR(MATCH($D387,'Transparency List 2017'!$L:$L,0),FALSE),IFERROR(MATCH(TRIM($G387),'Transparency List 2017'!$C:$C,0),FALSE)),\"On the 2017 List\",\"-\")","v":"-"},{"$f":"IF(OR(IFERROR(MATCH($D387,'Transparency List 2015'!$H:$H,0),FALSE),IFERROR(MATCH(TRIM($G387),'Transparency List 2015'!$C:$C,0),FALSE)),\"On the 2015 List\",\"-\")","v":"-"}]
[null,null,4,"",null,null,null,"-",{"$f":"IF(OR(IFERROR(MATCH($D388,'Transparency List 2018_10'!$L:$L,0),FALSE),IFERROR(MATCH(TRIM($G388),'Transparency List 2018_10'!$D:$D,0),FALSE)),\"On the 2018_10 List\",\"-\")","v":"-"},{"$f":"IF(OR(IFERROR(MATCH($D388,'Transparency List 2018_04'!$L:$L,0),FALSE),IFERROR(MATCH(TRIM($G388),'Transparency List 2018_04'!$D:$D,0),FALSE)),\"On the 2018_04 List\",\"-\")","v":"-"},{"$f":"IF(OR(IFERROR(MATCH($D388,'Transparency List 2017'!$L:$L,0),FALSE),IFERROR(MATCH(TRIM($G388),'Transparency List 2017'!$C:$C,0),FALSE)),\"On the 2017 List\",\"-\")","v":"-"},{"$f":"IF(OR(IFERROR(MATCH($D388,'Transparency List 2015'!$H:$H,0),FALSE),IFERROR(MATCH(TRIM($G388),'Transparency List 2015'!$C:$C,0),FALSE)),\"On the 2015 List\",\"-\")","v":"-"}]
[null,null,4,"",null,null,null,"-",{"$f":"IF(OR(IFERROR(MATCH($D389,'Transparency List 2018_10'!$L:$L,0),FALSE),IFERROR(MATCH(TRIM($G389),'Transparency List 2018_10'!$D:$D,0),FALSE)),\"On the 2018_10 List\",\"-\")","v":"-"},{"$f":"IF(OR(IFERROR(MATCH($D389,'Transparency List 2018_04'!$L:$L,0),FALSE),IFERROR(MATCH(TRIM($G389),'Transparency List 2018_04'!$D:$D,0),FALSE)),\"On the 2018_04 List\",\"-\")","v":"-"},{"$f":"IF(OR(IFERROR(MATCH($D389,'Transparency List 2017'!$L:$L,0),FALSE),IFERROR(MATCH(TRIM($G389),'Transparency List 2017'!$C:$C,0),FALSE)),\"On the 2017 List\",\"-\")","v":"-"},{"$f":"IF(OR(IFERROR(MATCH($D389,'Transparency List 2015'!$H:$H,0),FALSE),IFERROR(MATCH(TRIM($G389),'Transparency List 2015'!$C:$C,0),FALSE)),\"On the 2015 List\",\"-\")","v":"-"}]
[null,null,4,"",null,null,null,"-",{"$f":"IF(OR(IFERROR(MATCH($D390,'Transparency List 2018_10'!$L:$L,0),FALSE),IFERROR(MATCH(TRIM($G390),'Transparency List 2018_10'!$D:$D,0),FALSE)),\"On the 2018_10 List\",\"-\")","v":"-"},{"$f":"IF(OR(IFERROR(MATCH($D390,'Transparency List 2018_04'!$L:$L,0),FALSE),IFERROR(MATCH(TRIM($G390),'Transparency List 2018_04'!$D:$D,0),FALSE)),\"On the 2018_04 List\",\"-\")","v":"-"},{"$f":"IF(OR(IFERROR(MATCH($D390,'Transparency List 2017'!$L:$L,0),FALSE),IFERROR(MATCH(TRIM($G390),'Transparency List 2017'!$C:$C,0),FALSE)),\"On the 2017 List\",\"-\")","v":"-"},{"$f":"IF(OR(IFERROR(MATCH($D390,'Transparency List 2015'!$H:$H,0),FALSE),IFERROR(MATCH(TRIM($G390),'Transparency List 2015'!$C:$C,0),FALSE)),\"On the 2015 List\",\"-\")","v":"-"}]
[null,null,4,"",null,null,null,"-",{"$f":"IF(OR(IFERROR(MATCH($D391,'Transparency List 2018_10'!$L:$L,0),FALSE),IFERROR(MATCH(TRIM($G391),'Transparency List 2018_10'!$D:$D,0),FALSE)),\"On the 2018_10 List\",\"-\")","v":"-"},{"$f":"IF(OR(IFERROR(MATCH($D391,'Transparency List 2018_04'!$L:$L,0),FALSE),IFERROR(MATCH(TRIM($G391),'Transparency List 2018_04'!$D:$D,0),FALSE)),\"On the 2018_04 List\",\"-\")","v":"-"},{"$f":"IF(OR(IFERROR(MATCH($D391,'Transparency List 2017'!$L:$L,0),FALSE),IFERROR(MATCH(TRIM($G391),'Transparency List 2017'!$C:$C,0),FALSE)),\"On the 2017 List\",\"-\")","v":"-"},{"$f":"IF(OR(IFERROR(MATCH($D391,'Transparency List 2015'!$H:$H,0),FALSE),IFERROR(MATCH(TRIM($G391),'Transparency List 2015'!$C:$C,0),FALSE)),\"On the 2015 List\",\"-\")","v":"-"}]
[null,null,4,"",null,null,null,"-",{"$f":"IF(OR(IFERROR(MATCH($D392,'Transparency List 2018_10'!$L:$L,0),FALSE),IFERROR(MATCH(TRIM($G392),'Transparency List 2018_10'!$D:$D,0),FALSE)),\"On the 2018_10 List\",\"-\")","v":"-"},{"$f":"IF(OR(IFERROR(MATCH($D392,'Transparency List 2018_04'!$L:$L,0),FALSE),IFERROR(MATCH(TRIM($G392),'Transparency List 2018_04'!$D:$D,0),FALSE)),\"On the 2018_04 List\",\"-\")","v":"-"},{"$f":"IF(OR(IFERROR(MATCH($D392,'Transparency List 2017'!$L:$L,0),FALSE),IFERROR(MATCH(TRIM($G392),'Transparency List 2017'!$C:$C,0),FALSE)),\"On the 2017 List\",\"-\")","v":"-"},{"$f":"IF(OR(IFERROR(MATCH($D392,'Transparency List 2015'!$H:$H,0),FALSE),IFERROR(MATCH(TRIM($G392),'Transparency List 2015'!$C:$C,0),FALSE)),\"On the 2015 List\",\"-\")","v":"-"}]
[null,null,4,"",null,null,null,"-",{"$f":"IF(OR(IFERROR(MATCH($D393,'Transparency List 2018_10'!$L:$L,0),FALSE),IFERROR(MATCH(TRIM($G393),'Transparency List 2018_10'!$D:$D,0),FALSE)),\"On the 2018_10 List\",\"-\")","v":"-"},{"$f":"IF(OR(IFERROR(MATCH($D393,'Transparency List 2018_04'!$L:$L,0),FALSE),IFERROR(MATCH(TRIM($G393),'Transparency List 2018_04'!$D:$D,0),FALSE)),\"On the 2018_04 List\",\"-\")","v":"-"},{"$f":"IF(OR(IFERROR(MATCH($D393,'Transparency List 2017'!$L:$L,0),FALSE),IFERROR(MATCH(TRIM($G393),'Transparency List 2017'!$C:$C,0),FALSE)),\"On the 2017 List\",\"-\")","v":"-"},{"$f":"IF(OR(IFERROR(MATCH($D393,'Transparency List 2015'!$H:$H,0),FALSE),IFERROR(MATCH(TRIM($G393),'Transparency List 2015'!$C:$C,0),FALSE)),\"On the 2015 List\",\"-\")","v":"-"}]
[null,null,4,"",null,null,null,"-",{"$f":"IF(OR(IFERROR(MATCH($D394,'Transparency List 2018_10'!$L:$L,0),FALSE),IFERROR(MATCH(TRIM($G394),'Transparency List 2018_10'!$D:$D,0),FALSE)),\"On the 2018_10 List\",\"-\")","v":"-"},{"$f":"IF(OR(IFERROR(MATCH($D394,'Transparency List 2018_04'!$L:$L,0),FALSE),IFERROR(MATCH(TRIM($G394),'Transparency List 2018_04'!$D:$D,0),FALSE)),\"On the 2018_04 List\",\"-\")","v":"-"},{"$f":"IF(OR(IFERROR(MATCH($D394,'Transparency List 2017'!$L:$L,0),FALSE),IFERROR(MATCH(TRIM($G394),'Transparency List 2017'!$C:$C,0),FALSE)),\"On the 2017 List\",\"-\")","v":"-"},{"$f":"IF(OR(IFERROR(MATCH($D394,'Transparency List 2015'!$H:$H,0),FALSE),IFERROR(MATCH(TRIM($G394),'Transparency List 2015'!$C:$C,0),FALSE)),\"On the 2015 List\",\"-\")","v":"-"}]
[null,null,4,"",null,null,null,"-",{"$f":"IF(OR(IFERROR(MATCH($D395,'Transparency List 2018_10'!$L:$L,0),FALSE),IFERROR(MATCH(TRIM($G395),'Transparency List 2018_10'!$D:$D,0),FALSE)),\"On the 2018_10 List\",\"-\")","v":"-"},{"$f":"IF(OR(IFERROR(MATCH($D395,'Transparency List 2018_04'!$L:$L,0),FALSE),IFERROR(MATCH(TRIM($G395),'Transparency List 2018_04'!$D:$D,0),FALSE)),\"On the 2018_04 List\",\"-\")","v":"-"},{"$f":"IF(OR(IFERROR(MATCH($D395,'Transparency List 2017'!$L:$L,0),FALSE),IFERROR(MATCH(TRIM($G395),'Transparency List 2017'!$C:$C,0),FALSE)),\"On the 2017 List\",\"-\")","v":"-"},{"$f":"IF(OR(IFERROR(MATCH($D395,'Transparency List 2015'!$H:$H,0),FALSE),IFERROR(MATCH(TRIM($G395),'Transparency List 2015'!$C:$C,0),FALSE)),\"On the 2015 List\",\"-\")","v":"-"}]
[null,null,4,"",null,null,null,"-",{"$f":"IF(OR(IFERROR(MATCH($D396,'Transparency List 2018_10'!$L:$L,0),FALSE),IFERROR(MATCH(TRIM($G396),'Transparency List 2018_10'!$D:$D,0),FALSE)),\"On the 2018_10 List\",\"-\")","v":"-"},{"$f":"IF(OR(IFERROR(MATCH($D396,'Transparency List 2018_04'!$L:$L,0),FALSE),IFERROR(MATCH(TRIM($G396),'Transparency List 2018_04'!$D:$D,0),FALSE)),\"On the 2018_04 List\",\"-\")","v":"-"},{"$f":"IF(OR(IFERROR(MATCH($D396,'Transparency List 2017'!$L:$L,0),FALSE),IFERROR(MATCH(TRIM($G396),'Transparency List 2017'!$C:$C,0),FALSE)),\"On the 2017 List\",\"-\")","v":"-"},{"$f":"IF(OR(IFERROR(MATCH($D396,'Transparency List 2015'!$H:$H,0),FALSE),IFERROR(MATCH(TRIM($G396),'Transparency List 2015'!$C:$C,0),FALSE)),\"On the 2015 List\",\"-\")","v":"-"}]
[null,null,4,"",null,null,null,"-",{"$f":"IF(OR(IFERROR(MATCH($D397,'Transparency List 2018_10'!$L:$L,0),FALSE),IFERROR(MATCH(TRIM($G397),'Transparency List 2018_10'!$D:$D,0),FALSE)),\"On the 2018_10 List\",\"-\")","v":"-"},{"$f":"IF(OR(IFERROR(MATCH($D397,'Transparency List 2018_04'!$L:$L,0),FALSE),IFERROR(MATCH(TRIM($G397),'Transparency List 2018_04'!$D:$D,0),FALSE)),\"On the 2018_04 List\",\"-\")","v":"-"},{"$f":"IF(OR(IFERROR(MATCH($D397,'Transparency List 2017'!$L:$L,0),FALSE),IFERROR(MATCH(TRIM($G397),'Transparency List 2017'!$C:$C,0),FALSE)),\"On the 2017 List\",\"-\")","v":"-"},{"$f":"IF(OR(IFERROR(MATCH($D397,'Transparency List 2015'!$H:$H,0),FALSE),IFERROR(MATCH(TRIM($G397),'Transparency List 2015'!$C:$C,0),FALSE)),\"On the 2015 List\",\"-\")","v":"-"}]
[null,null,4,"",null,null,null,"-",{"$f":"IF(OR(IFERROR(MATCH($D398,'Transparency List 2018_10'!$L:$L,0),FALSE),IFERROR(MATCH(TRIM($G398),'Transparency List 2018_10'!$D:$D,0),FALSE)),\"On the 2018_10 List\",\"-\")","v":"-"},{"$f":"IF(OR(IFERROR(MATCH($D398,'Transparency List 2018_04'!$L:$L,0),FALSE),IFERROR(MATCH(TRIM($G398),'Transparency List 2018_04'!$D:$D,0),FALSE)),\"On the 2018_04 List\",\"-\")","v":"-"},{"$f":"IF(OR(IFERROR(MATCH($D398,'Transparency List 2017'!$L:$L,0),FALSE),IFERROR(MATCH(TRIM($G398),'Transparency List 2017'!$C:$C,0),FALSE)),\"On the 2017 List\",\"-\")","v":"-"},{"$f":"IF(OR(IFERROR(MATCH($D398,'Transparency List 2015'!$H:$H,0),FALSE),IFERROR(MATCH(TRIM($G398),'Transparency List 2015'!$C:$C,0),FALSE)),\"On the 2015 List\",\"-\")","v":"-"}]
[null,null,4,"",null,null,null,"-",{"$f":"IF(OR(IFERROR(MATCH($D399,'Transparency List 2018_10'!$L:$L,0),FALSE),IFERROR(MATCH(TRIM($G399),'Transparency List 2018_10'!$D:$D,0),FALSE)),\"On the 2018_10 List\",\"-\")","v":"-"},{"$f":"IF(OR(IFERROR(MATCH($D399,'Transparency List 2018_04'!$L:$L,0),FALSE),IFERROR(MATCH(TRIM($G399),'Transparency List 2018_04'!$D:$D,0),FALSE)),\"On the 2018_04 List\",\"-\")","v":"-"},{"$f":"IF(OR(IFERROR(MATCH($D399,'Transparency List 2017'!$L:$L,0),FALSE),IFERROR(MATCH(TRIM($G399),'Transparency List 2017'!$C:$C,0),FALSE)),\"On the 2017 List\",\"-\")","v":"-"},{"$f":"IF(OR(IFERROR(MATCH($D399,'Transparency List 2015'!$H:$H,0),FALSE),IFERROR(MATCH(TRIM($G399),'Transparency List 2015'!$C:$C,0),FALSE)),\"On the 2015 List\",\"-\")","v":"-"}]
[null,null,4,"",null,null,null,"-",{"$f":"IF(OR(IFERROR(MATCH($D400,'Transparency List 2018_10'!$L:$L,0),FALSE),IFERROR(MATCH(TRIM($G400),'Transparency List 2018_10'!$D:$D,0),FALSE)),\"On the 2018_10 List\",\"-\")","v":"-"},{"$f":"IF(OR(IFERROR(MATCH($D400,'Transparency List 2018_04'!$L:$L,0),FALSE),IFERROR(MATCH(TRIM($G400),'Transparency List 2018_04'!$D:$D,0),FALSE)),\"On the 2018_04 List\",\"-\")","v":"-"},{"$f":"IF(OR(IFERROR(MATCH($D400,'Transparency List 2017'!$L:$L,0),FALSE),IFERROR(MATCH(TRIM($G400),'Transparency List 2017'!$C:$C,0),FALSE)),\"On the 2017 List\",\"-\")","v":"-"},{"$f":"IF(OR(IFERROR(MATCH($D400,'Transparency List 2015'!$H:$H,0),FALSE),IFERROR(MATCH(TRIM($G400),'Transparency List 2015'!$C:$C,0),FALSE)),\"On the 2015 List\",\"-\")","v":"-"}]
[null,null,4,"",null,null,null,"-",{"$f":"IF(OR(IFERROR(MATCH($D401,'Transparency List 2018_10'!$L:$L,0),FALSE),IFERROR(MATCH(TRIM($G401),'Transparency List 2018_10'!$D:$D,0),FALSE)),\"On the 2018_10 List\",\"-\")","v":"-"},{"$f":"IF(OR(IFERROR(MATCH($D401,'Transparency List 2018_04'!$L:$L,0),FALSE),IFERROR(MATCH(TRIM($G401),'Transparency List 2018_04'!$D:$D,0),FALSE)),\"On the 2018_04 List\",\"-\")","v":"-"},{"$f":"IF(OR(IFERROR(MATCH($D401,'Transparency List 2017'!$L:$L,0),FALSE),IFERROR(MATCH(TRIM($G401),'Transparency List 2017'!$C:$C,0),FALSE)),\"On the 2017 List\",\"-\")","v":"-"},{"$f":"IF(OR(IFERROR(MATCH($D401,'Transparency List 2015'!$H:$H,0),FALSE),IFERROR(MATCH(TRIM($G401),'Transparency List 2015'!$C:$C,0),FALSE)),\"On the 2015 List\",\"-\")","v":"-"}]
[null,null,4,"",null,null,null,"-",{"$f":"IF(OR(IFERROR(MATCH($D402,'Transparency List 2018_10'!$L:$L,0),FALSE),IFERROR(MATCH(TRIM($G402),'Transparency List 2018_10'!$D:$D,0),FALSE)),\"On the 2018_10 List\",\"-\")","v":"-"},{"$f":"IF(OR(IFERROR(MATCH($D402,'Transparency List 2018_04'!$L:$L,0),FALSE),IFERROR(MATCH(TRIM($G402),'Transparency List 2018_04'!$D:$D,0),FALSE)),\"On the 2018_04 List\",\"-\")","v":"-"},{"$f":"IF(OR(IFERROR(MATCH($D402,'Transparency List 2017'!$L:$L,0),FALSE),IFERROR(MATCH(TRIM($G402),'Transparency List 2017'!$C:$C,0),FALSE)),\"On the 2017 List\",\"-\")","v":"-"},{"$f":"IF(OR(IFERROR(MATCH($D402,'Transparency List 2015'!$H:$H,0),FALSE),IFERROR(MATCH(TRIM($G402),'Transparency List 2015'!$C:$C,0),FALSE)),\"On the 2015 List\",\"-\")","v":"-"}]
[null,null,4,"",null,null,null,"-",{"$f":"IF(OR(IFERROR(MATCH($D403,'Transparency List 2018_10'!$L:$L,0),FALSE),IFERROR(MATCH(TRIM($G403),'Transparency List 2018_10'!$D:$D,0),FALSE)),\"On the 2018_10 List\",\"-\")","v":"-"},{"$f":"IF(OR(IFERROR(MATCH($D403,'Transparency List 2018_04'!$L:$L,0),FALSE),IFERROR(MATCH(TRIM($G403),'Transparency List 2018_04'!$D:$D,0),FALSE)),\"On the 2018_04 List\",\"-\")","v":"-"},{"$f":"IF(OR(IFERROR(MATCH($D403,'Transparency List 2017'!$L:$L,0),FALSE),IFERROR(MATCH(TRIM($G403),'Transparency List 2017'!$C:$C,0),FALSE)),\"On the 2017 List\",\"-\")","v":"-"},{"$f":"IF(OR(IFERROR(MATCH($D403,'Transparency List 2015'!$H:$H,0),FALSE),IFERROR(MATCH(TRIM($G403),'Transparency List 2015'!$C:$C,0),FALSE)),\"On the 2015 List\",\"-\")","v":"-"}]
[null,null,4,"",null,null,null,"-",{"$f":"IF(OR(IFERROR(MATCH($D404,'Transparency List 2018_10'!$L:$L,0),FALSE),IFERROR(MATCH(TRIM($G404),'Transparency List 2018_10'!$D:$D,0),FALSE)),\"On the 2018_10 List\",\"-\")","v":"-"},{"$f":"IF(OR(IFERROR(MATCH($D404,'Transparency List 2018_04'!$L:$L,0),FALSE),IFERROR(MATCH(TRIM($G404),'Transparency List 2018_04'!$D:$D,0),FALSE)),\"On the 2018_04 List\",\"-\")","v":"-"},{"$f":"IF(OR(IFERROR(MATCH($D404,'Transparency List 2017'!$L:$L,0),FALSE),IFERROR(MATCH(TRIM($G404),'Transparency List 2017'!$C:$C,0),FALSE)),\"On the 2017 List\",\"-\")","v":"-"},{"$f":"IF(OR(IFERROR(MATCH($D404,'Transparency List 2015'!$H:$H,0),FALSE),IFERROR(MATCH(TRIM($G404),'Transparency List 2015'!$C:$C,0),FALSE)),\"On the 2015 List\",\"-\")","v":"-"}]
[null,null,4,"",null,null,null,"-",{"$f":"IF(OR(IFERROR(MATCH($D405,'Transparency List 2018_10'!$L:$L,0),FALSE),IFERROR(MATCH(TRIM($G405),'Transparency List 2018_10'!$D:$D,0),FALSE)),\"On the 2018_10 List\",\"-\")","v":"-"},{"$f":"IF(OR(IFERROR(MATCH($D405,'Transparency List 2018_04'!$L:$L,0),FALSE),IFERROR(MATCH(TRIM($G405),'Transparency List 2018_04'!$D:$D,0),FALSE)),\"On the 2018_04 List\",\"-\")","v":"-"},{"$f":"IF(OR(IFERROR(MATCH($D405,'Transparency List 2017'!$L:$L,0),FALSE),IFERROR(MATCH(TRIM($G405),'Transparency List 2017'!$C:$C,0),FALSE)),\"On the 2017 List\",\"-\")","v":"-"},{"$f":"IF(OR(IFERROR(MATCH($D405,'Transparency List 2015'!$H:$H,0),FALSE),IFERROR(MATCH(TRIM($G405),'Transparency List 2015'!$C:$C,0),FALSE)),\"On the 2015 List\",\"-\")","v":"-"}]
[null,null,4,"",null,null,null,"-",{"$f":"IF(OR(IFERROR(MATCH($D406,'Transparency List 2018_10'!$L:$L,0),FALSE),IFERROR(MATCH(TRIM($G406),'Transparency List 2018_10'!$D:$D,0),FALSE)),\"On the 2018_10 List\",\"-\")","v":"-"},{"$f":"IF(OR(IFERROR(MATCH($D406,'Transparency List 2018_04'!$L:$L,0),FALSE),IFERROR(MATCH(TRIM($G406),'Transparency List 2018_04'!$D:$D,0),FALSE)),\"On the 2018_04 List\",\"-\")","v":"-"},{"$f":"IF(OR(IFERROR(MATCH($D406,'Transparency List 2017'!$L:$L,0),FALSE),IFERROR(MATCH(TRIM($G406),'Transparency List 2017'!$C:$C,0),FALSE)),\"On the 2017 List\",\"-\")","v":"-"},{"$f":"IF(OR(IFERROR(MATCH($D406,'Transparency List 2015'!$H:$H,0),FALSE),IFERROR(MATCH(TRIM($G406),'Transparency List 2015'!$C:$C,0),FALSE)),\"On the 2015 List\",\"-\")","v":"-"}]
[null,null,4,"",null,null,null,"-",{"$f":"IF(OR(IFERROR(MATCH($D407,'Transparency List 2018_10'!$L:$L,0),FALSE),IFERROR(MATCH(TRIM($G407),'Transparency List 2018_10'!$D:$D,0),FALSE)),\"On the 2018_10 List\",\"-\")","v":"-"},{"$f":"IF(OR(IFERROR(MATCH($D407,'Transparency List 2018_04'!$L:$L,0),FALSE),IFERROR(MATCH(TRIM($G407),'Transparency List 2018_04'!$D:$D,0),FALSE)),\"On the 2018_04 List\",\"-\")","v":"-"},{"$f":"IF(OR(IFERROR(MATCH($D407,'Transparency List 2017'!$L:$L,0),FALSE),IFERROR(MATCH(TRIM($G407),'Transparency List 2017'!$C:$C,0),FALSE)),\"On the 2017 List\",\"-\")","v":"-"},{"$f":"IF(OR(IFERROR(MATCH($D407,'Transparency List 2015'!$H:$H,0),FALSE),IFERROR(MATCH(TRIM($G407),'Transparency List 2015'!$C:$C,0),FALSE)),\"On the 2015 List\",\"-\")","v":"-"}]
[null,null,4,"",null,null,null,"-",{"$f":"IF(OR(IFERROR(MATCH($D408,'Transparency List 2018_10'!$L:$L,0),FALSE),IFERROR(MATCH(TRIM($G408),'Transparency List 2018_10'!$D:$D,0),FALSE)),\"On the 2018_10 List\",\"-\")","v":"-"},{"$f":"IF(OR(IFERROR(MATCH($D408,'Transparency List 2018_04'!$L:$L,0),FALSE),IFERROR(MATCH(TRIM($G408),'Transparency List 2018_04'!$D:$D,0),FALSE)),\"On the 2018_04 List\",\"-\")","v":"-"},{"$f":"IF(OR(IFERROR(MATCH($D408,'Transparency List 2017'!$L:$L,0),FALSE),IFERROR(MATCH(TRIM($G408),'Transparency List 2017'!$C:$C,0),FALSE)),\"On the 2017 List\",\"-\")","v":"-"},{"$f":"IF(OR(IFERROR(MATCH($D408,'Transparency List 2015'!$H:$H,0),FALSE),IFERROR(MATCH(TRIM($G408),'Transparency List 2015'!$C:$C,0),FALSE)),\"On the 2015 List\",\"-\")","v":"-"}]
[null,null,4,"",null,null,null,"-",{"$f":"IF(OR(IFERROR(MATCH($D409,'Transparency List 2018_10'!$L:$L,0),FALSE),IFERROR(MATCH(TRIM($G409),'Transparency List 2018_10'!$D:$D,0),FALSE)),\"On the 2018_10 List\",\"-\")","v":"-"},{"$f":"IF(OR(IFERROR(MATCH($D409,'Transparency List 2018_04'!$L:$L,0),FALSE),IFERROR(MATCH(TRIM($G409),'Transparency List 2018_04'!$D:$D,0),FALSE)),\"On the 2018_04 List\",\"-\")","v":"-"},{"$f":"IF(OR(IFERROR(MATCH($D409,'Transparency List 2017'!$L:$L,0),FALSE),IFERROR(MATCH(TRIM($G409),'Transparency List 2017'!$C:$C,0),FALSE)),\"On the 2017 List\",\"-\")","v":"-"},{"$f":"IF(OR(IFERROR(MATCH($D409,'Transparency List 2015'!$H:$H,0),FALSE),IFERROR(MATCH(TRIM($G409),'Transparency List 2015'!$C:$C,0),FALSE)),\"On the 2015 List\",\"-\")","v":"-"}]
[null,null,4,"",null,null,null,"-",{"$f":"IF(OR(IFERROR(MATCH($D410,'Transparency List 2018_10'!$L:$L,0),FALSE),IFERROR(MATCH(TRIM($G410),'Transparency List 2018_10'!$D:$D,0),FALSE)),\"On the 2018_10 List\",\"-\")","v":"-"},{"$f":"IF(OR(IFERROR(MATCH($D410,'Transparency List 2018_04'!$L:$L,0),FALSE),IFERROR(MATCH(TRIM($G410),'Transparency List 2018_04'!$D:$D,0),FALSE)),\"On the 2018_04 List\",\"-\")","v":"-"},{"$f":"IF(OR(IFERROR(MATCH($D410,'Transparency List 2017'!$L:$L,0),FALSE),IFERROR(MATCH(TRIM($G410),'Transparency List 2017'!$C:$C,0),FALSE)),\"On the 2017 List\",\"-\")","v":"-"},{"$f":"IF(OR(IFERROR(MATCH($D410,'Transparency List 2015'!$H:$H,0),FALSE),IFERROR(MATCH(TRIM($G410),'Transparency List 2015'!$C:$C,0),FALSE)),\"On the 2015 List\",\"-\")","v":"-"}]
[null,null,4,"",null,null,null,"-",{"$f":"IF(OR(IFERROR(MATCH($D411,'Transparency List 2018_10'!$L:$L,0),FALSE),IFERROR(MATCH(TRIM($G411),'Transparency List 2018_10'!$D:$D,0),FALSE)),\"On the 2018_10 List\",\"-\")","v":"-"},{"$f":"IF(OR(IFERROR(MATCH($D411,'Transparency List 2018_04'!$L:$L,0),FALSE),IFERROR(MATCH(TRIM($G411),'Transparency List 2018_04'!$D:$D,0),FALSE)),\"On the 2018_04 List\",\"-\")","v":"-"},{"$f":"IF(OR(IFERROR(MATCH($D411,'Transparency List 2017'!$L:$L,0),FALSE),IFERROR(MATCH(TRIM($G411),'Transparency List 2017'!$C:$C,0),FALSE)),\"On the 2017 List\",\"-\")","v":"-"},{"$f":"IF(OR(IFERROR(MATCH($D411,'Transparency List 2015'!$H:$H,0),FALSE),IFERROR(MATCH(TRIM($G411),'Transparency List 2015'!$C:$C,0),FALSE)),\"On the 2015 List\",\"-\")","v":"-"}]
[null,null,4,"",null,null,null,"-",{"$f":"IF(OR(IFERROR(MATCH($D412,'Transparency List 2018_10'!$L:$L,0),FALSE),IFERROR(MATCH(TRIM($G412),'Transparency List 2018_10'!$D:$D,0),FALSE)),\"On the 2018_10 List\",\"-\")","v":"-"},{"$f":"IF(OR(IFERROR(MATCH($D412,'Transparency List 2018_04'!$L:$L,0),FALSE),IFERROR(MATCH(TRIM($G412),'Transparency List 2018_04'!$D:$D,0),FALSE)),\"On the 2018_04 List\",\"-\")","v":"-"},{"$f":"IF(OR(IFERROR(MATCH($D412,'Transparency List 2017'!$L:$L,0),FALSE),IFERROR(MATCH(TRIM($G412),'Transparency List 2017'!$C:$C,0),FALSE)),\"On the 2017 List\",\"-\")","v":"-"},{"$f":"IF(OR(IFERROR(MATCH($D412,'Transparency List 2015'!$H:$H,0),FALSE),IFERROR(MATCH(TRIM($G412),'Transparency List 2015'!$C:$C,0),FALSE)),\"On the 2015 List\",\"-\")","v":"-"}]
[null,null,4,"",null,null,null,"-",{"$f":"IF(OR(IFERROR(MATCH($D413,'Transparency List 2018_10'!$L:$L,0),FALSE),IFERROR(MATCH(TRIM($G413),'Transparency List 2018_10'!$D:$D,0),FALSE)),\"On the 2018_10 List\",\"-\")","v":"-"},{"$f":"IF(OR(IFERROR(MATCH($D413,'Transparency List 2018_04'!$L:$L,0),FALSE),IFERROR(MATCH(TRIM($G413),'Transparency List 2018_04'!$D:$D,0),FALSE)),\"On the 2018_04 List\",\"-\")","v":"-"},{"$f":"IF(OR(IFERROR(MATCH($D413,'Transparency List 2017'!$L:$L,0),FALSE),IFERROR(MATCH(TRIM($G413),'Transparency List 2017'!$C:$C,0),FALSE)),\"On the 2017 List\",\"-\")","v":"-"},{"$f":"IF(OR(IFERROR(MATCH($D413,'Transparency List 2015'!$H:$H,0),FALSE),IFERROR(MATCH(TRIM($G413),'Transparency List 2015'!$C:$C,0),FALSE)),\"On the 2015 List\",\"-\")","v":"-"}]
[null,null,4,"",null,null,null,"-",{"$f":"IF(OR(IFERROR(MATCH($D414,'Transparency List 2018_10'!$L:$L,0),FALSE),IFERROR(MATCH(TRIM($G414),'Transparency List 2018_10'!$D:$D,0),FALSE)),\"On the 2018_10 List\",\"-\")","v":"-"},{"$f":"IF(OR(IFERROR(MATCH($D414,'Transparency List 2018_04'!$L:$L,0),FALSE),IFERROR(MATCH(TRIM($G414),'Transparency List 2018_04'!$D:$D,0),FALSE)),\"On the 2018_04 List\",\"-\")","v":"-"},{"$f":"IF(OR(IFERROR(MATCH($D414,'Transparency List 2017'!$L:$L,0),FALSE),IFERROR(MATCH(TRIM($G414),'Transparency List 2017'!$C:$C,0),FALSE)),\"On the 2017 List\",\"-\")","v":"-"},{"$f":"IF(OR(IFERROR(MATCH($D414,'Transparency List 2015'!$H:$H,0),FALSE),IFERROR(MATCH(TRIM($G414),'Transparency List 2015'!$C:$C,0),FALSE)),\"On the 2015 List\",\"-\")","v":"-"}]
[null,null,{"$f":"COUNTIF($I415:$L415,\"-\")","v":4},{"$f":"SUBSTITUTE(SUBSTITUTE(SUBSTITUTE(SUBSTITUTE($G415,\" \",\"\"),\".\",\"\"),\"-\",\"\"),\"/\",\"\")","v":""},null,null,null,{"$f":"IFERROR(IF($C415=4,\"-\",\"Risk Farmer - Please conduct further steps\"),)","v":"-"},{"$f":"IF(OR(IFERROR(MATCH($D415,'Transparency List 2018_10'!$L:$L,0),FALSE),IFERROR(MATCH(TRIM($G415),'Transparency List 2018_10'!$D:$D,0),FALSE)),\"On the 2018_10 List\",\"-\")","v":"-"},{"$f":"IF(OR(IFERROR(MATCH($D415,'Transparency List 2018_04'!$L:$L,0),FALSE),IFERROR(MATCH(TRIM($G415),'Transparency List 2018_04'!$D:$D,0),FALSE)),\"On the 2018_04 List\",\"-\")","v":"-"},{"$f":"IF(OR(IFERROR(MATCH($D415,'Transparency List 2017'!$L:$L,0),FALSE),IFERROR(MATCH(TRIM($G415),'Transparency List 2017'!$C:$C,0),FALSE)),\"On the 2017 List\",\"-\")","v":"-"},{"$f":"IF(OR(IFERROR(MATCH($D415,'Transparency List 2015'!$H:$H,0),FALSE),IFERROR(MATCH(TRIM($G415),'Transparency List 2015'!$C:$C,0),FALSE)),\"On the 2015 List\",\"-\")","v":"-"}]
[null,null,4,"",null,null,null,"-",{"$f":"IF(OR(IFERROR(MATCH($D416,'Transparency List 2018_10'!$L:$L,0),FALSE),IFERROR(MATCH(TRIM($G416),'Transparency List 2018_10'!$D:$D,0),FALSE)),\"On the 2018_10 List\",\"-\")","v":"-"},{"$f":"IF(OR(IFERROR(MATCH($D416,'Transparency List 2018_04'!$L:$L,0),FALSE),IFERROR(MATCH(TRIM($G416),'Transparency List 2018_04'!$D:$D,0),FALSE)),\"On the 2018_04 List\",\"-\")","v":"-"},{"$f":"IF(OR(IFERROR(MATCH($D416,'Transparency List 2017'!$L:$L,0),FALSE),IFERROR(MATCH(TRIM($G416),'Transparency List 2017'!$C:$C,0),FALSE)),\"On the 2017 List\",\"-\")","v":"-"},{"$f":"IF(OR(IFERROR(MATCH($D416,'Transparency List 2015'!$H:$H,0),FALSE),IFERROR(MATCH(TRIM($G416),'Transparency List 2015'!$C:$C,0),FALSE)),\"On the 2015 List\",\"-\")","v":"-"}]
[null,null,4,"",null,null,null,"-",{"$f":"IF(OR(IFERROR(MATCH($D417,'Transparency List 2018_10'!$L:$L,0),FALSE),IFERROR(MATCH(TRIM($G417),'Transparency List 2018_10'!$D:$D,0),FALSE)),\"On the 2018_10 List\",\"-\")","v":"-"},{"$f":"IF(OR(IFERROR(MATCH($D417,'Transparency List 2018_04'!$L:$L,0),FALSE),IFERROR(MATCH(TRIM($G417),'Transparency List 2018_04'!$D:$D,0),FALSE)),\"On the 2018_04 List\",\"-\")","v":"-"},{"$f":"IF(OR(IFERROR(MATCH($D417,'Transparency List 2017'!$L:$L,0),FALSE),IFERROR(MATCH(TRIM($G417),'Transparency List 2017'!$C:$C,0),FALSE)),\"On the 2017 List\",\"-\")","v":"-"},{"$f":"IF(OR(IFERROR(MATCH($D417,'Transparency List 2015'!$H:$H,0),FALSE),IFERROR(MATCH(TRIM($G417),'Transparency List 2015'!$C:$C,0),FALSE)),\"On the 2015 List\",\"-\")","v":"-"}]
[null,null,4,"",null,null,null,"-",{"$f":"IF(OR(IFERROR(MATCH($D418,'Transparency List 2018_10'!$L:$L,0),FALSE),IFERROR(MATCH(TRIM($G418),'Transparency List 2018_10'!$D:$D,0),FALSE)),\"On the 2018_10 List\",\"-\")","v":"-"},{"$f":"IF(OR(IFERROR(MATCH($D418,'Transparency List 2018_04'!$L:$L,0),FALSE),IFERROR(MATCH(TRIM($G418),'Transparency List 2018_04'!$D:$D,0),FALSE)),\"On the 2018_04 List\",\"-\")","v":"-"},{"$f":"IF(OR(IFERROR(MATCH($D418,'Transparency List 2017'!$L:$L,0),FALSE),IFERROR(MATCH(TRIM($G418),'Transparency List 2017'!$C:$C,0),FALSE)),\"On the 2017 List\",\"-\")","v":"-"},{"$f":"IF(OR(IFERROR(MATCH($D418,'Transparency List 2015'!$H:$H,0),FALSE),IFERROR(MATCH(TRIM($G418),'Transparency List 2015'!$C:$C,0),FALSE)),\"On the 2015 List\",\"-\")","v":"-"}]
[null,null,4,"",null,null,null,"-",{"$f":"IF(OR(IFERROR(MATCH($D419,'Transparency List 2018_10'!$L:$L,0),FALSE),IFERROR(MATCH(TRIM($G419),'Transparency List 2018_10'!$D:$D,0),FALSE)),\"On the 2018_10 List\",\"-\")","v":"-"},{"$f":"IF(OR(IFERROR(MATCH($D419,'Transparency List 2018_04'!$L:$L,0),FALSE),IFERROR(MATCH(TRIM($G419),'Transparency List 2018_04'!$D:$D,0),FALSE)),\"On the 2018_04 List\",\"-\")","v":"-"},{"$f":"IF(OR(IFERROR(MATCH($D419,'Transparency List 2017'!$L:$L,0),FALSE),IFERROR(MATCH(TRIM($G419),'Transparency List 2017'!$C:$C,0),FALSE)),\"On the 2017 List\",\"-\")","v":"-"},{"$f":"IF(OR(IFERROR(MATCH($D419,'Transparency List 2015'!$H:$H,0),FALSE),IFERROR(MATCH(TRIM($G419),'Transparency List 2015'!$C:$C,0),FALSE)),\"On the 2015 List\",\"-\")","v":"-"}]
[null,null,4,"",null,null,null,"-",{"$f":"IF(OR(IFERROR(MATCH($D420,'Transparency List 2018_10'!$L:$L,0),FALSE),IFERROR(MATCH(TRIM($G420),'Transparency List 2018_10'!$D:$D,0),FALSE)),\"On the 2018_10 List\",\"-\")","v":"-"},{"$f":"IF(OR(IFERROR(MATCH($D420,'Transparency List 2018_04'!$L:$L,0),FALSE),IFERROR(MATCH(TRIM($G420),'Transparency List 2018_04'!$D:$D,0),FALSE)),\"On the 2018_04 List\",\"-\")","v":"-"},{"$f":"IF(OR(IFERROR(MATCH($D420,'Transparency List 2017'!$L:$L,0),FALSE),IFERROR(MATCH(TRIM($G420),'Transparency List 2017'!$C:$C,0),FALSE)),\"On the 2017 List\",\"-\")","v":"-"},{"$f":"IF(OR(IFERROR(MATCH($D420,'Transparency List 2015'!$H:$H,0),FALSE),IFERROR(MATCH(TRIM($G420),'Transparency List 2015'!$C:$C,0),FALSE)),\"On the 2015 List\",\"-\")","v":"-"}]
[null,null,4,"",null,null,null,"-",{"$f":"IF(OR(IFERROR(MATCH($D421,'Transparency List 2018_10'!$L:$L,0),FALSE),IFERROR(MATCH(TRIM($G421),'Transparency List 2018_10'!$D:$D,0),FALSE)),\"On the 2018_10 List\",\"-\")","v":"-"},{"$f":"IF(OR(IFERROR(MATCH($D421,'Transparency List 2018_04'!$L:$L,0),FALSE),IFERROR(MATCH(TRIM($G421),'Transparency List 2018_04'!$D:$D,0),FALSE)),\"On the 2018_04 List\",\"-\")","v":"-"},{"$f":"IF(OR(IFERROR(MATCH($D421,'Transparency List 2017'!$L:$L,0),FALSE),IFERROR(MATCH(TRIM($G421),'Transparency List 2017'!$C:$C,0),FALSE)),\"On the 2017 List\",\"-\")","v":"-"},{"$f":"IF(OR(IFERROR(MATCH($D421,'Transparency List 2015'!$H:$H,0),FALSE),IFERROR(MATCH(TRIM($G421),'Transparency List 2015'!$C:$C,0),FALSE)),\"On the 2015 List\",\"-\")","v":"-"}]
[null,null,4,"",null,null,null,"-",{"$f":"IF(OR(IFERROR(MATCH($D422,'Transparency List 2018_10'!$L:$L,0),FALSE),IFERROR(MATCH(TRIM($G422),'Transparency List 2018_10'!$D:$D,0),FALSE)),\"On the 2018_10 List\",\"-\")","v":"-"},{"$f":"IF(OR(IFERROR(MATCH($D422,'Transparency List 2018_04'!$L:$L,0),FALSE),IFERROR(MATCH(TRIM($G422),'Transparency List 2018_04'!$D:$D,0),FALSE)),\"On the 2018_04 List\",\"-\")","v":"-"},{"$f":"IF(OR(IFERROR(MATCH($D422,'Transparency List 2017'!$L:$L,0),FALSE),IFERROR(MATCH(TRIM($G422),'Transparency List 2017'!$C:$C,0),FALSE)),\"On the 2017 List\",\"-\")","v":"-"},{"$f":"IF(OR(IFERROR(MATCH($D422,'Transparency List 2015'!$H:$H,0),FALSE),IFERROR(MATCH(TRIM($G422),'Transparency List 2015'!$C:$C,0),FALSE)),\"On the 2015 List\",\"-\")","v":"-"}]
[null,null,4,"",null,null,null,"-",{"$f":"IF(OR(IFERROR(MATCH($D423,'Transparency List 2018_10'!$L:$L,0),FALSE),IFERROR(MATCH(TRIM($G423),'Transparency List 2018_10'!$D:$D,0),FALSE)),\"On the 2018_10 List\",\"-\")","v":"-"},{"$f":"IF(OR(IFERROR(MATCH($D423,'Transparency List 2018_04'!$L:$L,0),FALSE),IFERROR(MATCH(TRIM($G423),'Transparency List 2018_04'!$D:$D,0),FALSE)),\"On the 2018_04 List\",\"-\")","v":"-"},{"$f":"IF(OR(IFERROR(MATCH($D423,'Transparency List 2017'!$L:$L,0),FALSE),IFERROR(MATCH(TRIM($G423),'Transparency List 2017'!$C:$C,0),FALSE)),\"On the 2017 List\",\"-\")","v":"-"},{"$f":"IF(OR(IFERROR(MATCH($D423,'Transparency List 2015'!$H:$H,0),FALSE),IFERROR(MATCH(TRIM($G423),'Transparency List 2015'!$C:$C,0),FALSE)),\"On the 2015 List\",\"-\")","v":"-"}]
[null,null,4,"",null,null,null,"-",{"$f":"IF(OR(IFERROR(MATCH($D424,'Transparency List 2018_10'!$L:$L,0),FALSE),IFERROR(MATCH(TRIM($G424),'Transparency List 2018_10'!$D:$D,0),FALSE)),\"On the 2018_10 List\",\"-\")","v":"-"},{"$f":"IF(OR(IFERROR(MATCH($D424,'Transparency List 2018_04'!$L:$L,0),FALSE),IFERROR(MATCH(TRIM($G424),'Transparency List 2018_04'!$D:$D,0),FALSE)),\"On the 2018_04 List\",\"-\")","v":"-"},{"$f":"IF(OR(IFERROR(MATCH($D424,'Transparency List 2017'!$L:$L,0),FALSE),IFERROR(MATCH(TRIM($G424),'Transparency List 2017'!$C:$C,0),FALSE)),\"On the 2017 List\",\"-\")","v":"-"},{"$f":"IF(OR(IFERROR(MATCH($D424,'Transparency List 2015'!$H:$H,0),FALSE),IFERROR(MATCH(TRIM($G424),'Transparency List 2015'!$C:$C,0),FALSE)),\"On the 2015 List\",\"-\")","v":"-"}]
[null,null,4,"",null,null,null,"-",{"$f":"IF(OR(IFERROR(MATCH($D425,'Transparency List 2018_10'!$L:$L,0),FALSE),IFERROR(MATCH(TRIM($G425),'Transparency List 2018_10'!$D:$D,0),FALSE)),\"On the 2018_10 List\",\"-\")","v":"-"},{"$f":"IF(OR(IFERROR(MATCH($D425,'Transparency List 2018_04'!$L:$L,0),FALSE),IFERROR(MATCH(TRIM($G425),'Transparency List 2018_04'!$D:$D,0),FALSE)),\"On the 2018_04 List\",\"-\")","v":"-"},{"$f":"IF(OR(IFERROR(MATCH($D425,'Transparency List 2017'!$L:$L,0),FALSE),IFERROR(MATCH(TRIM($G425),'Transparency List 2017'!$C:$C,0),FALSE)),\"On the 2017 List\",\"-\")","v":"-"},{"$f":"IF(OR(IFERROR(MATCH($D425,'Transparency List 2015'!$H:$H,0),FALSE),IFERROR(MATCH(TRIM($G425),'Transparency List 2015'!$C:$C,0),FALSE)),\"On the 2015 List\",\"-\")","v":"-"}]
[null,null,4,"",null,null,null,"-",{"$f":"IF(OR(IFERROR(MATCH($D426,'Transparency List 2018_10'!$L:$L,0),FALSE),IFERROR(MATCH(TRIM($G426),'Transparency List 2018_10'!$D:$D,0),FALSE)),\"On the 2018_10 List\",\"-\")","v":"-"},{"$f":"IF(OR(IFERROR(MATCH($D426,'Transparency List 2018_04'!$L:$L,0),FALSE),IFERROR(MATCH(TRIM($G426),'Transparency List 2018_04'!$D:$D,0),FALSE)),\"On the 2018_04 List\",\"-\")","v":"-"},{"$f":"IF(OR(IFERROR(MATCH($D426,'Transparency List 2017'!$L:$L,0),FALSE),IFERROR(MATCH(TRIM($G426),'Transparency List 2017'!$C:$C,0),FALSE)),\"On the 2017 List\",\"-\")","v":"-"},{"$f":"IF(OR(IFERROR(MATCH($D426,'Transparency List 2015'!$H:$H,0),FALSE),IFERROR(MATCH(TRIM($G426),'Transparency List 2015'!$C:$C,0),FALSE)),\"On the 2015 List\",\"-\")","v":"-"}]
[null,null,4,"",null,null,null,"-",{"$f":"IF(OR(IFERROR(MATCH($D427,'Transparency List 2018_10'!$L:$L,0),FALSE),IFERROR(MATCH(TRIM($G427),'Transparency List 2018_10'!$D:$D,0),FALSE)),\"On the 2018_10 List\",\"-\")","v":"-"},{"$f":"IF(OR(IFERROR(MATCH($D427,'Transparency List 2018_04'!$L:$L,0),FALSE),IFERROR(MATCH(TRIM($G427),'Transparency List 2018_04'!$D:$D,0),FALSE)),\"On the 2018_04 List\",\"-\")","v":"-"},{"$f":"IF(OR(IFERROR(MATCH($D427,'Transparency List 2017'!$L:$L,0),FALSE),IFERROR(MATCH(TRIM($G427),'Transparency List 2017'!$C:$C,0),FALSE)),\"On the 2017 List\",\"-\")","v":"-"},{"$f":"IF(OR(IFERROR(MATCH($D427,'Transparency List 2015'!$H:$H,0),FALSE),IFERROR(MATCH(TRIM($G427),'Transparency List 2015'!$C:$C,0),FALSE)),\"On the 2015 List\",\"-\")","v":"-"}]
[null,null,4,"",null,null,null,"-",{"$f":"IF(OR(IFERROR(MATCH($D428,'Transparency List 2018_10'!$L:$L,0),FALSE),IFERROR(MATCH(TRIM($G428),'Transparency List 2018_10'!$D:$D,0),FALSE)),\"On the 2018_10 List\",\"-\")","v":"-"},{"$f":"IF(OR(IFERROR(MATCH($D428,'Transparency List 2018_04'!$L:$L,0),FALSE),IFERROR(MATCH(TRIM($G428),'Transparency List 2018_04'!$D:$D,0),FALSE)),\"On the 2018_04 List\",\"-\")","v":"-"},{"$f":"IF(OR(IFERROR(MATCH($D428,'Transparency List 2017'!$L:$L,0),FALSE),IFERROR(MATCH(TRIM($G428),'Transparency List 2017'!$C:$C,0),FALSE)),\"On the 2017 List\",\"-\")","v":"-"},{"$f":"IF(OR(IFERROR(MATCH($D428,'Transparency List 2015'!$H:$H,0),FALSE),IFERROR(MATCH(TRIM($G428),'Transparency List 2015'!$C:$C,0),FALSE)),\"On the 2015 List\",\"-\")","v":"-"}]
[null,null,4,"",null,null,null,"-",{"$f":"IF(OR(IFERROR(MATCH($D429,'Transparency List 2018_10'!$L:$L,0),FALSE),IFERROR(MATCH(TRIM($G429),'Transparency List 2018_10'!$D:$D,0),FALSE)),\"On the 2018_10 List\",\"-\")","v":"-"},{"$f":"IF(OR(IFERROR(MATCH($D429,'Transparency List 2018_04'!$L:$L,0),FALSE),IFERROR(MATCH(TRIM($G429),'Transparency List 2018_04'!$D:$D,0),FALSE)),\"On the 2018_04 List\",\"-\")","v":"-"},{"$f":"IF(OR(IFERROR(MATCH($D429,'Transparency List 2017'!$L:$L,0),FALSE),IFERROR(MATCH(TRIM($G429),'Transparency List 2017'!$C:$C,0),FALSE)),\"On the 2017 List\",\"-\")","v":"-"},{"$f":"IF(OR(IFERROR(MATCH($D429,'Transparency List 2015'!$H:$H,0),FALSE),IFERROR(MATCH(TRIM($G429),'Transparency List 2015'!$C:$C,0),FALSE)),\"On the 2015 List\",\"-\")","v":"-"}]
[null,null,4,"",null,null,null,"-",{"$f":"IF(OR(IFERROR(MATCH($D430,'Transparency List 2018_10'!$L:$L,0),FALSE),IFERROR(MATCH(TRIM($G430),'Transparency List 2018_10'!$D:$D,0),FALSE)),\"On the 2018_10 List\",\"-\")","v":"-"},{"$f":"IF(OR(IFERROR(MATCH($D430,'Transparency List 2018_04'!$L:$L,0),FALSE),IFERROR(MATCH(TRIM($G430),'Transparency List 2018_04'!$D:$D,0),FALSE)),\"On the 2018_04 List\",\"-\")","v":"-"},{"$f":"IF(OR(IFERROR(MATCH($D430,'Transparency List 2017'!$L:$L,0),FALSE),IFERROR(MATCH(TRIM($G430),'Transparency List 2017'!$C:$C,0),FALSE)),\"On the 2017 List\",\"-\")","v":"-"},{"$f":"IF(OR(IFERROR(MATCH($D430,'Transparency List 2015'!$H:$H,0),FALSE),IFERROR(MATCH(TRIM($G430),'Transparency List 2015'!$C:$C,0),FALSE)),\"On the 2015 List\",\"-\")","v":"-"}]
[null,null,4,"",null,null,null,"-",{"$f":"IF(OR(IFERROR(MATCH($D431,'Transparency List 2018_10'!$L:$L,0),FALSE),IFERROR(MATCH(TRIM($G431),'Transparency List 2018_10'!$D:$D,0),FALSE)),\"On the 2018_10 List\",\"-\")","v":"-"},{"$f":"IF(OR(IFERROR(MATCH($D431,'Transparency List 2018_04'!$L:$L,0),FALSE),IFERROR(MATCH(TRIM($G431),'Transparency List 2018_04'!$D:$D,0),FALSE)),\"On the 2018_04 List\",\"-\")","v":"-"},{"$f":"IF(OR(IFERROR(MATCH($D431,'Transparency List 2017'!$L:$L,0),FALSE),IFERROR(MATCH(TRIM($G431),'Transparency List 2017'!$C:$C,0),FALSE)),\"On the 2017 List\",\"-\")","v":"-"},{"$f":"IF(OR(IFERROR(MATCH($D431,'Transparency List 2015'!$H:$H,0),FALSE),IFERROR(MATCH(TRIM($G431),'Transparency List 2015'!$C:$C,0),FALSE)),\"On the 2015 List\",\"-\")","v":"-"}]
[null,null,4,"",null,null,null,"-",{"$f":"IF(OR(IFERROR(MATCH($D432,'Transparency List 2018_10'!$L:$L,0),FALSE),IFERROR(MATCH(TRIM($G432),'Transparency List 2018_10'!$D:$D,0),FALSE)),\"On the 2018_10 List\",\"-\")","v":"-"},{"$f":"IF(OR(IFERROR(MATCH($D432,'Transparency List 2018_04'!$L:$L,0),FALSE),IFERROR(MATCH(TRIM($G432),'Transparency List 2018_04'!$D:$D,0),FALSE)),\"On the 2018_04 List\",\"-\")","v":"-"},{"$f":"IF(OR(IFERROR(MATCH($D432,'Transparency List 2017'!$L:$L,0),FALSE),IFERROR(MATCH(TRIM($G432),'Transparency List 2017'!$C:$C,0),FALSE)),\"On the 2017 List\",\"-\")","v":"-"},{"$f":"IF(OR(IFERROR(MATCH($D432,'Transparency List 2015'!$H:$H,0),FALSE),IFERROR(MATCH(TRIM($G432),'Transparency List 2015'!$C:$C,0),FALSE)),\"On the 2015 List\",\"-\")","v":"-"}]
[null,null,4,"",null,null,null,"-",{"$f":"IF(OR(IFERROR(MATCH($D433,'Transparency List 2018_10'!$L:$L,0),FALSE),IFERROR(MATCH(TRIM($G433),'Transparency List 2018_10'!$D:$D,0),FALSE)),\"On the 2018_10 List\",\"-\")","v":"-"},{"$f":"IF(OR(IFERROR(MATCH($D433,'Transparency List 2018_04'!$L:$L,0),FALSE),IFERROR(MATCH(TRIM($G433),'Transparency List 2018_04'!$D:$D,0),FALSE)),\"On the 2018_04 List\",\"-\")","v":"-"},{"$f":"IF(OR(IFERROR(MATCH($D433,'Transparency List 2017'!$L:$L,0),FALSE),IFERROR(MATCH(TRIM($G433),'Transparency List 2017'!$C:$C,0),FALSE)),\"On the 2017 List\",\"-\")","v":"-"},{"$f":"IF(OR(IFERROR(MATCH($D433,'Transparency List 2015'!$H:$H,0),FALSE),IFERROR(MATCH(TRIM($G433),'Transparency List 2015'!$C:$C,0),FALSE)),\"On the 2015 List\",\"-\")","v":"-"}]
[null,null,4,"",null,null,null,"-",{"$f":"IF(OR(IFERROR(MATCH($D434,'Transparency List 2018_10'!$L:$L,0),FALSE),IFERROR(MATCH(TRIM($G434),'Transparency List 2018_10'!$D:$D,0),FALSE)),\"On the 2018_10 List\",\"-\")","v":"-"},{"$f":"IF(OR(IFERROR(MATCH($D434,'Transparency List 2018_04'!$L:$L,0),FALSE),IFERROR(MATCH(TRIM($G434),'Transparency List 2018_04'!$D:$D,0),FALSE)),\"On the 2018_04 List\",\"-\")","v":"-"},{"$f":"IF(OR(IFERROR(MATCH($D434,'Transparency List 2017'!$L:$L,0),FALSE),IFERROR(MATCH(TRIM($G434),'Transparency List 2017'!$C:$C,0),FALSE)),\"On the 2017 List\",\"-\")","v":"-"},{"$f":"IF(OR(IFERROR(MATCH($D434,'Transparency List 2015'!$H:$H,0),FALSE),IFERROR(MATCH(TRIM($G434),'Transparency List 2015'!$C:$C,0),FALSE)),\"On the 2015 List\",\"-\")","v":"-"}]
[null,null,4,"",null,null,null,"-",{"$f":"IF(OR(IFERROR(MATCH($D435,'Transparency List 2018_10'!$L:$L,0),FALSE),IFERROR(MATCH(TRIM($G435),'Transparency List 2018_10'!$D:$D,0),FALSE)),\"On the 2018_10 List\",\"-\")","v":"-"},{"$f":"IF(OR(IFERROR(MATCH($D435,'Transparency List 2018_04'!$L:$L,0),FALSE),IFERROR(MATCH(TRIM($G435),'Transparency List 2018_04'!$D:$D,0),FALSE)),\"On the 2018_04 List\",\"-\")","v":"-"},{"$f":"IF(OR(IFERROR(MATCH($D435,'Transparency List 2017'!$L:$L,0),FALSE),IFERROR(MATCH(TRIM($G435),'Transparency List 2017'!$C:$C,0),FALSE)),\"On the 2017 List\",\"-\")","v":"-"},{"$f":"IF(OR(IFERROR(MATCH($D435,'Transparency List 2015'!$H:$H,0),FALSE),IFERROR(MATCH(TRIM($G435),'Transparency List 2015'!$C:$C,0),FALSE)),\"On the 2015 List\",\"-\")","v":"-"}]
[null,null,4,"",null,null,null,"-",{"$f":"IF(OR(IFERROR(MATCH($D436,'Transparency List 2018_10'!$L:$L,0),FALSE),IFERROR(MATCH(TRIM($G436),'Transparency List 2018_10'!$D:$D,0),FALSE)),\"On the 2018_10 List\",\"-\")","v":"-"},{"$f":"IF(OR(IFERROR(MATCH($D436,'Transparency List 2018_04'!$L:$L,0),FALSE),IFERROR(MATCH(TRIM($G436),'Transparency List 2018_04'!$D:$D,0),FALSE)),\"On the 2018_04 List\",\"-\")","v":"-"},{"$f":"IF(OR(IFERROR(MATCH($D436,'Transparency List 2017'!$L:$L,0),FALSE),IFERROR(MATCH(TRIM($G436),'Transparency List 2017'!$C:$C,0),FALSE)),\"On the 2017 List\",\"-\")","v":"-"},{"$f":"IF(OR(IFERROR(MATCH($D436,'Transparency List 2015'!$H:$H,0),FALSE),IFERROR(MATCH(TRIM($G436),'Transparency List 2015'!$C:$C,0),FALSE)),\"On the 2015 List\",\"-\")","v":"-"}]
[null,null,4,"",null,null,null,"-",{"$f":"IF(OR(IFERROR(MATCH($D437,'Transparency List 2018_10'!$L:$L,0),FALSE),IFERROR(MATCH(TRIM($G437),'Transparency List 2018_10'!$D:$D,0),FALSE)),\"On the 2018_10 List\",\"-\")","v":"-"},{"$f":"IF(OR(IFERROR(MATCH($D437,'Transparency List 2018_04'!$L:$L,0),FALSE),IFERROR(MATCH(TRIM($G437),'Transparency List 2018_04'!$D:$D,0),FALSE)),\"On the 2018_04 List\",\"-\")","v":"-"},{"$f":"IF(OR(IFERROR(MATCH($D437,'Transparency List 2017'!$L:$L,0),FALSE),IFERROR(MATCH(TRIM($G437),'Transparency List 2017'!$C:$C,0),FALSE)),\"On the 2017 List\",\"-\")","v":"-"},{"$f":"IF(OR(IFERROR(MATCH($D437,'Transparency List 2015'!$H:$H,0),FALSE),IFERROR(MATCH(TRIM($G437),'Transparency List 2015'!$C:$C,0),FALSE)),\"On the 2015 List\",\"-\")","v":"-"}]
[null,null,4,"",null,null,null,"-",{"$f":"IF(OR(IFERROR(MATCH($D438,'Transparency List 2018_10'!$L:$L,0),FALSE),IFERROR(MATCH(TRIM($G438),'Transparency List 2018_10'!$D:$D,0),FALSE)),\"On the 2018_10 List\",\"-\")","v":"-"},{"$f":"IF(OR(IFERROR(MATCH($D438,'Transparency List 2018_04'!$L:$L,0),FALSE),IFERROR(MATCH(TRIM($G438),'Transparency List 2018_04'!$D:$D,0),FALSE)),\"On the 2018_04 List\",\"-\")","v":"-"},{"$f":"IF(OR(IFERROR(MATCH($D438,'Transparency List 2017'!$L:$L,0),FALSE),IFERROR(MATCH(TRIM($G438),'Transparency List 2017'!$C:$C,0),FALSE)),\"On the 2017 List\",\"-\")","v":"-"},{"$f":"IF(OR(IFERROR(MATCH($D438,'Transparency List 2015'!$H:$H,0),FALSE),IFERROR(MATCH(TRIM($G438),'Transparency List 2015'!$C:$C,0),FALSE)),\"On the 2015 List\",\"-\")","v":"-"}]
[null,null,4,"",null,null,null,"-",{"$f":"IF(OR(IFERROR(MATCH($D439,'Transparency List 2018_10'!$L:$L,0),FALSE),IFERROR(MATCH(TRIM($G439),'Transparency List 2018_10'!$D:$D,0),FALSE)),\"On the 2018_10 List\",\"-\")","v":"-"},{"$f":"IF(OR(IFERROR(MATCH($D439,'Transparency List 2018_04'!$L:$L,0),FALSE),IFERROR(MATCH(TRIM($G439),'Transparency List 2018_04'!$D:$D,0),FALSE)),\"On the 2018_04 List\",\"-\")","v":"-"},{"$f":"IF(OR(IFERROR(MATCH($D439,'Transparency List 2017'!$L:$L,0),FALSE),IFERROR(MATCH(TRIM($G439),'Transparency List 2017'!$C:$C,0),FALSE)),\"On the 2017 List\",\"-\")","v":"-"},{"$f":"IF(OR(IFERROR(MATCH($D439,'Transparency List 2015'!$H:$H,0),FALSE),IFERROR(MATCH(TRIM($G439),'Transparency List 2015'!$C:$C,0),FALSE)),\"On the 2015 List\",\"-\")","v":"-"}]
[null,null,4,"",null,null,null,"-",{"$f":"IF(OR(IFERROR(MATCH($D440,'Transparency List 2018_10'!$L:$L,0),FALSE),IFERROR(MATCH(TRIM($G440),'Transparency List 2018_10'!$D:$D,0),FALSE)),\"On the 2018_10 List\",\"-\")","v":"-"},{"$f":"IF(OR(IFERROR(MATCH($D440,'Transparency List 2018_04'!$L:$L,0),FALSE),IFERROR(MATCH(TRIM($G440),'Transparency List 2018_04'!$D:$D,0),FALSE)),\"On the 2018_04 List\",\"-\")","v":"-"},{"$f":"IF(OR(IFERROR(MATCH($D440,'Transparency List 2017'!$L:$L,0),FALSE),IFERROR(MATCH(TRIM($G440),'Transparency List 2017'!$C:$C,0),FALSE)),\"On the 2017 List\",\"-\")","v":"-"},{"$f":"IF(OR(IFERROR(MATCH($D440,'Transparency List 2015'!$H:$H,0),FALSE),IFERROR(MATCH(TRIM($G440),'Transparency List 2015'!$C:$C,0),FALSE)),\"On the 2015 List\",\"-\")","v":"-"}]
[null,null,4,"",null,null,null,"-",{"$f":"IF(OR(IFERROR(MATCH($D441,'Transparency List 2018_10'!$L:$L,0),FALSE),IFERROR(MATCH(TRIM($G441),'Transparency List 2018_10'!$D:$D,0),FALSE)),\"On the 2018_10 List\",\"-\")","v":"-"},{"$f":"IF(OR(IFERROR(MATCH($D441,'Transparency List 2018_04'!$L:$L,0),FALSE),IFERROR(MATCH(TRIM($G441),'Transparency List 2018_04'!$D:$D,0),FALSE)),\"On the 2018_04 List\",\"-\")","v":"-"},{"$f":"IF(OR(IFERROR(MATCH($D441,'Transparency List 2017'!$L:$L,0),FALSE),IFERROR(MATCH(TRIM($G441),'Transparency List 2017'!$C:$C,0),FALSE)),\"On the 2017 List\",\"-\")","v":"-"},{"$f":"IF(OR(IFERROR(MATCH($D441,'Transparency List 2015'!$H:$H,0),FALSE),IFERROR(MATCH(TRIM($G441),'Transparency List 2015'!$C:$C,0),FALSE)),\"On the 2015 List\",\"-\")","v":"-"}]
[null,null,4,"",null,null,null,"-",{"$f":"IF(OR(IFERROR(MATCH($D442,'Transparency List 2018_10'!$L:$L,0),FALSE),IFERROR(MATCH(TRIM($G442),'Transparency List 2018_10'!$D:$D,0),FALSE)),\"On the 2018_10 List\",\"-\")","v":"-"},{"$f":"IF(OR(IFERROR(MATCH($D442,'Transparency List 2018_04'!$L:$L,0),FALSE),IFERROR(MATCH(TRIM($G442),'Transparency List 2018_04'!$D:$D,0),FALSE)),\"On the 2018_04 List\",\"-\")","v":"-"},{"$f":"IF(OR(IFERROR(MATCH($D442,'Transparency List 2017'!$L:$L,0),FALSE),IFERROR(MATCH(TRIM($G442),'Transparency List 2017'!$C:$C,0),FALSE)),\"On the 2017 List\",\"-\")","v":"-"},{"$f":"IF(OR(IFERROR(MATCH($D442,'Transparency List 2015'!$H:$H,0),FALSE),IFERROR(MATCH(TRIM($G442),'Transparency List 2015'!$C:$C,0),FALSE)),\"On the 2015 List\",\"-\")","v":"-"}]
[null,null,4,"",null,null,null,"-",{"$f":"IF(OR(IFERROR(MATCH($D443,'Transparency List 2018_10'!$L:$L,0),FALSE),IFERROR(MATCH(TRIM($G443),'Transparency List 2018_10'!$D:$D,0),FALSE)),\"On the 2018_10 List\",\"-\")","v":"-"},{"$f":"IF(OR(IFERROR(MATCH($D443,'Transparency List 2018_04'!$L:$L,0),FALSE),IFERROR(MATCH(TRIM($G443),'Transparency List 2018_04'!$D:$D,0),FALSE)),\"On the 2018_04 List\",\"-\")","v":"-"},{"$f":"IF(OR(IFERROR(MATCH($D443,'Transparency List 2017'!$L:$L,0),FALSE),IFERROR(MATCH(TRIM($G443),'Transparency List 2017'!$C:$C,0),FALSE)),\"On the 2017 List\",\"-\")","v":"-"},{"$f":"IF(OR(IFERROR(MATCH($D443,'Transparency List 2015'!$H:$H,0),FALSE),IFERROR(MATCH(TRIM($G443),'Transparency List 2015'!$C:$C,0),FALSE)),\"On the 2015 List\",\"-\")","v":"-"}]
[null,null,4,"",null,null,null,"-",{"$f":"IF(OR(IFERROR(MATCH($D444,'Transparency List 2018_10'!$L:$L,0),FALSE),IFERROR(MATCH(TRIM($G444),'Transparency List 2018_10'!$D:$D,0),FALSE)),\"On the 2018_10 List\",\"-\")","v":"-"},{"$f":"IF(OR(IFERROR(MATCH($D444,'Transparency List 2018_04'!$L:$L,0),FALSE),IFERROR(MATCH(TRIM($G444),'Transparency List 2018_04'!$D:$D,0),FALSE)),\"On the 2018_04 List\",\"-\")","v":"-"},{"$f":"IF(OR(IFERROR(MATCH($D444,'Transparency List 2017'!$L:$L,0),FALSE),IFERROR(MATCH(TRIM($G444),'Transparency List 2017'!$C:$C,0),FALSE)),\"On the 2017 List\",\"-\")","v":"-"},{"$f":"IF(OR(IFERROR(MATCH($D444,'Transparency List 2015'!$H:$H,0),FALSE),IFERROR(MATCH(TRIM($G444),'Transparency List 2015'!$C:$C,0),FALSE)),\"On the 2015 List\",\"-\")","v":"-"}]
[null,null,4,"",null,null,null,"-",{"$f":"IF(OR(IFERROR(MATCH($D445,'Transparency List 2018_10'!$L:$L,0),FALSE),IFERROR(MATCH(TRIM($G445),'Transparency List 2018_10'!$D:$D,0),FALSE)),\"On the 2018_10 List\",\"-\")","v":"-"},{"$f":"IF(OR(IFERROR(MATCH($D445,'Transparency List 2018_04'!$L:$L,0),FALSE),IFERROR(MATCH(TRIM($G445),'Transparency List 2018_04'!$D:$D,0),FALSE)),\"On the 2018_04 List\",\"-\")","v":"-"},{"$f":"IF(OR(IFERROR(MATCH($D445,'Transparency List 2017'!$L:$L,0),FALSE),IFERROR(MATCH(TRIM($G445),'Transparency List 2017'!$C:$C,0),FALSE)),\"On the 2017 List\",\"-\")","v":"-"},{"$f":"IF(OR(IFERROR(MATCH($D445,'Transparency List 2015'!$H:$H,0),FALSE),IFERROR(MATCH(TRIM($G445),'Transparency List 2015'!$C:$C,0),FALSE)),\"On the 2015 List\",\"-\")","v":"-"}]
[null,null,4,"",null,null,null,"-",{"$f":"IF(OR(IFERROR(MATCH($D446,'Transparency List 2018_10'!$L:$L,0),FALSE),IFERROR(MATCH(TRIM($G446),'Transparency List 2018_10'!$D:$D,0),FALSE)),\"On the 2018_10 List\",\"-\")","v":"-"},{"$f":"IF(OR(IFERROR(MATCH($D446,'Transparency List 2018_04'!$L:$L,0),FALSE),IFERROR(MATCH(TRIM($G446),'Transparency List 2018_04'!$D:$D,0),FALSE)),\"On the 2018_04 List\",\"-\")","v":"-"},{"$f":"IF(OR(IFERROR(MATCH($D446,'Transparency List 2017'!$L:$L,0),FALSE),IFERROR(MATCH(TRIM($G446),'Transparency List 2017'!$C:$C,0),FALSE)),\"On the 2017 List\",\"-\")","v":"-"},{"$f":"IF(OR(IFERROR(MATCH($D446,'Transparency List 2015'!$H:$H,0),FALSE),IFERROR(MATCH(TRIM($G446),'Transparency List 2015'!$C:$C,0),FALSE)),\"On the 2015 List\",\"-\")","v":"-"}]
[null,null,4,"",null,null,null,"-",{"$f":"IF(OR(IFERROR(MATCH($D447,'Transparency List 2018_10'!$L:$L,0),FALSE),IFERROR(MATCH(TRIM($G447),'Transparency List 2018_10'!$D:$D,0),FALSE)),\"On the 2018_10 List\",\"-\")","v":"-"},{"$f":"IF(OR(IFERROR(MATCH($D447,'Transparency List 2018_04'!$L:$L,0),FALSE),IFERROR(MATCH(TRIM($G447),'Transparency List 2018_04'!$D:$D,0),FALSE)),\"On the 2018_04 List\",\"-\")","v":"-"},{"$f":"IF(OR(IFERROR(MATCH($D447,'Transparency List 2017'!$L:$L,0),FALSE),IFERROR(MATCH(TRIM($G447),'Transparency List 2017'!$C:$C,0),FALSE)),\"On the 2017 List\",\"-\")","v":"-"},{"$f":"IF(OR(IFERROR(MATCH($D447,'Transparency List 2015'!$H:$H,0),FALSE),IFERROR(MATCH(TRIM($G447),'Transparency List 2015'!$C:$C,0),FALSE)),\"On the 2015 List\",\"-\")","v":"-"}]
[null,null,4,"",null,null,null,"-",{"$f":"IF(OR(IFERROR(MATCH($D448,'Transparency List 2018_10'!$L:$L,0),FALSE),IFERROR(MATCH(TRIM($G448),'Transparency List 2018_10'!$D:$D,0),FALSE)),\"On the 2018_10 List\",\"-\")","v":"-"},{"$f":"IF(OR(IFERROR(MATCH($D448,'Transparency List 2018_04'!$L:$L,0),FALSE),IFERROR(MATCH(TRIM($G448),'Transparency List 2018_04'!$D:$D,0),FALSE)),\"On the 2018_04 List\",\"-\")","v":"-"},{"$f":"IF(OR(IFERROR(MATCH($D448,'Transparency List 2017'!$L:$L,0),FALSE),IFERROR(MATCH(TRIM($G448),'Transparency List 2017'!$C:$C,0),FALSE)),\"On the 2017 List\",\"-\")","v":"-"},{"$f":"IF(OR(IFERROR(MATCH($D448,'Transparency List 2015'!$H:$H,0),FALSE),IFERROR(MATCH(TRIM($G448),'Transparency List 2015'!$C:$C,0),FALSE)),\"On the 2015 List\",\"-\")","v":"-"}]
[null,null,4,"",null,null,null,"-",{"$f":"IF(OR(IFERROR(MATCH($D449,'Transparency List 2018_10'!$L:$L,0),FALSE),IFERROR(MATCH(TRIM($G449),'Transparency List 2018_10'!$D:$D,0),FALSE)),\"On the 2018_10 List\",\"-\")","v":"-"},{"$f":"IF(OR(IFERROR(MATCH($D449,'Transparency List 2018_04'!$L:$L,0),FALSE),IFERROR(MATCH(TRIM($G449),'Transparency List 2018_04'!$D:$D,0),FALSE)),\"On the 2018_04 List\",\"-\")","v":"-"},{"$f":"IF(OR(IFERROR(MATCH($D449,'Transparency List 2017'!$L:$L,0),FALSE),IFERROR(MATCH(TRIM($G449),'Transparency List 2017'!$C:$C,0),FALSE)),\"On the 2017 List\",\"-\")","v":"-"},{"$f":"IF(OR(IFERROR(MATCH($D449,'Transparency List 2015'!$H:$H,0),FALSE),IFERROR(MATCH(TRIM($G449),'Transparency List 2015'!$C:$C,0),FALSE)),\"On the 2015 List\",\"-\")","v":"-"}]
[null,null,4,"",null,null,null,"-",{"$f":"IF(OR(IFERROR(MATCH($D450,'Transparency List 2018_10'!$L:$L,0),FALSE),IFERROR(MATCH(TRIM($G450),'Transparency List 2018_10'!$D:$D,0),FALSE)),\"On the 2018_10 List\",\"-\")","v":"-"},{"$f":"IF(OR(IFERROR(MATCH($D450,'Transparency List 2018_04'!$L:$L,0),FALSE),IFERROR(MATCH(TRIM($G450),'Transparency List 2018_04'!$D:$D,0),FALSE)),\"On the 2018_04 List\",\"-\")","v":"-"},{"$f":"IF(OR(IFERROR(MATCH($D450,'Transparency List 2017'!$L:$L,0),FALSE),IFERROR(MATCH(TRIM($G450),'Transparency List 2017'!$C:$C,0),FALSE)),\"On the 2017 List\",\"-\")","v":"-"},{"$f":"IF(OR(IFERROR(MATCH($D450,'Transparency List 2015'!$H:$H,0),FALSE),IFERROR(MATCH(TRIM($G450),'Transparency List 2015'!$C:$C,0),FALSE)),\"On the 2015 List\",\"-\")","v":"-"}]
[null,null,4,"",null,null,null,"-",{"$f":"IF(OR(IFERROR(MATCH($D451,'Transparency List 2018_10'!$L:$L,0),FALSE),IFERROR(MATCH(TRIM($G451),'Transparency List 2018_10'!$D:$D,0),FALSE)),\"On the 2018_10 List\",\"-\")","v":"-"},{"$f":"IF(OR(IFERROR(MATCH($D451,'Transparency List 2018_04'!$L:$L,0),FALSE),IFERROR(MATCH(TRIM($G451),'Transparency List 2018_04'!$D:$D,0),FALSE)),\"On the 2018_04 List\",\"-\")","v":"-"},{"$f":"IF(OR(IFERROR(MATCH($D451,'Transparency List 2017'!$L:$L,0),FALSE),IFERROR(MATCH(TRIM($G451),'Transparency List 2017'!$C:$C,0),FALSE)),\"On the 2017 List\",\"-\")","v":"-"},{"$f":"IF(OR(IFERROR(MATCH($D451,'Transparency List 2015'!$H:$H,0),FALSE),IFERROR(MATCH(TRIM($G451),'Transparency List 2015'!$C:$C,0),FALSE)),\"On the 2015 List\",\"-\")","v":"-"}]
[null,null,4,"",null,null,null,"-",{"$f":"IF(OR(IFERROR(MATCH($D452,'Transparency List 2018_10'!$L:$L,0),FALSE),IFERROR(MATCH(TRIM($G452),'Transparency List 2018_10'!$D:$D,0),FALSE)),\"On the 2018_10 List\",\"-\")","v":"-"},{"$f":"IF(OR(IFERROR(MATCH($D452,'Transparency List 2018_04'!$L:$L,0),FALSE),IFERROR(MATCH(TRIM($G452),'Transparency List 2018_04'!$D:$D,0),FALSE)),\"On the 2018_04 List\",\"-\")","v":"-"},{"$f":"IF(OR(IFERROR(MATCH($D452,'Transparency List 2017'!$L:$L,0),FALSE),IFERROR(MATCH(TRIM($G452),'Transparency List 2017'!$C:$C,0),FALSE)),\"On the 2017 List\",\"-\")","v":"-"},{"$f":"IF(OR(IFERROR(MATCH($D452,'Transparency List 2015'!$H:$H,0),FALSE),IFERROR(MATCH(TRIM($G452),'Transparency List 2015'!$C:$C,0),FALSE)),\"On the 2015 List\",\"-\")","v":"-"}]
[null,null,4,"",null,null,null,"-",{"$f":"IF(OR(IFERROR(MATCH($D453,'Transparency List 2018_10'!$L:$L,0),FALSE),IFERROR(MATCH(TRIM($G453),'Transparency List 2018_10'!$D:$D,0),FALSE)),\"On the 2018_10 List\",\"-\")","v":"-"},{"$f":"IF(OR(IFERROR(MATCH($D453,'Transparency List 2018_04'!$L:$L,0),FALSE),IFERROR(MATCH(TRIM($G453),'Transparency List 2018_04'!$D:$D,0),FALSE)),\"On the 2018_04 List\",\"-\")","v":"-"},{"$f":"IF(OR(IFERROR(MATCH($D453,'Transparency List 2017'!$L:$L,0),FALSE),IFERROR(MATCH(TRIM($G453),'Transparency List 2017'!$C:$C,0),FALSE)),\"On the 2017 List\",\"-\")","v":"-"},{"$f":"IF(OR(IFERROR(MATCH($D453,'Transparency List 2015'!$H:$H,0),FALSE),IFERROR(MATCH(TRIM($G453),'Transparency List 2015'!$C:$C,0),FALSE)),\"On the 2015 List\",\"-\")","v":"-"}]
[null,null,4,"",null,null,null,"-",{"$f":"IF(OR(IFERROR(MATCH($D454,'Transparency List 2018_10'!$L:$L,0),FALSE),IFERROR(MATCH(TRIM($G454),'Transparency List 2018_10'!$D:$D,0),FALSE)),\"On the 2018_10 List\",\"-\")","v":"-"},{"$f":"IF(OR(IFERROR(MATCH($D454,'Transparency List 2018_04'!$L:$L,0),FALSE),IFERROR(MATCH(TRIM($G454),'Transparency List 2018_04'!$D:$D,0),FALSE)),\"On the 2018_04 List\",\"-\")","v":"-"},{"$f":"IF(OR(IFERROR(MATCH($D454,'Transparency List 2017'!$L:$L,0),FALSE),IFERROR(MATCH(TRIM($G454),'Transparency List 2017'!$C:$C,0),FALSE)),\"On the 2017 List\",\"-\")","v":"-"},{"$f":"IF(OR(IFERROR(MATCH($D454,'Transparency List 2015'!$H:$H,0),FALSE),IFERROR(MATCH(TRIM($G454),'Transparency List 2015'!$C:$C,0),FALSE)),\"On the 2015 List\",\"-\")","v":"-"}]
[null,null,4,"",null,null,null,"-",{"$f":"IF(OR(IFERROR(MATCH($D455,'Transparency List 2018_10'!$L:$L,0),FALSE),IFERROR(MATCH(TRIM($G455),'Transparency List 2018_10'!$D:$D,0),FALSE)),\"On the 2018_10 List\",\"-\")","v":"-"},{"$f":"IF(OR(IFERROR(MATCH($D455,'Transparency List 2018_04'!$L:$L,0),FALSE),IFERROR(MATCH(TRIM($G455),'Transparency List 2018_04'!$D:$D,0),FALSE)),\"On the 2018_04 List\",\"-\")","v":"-"},{"$f":"IF(OR(IFERROR(MATCH($D455,'Transparency List 2017'!$L:$L,0),FALSE),IFERROR(MATCH(TRIM($G455),'Transparency List 2017'!$C:$C,0),FALSE)),\"On the 2017 List\",\"-\")","v":"-"},{"$f":"IF(OR(IFERROR(MATCH($D455,'Transparency List 2015'!$H:$H,0),FALSE),IFERROR(MATCH(TRIM($G455),'Transparency List 2015'!$C:$C,0),FALSE)),\"On the 2015 List\",\"-\")","v":"-"}]
[null,null,4,"",null,null,null,"-",{"$f":"IF(OR(IFERROR(MATCH($D456,'Transparency List 2018_10'!$L:$L,0),FALSE),IFERROR(MATCH(TRIM($G456),'Transparency List 2018_10'!$D:$D,0),FALSE)),\"On the 2018_10 List\",\"-\")","v":"-"},{"$f":"IF(OR(IFERROR(MATCH($D456,'Transparency List 2018_04'!$L:$L,0),FALSE),IFERROR(MATCH(TRIM($G456),'Transparency List 2018_04'!$D:$D,0),FALSE)),\"On the 2018_04 List\",\"-\")","v":"-"},{"$f":"IF(OR(IFERROR(MATCH($D456,'Transparency List 2017'!$L:$L,0),FALSE),IFERROR(MATCH(TRIM($G456),'Transparency List 2017'!$C:$C,0),FALSE)),\"On the 2017 List\",\"-\")","v":"-"},{"$f":"IF(OR(IFERROR(MATCH($D456,'Transparency List 2015'!$H:$H,0),FALSE),IFERROR(MATCH(TRIM($G456),'Transparency List 2015'!$C:$C,0),FALSE)),\"On the 2015 List\",\"-\")","v":"-"}]
[null,null,4,"",null,null,null,"-",{"$f":"IF(OR(IFERROR(MATCH($D457,'Transparency List 2018_10'!$L:$L,0),FALSE),IFERROR(MATCH(TRIM($G457),'Transparency List 2018_10'!$D:$D,0),FALSE)),\"On the 2018_10 List\",\"-\")","v":"-"},{"$f":"IF(OR(IFERROR(MATCH($D457,'Transparency List 2018_04'!$L:$L,0),FALSE),IFERROR(MATCH(TRIM($G457),'Transparency List 2018_04'!$D:$D,0),FALSE)),\"On the 2018_04 List\",\"-\")","v":"-"},{"$f":"IF(OR(IFERROR(MATCH($D457,'Transparency List 2017'!$L:$L,0),FALSE),IFERROR(MATCH(TRIM($G457),'Transparency List 2017'!$C:$C,0),FALSE)),\"On the 2017 List\",\"-\")","v":"-"},{"$f":"IF(OR(IFERROR(MATCH($D457,'Transparency List 2015'!$H:$H,0),FALSE),IFERROR(MATCH(TRIM($G457),'Transparency List 2015'!$C:$C,0),FALSE)),\"On the 2015 List\",\"-\")","v":"-"}]
[null,null,4,"",null,null,null,"-",{"$f":"IF(OR(IFERROR(MATCH($D458,'Transparency List 2018_10'!$L:$L,0),FALSE),IFERROR(MATCH(TRIM($G458),'Transparency List 2018_10'!$D:$D,0),FALSE)),\"On the 2018_10 List\",\"-\")","v":"-"},{"$f":"IF(OR(IFERROR(MATCH($D458,'Transparency List 2018_04'!$L:$L,0),FALSE),IFERROR(MATCH(TRIM($G458),'Transparency List 2018_04'!$D:$D,0),FALSE)),\"On the 2018_04 List\",\"-\")","v":"-"},{"$f":"IF(OR(IFERROR(MATCH($D458,'Transparency List 2017'!$L:$L,0),FALSE),IFERROR(MATCH(TRIM($G458),'Transparency List 2017'!$C:$C,0),FALSE)),\"On the 2017 List\",\"-\")","v":"-"},{"$f":"IF(OR(IFERROR(MATCH($D458,'Transparency List 2015'!$H:$H,0),FALSE),IFERROR(MATCH(TRIM($G458),'Transparency List 2015'!$C:$C,0),FALSE)),\"On the 2015 List\",\"-\")","v":"-"}]
[null,null,4,"",null,null,null,"-",{"$f":"IF(OR(IFERROR(MATCH($D459,'Transparency List 2018_10'!$L:$L,0),FALSE),IFERROR(MATCH(TRIM($G459),'Transparency List 2018_10'!$D:$D,0),FALSE)),\"On the 2018_10 List\",\"-\")","v":"-"},{"$f":"IF(OR(IFERROR(MATCH($D459,'Transparency List 2018_04'!$L:$L,0),FALSE),IFERROR(MATCH(TRIM($G459),'Transparency List 2018_04'!$D:$D,0),FALSE)),\"On the 2018_04 List\",\"-\")","v":"-"},{"$f":"IF(OR(IFERROR(MATCH($D459,'Transparency List 2017'!$L:$L,0),FALSE),IFERROR(MATCH(TRIM($G459),'Transparency List 2017'!$C:$C,0),FALSE)),\"On the 2017 List\",\"-\")","v":"-"},{"$f":"IF(OR(IFERROR(MATCH($D459,'Transparency List 2015'!$H:$H,0),FALSE),IFERROR(MATCH(TRIM($G459),'Transparency List 2015'!$C:$C,0),FALSE)),\"On the 2015 List\",\"-\")","v":"-"}]
[null,null,4,"",null,null,null,"-",{"$f":"IF(OR(IFERROR(MATCH($D460,'Transparency List 2018_10'!$L:$L,0),FALSE),IFERROR(MATCH(TRIM($G460),'Transparency List 2018_10'!$D:$D,0),FALSE)),\"On the 2018_10 List\",\"-\")","v":"-"},{"$f":"IF(OR(IFERROR(MATCH($D460,'Transparency List 2018_04'!$L:$L,0),FALSE),IFERROR(MATCH(TRIM($G460),'Transparency List 2018_04'!$D:$D,0),FALSE)),\"On the 2018_04 List\",\"-\")","v":"-"},{"$f":"IF(OR(IFERROR(MATCH($D460,'Transparency List 2017'!$L:$L,0),FALSE),IFERROR(MATCH(TRIM($G460),'Transparency List 2017'!$C:$C,0),FALSE)),\"On the 2017 List\",\"-\")","v":"-"},{"$f":"IF(OR(IFERROR(MATCH($D460,'Transparency List 2015'!$H:$H,0),FALSE),IFERROR(MATCH(TRIM($G460),'Transparency List 2015'!$C:$C,0),FALSE)),\"On the 2015 List\",\"-\")","v":"-"}]
[null,null,4,"",null,null,null,"-",{"$f":"IF(OR(IFERROR(MATCH($D461,'Transparency List 2018_10'!$L:$L,0),FALSE),IFERROR(MATCH(TRIM($G461),'Transparency List 2018_10'!$D:$D,0),FALSE)),\"On the 2018_10 List\",\"-\")","v":"-"},{"$f":"IF(OR(IFERROR(MATCH($D461,'Transparency List 2018_04'!$L:$L,0),FALSE),IFERROR(MATCH(TRIM($G461),'Transparency List 2018_04'!$D:$D,0),FALSE)),\"On the 2018_04 List\",\"-\")","v":"-"},{"$f":"IF(OR(IFERROR(MATCH($D461,'Transparency List 2017'!$L:$L,0),FALSE),IFERROR(MATCH(TRIM($G461),'Transparency List 2017'!$C:$C,0),FALSE)),\"On the 2017 List\",\"-\")","v":"-"},{"$f":"IF(OR(IFERROR(MATCH($D461,'Transparency List 2015'!$H:$H,0),FALSE),IFERROR(MATCH(TRIM($G461),'Transparency List 2015'!$C:$C,0),FALSE)),\"On the 2015 List\",\"-\")","v":"-"}]
[null,null,4,"",null,null,null,"-",{"$f":"IF(OR(IFERROR(MATCH($D462,'Transparency List 2018_10'!$L:$L,0),FALSE),IFERROR(MATCH(TRIM($G462),'Transparency List 2018_10'!$D:$D,0),FALSE)),\"On the 2018_10 List\",\"-\")","v":"-"},{"$f":"IF(OR(IFERROR(MATCH($D462,'Transparency List 2018_04'!$L:$L,0),FALSE),IFERROR(MATCH(TRIM($G462),'Transparency List 2018_04'!$D:$D,0),FALSE)),\"On the 2018_04 List\",\"-\")","v":"-"},{"$f":"IF(OR(IFERROR(MATCH($D462,'Transparency List 2017'!$L:$L,0),FALSE),IFERROR(MATCH(TRIM($G462),'Transparency List 2017'!$C:$C,0),FALSE)),\"On the 2017 List\",\"-\")","v":"-"},{"$f":"IF(OR(IFERROR(MATCH($D462,'Transparency List 2015'!$H:$H,0),FALSE),IFERROR(MATCH(TRIM($G462),'Transparency List 2015'!$C:$C,0),FALSE)),\"On the 2015 List\",\"-\")","v":"-"}]
[null,null,4,"",null,null,null,"-",{"$f":"IF(OR(IFERROR(MATCH($D463,'Transparency List 2018_10'!$L:$L,0),FALSE),IFERROR(MATCH(TRIM($G463),'Transparency List 2018_10'!$D:$D,0),FALSE)),\"On the 2018_10 List\",\"-\")","v":"-"},{"$f":"IF(OR(IFERROR(MATCH($D463,'Transparency List 2018_04'!$L:$L,0),FALSE),IFERROR(MATCH(TRIM($G463),'Transparency List 2018_04'!$D:$D,0),FALSE)),\"On the 2018_04 List\",\"-\")","v":"-"},{"$f":"IF(OR(IFERROR(MATCH($D463,'Transparency List 2017'!$L:$L,0),FALSE),IFERROR(MATCH(TRIM($G463),'Transparency List 2017'!$C:$C,0),FALSE)),\"On the 2017 List\",\"-\")","v":"-"},{"$f":"IF(OR(IFERROR(MATCH($D463,'Transparency List 2015'!$H:$H,0),FALSE),IFERROR(MATCH(TRIM($G463),'Transparency List 2015'!$C:$C,0),FALSE)),\"On the 2015 List\",\"-\")","v":"-"}]
[null,null,4,"",null,null,null,"-",{"$f":"IF(OR(IFERROR(MATCH($D464,'Transparency List 2018_10'!$L:$L,0),FALSE),IFERROR(MATCH(TRIM($G464),'Transparency List 2018_10'!$D:$D,0),FALSE)),\"On the 2018_10 List\",\"-\")","v":"-"},{"$f":"IF(OR(IFERROR(MATCH($D464,'Transparency List 2018_04'!$L:$L,0),FALSE),IFERROR(MATCH(TRIM($G464),'Transparency List 2018_04'!$D:$D,0),FALSE)),\"On the 2018_04 List\",\"-\")","v":"-"},{"$f":"IF(OR(IFERROR(MATCH($D464,'Transparency List 2017'!$L:$L,0),FALSE),IFERROR(MATCH(TRIM($G464),'Transparency List 2017'!$C:$C,0),FALSE)),\"On the 2017 List\",\"-\")","v":"-"},{"$f":"IF(OR(IFERROR(MATCH($D464,'Transparency List 2015'!$H:$H,0),FALSE),IFERROR(MATCH(TRIM($G464),'Transparency List 2015'!$C:$C,0),FALSE)),\"On the 2015 List\",\"-\")","v":"-"}]
[null,null,4,"",null,null,null,"-",{"$f":"IF(OR(IFERROR(MATCH($D465,'Transparency List 2018_10'!$L:$L,0),FALSE),IFERROR(MATCH(TRIM($G465),'Transparency List 2018_10'!$D:$D,0),FALSE)),\"On the 2018_10 List\",\"-\")","v":"-"},{"$f":"IF(OR(IFERROR(MATCH($D465,'Transparency List 2018_04'!$L:$L,0),FALSE),IFERROR(MATCH(TRIM($G465),'Transparency List 2018_04'!$D:$D,0),FALSE)),\"On the 2018_04 List\",\"-\")","v":"-"},{"$f":"IF(OR(IFERROR(MATCH($D465,'Transparency List 2017'!$L:$L,0),FALSE),IFERROR(MATCH(TRIM($G465),'Transparency List 2017'!$C:$C,0),FALSE)),\"On the 2017 List\",\"-\")","v":"-"},{"$f":"IF(OR(IFERROR(MATCH($D465,'Transparency List 2015'!$H:$H,0),FALSE),IFERROR(MATCH(TRIM($G465),'Transparency List 2015'!$C:$C,0),FALSE)),\"On the 2015 List\",\"-\")","v":"-"}]
[null,null,4,"",null,null,null,"-",{"$f":"IF(OR(IFERROR(MATCH($D466,'Transparency List 2018_10'!$L:$L,0),FALSE),IFERROR(MATCH(TRIM($G466),'Transparency List 2018_10'!$D:$D,0),FALSE)),\"On the 2018_10 List\",\"-\")","v":"-"},{"$f":"IF(OR(IFERROR(MATCH($D466,'Transparency List 2018_04'!$L:$L,0),FALSE),IFERROR(MATCH(TRIM($G466),'Transparency List 2018_04'!$D:$D,0),FALSE)),\"On the 2018_04 List\",\"-\")","v":"-"},{"$f":"IF(OR(IFERROR(MATCH($D466,'Transparency List 2017'!$L:$L,0),FALSE),IFERROR(MATCH(TRIM($G466),'Transparency List 2017'!$C:$C,0),FALSE)),\"On the 2017 List\",\"-\")","v":"-"},{"$f":"IF(OR(IFERROR(MATCH($D466,'Transparency List 2015'!$H:$H,0),FALSE),IFERROR(MATCH(TRIM($G466),'Transparency List 2015'!$C:$C,0),FALSE)),\"On the 2015 List\",\"-\")","v":"-"}]
[null,null,4,"",null,null,null,"-",{"$f":"IF(OR(IFERROR(MATCH($D467,'Transparency List 2018_10'!$L:$L,0),FALSE),IFERROR(MATCH(TRIM($G467),'Transparency List 2018_10'!$D:$D,0),FALSE)),\"On the 2018_10 List\",\"-\")","v":"-"},{"$f":"IF(OR(IFERROR(MATCH($D467,'Transparency List 2018_04'!$L:$L,0),FALSE),IFERROR(MATCH(TRIM($G467),'Transparency List 2018_04'!$D:$D,0),FALSE)),\"On the 2018_04 List\",\"-\")","v":"-"},{"$f":"IF(OR(IFERROR(MATCH($D467,'Transparency List 2017'!$L:$L,0),FALSE),IFERROR(MATCH(TRIM($G467),'Transparency List 2017'!$C:$C,0),FALSE)),\"On the 2017 List\",\"-\")","v":"-"},{"$f":"IF(OR(IFERROR(MATCH($D467,'Transparency List 2015'!$H:$H,0),FALSE),IFERROR(MATCH(TRIM($G467),'Transparency List 2015'!$C:$C,0),FALSE)),\"On the 2015 List\",\"-\")","v":"-"}]
[null,null,4,"",null,null,null,"-",{"$f":"IF(OR(IFERROR(MATCH($D468,'Transparency List 2018_10'!$L:$L,0),FALSE),IFERROR(MATCH(TRIM($G468),'Transparency List 2018_10'!$D:$D,0),FALSE)),\"On the 2018_10 List\",\"-\")","v":"-"},{"$f":"IF(OR(IFERROR(MATCH($D468,'Transparency List 2018_04'!$L:$L,0),FALSE),IFERROR(MATCH(TRIM($G468),'Transparency List 2018_04'!$D:$D,0),FALSE)),\"On the 2018_04 List\",\"-\")","v":"-"},{"$f":"IF(OR(IFERROR(MATCH($D468,'Transparency List 2017'!$L:$L,0),FALSE),IFERROR(MATCH(TRIM($G468),'Transparency List 2017'!$C:$C,0),FALSE)),\"On the 2017 List\",\"-\")","v":"-"},{"$f":"IF(OR(IFERROR(MATCH($D468,'Transparency List 2015'!$H:$H,0),FALSE),IFERROR(MATCH(TRIM($G468),'Transparency List 2015'!$C:$C,0),FALSE)),\"On the 2015 List\",\"-\")","v":"-"}]
[null,null,4,"",null,null,null,"-",{"$f":"IF(OR(IFERROR(MATCH($D469,'Transparency List 2018_10'!$L:$L,0),FALSE),IFERROR(MATCH(TRIM($G469),'Transparency List 2018_10'!$D:$D,0),FALSE)),\"On the 2018_10 List\",\"-\")","v":"-"},{"$f":"IF(OR(IFERROR(MATCH($D469,'Transparency List 2018_04'!$L:$L,0),FALSE),IFERROR(MATCH(TRIM($G469),'Transparency List 2018_04'!$D:$D,0),FALSE)),\"On the 2018_04 List\",\"-\")","v":"-"},{"$f":"IF(OR(IFERROR(MATCH($D469,'Transparency List 2017'!$L:$L,0),FALSE),IFERROR(MATCH(TRIM($G469),'Transparency List 2017'!$C:$C,0),FALSE)),\"On the 2017 List\",\"-\")","v":"-"},{"$f":"IF(OR(IFERROR(MATCH($D469,'Transparency List 2015'!$H:$H,0),FALSE),IFERROR(MATCH(TRIM($G469),'Transparency List 2015'!$C:$C,0),FALSE)),\"On the 2015 List\",\"-\")","v":"-"}]
[null,null,4,"",null,null,null,"-",{"$f":"IF(OR(IFERROR(MATCH($D470,'Transparency List 2018_10'!$L:$L,0),FALSE),IFERROR(MATCH(TRIM($G470),'Transparency List 2018_10'!$D:$D,0),FALSE)),\"On the 2018_10 List\",\"-\")","v":"-"},{"$f":"IF(OR(IFERROR(MATCH($D470,'Transparency List 2018_04'!$L:$L,0),FALSE),IFERROR(MATCH(TRIM($G470),'Transparency List 2018_04'!$D:$D,0),FALSE)),\"On the 2018_04 List\",\"-\")","v":"-"},{"$f":"IF(OR(IFERROR(MATCH($D470,'Transparency List 2017'!$L:$L,0),FALSE),IFERROR(MATCH(TRIM($G470),'Transparency List 2017'!$C:$C,0),FALSE)),\"On the 2017 List\",\"-\")","v":"-"},{"$f":"IF(OR(IFERROR(MATCH($D470,'Transparency List 2015'!$H:$H,0),FALSE),IFERROR(MATCH(TRIM($G470),'Transparency List 2015'!$C:$C,0),FALSE)),\"On the 2015 List\",\"-\")","v":"-"}]
[null,null,4,"",null,null,null,"-",{"$f":"IF(OR(IFERROR(MATCH($D471,'Transparency List 2018_10'!$L:$L,0),FALSE),IFERROR(MATCH(TRIM($G471),'Transparency List 2018_10'!$D:$D,0),FALSE)),\"On the 2018_10 List\",\"-\")","v":"-"},{"$f":"IF(OR(IFERROR(MATCH($D471,'Transparency List 2018_04'!$L:$L,0),FALSE),IFERROR(MATCH(TRIM($G471),'Transparency List 2018_04'!$D:$D,0),FALSE)),\"On the 2018_04 List\",\"-\")","v":"-"},{"$f":"IF(OR(IFERROR(MATCH($D471,'Transparency List 2017'!$L:$L,0),FALSE),IFERROR(MATCH(TRIM($G471),'Transparency List 2017'!$C:$C,0),FALSE)),\"On the 2017 List\",\"-\")","v":"-"},{"$f":"IF(OR(IFERROR(MATCH($D471,'Transparency List 2015'!$H:$H,0),FALSE),IFERROR(MATCH(TRIM($G471),'Transparency List 2015'!$C:$C,0),FALSE)),\"On the 2015 List\",\"-\")","v":"-"}]
[null,null,4,"",null,null,null,"-",{"$f":"IF(OR(IFERROR(MATCH($D472,'Transparency List 2018_10'!$L:$L,0),FALSE),IFERROR(MATCH(TRIM($G472),'Transparency List 2018_10'!$D:$D,0),FALSE)),\"On the 2018_10 List\",\"-\")","v":"-"},{"$f":"IF(OR(IFERROR(MATCH($D472,'Transparency List 2018_04'!$L:$L,0),FALSE),IFERROR(MATCH(TRIM($G472),'Transparency List 2018_04'!$D:$D,0),FALSE)),\"On the 2018_04 List\",\"-\")","v":"-"},{"$f":"IF(OR(IFERROR(MATCH($D472,'Transparency List 2017'!$L:$L,0),FALSE),IFERROR(MATCH(TRIM($G472),'Transparency List 2017'!$C:$C,0),FALSE)),\"On the 2017 List\",\"-\")","v":"-"},{"$f":"IF(OR(IFERROR(MATCH($D472,'Transparency List 2015'!$H:$H,0),FALSE),IFERROR(MATCH(TRIM($G472),'Transparency List 2015'!$C:$C,0),FALSE)),\"On the 2015 List\",\"-\")","v":"-"}]
[null,null,4,"",null,null,null,"-",{"$f":"IF(OR(IFERROR(MATCH($D473,'Transparency List 2018_10'!$L:$L,0),FALSE),IFERROR(MATCH(TRIM($G473),'Transparency List 2018_10'!$D:$D,0),FALSE)),\"On the 2018_10 List\",\"-\")","v":"-"},{"$f":"IF(OR(IFERROR(MATCH($D473,'Transparency List 2018_04'!$L:$L,0),FALSE),IFERROR(MATCH(TRIM($G473),'Transparency List 2018_04'!$D:$D,0),FALSE)),\"On the 2018_04 List\",\"-\")","v":"-"},{"$f":"IF(OR(IFERROR(MATCH($D473,'Transparency List 2017'!$L:$L,0),FALSE),IFERROR(MATCH(TRIM($G473),'Transparency List 2017'!$C:$C,0),FALSE)),\"On the 2017 List\",\"-\")","v":"-"},{"$f":"IF(OR(IFERROR(MATCH($D473,'Transparency List 2015'!$H:$H,0),FALSE),IFERROR(MATCH(TRIM($G473),'Transparency List 2015'!$C:$C,0),FALSE)),\"On the 2015 List\",\"-\")","v":"-"}]
[null,null,4,"",null,null,null,"-",{"$f":"IF(OR(IFERROR(MATCH($D474,'Transparency List 2018_10'!$L:$L,0),FALSE),IFERROR(MATCH(TRIM($G474),'Transparency List 2018_10'!$D:$D,0),FALSE)),\"On the 2018_10 List\",\"-\")","v":"-"},{"$f":"IF(OR(IFERROR(MATCH($D474,'Transparency List 2018_04'!$L:$L,0),FALSE),IFERROR(MATCH(TRIM($G474),'Transparency List 2018_04'!$D:$D,0),FALSE)),\"On the 2018_04 List\",\"-\")","v":"-"},{"$f":"IF(OR(IFERROR(MATCH($D474,'Transparency List 2017'!$L:$L,0),FALSE),IFERROR(MATCH(TRIM($G474),'Transparency List 2017'!$C:$C,0),FALSE)),\"On the 2017 List\",\"-\")","v":"-"},{"$f":"IF(OR(IFERROR(MATCH($D474,'Transparency List 2015'!$H:$H,0),FALSE),IFERROR(MATCH(TRIM($G474),'Transparency List 2015'!$C:$C,0),FALSE)),\"On the 2015 List\",\"-\")","v":"-"}]
[null,null,4,"",null,null,null,"-",{"$f":"IF(OR(IFERROR(MATCH($D475,'Transparency List 2018_10'!$L:$L,0),FALSE),IFERROR(MATCH(TRIM($G475),'Transparency List 2018_10'!$D:$D,0),FALSE)),\"On the 2018_10 List\",\"-\")","v":"-"},{"$f":"IF(OR(IFERROR(MATCH($D475,'Transparency List 2018_04'!$L:$L,0),FALSE),IFERROR(MATCH(TRIM($G475),'Transparency List 2018_04'!$D:$D,0),FALSE)),\"On the 2018_04 List\",\"-\")","v":"-"},{"$f":"IF(OR(IFERROR(MATCH($D475,'Transparency List 2017'!$L:$L,0),FALSE),IFERROR(MATCH(TRIM($G475),'Transparency List 2017'!$C:$C,0),FALSE)),\"On the 2017 List\",\"-\")","v":"-"},{"$f":"IF(OR(IFERROR(MATCH($D475,'Transparency List 2015'!$H:$H,0),FALSE),IFERROR(MATCH(TRIM($G475),'Transparency List 2015'!$C:$C,0),FALSE)),\"On the 2015 List\",\"-\")","v":"-"}]
[null,null,4,"",null,null,null,"-",{"$f":"IF(OR(IFERROR(MATCH($D476,'Transparency List 2018_10'!$L:$L,0),FALSE),IFERROR(MATCH(TRIM($G476),'Transparency List 2018_10'!$D:$D,0),FALSE)),\"On the 2018_10 List\",\"-\")","v":"-"},{"$f":"IF(OR(IFERROR(MATCH($D476,'Transparency List 2018_04'!$L:$L,0),FALSE),IFERROR(MATCH(TRIM($G476),'Transparency List 2018_04'!$D:$D,0),FALSE)),\"On the 2018_04 List\",\"-\")","v":"-"},{"$f":"IF(OR(IFERROR(MATCH($D476,'Transparency List 2017'!$L:$L,0),FALSE),IFERROR(MATCH(TRIM($G476),'Transparency List 2017'!$C:$C,0),FALSE)),\"On the 2017 List\",\"-\")","v":"-"},{"$f":"IF(OR(IFERROR(MATCH($D476,'Transparency List 2015'!$H:$H,0),FALSE),IFERROR(MATCH(TRIM($G476),'Transparency List 2015'!$C:$C,0),FALSE)),\"On the 2015 List\",\"-\")","v":"-"}]
[null,null,4,"",null,null,null,"-",{"$f":"IF(OR(IFERROR(MATCH($D477,'Transparency List 2018_10'!$L:$L,0),FALSE),IFERROR(MATCH(TRIM($G477),'Transparency List 2018_10'!$D:$D,0),FALSE)),\"On the 2018_10 List\",\"-\")","v":"-"},{"$f":"IF(OR(IFERROR(MATCH($D477,'Transparency List 2018_04'!$L:$L,0),FALSE),IFERROR(MATCH(TRIM($G477),'Transparency List 2018_04'!$D:$D,0),FALSE)),\"On the 2018_04 List\",\"-\")","v":"-"},{"$f":"IF(OR(IFERROR(MATCH($D477,'Transparency List 2017'!$L:$L,0),FALSE),IFERROR(MATCH(TRIM($G477),'Transparency List 2017'!$C:$C,0),FALSE)),\"On the 2017 List\",\"-\")","v":"-"},{"$f":"IF(OR(IFERROR(MATCH($D477,'Transparency List 2015'!$H:$H,0),FALSE),IFERROR(MATCH(TRIM($G477),'Transparency List 2015'!$C:$C,0),FALSE)),\"On the 2015 List\",\"-\")","v":"-"}]
[null,null,4,"",null,null,null,"-",{"$f":"IF(OR(IFERROR(MATCH($D478,'Transparency List 2018_10'!$L:$L,0),FALSE),IFERROR(MATCH(TRIM($G478),'Transparency List 2018_10'!$D:$D,0),FALSE)),\"On the 2018_10 List\",\"-\")","v":"-"},{"$f":"IF(OR(IFERROR(MATCH($D478,'Transparency List 2018_04'!$L:$L,0),FALSE),IFERROR(MATCH(TRIM($G478),'Transparency List 2018_04'!$D:$D,0),FALSE)),\"On the 2018_04 List\",\"-\")","v":"-"},{"$f":"IF(OR(IFERROR(MATCH($D478,'Transparency List 2017'!$L:$L,0),FALSE),IFERROR(MATCH(TRIM($G478),'Transparency List 2017'!$C:$C,0),FALSE)),\"On the 2017 List\",\"-\")","v":"-"},{"$f":"IF(OR(IFERROR(MATCH($D478,'Transparency List 2015'!$H:$H,0),FALSE),IFERROR(MATCH(TRIM($G478),'Transparency List 2015'!$C:$C,0),FALSE)),\"On the 2015 List\",\"-\")","v":"-"}]
[null,null,{"$f":"COUNTIF($I479:$L479,\"-\")","v":4},{"$f":"SUBSTITUTE(SUBSTITUTE(SUBSTITUTE(SUBSTITUTE($G479,\" \",\"\"),\".\",\"\"),\"-\",\"\"),\"/\",\"\")","v":""},null,null,null,{"$f":"IFERROR(IF($C479=4,\"-\",\"Risk Farmer - Please conduct further steps\"),)","v":"-"},{"$f":"IF(OR(IFERROR(MATCH($D479,'Transparency List 2018_10'!$L:$L,0),FALSE),IFERROR(MATCH(TRIM($G479),'Transparency List 2018_10'!$D:$D,0),FALSE)),\"On the 2018_10 List\",\"-\")","v":"-"},{"$f":"IF(OR(IFERROR(MATCH($D479,'Transparency List 2018_04'!$L:$L,0),FALSE),IFERROR(MATCH(TRIM($G479),'Transparency List 2018_04'!$D:$D,0),FALSE)),\"On the 2018_04 List\",\"-\")","v":"-"},{"$f":"IF(OR(IFERROR(MATCH($D479,'Transparency List 2017'!$L:$L,0),FALSE),IFERROR(MATCH(TRIM($G479),'Transparency List 2017'!$C:$C,0),FALSE)),\"On the 2017 List\",\"-\")","v":"-"},{"$f":"IF(OR(IFERROR(MATCH($D479,'Transparency List 2015'!$H:$H,0),FALSE),IFERROR(MATCH(TRIM($G479),'Transparency List 2015'!$C:$C,0),FALSE)),\"On the 2015 List\",\"-\")","v":"-"}]
[null,null,4,"",null,null,null,"-",{"$f":"IF(OR(IFERROR(MATCH($D480,'Transparency List 2018_10'!$L:$L,0),FALSE),IFERROR(MATCH(TRIM($G480),'Transparency List 2018_10'!$D:$D,0),FALSE)),\"On the 2018_10 List\",\"-\")","v":"-"},{"$f":"IF(OR(IFERROR(MATCH($D480,'Transparency List 2018_04'!$L:$L,0),FALSE),IFERROR(MATCH(TRIM($G480),'Transparency List 2018_04'!$D:$D,0),FALSE)),\"On the 2018_04 List\",\"-\")","v":"-"},{"$f":"IF(OR(IFERROR(MATCH($D480,'Transparency List 2017'!$L:$L,0),FALSE),IFERROR(MATCH(TRIM($G480),'Transparency List 2017'!$C:$C,0),FALSE)),\"On the 2017 List\",\"-\")","v":"-"},{"$f":"IF(OR(IFERROR(MATCH($D480,'Transparency List 2015'!$H:$H,0),FALSE),IFERROR(MATCH(TRIM($G480),'Transparency List 2015'!$C:$C,0),FALSE)),\"On the 2015 List\",\"-\")","v":"-"}]
[null,null,4,"",null,null,null,"-",{"$f":"IF(OR(IFERROR(MATCH($D481,'Transparency List 2018_10'!$L:$L,0),FALSE),IFERROR(MATCH(TRIM($G481),'Transparency List 2018_10'!$D:$D,0),FALSE)),\"On the 2018_10 List\",\"-\")","v":"-"},{"$f":"IF(OR(IFERROR(MATCH($D481,'Transparency List 2018_04'!$L:$L,0),FALSE),IFERROR(MATCH(TRIM($G481),'Transparency List 2018_04'!$D:$D,0),FALSE)),\"On the 2018_04 List\",\"-\")","v":"-"},{"$f":"IF(OR(IFERROR(MATCH($D481,'Transparency List 2017'!$L:$L,0),FALSE),IFERROR(MATCH(TRIM($G481),'Transparency List 2017'!$C:$C,0),FALSE)),\"On the 2017 List\",\"-\")","v":"-"},{"$f":"IF(OR(IFERROR(MATCH($D481,'Transparency List 2015'!$H:$H,0),FALSE),IFERROR(MATCH(TRIM($G481),'Transparency List 2015'!$C:$C,0),FALSE)),\"On the 2015 List\",\"-\")","v":"-"}]
[null,null,4,"",null,null,null,"-",{"$f":"IF(OR(IFERROR(MATCH($D482,'Transparency List 2018_10'!$L:$L,0),FALSE),IFERROR(MATCH(TRIM($G482),'Transparency List 2018_10'!$D:$D,0),FALSE)),\"On the 2018_10 List\",\"-\")","v":"-"},{"$f":"IF(OR(IFERROR(MATCH($D482,'Transparency List 2018_04'!$L:$L,0),FALSE),IFERROR(MATCH(TRIM($G482),'Transparency List 2018_04'!$D:$D,0),FALSE)),\"On the 2018_04 List\",\"-\")","v":"-"},{"$f":"IF(OR(IFERROR(MATCH($D482,'Transparency List 2017'!$L:$L,0),FALSE),IFERROR(MATCH(TRIM($G482),'Transparency List 2017'!$C:$C,0),FALSE)),\"On the 2017 List\",\"-\")","v":"-"},{"$f":"IF(OR(IFERROR(MATCH($D482,'Transparency List 2015'!$H:$H,0),FALSE),IFERROR(MATCH(TRIM($G482),'Transparency List 2015'!$C:$C,0),FALSE)),\"On the 2015 List\",\"-\")","v":"-"}]
[null,null,4,"",null,null,null,"-",{"$f":"IF(OR(IFERROR(MATCH($D483,'Transparency List 2018_10'!$L:$L,0),FALSE),IFERROR(MATCH(TRIM($G483),'Transparency List 2018_10'!$D:$D,0),FALSE)),\"On the 2018_10 List\",\"-\")","v":"-"},{"$f":"IF(OR(IFERROR(MATCH($D483,'Transparency List 2018_04'!$L:$L,0),FALSE),IFERROR(MATCH(TRIM($G483),'Transparency List 2018_04'!$D:$D,0),FALSE)),\"On the 2018_04 List\",\"-\")","v":"-"},{"$f":"IF(OR(IFERROR(MATCH($D483,'Transparency List 2017'!$L:$L,0),FALSE),IFERROR(MATCH(TRIM($G483),'Transparency List 2017'!$C:$C,0),FALSE)),\"On the 2017 List\",\"-\")","v":"-"},{"$f":"IF(OR(IFERROR(MATCH($D483,'Transparency List 2015'!$H:$H,0),FALSE),IFERROR(MATCH(TRIM($G483),'Transparency List 2015'!$C:$C,0),FALSE)),\"On the 2015 List\",\"-\")","v":"-"}]
[null,null,4,"",null,null,null,"-",{"$f":"IF(OR(IFERROR(MATCH($D484,'Transparency List 2018_10'!$L:$L,0),FALSE),IFERROR(MATCH(TRIM($G484),'Transparency List 2018_10'!$D:$D,0),FALSE)),\"On the 2018_10 List\",\"-\")","v":"-"},{"$f":"IF(OR(IFERROR(MATCH($D484,'Transparency List 2018_04'!$L:$L,0),FALSE),IFERROR(MATCH(TRIM($G484),'Transparency List 2018_04'!$D:$D,0),FALSE)),\"On the 2018_04 List\",\"-\")","v":"-"},{"$f":"IF(OR(IFERROR(MATCH($D484,'Transparency List 2017'!$L:$L,0),FALSE),IFERROR(MATCH(TRIM($G484),'Transparency List 2017'!$C:$C,0),FALSE)),\"On the 2017 List\",\"-\")","v":"-"},{"$f":"IF(OR(IFERROR(MATCH($D484,'Transparency List 2015'!$H:$H,0),FALSE),IFERROR(MATCH(TRIM($G484),'Transparency List 2015'!$C:$C,0),FALSE)),\"On the 2015 List\",\"-\")","v":"-"}]
[null,null,4,"",null,null,null,"-",{"$f":"IF(OR(IFERROR(MATCH($D485,'Transparency List 2018_10'!$L:$L,0),FALSE),IFERROR(MATCH(TRIM($G485),'Transparency List 2018_10'!$D:$D,0),FALSE)),\"On the 2018_10 List\",\"-\")","v":"-"},{"$f":"IF(OR(IFERROR(MATCH($D485,'Transparency List 2018_04'!$L:$L,0),FALSE),IFERROR(MATCH(TRIM($G485),'Transparency List 2018_04'!$D:$D,0),FALSE)),\"On the 2018_04 List\",\"-\")","v":"-"},{"$f":"IF(OR(IFERROR(MATCH($D485,'Transparency List 2017'!$L:$L,0),FALSE),IFERROR(MATCH(TRIM($G485),'Transparency List 2017'!$C:$C,0),FALSE)),\"On the 2017 List\",\"-\")","v":"-"},{"$f":"IF(OR(IFERROR(MATCH($D485,'Transparency List 2015'!$H:$H,0),FALSE),IFERROR(MATCH(TRIM($G485),'Transparency List 2015'!$C:$C,0),FALSE)),\"On the 2015 List\",\"-\")","v":"-"}]
[null,null,4,"",null,null,null,"-",{"$f":"IF(OR(IFERROR(MATCH($D486,'Transparency List 2018_10'!$L:$L,0),FALSE),IFERROR(MATCH(TRIM($G486),'Transparency List 2018_10'!$D:$D,0),FALSE)),\"On the 2018_10 List\",\"-\")","v":"-"},{"$f":"IF(OR(IFERROR(MATCH($D486,'Transparency List 2018_04'!$L:$L,0),FALSE),IFERROR(MATCH(TRIM($G486),'Transparency List 2018_04'!$D:$D,0),FALSE)),\"On the 2018_04 List\",\"-\")","v":"-"},{"$f":"IF(OR(IFERROR(MATCH($D486,'Transparency List 2017'!$L:$L,0),FALSE),IFERROR(MATCH(TRIM($G486),'Transparency List 2017'!$C:$C,0),FALSE)),\"On the 2017 List\",\"-\")","v":"-"},{"$f":"IF(OR(IFERROR(MATCH($D486,'Transparency List 2015'!$H:$H,0),FALSE),IFERROR(MATCH(TRIM($G486),'Transparency List 2015'!$C:$C,0),FALSE)),\"On the 2015 List\",\"-\")","v":"-"}]
[null,null,4,"",null,null,null,"-",{"$f":"IF(OR(IFERROR(MATCH($D487,'Transparency List 2018_10'!$L:$L,0),FALSE),IFERROR(MATCH(TRIM($G487),'Transparency List 2018_10'!$D:$D,0),FALSE)),\"On the 2018_10 List\",\"-\")","v":"-"},{"$f":"IF(OR(IFERROR(MATCH($D487,'Transparency List 2018_04'!$L:$L,0),FALSE),IFERROR(MATCH(TRIM($G487),'Transparency List 2018_04'!$D:$D,0),FALSE)),\"On the 2018_04 List\",\"-\")","v":"-"},{"$f":"IF(OR(IFERROR(MATCH($D487,'Transparency List 2017'!$L:$L,0),FALSE),IFERROR(MATCH(TRIM($G487),'Transparency List 2017'!$C:$C,0),FALSE)),\"On the 2017 List\",\"-\")","v":"-"},{"$f":"IF(OR(IFERROR(MATCH($D487,'Transparency List 2015'!$H:$H,0),FALSE),IFERROR(MATCH(TRIM($G487),'Transparency List 2015'!$C:$C,0),FALSE)),\"On the 2015 List\",\"-\")","v":"-"}]
[null,null,4,"",null,null,null,"-",{"$f":"IF(OR(IFERROR(MATCH($D488,'Transparency List 2018_10'!$L:$L,0),FALSE),IFERROR(MATCH(TRIM($G488),'Transparency List 2018_10'!$D:$D,0),FALSE)),\"On the 2018_10 List\",\"-\")","v":"-"},{"$f":"IF(OR(IFERROR(MATCH($D488,'Transparency List 2018_04'!$L:$L,0),FALSE),IFERROR(MATCH(TRIM($G488),'Transparency List 2018_04'!$D:$D,0),FALSE)),\"On the 2018_04 List\",\"-\")","v":"-"},{"$f":"IF(OR(IFERROR(MATCH($D488,'Transparency List 2017'!$L:$L,0),FALSE),IFERROR(MATCH(TRIM($G488),'Transparency List 2017'!$C:$C,0),FALSE)),\"On the 2017 List\",\"-\")","v":"-"},{"$f":"IF(OR(IFERROR(MATCH($D488,'Transparency List 2015'!$H:$H,0),FALSE),IFERROR(MATCH(TRIM($G488),'Transparency List 2015'!$C:$C,0),FALSE)),\"On the 2015 List\",\"-\")","v":"-"}]
[null,null,4,"",null,null,null,"-",{"$f":"IF(OR(IFERROR(MATCH($D489,'Transparency List 2018_10'!$L:$L,0),FALSE),IFERROR(MATCH(TRIM($G489),'Transparency List 2018_10'!$D:$D,0),FALSE)),\"On the 2018_10 List\",\"-\")","v":"-"},{"$f":"IF(OR(IFERROR(MATCH($D489,'Transparency List 2018_04'!$L:$L,0),FALSE),IFERROR(MATCH(TRIM($G489),'Transparency List 2018_04'!$D:$D,0),FALSE)),\"On the 2018_04 List\",\"-\")","v":"-"},{"$f":"IF(OR(IFERROR(MATCH($D489,'Transparency List 2017'!$L:$L,0),FALSE),IFERROR(MATCH(TRIM($G489),'Transparency List 2017'!$C:$C,0),FALSE)),\"On the 2017 List\",\"-\")","v":"-"},{"$f":"IF(OR(IFERROR(MATCH($D489,'Transparency List 2015'!$H:$H,0),FALSE),IFERROR(MATCH(TRIM($G489),'Transparency List 2015'!$C:$C,0),FALSE)),\"On the 2015 List\",\"-\")","v":"-"}]
[null,null,4,"",null,null,null,"-",{"$f":"IF(OR(IFERROR(MATCH($D490,'Transparency List 2018_10'!$L:$L,0),FALSE),IFERROR(MATCH(TRIM($G490),'Transparency List 2018_10'!$D:$D,0),FALSE)),\"On the 2018_10 List\",\"-\")","v":"-"},{"$f":"IF(OR(IFERROR(MATCH($D490,'Transparency List 2018_04'!$L:$L,0),FALSE),IFERROR(MATCH(TRIM($G490),'Transparency List 2018_04'!$D:$D,0),FALSE)),\"On the 2018_04 List\",\"-\")","v":"-"},{"$f":"IF(OR(IFERROR(MATCH($D490,'Transparency List 2017'!$L:$L,0),FALSE),IFERROR(MATCH(TRIM($G490),'Transparency List 2017'!$C:$C,0),FALSE)),\"On the 2017 List\",\"-\")","v":"-"},{"$f":"IF(OR(IFERROR(MATCH($D490,'Transparency List 2015'!$H:$H,0),FALSE),IFERROR(MATCH(TRIM($G490),'Transparency List 2015'!$C:$C,0),FALSE)),\"On the 2015 List\",\"-\")","v":"-"}]
[null,null,4,"",null,null,null,"-",{"$f":"IF(OR(IFERROR(MATCH($D491,'Transparency List 2018_10'!$L:$L,0),FALSE),IFERROR(MATCH(TRIM($G491),'Transparency List 2018_10'!$D:$D,0),FALSE)),\"On the 2018_10 List\",\"-\")","v":"-"},{"$f":"IF(OR(IFERROR(MATCH($D491,'Transparency List 2018_04'!$L:$L,0),FALSE),IFERROR(MATCH(TRIM($G491),'Transparency List 2018_04'!$D:$D,0),FALSE)),\"On the 2018_04 List\",\"-\")","v":"-"},{"$f":"IF(OR(IFERROR(MATCH($D491,'Transparency List 2017'!$L:$L,0),FALSE),IFERROR(MATCH(TRIM($G491),'Transparency List 2017'!$C:$C,0),FALSE)),\"On the 2017 List\",\"-\")","v":"-"},{"$f":"IF(OR(IFERROR(MATCH($D491,'Transparency List 2015'!$H:$H,0),FALSE),IFERROR(MATCH(TRIM($G491),'Transparency List 2015'!$C:$C,0),FALSE)),\"On the 2015 List\",\"-\")","v":"-"}]
[null,null,4,"",null,null,null,"-",{"$f":"IF(OR(IFERROR(MATCH($D492,'Transparency List 2018_10'!$L:$L,0),FALSE),IFERROR(MATCH(TRIM($G492),'Transparency List 2018_10'!$D:$D,0),FALSE)),\"On the 2018_10 List\",\"-\")","v":"-"},{"$f":"IF(OR(IFERROR(MATCH($D492,'Transparency List 2018_04'!$L:$L,0),FALSE),IFERROR(MATCH(TRIM($G492),'Transparency List 2018_04'!$D:$D,0),FALSE)),\"On the 2018_04 List\",\"-\")","v":"-"},{"$f":"IF(OR(IFERROR(MATCH($D492,'Transparency List 2017'!$L:$L,0),FALSE),IFERROR(MATCH(TRIM($G492),'Transparency List 2017'!$C:$C,0),FALSE)),\"On the 2017 List\",\"-\")","v":"-"},{"$f":"IF(OR(IFERROR(MATCH($D492,'Transparency List 2015'!$H:$H,0),FALSE),IFERROR(MATCH(TRIM($G492),'Transparency List 2015'!$C:$C,0),FALSE)),\"On the 2015 List\",\"-\")","v":"-"}]
[null,null,4,"",null,null,null,"-",{"$f":"IF(OR(IFERROR(MATCH($D493,'Transparency List 2018_10'!$L:$L,0),FALSE),IFERROR(MATCH(TRIM($G493),'Transparency List 2018_10'!$D:$D,0),FALSE)),\"On the 2018_10 List\",\"-\")","v":"-"},{"$f":"IF(OR(IFERROR(MATCH($D493,'Transparency List 2018_04'!$L:$L,0),FALSE),IFERROR(MATCH(TRIM($G493),'Transparency List 2018_04'!$D:$D,0),FALSE)),\"On the 2018_04 List\",\"-\")","v":"-"},{"$f":"IF(OR(IFERROR(MATCH($D493,'Transparency List 2017'!$L:$L,0),FALSE),IFERROR(MATCH(TRIM($G493),'Transparency List 2017'!$C:$C,0),FALSE)),\"On the 2017 List\",\"-\")","v":"-"},{"$f":"IF(OR(IFERROR(MATCH($D493,'Transparency List 2015'!$H:$H,0),FALSE),IFERROR(MATCH(TRIM($G493),'Transparency List 2015'!$C:$C,0),FALSE)),\"On the 2015 List\",\"-\")","v":"-"}]
[null,null,4,"",null,null,null,"-",{"$f":"IF(OR(IFERROR(MATCH($D494,'Transparency List 2018_10'!$L:$L,0),FALSE),IFERROR(MATCH(TRIM($G494),'Transparency List 2018_10'!$D:$D,0),FALSE)),\"On the 2018_10 List\",\"-\")","v":"-"},{"$f":"IF(OR(IFERROR(MATCH($D494,'Transparency List 2018_04'!$L:$L,0),FALSE),IFERROR(MATCH(TRIM($G494),'Transparency List 2018_04'!$D:$D,0),FALSE)),\"On the 2018_04 List\",\"-\")","v":"-"},{"$f":"IF(OR(IFERROR(MATCH($D494,'Transparency List 2017'!$L:$L,0),FALSE),IFERROR(MATCH(TRIM($G494),'Transparency List 2017'!$C:$C,0),FALSE)),\"On the 2017 List\",\"-\")","v":"-"},{"$f":"IF(OR(IFERROR(MATCH($D494,'Transparency List 2015'!$H:$H,0),FALSE),IFERROR(MATCH(TRIM($G494),'Transparency List 2015'!$C:$C,0),FALSE)),\"On the 2015 List\",\"-\")","v":"-"}]
[null,null,4,"",null,null,null,"-",{"$f":"IF(OR(IFERROR(MATCH($D495,'Transparency List 2018_10'!$L:$L,0),FALSE),IFERROR(MATCH(TRIM($G495),'Transparency List 2018_10'!$D:$D,0),FALSE)),\"On the 2018_10 List\",\"-\")","v":"-"},{"$f":"IF(OR(IFERROR(MATCH($D495,'Transparency List 2018_04'!$L:$L,0),FALSE),IFERROR(MATCH(TRIM($G495),'Transparency List 2018_04'!$D:$D,0),FALSE)),\"On the 2018_04 List\",\"-\")","v":"-"},{"$f":"IF(OR(IFERROR(MATCH($D495,'Transparency List 2017'!$L:$L,0),FALSE),IFERROR(MATCH(TRIM($G495),'Transparency List 2017'!$C:$C,0),FALSE)),\"On the 2017 List\",\"-\")","v":"-"},{"$f":"IF(OR(IFERROR(MATCH($D495,'Transparency List 2015'!$H:$H,0),FALSE),IFERROR(MATCH(TRIM($G495),'Transparency List 2015'!$C:$C,0),FALSE)),\"On the 2015 List\",\"-\")","v":"-"}]
[null,null,4,"",null,null,null,"-",{"$f":"IF(OR(IFERROR(MATCH($D496,'Transparency List 2018_10'!$L:$L,0),FALSE),IFERROR(MATCH(TRIM($G496),'Transparency List 2018_10'!$D:$D,0),FALSE)),\"On the 2018_10 List\",\"-\")","v":"-"},{"$f":"IF(OR(IFERROR(MATCH($D496,'Transparency List 2018_04'!$L:$L,0),FALSE),IFERROR(MATCH(TRIM($G496),'Transparency List 2018_04'!$D:$D,0),FALSE)),\"On the 2018_04 List\",\"-\")","v":"-"},{"$f":"IF(OR(IFERROR(MATCH($D496,'Transparency List 2017'!$L:$L,0),FALSE),IFERROR(MATCH(TRIM($G496),'Transparency List 2017'!$C:$C,0),FALSE)),\"On the 2017 List\",\"-\")","v":"-"},{"$f":"IF(OR(IFERROR(MATCH($D496,'Transparency List 2015'!$H:$H,0),FALSE),IFERROR(MATCH(TRIM($G496),'Transparency List 2015'!$C:$C,0),FALSE)),\"On the 2015 List\",\"-\")","v":"-"}]
[null,null,4,"",null,null,null,"-",{"$f":"IF(OR(IFERROR(MATCH($D497,'Transparency List 2018_10'!$L:$L,0),FALSE),IFERROR(MATCH(TRIM($G497),'Transparency List 2018_10'!$D:$D,0),FALSE)),\"On the 2018_10 List\",\"-\")","v":"-"},{"$f":"IF(OR(IFERROR(MATCH($D497,'Transparency List 2018_04'!$L:$L,0),FALSE),IFERROR(MATCH(TRIM($G497),'Transparency List 2018_04'!$D:$D,0),FALSE)),\"On the 2018_04 List\",\"-\")","v":"-"},{"$f":"IF(OR(IFERROR(MATCH($D497,'Transparency List 2017'!$L:$L,0),FALSE),IFERROR(MATCH(TRIM($G497),'Transparency List 2017'!$C:$C,0),FALSE)),\"On the 2017 List\",\"-\")","v":"-"},{"$f":"IF(OR(IFERROR(MATCH($D497,'Transparency List 2015'!$H:$H,0),FALSE),IFERROR(MATCH(TRIM($G497),'Transparency List 2015'!$C:$C,0),FALSE)),\"On the 2015 List\",\"-\")","v":"-"}]
[null,null,4,"",null,null,null,"-",{"$f":"IF(OR(IFERROR(MATCH($D498,'Transparency List 2018_10'!$L:$L,0),FALSE),IFERROR(MATCH(TRIM($G498),'Transparency List 2018_10'!$D:$D,0),FALSE)),\"On the 2018_10 List\",\"-\")","v":"-"},{"$f":"IF(OR(IFERROR(MATCH($D498,'Transparency List 2018_04'!$L:$L,0),FALSE),IFERROR(MATCH(TRIM($G498),'Transparency List 2018_04'!$D:$D,0),FALSE)),\"On the 2018_04 List\",\"-\")","v":"-"},{"$f":"IF(OR(IFERROR(MATCH($D498,'Transparency List 2017'!$L:$L,0),FALSE),IFERROR(MATCH(TRIM($G498),'Transparency List 2017'!$C:$C,0),FALSE)),\"On the 2017 List\",\"-\")","v":"-"},{"$f":"IF(OR(IFERROR(MATCH($D498,'Transparency List 2015'!$H:$H,0),FALSE),IFERROR(MATCH(TRIM($G498),'Transparency List 2015'!$C:$C,0),FALSE)),\"On the 2015 List\",\"-\")","v":"-"}]
[null,null,4,"",null,null,null,"-",{"$f":"IF(OR(IFERROR(MATCH($D499,'Transparency List 2018_10'!$L:$L,0),FALSE),IFERROR(MATCH(TRIM($G499),'Transparency List 2018_10'!$D:$D,0),FALSE)),\"On the 2018_10 List\",\"-\")","v":"-"},{"$f":"IF(OR(IFERROR(MATCH($D499,'Transparency List 2018_04'!$L:$L,0),FALSE),IFERROR(MATCH(TRIM($G499),'Transparency List 2018_04'!$D:$D,0),FALSE)),\"On the 2018_04 List\",\"-\")","v":"-"},{"$f":"IF(OR(IFERROR(MATCH($D499,'Transparency List 2017'!$L:$L,0),FALSE),IFERROR(MATCH(TRIM($G499),'Transparency List 2017'!$C:$C,0),FALSE)),\"On the 2017 List\",\"-\")","v":"-"},{"$f":"IF(OR(IFERROR(MATCH($D499,'Transparency List 2015'!$H:$H,0),FALSE),IFERROR(MATCH(TRIM($G499),'Transparency List 2015'!$C:$C,0),FALSE)),\"On the 2015 List\",\"-\")","v":"-"}]
[null,null,4,"",null,null,null,"-",{"$f":"IF(OR(IFERROR(MATCH($D500,'Transparency List 2018_10'!$L:$L,0),FALSE),IFERROR(MATCH(TRIM($G500),'Transparency List 2018_10'!$D:$D,0),FALSE)),\"On the 2018_10 List\",\"-\")","v":"-"},{"$f":"IF(OR(IFERROR(MATCH($D500,'Transparency List 2018_04'!$L:$L,0),FALSE),IFERROR(MATCH(TRIM($G500),'Transparency List 2018_04'!$D:$D,0),FALSE)),\"On the 2018_04 List\",\"-\")","v":"-"},{"$f":"IF(OR(IFERROR(MATCH($D500,'Transparency List 2017'!$L:$L,0),FALSE),IFERROR(MATCH(TRIM($G500),'Transparency List 2017'!$C:$C,0),FALSE)),\"On the 2017 List\",\"-\")","v":"-"},{"$f":"IF(OR(IFERROR(MATCH($D500,'Transparency List 2015'!$H:$H,0),FALSE),IFERROR(MATCH(TRIM($G500),'Transparency List 2015'!$C:$C,0),FALSE)),\"On the 2015 List\",\"-\")","v":"-"}]
[null,null,4,"",null,null,null,"-",{"$f":"IF(OR(IFERROR(MATCH($D501,'Transparency List 2018_10'!$L:$L,0),FALSE),IFERROR(MATCH(TRIM($G501),'Transparency List 2018_10'!$D:$D,0),FALSE)),\"On the 2018_10 List\",\"-\")","v":"-"},{"$f":"IF(OR(IFERROR(MATCH($D501,'Transparency List 2018_04'!$L:$L,0),FALSE),IFERROR(MATCH(TRIM($G501),'Transparency List 2018_04'!$D:$D,0),FALSE)),\"On the 2018_04 List\",\"-\")","v":"-"},{"$f":"IF(OR(IFERROR(MATCH($D501,'Transparency List 2017'!$L:$L,0),FALSE),IFERROR(MATCH(TRIM($G501),'Transparency List 2017'!$C:$C,0),FALSE)),\"On the 2017 List\",\"-\")","v":"-"},{"$f":"IF(OR(IFERROR(MATCH($D501,'Transparency List 2015'!$H:$H,0),FALSE),IFERROR(MATCH(TRIM($G501),'Transparency List 2015'!$C:$C,0),FALSE)),\"On the 2015 List\",\"-\")","v":"-"}]
[null,null,4,"",null,null,null,"-",{"$f":"IF(OR(IFERROR(MATCH($D502,'Transparency List 2018_10'!$L:$L,0),FALSE),IFERROR(MATCH(TRIM($G502),'Transparency List 2018_10'!$D:$D,0),FALSE)),\"On the 2018_10 List\",\"-\")","v":"-"},{"$f":"IF(OR(IFERROR(MATCH($D502,'Transparency List 2018_04'!$L:$L,0),FALSE),IFERROR(MATCH(TRIM($G502),'Transparency List 2018_04'!$D:$D,0),FALSE)),\"On the 2018_04 List\",\"-\")","v":"-"},{"$f":"IF(OR(IFERROR(MATCH($D502,'Transparency List 2017'!$L:$L,0),FALSE),IFERROR(MATCH(TRIM($G502),'Transparency List 2017'!$C:$C,0),FALSE)),\"On the 2017 List\",\"-\")","v":"-"},{"$f":"IF(OR(IFERROR(MATCH($D502,'Transparency List 2015'!$H:$H,0),FALSE),IFERROR(MATCH(TRIM($G502),'Transparency List 2015'!$C:$C,0),FALSE)),\"On the 2015 List\",\"-\")","v":"-"}]
[null,null,4,"",null,null,null,"-",{"$f":"IF(OR(IFERROR(MATCH($D503,'Transparency List 2018_10'!$L:$L,0),FALSE),IFERROR(MATCH(TRIM($G503),'Transparency List 2018_10'!$D:$D,0),FALSE)),\"On the 2018_10 List\",\"-\")","v":"-"},{"$f":"IF(OR(IFERROR(MATCH($D503,'Transparency List 2018_04'!$L:$L,0),FALSE),IFERROR(MATCH(TRIM($G503),'Transparency List 2018_04'!$D:$D,0),FALSE)),\"On the 2018_04 List\",\"-\")","v":"-"},{"$f":"IF(OR(IFERROR(MATCH($D503,'Transparency List 2017'!$L:$L,0),FALSE),IFERROR(MATCH(TRIM($G503),'Transparency List 2017'!$C:$C,0),FALSE)),\"On the 2017 List\",\"-\")","v":"-"},{"$f":"IF(OR(IFERROR(MATCH($D503,'Transparency List 2015'!$H:$H,0),FALSE),IFERROR(MATCH(TRIM($G503),'Transparency List 2015'!$C:$C,0),FALSE)),\"On the 2015 List\",\"-\")","v":"-"}]
[null,null,4,"",null,null,null,"-",{"$f":"IF(OR(IFERROR(MATCH($D504,'Transparency List 2018_10'!$L:$L,0),FALSE),IFERROR(MATCH(TRIM($G504),'Transparency List 2018_10'!$D:$D,0),FALSE)),\"On the 2018_10 List\",\"-\")","v":"-"},{"$f":"IF(OR(IFERROR(MATCH($D504,'Transparency List 2018_04'!$L:$L,0),FALSE),IFERROR(MATCH(TRIM($G504),'Transparency List 2018_04'!$D:$D,0),FALSE)),\"On the 2018_04 List\",\"-\")","v":"-"},{"$f":"IF(OR(IFERROR(MATCH($D504,'Transparency List 2017'!$L:$L,0),FALSE),IFERROR(MATCH(TRIM($G504),'Transparency List 2017'!$C:$C,0),FALSE)),\"On the 2017 List\",\"-\")","v":"-"},{"$f":"IF(OR(IFERROR(MATCH($D504,'Transparency List 2015'!$H:$H,0),FALSE),IFERROR(MATCH(TRIM($G504),'Transparency List 2015'!$C:$C,0),FALSE)),\"On the 2015 List\",\"-\")","v":"-"}]
[null,null,4,"",null,null,null,"-",{"$f":"IF(OR(IFERROR(MATCH($D505,'Transparency List 2018_10'!$L:$L,0),FALSE),IFERROR(MATCH(TRIM($G505),'Transparency List 2018_10'!$D:$D,0),FALSE)),\"On the 2018_10 List\",\"-\")","v":"-"},{"$f":"IF(OR(IFERROR(MATCH($D505,'Transparency List 2018_04'!$L:$L,0),FALSE),IFERROR(MATCH(TRIM($G505),'Transparency List 2018_04'!$D:$D,0),FALSE)),\"On the 2018_04 List\",\"-\")","v":"-"},{"$f":"IF(OR(IFERROR(MATCH($D505,'Transparency List 2017'!$L:$L,0),FALSE),IFERROR(MATCH(TRIM($G505),'Transparency List 2017'!$C:$C,0),FALSE)),\"On the 2017 List\",\"-\")","v":"-"},{"$f":"IF(OR(IFERROR(MATCH($D505,'Transparency List 2015'!$H:$H,0),FALSE),IFERROR(MATCH(TRIM($G505),'Transparency List 2015'!$C:$C,0),FALSE)),\"On the 2015 List\",\"-\")","v":"-"}]
[null,null,4,"",null,null,null,"-",{"$f":"IF(OR(IFERROR(MATCH($D506,'Transparency List 2018_10'!$L:$L,0),FALSE),IFERROR(MATCH(TRIM($G506),'Transparency List 2018_10'!$D:$D,0),FALSE)),\"On the 2018_10 List\",\"-\")","v":"-"},{"$f":"IF(OR(IFERROR(MATCH($D506,'Transparency List 2018_04'!$L:$L,0),FALSE),IFERROR(MATCH(TRIM($G506),'Transparency List 2018_04'!$D:$D,0),FALSE)),\"On the 2018_04 List\",\"-\")","v":"-"},{"$f":"IF(OR(IFERROR(MATCH($D506,'Transparency List 2017'!$L:$L,0),FALSE),IFERROR(MATCH(TRIM($G506),'Transparency List 2017'!$C:$C,0),FALSE)),\"On the 2017 List\",\"-\")","v":"-"},{"$f":"IF(OR(IFERROR(MATCH($D506,'Transparency List 2015'!$H:$H,0),FALSE),IFERROR(MATCH(TRIM($G506),'Transparency List 2015'!$C:$C,0),FALSE)),\"On the 2015 List\",\"-\")","v":"-"}]
[null,null,4,"",null,null,null,"-",{"$f":"IF(OR(IFERROR(MATCH($D507,'Transparency List 2018_10'!$L:$L,0),FALSE),IFERROR(MATCH(TRIM($G507),'Transparency List 2018_10'!$D:$D,0),FALSE)),\"On the 2018_10 List\",\"-\")","v":"-"},{"$f":"IF(OR(IFERROR(MATCH($D507,'Transparency List 2018_04'!$L:$L,0),FALSE),IFERROR(MATCH(TRIM($G507),'Transparency List 2018_04'!$D:$D,0),FALSE)),\"On the 2018_04 List\",\"-\")","v":"-"},{"$f":"IF(OR(IFERROR(MATCH($D507,'Transparency List 2017'!$L:$L,0),FALSE),IFERROR(MATCH(TRIM($G507),'Transparency List 2017'!$C:$C,0),FALSE)),\"On the 2017 List\",\"-\")","v":"-"},{"$f":"IF(OR(IFERROR(MATCH($D507,'Transparency List 2015'!$H:$H,0),FALSE),IFERROR(MATCH(TRIM($G507),'Transparency List 2015'!$C:$C,0),FALSE)),\"On the 2015 List\",\"-\")","v":"-"}]
[null,null,4,"",null,null,null,"-",{"$f":"IF(OR(IFERROR(MATCH($D508,'Transparency List 2018_10'!$L:$L,0),FALSE),IFERROR(MATCH(TRIM($G508),'Transparency List 2018_10'!$D:$D,0),FALSE)),\"On the 2018_10 List\",\"-\")","v":"-"},{"$f":"IF(OR(IFERROR(MATCH($D508,'Transparency List 2018_04'!$L:$L,0),FALSE),IFERROR(MATCH(TRIM($G508),'Transparency List 2018_04'!$D:$D,0),FALSE)),\"On the 2018_04 List\",\"-\")","v":"-"},{"$f":"IF(OR(IFERROR(MATCH($D508,'Transparency List 2017'!$L:$L,0),FALSE),IFERROR(MATCH(TRIM($G508),'Transparency List 2017'!$C:$C,0),FALSE)),\"On the 2017 List\",\"-\")","v":"-"},{"$f":"IF(OR(IFERROR(MATCH($D508,'Transparency List 2015'!$H:$H,0),FALSE),IFERROR(MATCH(TRIM($G508),'Transparency List 2015'!$C:$C,0),FALSE)),\"On the 2015 List\",\"-\")","v":"-"}]
[null,null,4,"",null,null,null,"-",{"$f":"IF(OR(IFERROR(MATCH($D509,'Transparency List 2018_10'!$L:$L,0),FALSE),IFERROR(MATCH(TRIM($G509),'Transparency List 2018_10'!$D:$D,0),FALSE)),\"On the 2018_10 List\",\"-\")","v":"-"},{"$f":"IF(OR(IFERROR(MATCH($D509,'Transparency List 2018_04'!$L:$L,0),FALSE),IFERROR(MATCH(TRIM($G509),'Transparency List 2018_04'!$D:$D,0),FALSE)),\"On the 2018_04 List\",\"-\")","v":"-"},{"$f":"IF(OR(IFERROR(MATCH($D509,'Transparency List 2017'!$L:$L,0),FALSE),IFERROR(MATCH(TRIM($G509),'Transparency List 2017'!$C:$C,0),FALSE)),\"On the 2017 List\",\"-\")","v":"-"},{"$f":"IF(OR(IFERROR(MATCH($D509,'Transparency List 2015'!$H:$H,0),FALSE),IFERROR(MATCH(TRIM($G509),'Transparency List 2015'!$C:$C,0),FALSE)),\"On the 2015 List\",\"-\")","v":"-"}]
[null,null,4,"",null,null,null,"-",{"$f":"IF(OR(IFERROR(MATCH($D510,'Transparency List 2018_10'!$L:$L,0),FALSE),IFERROR(MATCH(TRIM($G510),'Transparency List 2018_10'!$D:$D,0),FALSE)),\"On the 2018_10 List\",\"-\")","v":"-"},{"$f":"IF(OR(IFERROR(MATCH($D510,'Transparency List 2018_04'!$L:$L,0),FALSE),IFERROR(MATCH(TRIM($G510),'Transparency List 2018_04'!$D:$D,0),FALSE)),\"On the 2018_04 List\",\"-\")","v":"-"},{"$f":"IF(OR(IFERROR(MATCH($D510,'Transparency List 2017'!$L:$L,0),FALSE),IFERROR(MATCH(TRIM($G510),'Transparency List 2017'!$C:$C,0),FALSE)),\"On the 2017 List\",\"-\")","v":"-"},{"$f":"IF(OR(IFERROR(MATCH($D510,'Transparency List 2015'!$H:$H,0),FALSE),IFERROR(MATCH(TRIM($G510),'Transparency List 2015'!$C:$C,0),FALSE)),\"On the 2015 List\",\"-\")","v":"-"}]
[null,null,4,"",null,null,null,"-",{"$f":"IF(OR(IFERROR(MATCH($D511,'Transparency List 2018_10'!$L:$L,0),FALSE),IFERROR(MATCH(TRIM($G511),'Transparency List 2018_10'!$D:$D,0),FALSE)),\"On the 2018_10 List\",\"-\")","v":"-"},{"$f":"IF(OR(IFERROR(MATCH($D511,'Transparency List 2018_04'!$L:$L,0),FALSE),IFERROR(MATCH(TRIM($G511),'Transparency List 2018_04'!$D:$D,0),FALSE)),\"On the 2018_04 List\",\"-\")","v":"-"},{"$f":"IF(OR(IFERROR(MATCH($D511,'Transparency List 2017'!$L:$L,0),FALSE),IFERROR(MATCH(TRIM($G511),'Transparency List 2017'!$C:$C,0),FALSE)),\"On the 2017 List\",\"-\")","v":"-"},{"$f":"IF(OR(IFERROR(MATCH($D511,'Transparency List 2015'!$H:$H,0),FALSE),IFERROR(MATCH(TRIM($G511),'Transparency List 2015'!$C:$C,0),FALSE)),\"On the 2015 List\",\"-\")","v":"-"}]
[null,null,4,"",null,null,null,"-",{"$f":"IF(OR(IFERROR(MATCH($D512,'Transparency List 2018_10'!$L:$L,0),FALSE),IFERROR(MATCH(TRIM($G512),'Transparency List 2018_10'!$D:$D,0),FALSE)),\"On the 2018_10 List\",\"-\")","v":"-"},{"$f":"IF(OR(IFERROR(MATCH($D512,'Transparency List 2018_04'!$L:$L,0),FALSE),IFERROR(MATCH(TRIM($G512),'Transparency List 2018_04'!$D:$D,0),FALSE)),\"On the 2018_04 List\",\"-\")","v":"-"},{"$f":"IF(OR(IFERROR(MATCH($D512,'Transparency List 2017'!$L:$L,0),FALSE),IFERROR(MATCH(TRIM($G512),'Transparency List 2017'!$C:$C,0),FALSE)),\"On the 2017 List\",\"-\")","v":"-"},{"$f":"IF(OR(IFERROR(MATCH($D512,'Transparency List 2015'!$H:$H,0),FALSE),IFERROR(MATCH(TRIM($G512),'Transparency List 2015'!$C:$C,0),FALSE)),\"On the 2015 List\",\"-\")","v":"-"}]
[null,null,4,"",null,null,null,"-",{"$f":"IF(OR(IFERROR(MATCH($D513,'Transparency List 2018_10'!$L:$L,0),FALSE),IFERROR(MATCH(TRIM($G513),'Transparency List 2018_10'!$D:$D,0),FALSE)),\"On the 2018_10 List\",\"-\")","v":"-"},{"$f":"IF(OR(IFERROR(MATCH($D513,'Transparency List 2018_04'!$L:$L,0),FALSE),IFERROR(MATCH(TRIM($G513),'Transparency List 2018_04'!$D:$D,0),FALSE)),\"On the 2018_04 List\",\"-\")","v":"-"},{"$f":"IF(OR(IFERROR(MATCH($D513,'Transparency List 2017'!$L:$L,0),FALSE),IFERROR(MATCH(TRIM($G513),'Transparency List 2017'!$C:$C,0),FALSE)),\"On the 2017 List\",\"-\")","v":"-"},{"$f":"IF(OR(IFERROR(MATCH($D513,'Transparency List 2015'!$H:$H,0),FALSE),IFERROR(MATCH(TRIM($G513),'Transparency List 2015'!$C:$C,0),FALSE)),\"On the 2015 List\",\"-\")","v":"-"}]
[null,null,4,"",null,null,null,"-",{"$f":"IF(OR(IFERROR(MATCH($D514,'Transparency List 2018_10'!$L:$L,0),FALSE),IFERROR(MATCH(TRIM($G514),'Transparency List 2018_10'!$D:$D,0),FALSE)),\"On the 2018_10 List\",\"-\")","v":"-"},{"$f":"IF(OR(IFERROR(MATCH($D514,'Transparency List 2018_04'!$L:$L,0),FALSE),IFERROR(MATCH(TRIM($G514),'Transparency List 2018_04'!$D:$D,0),FALSE)),\"On the 2018_04 List\",\"-\")","v":"-"},{"$f":"IF(OR(IFERROR(MATCH($D514,'Transparency List 2017'!$L:$L,0),FALSE),IFERROR(MATCH(TRIM($G514),'Transparency List 2017'!$C:$C,0),FALSE)),\"On the 2017 List\",\"-\")","v":"-"},{"$f":"IF(OR(IFERROR(MATCH($D514,'Transparency List 2015'!$H:$H,0),FALSE),IFERROR(MATCH(TRIM($G514),'Transparency List 2015'!$C:$C,0),FALSE)),\"On the 2015 List\",\"-\")","v":"-"}]
[null,null,4,"",null,null,null,"-",{"$f":"IF(OR(IFERROR(MATCH($D515,'Transparency List 2018_10'!$L:$L,0),FALSE),IFERROR(MATCH(TRIM($G515),'Transparency List 2018_10'!$D:$D,0),FALSE)),\"On the 2018_10 List\",\"-\")","v":"-"},{"$f":"IF(OR(IFERROR(MATCH($D515,'Transparency List 2018_04'!$L:$L,0),FALSE),IFERROR(MATCH(TRIM($G515),'Transparency List 2018_04'!$D:$D,0),FALSE)),\"On the 2018_04 List\",\"-\")","v":"-"},{"$f":"IF(OR(IFERROR(MATCH($D515,'Transparency List 2017'!$L:$L,0),FALSE),IFERROR(MATCH(TRIM($G515),'Transparency List 2017'!$C:$C,0),FALSE)),\"On the 2017 List\",\"-\")","v":"-"},{"$f":"IF(OR(IFERROR(MATCH($D515,'Transparency List 2015'!$H:$H,0),FALSE),IFERROR(MATCH(TRIM($G515),'Transparency List 2015'!$C:$C,0),FALSE)),\"On the 2015 List\",\"-\")","v":"-"}]
[null,null,4,"",null,null,null,"-",{"$f":"IF(OR(IFERROR(MATCH($D516,'Transparency List 2018_10'!$L:$L,0),FALSE),IFERROR(MATCH(TRIM($G516),'Transparency List 2018_10'!$D:$D,0),FALSE)),\"On the 2018_10 List\",\"-\")","v":"-"},{"$f":"IF(OR(IFERROR(MATCH($D516,'Transparency List 2018_04'!$L:$L,0),FALSE),IFERROR(MATCH(TRIM($G516),'Transparency List 2018_04'!$D:$D,0),FALSE)),\"On the 2018_04 List\",\"-\")","v":"-"},{"$f":"IF(OR(IFERROR(MATCH($D516,'Transparency List 2017'!$L:$L,0),FALSE),IFERROR(MATCH(TRIM($G516),'Transparency List 2017'!$C:$C,0),FALSE)),\"On the 2017 List\",\"-\")","v":"-"},{"$f":"IF(OR(IFERROR(MATCH($D516,'Transparency List 2015'!$H:$H,0),FALSE),IFERROR(MATCH(TRIM($G516),'Transparency List 2015'!$C:$C,0),FALSE)),\"On the 2015 List\",\"-\")","v":"-"}]
[null,null,4,"",null,null,null,"-",{"$f":"IF(OR(IFERROR(MATCH($D517,'Transparency List 2018_10'!$L:$L,0),FALSE),IFERROR(MATCH(TRIM($G517),'Transparency List 2018_10'!$D:$D,0),FALSE)),\"On the 2018_10 List\",\"-\")","v":"-"},{"$f":"IF(OR(IFERROR(MATCH($D517,'Transparency List 2018_04'!$L:$L,0),FALSE),IFERROR(MATCH(TRIM($G517),'Transparency List 2018_04'!$D:$D,0),FALSE)),\"On the 2018_04 List\",\"-\")","v":"-"},{"$f":"IF(OR(IFERROR(MATCH($D517,'Transparency List 2017'!$L:$L,0),FALSE),IFERROR(MATCH(TRIM($G517),'Transparency List 2017'!$C:$C,0),FALSE)),\"On the 2017 List\",\"-\")","v":"-"},{"$f":"IF(OR(IFERROR(MATCH($D517,'Transparency List 2015'!$H:$H,0),FALSE),IFERROR(MATCH(TRIM($G517),'Transparency List 2015'!$C:$C,0),FALSE)),\"On the 2015 List\",\"-\")","v":"-"}]
[null,null,4,"",null,null,null,"-",{"$f":"IF(OR(IFERROR(MATCH($D518,'Transparency List 2018_10'!$L:$L,0),FALSE),IFERROR(MATCH(TRIM($G518),'Transparency List 2018_10'!$D:$D,0),FALSE)),\"On the 2018_10 List\",\"-\")","v":"-"},{"$f":"IF(OR(IFERROR(MATCH($D518,'Transparency List 2018_04'!$L:$L,0),FALSE),IFERROR(MATCH(TRIM($G518),'Transparency List 2018_04'!$D:$D,0),FALSE)),\"On the 2018_04 List\",\"-\")","v":"-"},{"$f":"IF(OR(IFERROR(MATCH($D518,'Transparency List 2017'!$L:$L,0),FALSE),IFERROR(MATCH(TRIM($G518),'Transparency List 2017'!$C:$C,0),FALSE)),\"On the 2017 List\",\"-\")","v":"-"},{"$f":"IF(OR(IFERROR(MATCH($D518,'Transparency List 2015'!$H:$H,0),FALSE),IFERROR(MATCH(TRIM($G518),'Transparency List 2015'!$C:$C,0),FALSE)),\"On the 2015 List\",\"-\")","v":"-"}]
[null,null,4,"",null,null,null,"-",{"$f":"IF(OR(IFERROR(MATCH($D519,'Transparency List 2018_10'!$L:$L,0),FALSE),IFERROR(MATCH(TRIM($G519),'Transparency List 2018_10'!$D:$D,0),FALSE)),\"On the 2018_10 List\",\"-\")","v":"-"},{"$f":"IF(OR(IFERROR(MATCH($D519,'Transparency List 2018_04'!$L:$L,0),FALSE),IFERROR(MATCH(TRIM($G519),'Transparency List 2018_04'!$D:$D,0),FALSE)),\"On the 2018_04 List\",\"-\")","v":"-"},{"$f":"IF(OR(IFERROR(MATCH($D519,'Transparency List 2017'!$L:$L,0),FALSE),IFERROR(MATCH(TRIM($G519),'Transparency List 2017'!$C:$C,0),FALSE)),\"On the 2017 List\",\"-\")","v":"-"},{"$f":"IF(OR(IFERROR(MATCH($D519,'Transparency List 2015'!$H:$H,0),FALSE),IFERROR(MATCH(TRIM($G519),'Transparency List 2015'!$C:$C,0),FALSE)),\"On the 2015 List\",\"-\")","v":"-"}]
[null,null,4,"",null,null,null,"-",{"$f":"IF(OR(IFERROR(MATCH($D520,'Transparency List 2018_10'!$L:$L,0),FALSE),IFERROR(MATCH(TRIM($G520),'Transparency List 2018_10'!$D:$D,0),FALSE)),\"On the 2018_10 List\",\"-\")","v":"-"},{"$f":"IF(OR(IFERROR(MATCH($D520,'Transparency List 2018_04'!$L:$L,0),FALSE),IFERROR(MATCH(TRIM($G520),'Transparency List 2018_04'!$D:$D,0),FALSE)),\"On the 2018_04 List\",\"-\")","v":"-"},{"$f":"IF(OR(IFERROR(MATCH($D520,'Transparency List 2017'!$L:$L,0),FALSE),IFERROR(MATCH(TRIM($G520),'Transparency List 2017'!$C:$C,0),FALSE)),\"On the 2017 List\",\"-\")","v":"-"},{"$f":"IF(OR(IFERROR(MATCH($D520,'Transparency List 2015'!$H:$H,0),FALSE),IFERROR(MATCH(TRIM($G520),'Transparency List 2015'!$C:$C,0),FALSE)),\"On the 2015 List\",\"-\")","v":"-"}]
[null,null,4,"",null,null,null,"-",{"$f":"IF(OR(IFERROR(MATCH($D521,'Transparency List 2018_10'!$L:$L,0),FALSE),IFERROR(MATCH(TRIM($G521),'Transparency List 2018_10'!$D:$D,0),FALSE)),\"On the 2018_10 List\",\"-\")","v":"-"},{"$f":"IF(OR(IFERROR(MATCH($D521,'Transparency List 2018_04'!$L:$L,0),FALSE),IFERROR(MATCH(TRIM($G521),'Transparency List 2018_04'!$D:$D,0),FALSE)),\"On the 2018_04 List\",\"-\")","v":"-"},{"$f":"IF(OR(IFERROR(MATCH($D521,'Transparency List 2017'!$L:$L,0),FALSE),IFERROR(MATCH(TRIM($G521),'Transparency List 2017'!$C:$C,0),FALSE)),\"On the 2017 List\",\"-\")","v":"-"},{"$f":"IF(OR(IFERROR(MATCH($D521,'Transparency List 2015'!$H:$H,0),FALSE),IFERROR(MATCH(TRIM($G521),'Transparency List 2015'!$C:$C,0),FALSE)),\"On the 2015 List\",\"-\")","v":"-"}]
[null,null,4,"",null,null,null,"-",{"$f":"IF(OR(IFERROR(MATCH($D522,'Transparency List 2018_10'!$L:$L,0),FALSE),IFERROR(MATCH(TRIM($G522),'Transparency List 2018_10'!$D:$D,0),FALSE)),\"On the 2018_10 List\",\"-\")","v":"-"},{"$f":"IF(OR(IFERROR(MATCH($D522,'Transparency List 2018_04'!$L:$L,0),FALSE),IFERROR(MATCH(TRIM($G522),'Transparency List 2018_04'!$D:$D,0),FALSE)),\"On the 2018_04 List\",\"-\")","v":"-"},{"$f":"IF(OR(IFERROR(MATCH($D522,'Transparency List 2017'!$L:$L,0),FALSE),IFERROR(MATCH(TRIM($G522),'Transparency List 2017'!$C:$C,0),FALSE)),\"On the 2017 List\",\"-\")","v":"-"},{"$f":"IF(OR(IFERROR(MATCH($D522,'Transparency List 2015'!$H:$H,0),FALSE),IFERROR(MATCH(TRIM($G522),'Transparency List 2015'!$C:$C,0),FALSE)),\"On the 2015 List\",\"-\")","v":"-"}]
[null,null,4,"",null,null,null,"-",{"$f":"IF(OR(IFERROR(MATCH($D523,'Transparency List 2018_10'!$L:$L,0),FALSE),IFERROR(MATCH(TRIM($G523),'Transparency List 2018_10'!$D:$D,0),FALSE)),\"On the 2018_10 List\",\"-\")","v":"-"},{"$f":"IF(OR(IFERROR(MATCH($D523,'Transparency List 2018_04'!$L:$L,0),FALSE),IFERROR(MATCH(TRIM($G523),'Transparency List 2018_04'!$D:$D,0),FALSE)),\"On the 2018_04 List\",\"-\")","v":"-"},{"$f":"IF(OR(IFERROR(MATCH($D523,'Transparency List 2017'!$L:$L,0),FALSE),IFERROR(MATCH(TRIM($G523),'Transparency List 2017'!$C:$C,0),FALSE)),\"On the 2017 List\",\"-\")","v":"-"},{"$f":"IF(OR(IFERROR(MATCH($D523,'Transparency List 2015'!$H:$H,0),FALSE),IFERROR(MATCH(TRIM($G523),'Transparency List 2015'!$C:$C,0),FALSE)),\"On the 2015 List\",\"-\")","v":"-"}]
[null,null,4,"",null,null,null,"-",{"$f":"IF(OR(IFERROR(MATCH($D524,'Transparency List 2018_10'!$L:$L,0),FALSE),IFERROR(MATCH(TRIM($G524),'Transparency List 2018_10'!$D:$D,0),FALSE)),\"On the 2018_10 List\",\"-\")","v":"-"},{"$f":"IF(OR(IFERROR(MATCH($D524,'Transparency List 2018_04'!$L:$L,0),FALSE),IFERROR(MATCH(TRIM($G524),'Transparency List 2018_04'!$D:$D,0),FALSE)),\"On the 2018_04 List\",\"-\")","v":"-"},{"$f":"IF(OR(IFERROR(MATCH($D524,'Transparency List 2017'!$L:$L,0),FALSE),IFERROR(MATCH(TRIM($G524),'Transparency List 2017'!$C:$C,0),FALSE)),\"On the 2017 List\",\"-\")","v":"-"},{"$f":"IF(OR(IFERROR(MATCH($D524,'Transparency List 2015'!$H:$H,0),FALSE),IFERROR(MATCH(TRIM($G524),'Transparency List 2015'!$C:$C,0),FALSE)),\"On the 2015 List\",\"-\")","v":"-"}]
[null,null,4,"",null,null,null,"-",{"$f":"IF(OR(IFERROR(MATCH($D525,'Transparency List 2018_10'!$L:$L,0),FALSE),IFERROR(MATCH(TRIM($G525),'Transparency List 2018_10'!$D:$D,0),FALSE)),\"On the 2018_10 List\",\"-\")","v":"-"},{"$f":"IF(OR(IFERROR(MATCH($D525,'Transparency List 2018_04'!$L:$L,0),FALSE),IFERROR(MATCH(TRIM($G525),'Transparency List 2018_04'!$D:$D,0),FALSE)),\"On the 2018_04 List\",\"-\")","v":"-"},{"$f":"IF(OR(IFERROR(MATCH($D525,'Transparency List 2017'!$L:$L,0),FALSE),IFERROR(MATCH(TRIM($G525),'Transparency List 2017'!$C:$C,0),FALSE)),\"On the 2017 List\",\"-\")","v":"-"},{"$f":"IF(OR(IFERROR(MATCH($D525,'Transparency List 2015'!$H:$H,0),FALSE),IFERROR(MATCH(TRIM($G525),'Transparency List 2015'!$C:$C,0),FALSE)),\"On the 2015 List\",\"-\")","v":"-"}]
[null,null,4,"",null,null,null,"-",{"$f":"IF(OR(IFERROR(MATCH($D526,'Transparency List 2018_10'!$L:$L,0),FALSE),IFERROR(MATCH(TRIM($G526),'Transparency List 2018_10'!$D:$D,0),FALSE)),\"On the 2018_10 List\",\"-\")","v":"-"},{"$f":"IF(OR(IFERROR(MATCH($D526,'Transparency List 2018_04'!$L:$L,0),FALSE),IFERROR(MATCH(TRIM($G526),'Transparency List 2018_04'!$D:$D,0),FALSE)),\"On the 2018_04 List\",\"-\")","v":"-"},{"$f":"IF(OR(IFERROR(MATCH($D526,'Transparency List 2017'!$L:$L,0),FALSE),IFERROR(MATCH(TRIM($G526),'Transparency List 2017'!$C:$C,0),FALSE)),\"On the 2017 List\",\"-\")","v":"-"},{"$f":"IF(OR(IFERROR(MATCH($D526,'Transparency List 2015'!$H:$H,0),FALSE),IFERROR(MATCH(TRIM($G526),'Transparency List 2015'!$C:$C,0),FALSE)),\"On the 2015 List\",\"-\")","v":"-"}]
[null,null,4,"",null,null,null,"-",{"$f":"IF(OR(IFERROR(MATCH($D527,'Transparency List 2018_10'!$L:$L,0),FALSE),IFERROR(MATCH(TRIM($G527),'Transparency List 2018_10'!$D:$D,0),FALSE)),\"On the 2018_10 List\",\"-\")","v":"-"},{"$f":"IF(OR(IFERROR(MATCH($D527,'Transparency List 2018_04'!$L:$L,0),FALSE),IFERROR(MATCH(TRIM($G527),'Transparency List 2018_04'!$D:$D,0),FALSE)),\"On the 2018_04 List\",\"-\")","v":"-"},{"$f":"IF(OR(IFERROR(MATCH($D527,'Transparency List 2017'!$L:$L,0),FALSE),IFERROR(MATCH(TRIM($G527),'Transparency List 2017'!$C:$C,0),FALSE)),\"On the 2017 List\",\"-\")","v":"-"},{"$f":"IF(OR(IFERROR(MATCH($D527,'Transparency List 2015'!$H:$H,0),FALSE),IFERROR(MATCH(TRIM($G527),'Transparency List 2015'!$C:$C,0),FALSE)),\"On the 2015 List\",\"-\")","v":"-"}]
[null,null,4,"",null,null,null,"-",{"$f":"IF(OR(IFERROR(MATCH($D528,'Transparency List 2018_10'!$L:$L,0),FALSE),IFERROR(MATCH(TRIM($G528),'Transparency List 2018_10'!$D:$D,0),FALSE)),\"On the 2018_10 List\",\"-\")","v":"-"},{"$f":"IF(OR(IFERROR(MATCH($D528,'Transparency List 2018_04'!$L:$L,0),FALSE),IFERROR(MATCH(TRIM($G528),'Transparency List 2018_04'!$D:$D,0),FALSE)),\"On the 2018_04 List\",\"-\")","v":"-"},{"$f":"IF(OR(IFERROR(MATCH($D528,'Transparency List 2017'!$L:$L,0),FALSE),IFERROR(MATCH(TRIM($G528),'Transparency List 2017'!$C:$C,0),FALSE)),\"On the 2017 List\",\"-\")","v":"-"},{"$f":"IF(OR(IFERROR(MATCH($D528,'Transparency List 2015'!$H:$H,0),FALSE),IFERROR(MATCH(TRIM($G528),'Transparency List 2015'!$C:$C,0),FALSE)),\"On the 2015 List\",\"-\")","v":"-"}]
[null,null,4,"",null,null,null,"-",{"$f":"IF(OR(IFERROR(MATCH($D529,'Transparency List 2018_10'!$L:$L,0),FALSE),IFERROR(MATCH(TRIM($G529),'Transparency List 2018_10'!$D:$D,0),FALSE)),\"On the 2018_10 List\",\"-\")","v":"-"},{"$f":"IF(OR(IFERROR(MATCH($D529,'Transparency List 2018_04'!$L:$L,0),FALSE),IFERROR(MATCH(TRIM($G529),'Transparency List 2018_04'!$D:$D,0),FALSE)),\"On the 2018_04 List\",\"-\")","v":"-"},{"$f":"IF(OR(IFERROR(MATCH($D529,'Transparency List 2017'!$L:$L,0),FALSE),IFERROR(MATCH(TRIM($G529),'Transparency List 2017'!$C:$C,0),FALSE)),\"On the 2017 List\",\"-\")","v":"-"},{"$f":"IF(OR(IFERROR(MATCH($D529,'Transparency List 2015'!$H:$H,0),FALSE),IFERROR(MATCH(TRIM($G529),'Transparency List 2015'!$C:$C,0),FALSE)),\"On the 2015 List\",\"-\")","v":"-"}]
[null,null,4,"",null,null,null,"-",{"$f":"IF(OR(IFERROR(MATCH($D530,'Transparency List 2018_10'!$L:$L,0),FALSE),IFERROR(MATCH(TRIM($G530),'Transparency List 2018_10'!$D:$D,0),FALSE)),\"On the 2018_10 List\",\"-\")","v":"-"},{"$f":"IF(OR(IFERROR(MATCH($D530,'Transparency List 2018_04'!$L:$L,0),FALSE),IFERROR(MATCH(TRIM($G530),'Transparency List 2018_04'!$D:$D,0),FALSE)),\"On the 2018_04 List\",\"-\")","v":"-"},{"$f":"IF(OR(IFERROR(MATCH($D530,'Transparency List 2017'!$L:$L,0),FALSE),IFERROR(MATCH(TRIM($G530),'Transparency List 2017'!$C:$C,0),FALSE)),\"On the 2017 List\",\"-\")","v":"-"},{"$f":"IF(OR(IFERROR(MATCH($D530,'Transparency List 2015'!$H:$H,0),FALSE),IFERROR(MATCH(TRIM($G530),'Transparency List 2015'!$C:$C,0),FALSE)),\"On the 2015 List\",\"-\")","v":"-"}]
[null,null,4,"",null,null,null,"-",{"$f":"IF(OR(IFERROR(MATCH($D531,'Transparency List 2018_10'!$L:$L,0),FALSE),IFERROR(MATCH(TRIM($G531),'Transparency List 2018_10'!$D:$D,0),FALSE)),\"On the 2018_10 List\",\"-\")","v":"-"},{"$f":"IF(OR(IFERROR(MATCH($D531,'Transparency List 2018_04'!$L:$L,0),FALSE),IFERROR(MATCH(TRIM($G531),'Transparency List 2018_04'!$D:$D,0),FALSE)),\"On the 2018_04 List\",\"-\")","v":"-"},{"$f":"IF(OR(IFERROR(MATCH($D531,'Transparency List 2017'!$L:$L,0),FALSE),IFERROR(MATCH(TRIM($G531),'Transparency List 2017'!$C:$C,0),FALSE)),\"On the 2017 List\",\"-\")","v":"-"},{"$f":"IF(OR(IFERROR(MATCH($D531,'Transparency List 2015'!$H:$H,0),FALSE),IFERROR(MATCH(TRIM($G531),'Transparency List 2015'!$C:$C,0),FALSE)),\"On the 2015 List\",\"-\")","v":"-"}]
[null,null,4,"",null,null,null,"-",{"$f":"IF(OR(IFERROR(MATCH($D532,'Transparency List 2018_10'!$L:$L,0),FALSE),IFERROR(MATCH(TRIM($G532),'Transparency List 2018_10'!$D:$D,0),FALSE)),\"On the 2018_10 List\",\"-\")","v":"-"},{"$f":"IF(OR(IFERROR(MATCH($D532,'Transparency List 2018_04'!$L:$L,0),FALSE),IFERROR(MATCH(TRIM($G532),'Transparency List 2018_04'!$D:$D,0),FALSE)),\"On the 2018_04 List\",\"-\")","v":"-"},{"$f":"IF(OR(IFERROR(MATCH($D532,'Transparency List 2017'!$L:$L,0),FALSE),IFERROR(MATCH(TRIM($G532),'Transparency List 2017'!$C:$C,0),FALSE)),\"On the 2017 List\",\"-\")","v":"-"},{"$f":"IF(OR(IFERROR(MATCH($D532,'Transparency List 2015'!$H:$H,0),FALSE),IFERROR(MATCH(TRIM($G532),'Transparency List 2015'!$C:$C,0),FALSE)),\"On the 2015 List\",\"-\")","v":"-"}]
[null,null,4,"",null,null,null,"-",{"$f":"IF(OR(IFERROR(MATCH($D533,'Transparency List 2018_10'!$L:$L,0),FALSE),IFERROR(MATCH(TRIM($G533),'Transparency List 2018_10'!$D:$D,0),FALSE)),\"On the 2018_10 List\",\"-\")","v":"-"},{"$f":"IF(OR(IFERROR(MATCH($D533,'Transparency List 2018_04'!$L:$L,0),FALSE),IFERROR(MATCH(TRIM($G533),'Transparency List 2018_04'!$D:$D,0),FALSE)),\"On the 2018_04 List\",\"-\")","v":"-"},{"$f":"IF(OR(IFERROR(MATCH($D533,'Transparency List 2017'!$L:$L,0),FALSE),IFERROR(MATCH(TRIM($G533),'Transparency List 2017'!$C:$C,0),FALSE)),\"On the 2017 List\",\"-\")","v":"-"},{"$f":"IF(OR(IFERROR(MATCH($D533,'Transparency List 2015'!$H:$H,0),FALSE),IFERROR(MATCH(TRIM($G533),'Transparency List 2015'!$C:$C,0),FALSE)),\"On the 2015 List\",\"-\")","v":"-"}]
[null,null,4,"",null,null,null,"-",{"$f":"IF(OR(IFERROR(MATCH($D534,'Transparency List 2018_10'!$L:$L,0),FALSE),IFERROR(MATCH(TRIM($G534),'Transparency List 2018_10'!$D:$D,0),FALSE)),\"On the 2018_10 List\",\"-\")","v":"-"},{"$f":"IF(OR(IFERROR(MATCH($D534,'Transparency List 2018_04'!$L:$L,0),FALSE),IFERROR(MATCH(TRIM($G534),'Transparency List 2018_04'!$D:$D,0),FALSE)),\"On the 2018_04 List\",\"-\")","v":"-"},{"$f":"IF(OR(IFERROR(MATCH($D534,'Transparency List 2017'!$L:$L,0),FALSE),IFERROR(MATCH(TRIM($G534),'Transparency List 2017'!$C:$C,0),FALSE)),\"On the 2017 List\",\"-\")","v":"-"},{"$f":"IF(OR(IFERROR(MATCH($D534,'Transparency List 2015'!$H:$H,0),FALSE),IFERROR(MATCH(TRIM($G534),'Transparency List 2015'!$C:$C,0),FALSE)),\"On the 2015 List\",\"-\")","v":"-"}]
[null,null,4,"",null,null,null,"-",{"$f":"IF(OR(IFERROR(MATCH($D535,'Transparency List 2018_10'!$L:$L,0),FALSE),IFERROR(MATCH(TRIM($G535),'Transparency List 2018_10'!$D:$D,0),FALSE)),\"On the 2018_10 List\",\"-\")","v":"-"},{"$f":"IF(OR(IFERROR(MATCH($D535,'Transparency List 2018_04'!$L:$L,0),FALSE),IFERROR(MATCH(TRIM($G535),'Transparency List 2018_04'!$D:$D,0),FALSE)),\"On the 2018_04 List\",\"-\")","v":"-"},{"$f":"IF(OR(IFERROR(MATCH($D535,'Transparency List 2017'!$L:$L,0),FALSE),IFERROR(MATCH(TRIM($G535),'Transparency List 2017'!$C:$C,0),FALSE)),\"On the 2017 List\",\"-\")","v":"-"},{"$f":"IF(OR(IFERROR(MATCH($D535,'Transparency List 2015'!$H:$H,0),FALSE),IFERROR(MATCH(TRIM($G535),'Transparency List 2015'!$C:$C,0),FALSE)),\"On the 2015 List\",\"-\")","v":"-"}]
[null,null,4,"",null,null,null,"-",{"$f":"IF(OR(IFERROR(MATCH($D536,'Transparency List 2018_10'!$L:$L,0),FALSE),IFERROR(MATCH(TRIM($G536),'Transparency List 2018_10'!$D:$D,0),FALSE)),\"On the 2018_10 List\",\"-\")","v":"-"},{"$f":"IF(OR(IFERROR(MATCH($D536,'Transparency List 2018_04'!$L:$L,0),FALSE),IFERROR(MATCH(TRIM($G536),'Transparency List 2018_04'!$D:$D,0),FALSE)),\"On the 2018_04 List\",\"-\")","v":"-"},{"$f":"IF(OR(IFERROR(MATCH($D536,'Transparency List 2017'!$L:$L,0),FALSE),IFERROR(MATCH(TRIM($G536),'Transparency List 2017'!$C:$C,0),FALSE)),\"On the 2017 List\",\"-\")","v":"-"},{"$f":"IF(OR(IFERROR(MATCH($D536,'Transparency List 2015'!$H:$H,0),FALSE),IFERROR(MATCH(TRIM($G536),'Transparency List 2015'!$C:$C,0),FALSE)),\"On the 2015 List\",\"-\")","v":"-"}]
[null,null,4,"",null,null,null,"-",{"$f":"IF(OR(IFERROR(MATCH($D537,'Transparency List 2018_10'!$L:$L,0),FALSE),IFERROR(MATCH(TRIM($G537),'Transparency List 2018_10'!$D:$D,0),FALSE)),\"On the 2018_10 List\",\"-\")","v":"-"},{"$f":"IF(OR(IFERROR(MATCH($D537,'Transparency List 2018_04'!$L:$L,0),FALSE),IFERROR(MATCH(TRIM($G537),'Transparency List 2018_04'!$D:$D,0),FALSE)),\"On the 2018_04 List\",\"-\")","v":"-"},{"$f":"IF(OR(IFERROR(MATCH($D537,'Transparency List 2017'!$L:$L,0),FALSE),IFERROR(MATCH(TRIM($G537),'Transparency List 2017'!$C:$C,0),FALSE)),\"On the 2017 List\",\"-\")","v":"-"},{"$f":"IF(OR(IFERROR(MATCH($D537,'Transparency List 2015'!$H:$H,0),FALSE),IFERROR(MATCH(TRIM($G537),'Transparency List 2015'!$C:$C,0),FALSE)),\"On the 2015 List\",\"-\")","v":"-"}]
[null,null,4,"",null,null,null,"-",{"$f":"IF(OR(IFERROR(MATCH($D538,'Transparency List 2018_10'!$L:$L,0),FALSE),IFERROR(MATCH(TRIM($G538),'Transparency List 2018_10'!$D:$D,0),FALSE)),\"On the 2018_10 List\",\"-\")","v":"-"},{"$f":"IF(OR(IFERROR(MATCH($D538,'Transparency List 2018_04'!$L:$L,0),FALSE),IFERROR(MATCH(TRIM($G538),'Transparency List 2018_04'!$D:$D,0),FALSE)),\"On the 2018_04 List\",\"-\")","v":"-"},{"$f":"IF(OR(IFERROR(MATCH($D538,'Transparency List 2017'!$L:$L,0),FALSE),IFERROR(MATCH(TRIM($G538),'Transparency List 2017'!$C:$C,0),FALSE)),\"On the 2017 List\",\"-\")","v":"-"},{"$f":"IF(OR(IFERROR(MATCH($D538,'Transparency List 2015'!$H:$H,0),FALSE),IFERROR(MATCH(TRIM($G538),'Transparency List 2015'!$C:$C,0),FALSE)),\"On the 2015 List\",\"-\")","v":"-"}]
[null,null,4,"",null,null,null,"-",{"$f":"IF(OR(IFERROR(MATCH($D539,'Transparency List 2018_10'!$L:$L,0),FALSE),IFERROR(MATCH(TRIM($G539),'Transparency List 2018_10'!$D:$D,0),FALSE)),\"On the 2018_10 List\",\"-\")","v":"-"},{"$f":"IF(OR(IFERROR(MATCH($D539,'Transparency List 2018_04'!$L:$L,0),FALSE),IFERROR(MATCH(TRIM($G539),'Transparency List 2018_04'!$D:$D,0),FALSE)),\"On the 2018_04 List\",\"-\")","v":"-"},{"$f":"IF(OR(IFERROR(MATCH($D539,'Transparency List 2017'!$L:$L,0),FALSE),IFERROR(MATCH(TRIM($G539),'Transparency List 2017'!$C:$C,0),FALSE)),\"On the 2017 List\",\"-\")","v":"-"},{"$f":"IF(OR(IFERROR(MATCH($D539,'Transparency List 2015'!$H:$H,0),FALSE),IFERROR(MATCH(TRIM($G539),'Transparency List 2015'!$C:$C,0),FALSE)),\"On the 2015 List\",\"-\")","v":"-"}]
[null,null,4,"",null,null,null,"-",{"$f":"IF(OR(IFERROR(MATCH($D540,'Transparency List 2018_10'!$L:$L,0),FALSE),IFERROR(MATCH(TRIM($G540),'Transparency List 2018_10'!$D:$D,0),FALSE)),\"On the 2018_10 List\",\"-\")","v":"-"},{"$f":"IF(OR(IFERROR(MATCH($D540,'Transparency List 2018_04'!$L:$L,0),FALSE),IFERROR(MATCH(TRIM($G540),'Transparency List 2018_04'!$D:$D,0),FALSE)),\"On the 2018_04 List\",\"-\")","v":"-"},{"$f":"IF(OR(IFERROR(MATCH($D540,'Transparency List 2017'!$L:$L,0),FALSE),IFERROR(MATCH(TRIM($G540),'Transparency List 2017'!$C:$C,0),FALSE)),\"On the 2017 List\",\"-\")","v":"-"},{"$f":"IF(OR(IFERROR(MATCH($D540,'Transparency List 2015'!$H:$H,0),FALSE),IFERROR(MATCH(TRIM($G540),'Transparency List 2015'!$C:$C,0),FALSE)),\"On the 2015 List\",\"-\")","v":"-"}]
[null,null,4,"",null,null,null,"-",{"$f":"IF(OR(IFERROR(MATCH($D541,'Transparency List 2018_10'!$L:$L,0),FALSE),IFERROR(MATCH(TRIM($G541),'Transparency List 2018_10'!$D:$D,0),FALSE)),\"On the 2018_10 List\",\"-\")","v":"-"},{"$f":"IF(OR(IFERROR(MATCH($D541,'Transparency List 2018_04'!$L:$L,0),FALSE),IFERROR(MATCH(TRIM($G541),'Transparency List 2018_04'!$D:$D,0),FALSE)),\"On the 2018_04 List\",\"-\")","v":"-"},{"$f":"IF(OR(IFERROR(MATCH($D541,'Transparency List 2017'!$L:$L,0),FALSE),IFERROR(MATCH(TRIM($G541),'Transparency List 2017'!$C:$C,0),FALSE)),\"On the 2017 List\",\"-\")","v":"-"},{"$f":"IF(OR(IFERROR(MATCH($D541,'Transparency List 2015'!$H:$H,0),FALSE),IFERROR(MATCH(TRIM($G541),'Transparency List 2015'!$C:$C,0),FALSE)),\"On the 2015 List\",\"-\")","v":"-"}]
[null,null,4,"",null,null,null,"-",{"$f":"IF(OR(IFERROR(MATCH($D542,'Transparency List 2018_10'!$L:$L,0),FALSE),IFERROR(MATCH(TRIM($G542),'Transparency List 2018_10'!$D:$D,0),FALSE)),\"On the 2018_10 List\",\"-\")","v":"-"},{"$f":"IF(OR(IFERROR(MATCH($D542,'Transparency List 2018_04'!$L:$L,0),FALSE),IFERROR(MATCH(TRIM($G542),'Transparency List 2018_04'!$D:$D,0),FALSE)),\"On the 2018_04 List\",\"-\")","v":"-"},{"$f":"IF(OR(IFERROR(MATCH($D542,'Transparency List 2017'!$L:$L,0),FALSE),IFERROR(MATCH(TRIM($G542),'Transparency List 2017'!$C:$C,0),FALSE)),\"On the 2017 List\",\"-\")","v":"-"},{"$f":"IF(OR(IFERROR(MATCH($D542,'Transparency List 2015'!$H:$H,0),FALSE),IFERROR(MATCH(TRIM($G542),'Transparency List 2015'!$C:$C,0),FALSE)),\"On the 2015 List\",\"-\")","v":"-"}]
[null,null,{"$f":"COUNTIF($I543:$L543,\"-\")","v":4},{"$f":"SUBSTITUTE(SUBSTITUTE(SUBSTITUTE(SUBSTITUTE($G543,\" \",\"\"),\".\",\"\"),\"-\",\"\"),\"/\",\"\")","v":""},null,null,null,{"$f":"IFERROR(IF($C543=4,\"-\",\"Risk Farmer - Please conduct further steps\"),)","v":"-"},{"$f":"IF(OR(IFERROR(MATCH($D543,'Transparency List 2018_10'!$L:$L,0),FALSE),IFERROR(MATCH(TRIM($G543),'Transparency List 2018_10'!$D:$D,0),FALSE)),\"On the 2018_10 List\",\"-\")","v":"-"},{"$f":"IF(OR(IFERROR(MATCH($D543,'Transparency List 2018_04'!$L:$L,0),FALSE),IFERROR(MATCH(TRIM($G543),'Transparency List 2018_04'!$D:$D,0),FALSE)),\"On the 2018_04 List\",\"-\")","v":"-"},{"$f":"IF(OR(IFERROR(MATCH($D543,'Transparency List 2017'!$L:$L,0),FALSE),IFERROR(MATCH(TRIM($G543),'Transparency List 2017'!$C:$C,0),FALSE)),\"On the 2017 List\",\"-\")","v":"-"},{"$f":"IF(OR(IFERROR(MATCH($D543,'Transparency List 2015'!$H:$H,0),FALSE),IFERROR(MATCH(TRIM($G543),'Transparency List 2015'!$C:$C,0),FALSE)),\"On the 2015 List\",\"-\")","v":"-"}]
[null,null,4,"",null,null,null,"-",{"$f":"IF(OR(IFERROR(MATCH($D544,'Transparency List 2018_10'!$L:$L,0),FALSE),IFERROR(MATCH(TRIM($G544),'Transparency List 2018_10'!$D:$D,0),FALSE)),\"On the 2018_10 List\",\"-\")","v":"-"},{"$f":"IF(OR(IFERROR(MATCH($D544,'Transparency List 2018_04'!$L:$L,0),FALSE),IFERROR(MATCH(TRIM($G544),'Transparency List 2018_04'!$D:$D,0),FALSE)),\"On the 2018_04 List\",\"-\")","v":"-"},{"$f":"IF(OR(IFERROR(MATCH($D544,'Transparency List 2017'!$L:$L,0),FALSE),IFERROR(MATCH(TRIM($G544),'Transparency List 2017'!$C:$C,0),FALSE)),\"On the 2017 List\",\"-\")","v":"-"},{"$f":"IF(OR(IFERROR(MATCH($D544,'Transparency List 2015'!$H:$H,0),FALSE),IFERROR(MATCH(TRIM($G544),'Transparency List 2015'!$C:$C,0),FALSE)),\"On the 2015 List\",\"-\")","v":"-"}]
[null,null,4,"",null,null,null,"-",{"$f":"IF(OR(IFERROR(MATCH($D545,'Transparency List 2018_10'!$L:$L,0),FALSE),IFERROR(MATCH(TRIM($G545),'Transparency List 2018_10'!$D:$D,0),FALSE)),\"On the 2018_10 List\",\"-\")","v":"-"},{"$f":"IF(OR(IFERROR(MATCH($D545,'Transparency List 2018_04'!$L:$L,0),FALSE),IFERROR(MATCH(TRIM($G545),'Transparency List 2018_04'!$D:$D,0),FALSE)),\"On the 2018_04 List\",\"-\")","v":"-"},{"$f":"IF(OR(IFERROR(MATCH($D545,'Transparency List 2017'!$L:$L,0),FALSE),IFERROR(MATCH(TRIM($G545),'Transparency List 2017'!$C:$C,0),FALSE)),\"On the 2017 List\",\"-\")","v":"-"},{"$f":"IF(OR(IFERROR(MATCH($D545,'Transparency List 2015'!$H:$H,0),FALSE),IFERROR(MATCH(TRIM($G545),'Transparency List 2015'!$C:$C,0),FALSE)),\"On the 2015 List\",\"-\")","v":"-"}]
[null,null,4,"",null,null,null,"-",{"$f":"IF(OR(IFERROR(MATCH($D546,'Transparency List 2018_10'!$L:$L,0),FALSE),IFERROR(MATCH(TRIM($G546),'Transparency List 2018_10'!$D:$D,0),FALSE)),\"On the 2018_10 List\",\"-\")","v":"-"},{"$f":"IF(OR(IFERROR(MATCH($D546,'Transparency List 2018_04'!$L:$L,0),FALSE),IFERROR(MATCH(TRIM($G546),'Transparency List 2018_04'!$D:$D,0),FALSE)),\"On the 2018_04 List\",\"-\")","v":"-"},{"$f":"IF(OR(IFERROR(MATCH($D546,'Transparency List 2017'!$L:$L,0),FALSE),IFERROR(MATCH(TRIM($G546),'Transparency List 2017'!$C:$C,0),FALSE)),\"On the 2017 List\",\"-\")","v":"-"},{"$f":"IF(OR(IFERROR(MATCH($D546,'Transparency List 2015'!$H:$H,0),FALSE),IFERROR(MATCH(TRIM($G546),'Transparency List 2015'!$C:$C,0),FALSE)),\"On the 2015 List\",\"-\")","v":"-"}]
[null,null,4,"",null,null,null,"-",{"$f":"IF(OR(IFERROR(MATCH($D547,'Transparency List 2018_10'!$L:$L,0),FALSE),IFERROR(MATCH(TRIM($G547),'Transparency List 2018_10'!$D:$D,0),FALSE)),\"On the 2018_10 List\",\"-\")","v":"-"},{"$f":"IF(OR(IFERROR(MATCH($D547,'Transparency List 2018_04'!$L:$L,0),FALSE),IFERROR(MATCH(TRIM($G547),'Transparency List 2018_04'!$D:$D,0),FALSE)),\"On the 2018_04 List\",\"-\")","v":"-"},{"$f":"IF(OR(IFERROR(MATCH($D547,'Transparency List 2017'!$L:$L,0),FALSE),IFERROR(MATCH(TRIM($G547),'Transparency List 2017'!$C:$C,0),FALSE)),\"On the 2017 List\",\"-\")","v":"-"},{"$f":"IF(OR(IFERROR(MATCH($D547,'Transparency List 2015'!$H:$H,0),FALSE),IFERROR(MATCH(TRIM($G547),'Transparency List 2015'!$C:$C,0),FALSE)),\"On the 2015 List\",\"-\")","v":"-"}]
[null,null,4,"",null,null,null,"-",{"$f":"IF(OR(IFERROR(MATCH($D548,'Transparency List 2018_10'!$L:$L,0),FALSE),IFERROR(MATCH(TRIM($G548),'Transparency List 2018_10'!$D:$D,0),FALSE)),\"On the 2018_10 List\",\"-\")","v":"-"},{"$f":"IF(OR(IFERROR(MATCH($D548,'Transparency List 2018_04'!$L:$L,0),FALSE),IFERROR(MATCH(TRIM($G548),'Transparency List 2018_04'!$D:$D,0),FALSE)),\"On the 2018_04 List\",\"-\")","v":"-"},{"$f":"IF(OR(IFERROR(MATCH($D548,'Transparency List 2017'!$L:$L,0),FALSE),IFERROR(MATCH(TRIM($G548),'Transparency List 2017'!$C:$C,0),FALSE)),\"On the 2017 List\",\"-\")","v":"-"},{"$f":"IF(OR(IFERROR(MATCH($D548,'Transparency List 2015'!$H:$H,0),FALSE),IFERROR(MATCH(TRIM($G548),'Transparency List 2015'!$C:$C,0),FALSE)),\"On the 2015 List\",\"-\")","v":"-"}]
[null,null,4,"",null,null,null,"-",{"$f":"IF(OR(IFERROR(MATCH($D549,'Transparency List 2018_10'!$L:$L,0),FALSE),IFERROR(MATCH(TRIM($G549),'Transparency List 2018_10'!$D:$D,0),FALSE)),\"On the 2018_10 List\",\"-\")","v":"-"},{"$f":"IF(OR(IFERROR(MATCH($D549,'Transparency List 2018_04'!$L:$L,0),FALSE),IFERROR(MATCH(TRIM($G549),'Transparency List 2018_04'!$D:$D,0),FALSE)),\"On the 2018_04 List\",\"-\")","v":"-"},{"$f":"IF(OR(IFERROR(MATCH($D549,'Transparency List 2017'!$L:$L,0),FALSE),IFERROR(MATCH(TRIM($G549),'Transparency List 2017'!$C:$C,0),FALSE)),\"On the 2017 List\",\"-\")","v":"-"},{"$f":"IF(OR(IFERROR(MATCH($D549,'Transparency List 2015'!$H:$H,0),FALSE),IFERROR(MATCH(TRIM($G549),'Transparency List 2015'!$C:$C,0),FALSE)),\"On the 2015 List\",\"-\")","v":"-"}]
[null,null,4,"",null,null,null,"-",{"$f":"IF(OR(IFERROR(MATCH($D550,'Transparency List 2018_10'!$L:$L,0),FALSE),IFERROR(MATCH(TRIM($G550),'Transparency List 2018_10'!$D:$D,0),FALSE)),\"On the 2018_10 List\",\"-\")","v":"-"},{"$f":"IF(OR(IFERROR(MATCH($D550,'Transparency List 2018_04'!$L:$L,0),FALSE),IFERROR(MATCH(TRIM($G550),'Transparency List 2018_04'!$D:$D,0),FALSE)),\"On the 2018_04 List\",\"-\")","v":"-"},{"$f":"IF(OR(IFERROR(MATCH($D550,'Transparency List 2017'!$L:$L,0),FALSE),IFERROR(MATCH(TRIM($G550),'Transparency List 2017'!$C:$C,0),FALSE)),\"On the 2017 List\",\"-\")","v":"-"},{"$f":"IF(OR(IFERROR(MATCH($D550,'Transparency List 2015'!$H:$H,0),FALSE),IFERROR(MATCH(TRIM($G550),'Transparency List 2015'!$C:$C,0),FALSE)),\"On the 2015 List\",\"-\")","v":"-"}]
[null,null,4,"",null,null,null,"-",{"$f":"IF(OR(IFERROR(MATCH($D551,'Transparency List 2018_10'!$L:$L,0),FALSE),IFERROR(MATCH(TRIM($G551),'Transparency List 2018_10'!$D:$D,0),FALSE)),\"On the 2018_10 List\",\"-\")","v":"-"},{"$f":"IF(OR(IFERROR(MATCH($D551,'Transparency List 2018_04'!$L:$L,0),FALSE),IFERROR(MATCH(TRIM($G551),'Transparency List 2018_04'!$D:$D,0),FALSE)),\"On the 2018_04 List\",\"-\")","v":"-"},{"$f":"IF(OR(IFERROR(MATCH($D551,'Transparency List 2017'!$L:$L,0),FALSE),IFERROR(MATCH(TRIM($G551),'Transparency List 2017'!$C:$C,0),FALSE)),\"On the 2017 List\",\"-\")","v":"-"},{"$f":"IF(OR(IFERROR(MATCH($D551,'Transparency List 2015'!$H:$H,0),FALSE),IFERROR(MATCH(TRIM($G551),'Transparency List 2015'!$C:$C,0),FALSE)),\"On the 2015 List\",\"-\")","v":"-"}]
[null,null,4,"",null,null,null,"-",{"$f":"IF(OR(IFERROR(MATCH($D552,'Transparency List 2018_10'!$L:$L,0),FALSE),IFERROR(MATCH(TRIM($G552),'Transparency List 2018_10'!$D:$D,0),FALSE)),\"On the 2018_10 List\",\"-\")","v":"-"},{"$f":"IF(OR(IFERROR(MATCH($D552,'Transparency List 2018_04'!$L:$L,0),FALSE),IFERROR(MATCH(TRIM($G552),'Transparency List 2018_04'!$D:$D,0),FALSE)),\"On the 2018_04 List\",\"-\")","v":"-"},{"$f":"IF(OR(IFERROR(MATCH($D552,'Transparency List 2017'!$L:$L,0),FALSE),IFERROR(MATCH(TRIM($G552),'Transparency List 2017'!$C:$C,0),FALSE)),\"On the 2017 List\",\"-\")","v":"-"},{"$f":"IF(OR(IFERROR(MATCH($D552,'Transparency List 2015'!$H:$H,0),FALSE),IFERROR(MATCH(TRIM($G552),'Transparency List 2015'!$C:$C,0),FALSE)),\"On the 2015 List\",\"-\")","v":"-"}]
[null,null,4,"",null,null,null,"-",{"$f":"IF(OR(IFERROR(MATCH($D553,'Transparency List 2018_10'!$L:$L,0),FALSE),IFERROR(MATCH(TRIM($G553),'Transparency List 2018_10'!$D:$D,0),FALSE)),\"On the 2018_10 List\",\"-\")","v":"-"},{"$f":"IF(OR(IFERROR(MATCH($D553,'Transparency List 2018_04'!$L:$L,0),FALSE),IFERROR(MATCH(TRIM($G553),'Transparency List 2018_04'!$D:$D,0),FALSE)),\"On the 2018_04 List\",\"-\")","v":"-"},{"$f":"IF(OR(IFERROR(MATCH($D553,'Transparency List 2017'!$L:$L,0),FALSE),IFERROR(MATCH(TRIM($G553),'Transparency List 2017'!$C:$C,0),FALSE)),\"On the 2017 List\",\"-\")","v":"-"},{"$f":"IF(OR(IFERROR(MATCH($D553,'Transparency List 2015'!$H:$H,0),FALSE),IFERROR(MATCH(TRIM($G553),'Transparency List 2015'!$C:$C,0),FALSE)),\"On the 2015 List\",\"-\")","v":"-"}]
[null,null,4,"",null,null,null,"-",{"$f":"IF(OR(IFERROR(MATCH($D554,'Transparency List 2018_10'!$L:$L,0),FALSE),IFERROR(MATCH(TRIM($G554),'Transparency List 2018_10'!$D:$D,0),FALSE)),\"On the 2018_10 List\",\"-\")","v":"-"},{"$f":"IF(OR(IFERROR(MATCH($D554,'Transparency List 2018_04'!$L:$L,0),FALSE),IFERROR(MATCH(TRIM($G554),'Transparency List 2018_04'!$D:$D,0),FALSE)),\"On the 2018_04 List\",\"-\")","v":"-"},{"$f":"IF(OR(IFERROR(MATCH($D554,'Transparency List 2017'!$L:$L,0),FALSE),IFERROR(MATCH(TRIM($G554),'Transparency List 2017'!$C:$C,0),FALSE)),\"On the 2017 List\",\"-\")","v":"-"},{"$f":"IF(OR(IFERROR(MATCH($D554,'Transparency List 2015'!$H:$H,0),FALSE),IFERROR(MATCH(TRIM($G554),'Transparency List 2015'!$C:$C,0),FALSE)),\"On the 2015 List\",\"-\")","v":"-"}]
[null,null,4,"",null,null,null,"-",{"$f":"IF(OR(IFERROR(MATCH($D555,'Transparency List 2018_10'!$L:$L,0),FALSE),IFERROR(MATCH(TRIM($G555),'Transparency List 2018_10'!$D:$D,0),FALSE)),\"On the 2018_10 List\",\"-\")","v":"-"},{"$f":"IF(OR(IFERROR(MATCH($D555,'Transparency List 2018_04'!$L:$L,0),FALSE),IFERROR(MATCH(TRIM($G555),'Transparency List 2018_04'!$D:$D,0),FALSE)),\"On the 2018_04 List\",\"-\")","v":"-"},{"$f":"IF(OR(IFERROR(MATCH($D555,'Transparency List 2017'!$L:$L,0),FALSE),IFERROR(MATCH(TRIM($G555),'Transparency List 2017'!$C:$C,0),FALSE)),\"On the 2017 List\",\"-\")","v":"-"},{"$f":"IF(OR(IFERROR(MATCH($D555,'Transparency List 2015'!$H:$H,0),FALSE),IFERROR(MATCH(TRIM($G555),'Transparency List 2015'!$C:$C,0),FALSE)),\"On the 2015 List\",\"-\")","v":"-"}]
[null,null,4,"",null,null,null,"-",{"$f":"IF(OR(IFERROR(MATCH($D556,'Transparency List 2018_10'!$L:$L,0),FALSE),IFERROR(MATCH(TRIM($G556),'Transparency List 2018_10'!$D:$D,0),FALSE)),\"On the 2018_10 List\",\"-\")","v":"-"},{"$f":"IF(OR(IFERROR(MATCH($D556,'Transparency List 2018_04'!$L:$L,0),FALSE),IFERROR(MATCH(TRIM($G556),'Transparency List 2018_04'!$D:$D,0),FALSE)),\"On the 2018_04 List\",\"-\")","v":"-"},{"$f":"IF(OR(IFERROR(MATCH($D556,'Transparency List 2017'!$L:$L,0),FALSE),IFERROR(MATCH(TRIM($G556),'Transparency List 2017'!$C:$C,0),FALSE)),\"On the 2017 List\",\"-\")","v":"-"},{"$f":"IF(OR(IFERROR(MATCH($D556,'Transparency List 2015'!$H:$H,0),FALSE),IFERROR(MATCH(TRIM($G556),'Transparency List 2015'!$C:$C,0),FALSE)),\"On the 2015 List\",\"-\")","v":"-"}]
[null,null,4,"",null,null,null,"-",{"$f":"IF(OR(IFERROR(MATCH($D557,'Transparency List 2018_10'!$L:$L,0),FALSE),IFERROR(MATCH(TRIM($G557),'Transparency List 2018_10'!$D:$D,0),FALSE)),\"On the 2018_10 List\",\"-\")","v":"-"},{"$f":"IF(OR(IFERROR(MATCH($D557,'Transparency List 2018_04'!$L:$L,0),FALSE),IFERROR(MATCH(TRIM($G557),'Transparency List 2018_04'!$D:$D,0),FALSE)),\"On the 2018_04 List\",\"-\")","v":"-"},{"$f":"IF(OR(IFERROR(MATCH($D557,'Transparency List 2017'!$L:$L,0),FALSE),IFERROR(MATCH(TRIM($G557),'Transparency List 2017'!$C:$C,0),FALSE)),\"On the 2017 List\",\"-\")","v":"-"},{"$f":"IF(OR(IFERROR(MATCH($D557,'Transparency List 2015'!$H:$H,0),FALSE),IFERROR(MATCH(TRIM($G557),'Transparency List 2015'!$C:$C,0),FALSE)),\"On the 2015 List\",\"-\")","v":"-"}]
[null,null,4,"",null,null,null,"-",{"$f":"IF(OR(IFERROR(MATCH($D558,'Transparency List 2018_10'!$L:$L,0),FALSE),IFERROR(MATCH(TRIM($G558),'Transparency List 2018_10'!$D:$D,0),FALSE)),\"On the 2018_10 List\",\"-\")","v":"-"},{"$f":"IF(OR(IFERROR(MATCH($D558,'Transparency List 2018_04'!$L:$L,0),FALSE),IFERROR(MATCH(TRIM($G558),'Transparency List 2018_04'!$D:$D,0),FALSE)),\"On the 2018_04 List\",\"-\")","v":"-"},{"$f":"IF(OR(IFERROR(MATCH($D558,'Transparency List 2017'!$L:$L,0),FALSE),IFERROR(MATCH(TRIM($G558),'Transparency List 2017'!$C:$C,0),FALSE)),\"On the 2017 List\",\"-\")","v":"-"},{"$f":"IF(OR(IFERROR(MATCH($D558,'Transparency List 2015'!$H:$H,0),FALSE),IFERROR(MATCH(TRIM($G558),'Transparency List 2015'!$C:$C,0),FALSE)),\"On the 2015 List\",\"-\")","v":"-"}]
[null,null,4,"",null,null,null,"-",{"$f":"IF(OR(IFERROR(MATCH($D559,'Transparency List 2018_10'!$L:$L,0),FALSE),IFERROR(MATCH(TRIM($G559),'Transparency List 2018_10'!$D:$D,0),FALSE)),\"On the 2018_10 List\",\"-\")","v":"-"},{"$f":"IF(OR(IFERROR(MATCH($D559,'Transparency List 2018_04'!$L:$L,0),FALSE),IFERROR(MATCH(TRIM($G559),'Transparency List 2018_04'!$D:$D,0),FALSE)),\"On the 2018_04 List\",\"-\")","v":"-"},{"$f":"IF(OR(IFERROR(MATCH($D559,'Transparency List 2017'!$L:$L,0),FALSE),IFERROR(MATCH(TRIM($G559),'Transparency List 2017'!$C:$C,0),FALSE)),\"On the 2017 List\",\"-\")","v":"-"},{"$f":"IF(OR(IFERROR(MATCH($D559,'Transparency List 2015'!$H:$H,0),FALSE),IFERROR(MATCH(TRIM($G559),'Transparency List 2015'!$C:$C,0),FALSE)),\"On the 2015 List\",\"-\")","v":"-"}]
[null,null,4,"",null,null,null,"-",{"$f":"IF(OR(IFERROR(MATCH($D560,'Transparency List 2018_10'!$L:$L,0),FALSE),IFERROR(MATCH(TRIM($G560),'Transparency List 2018_10'!$D:$D,0),FALSE)),\"On the 2018_10 List\",\"-\")","v":"-"},{"$f":"IF(OR(IFERROR(MATCH($D560,'Transparency List 2018_04'!$L:$L,0),FALSE),IFERROR(MATCH(TRIM($G560),'Transparency List 2018_04'!$D:$D,0),FALSE)),\"On the 2018_04 List\",\"-\")","v":"-"},{"$f":"IF(OR(IFERROR(MATCH($D560,'Transparency List 2017'!$L:$L,0),FALSE),IFERROR(MATCH(TRIM($G560),'Transparency List 2017'!$C:$C,0),FALSE)),\"On the 2017 List\",\"-\")","v":"-"},{"$f":"IF(OR(IFERROR(MATCH($D560,'Transparency List 2015'!$H:$H,0),FALSE),IFERROR(MATCH(TRIM($G560),'Transparency List 2015'!$C:$C,0),FALSE)),\"On the 2015 List\",\"-\")","v":"-"}]
[null,null,4,"",null,null,null,"-",{"$f":"IF(OR(IFERROR(MATCH($D561,'Transparency List 2018_10'!$L:$L,0),FALSE),IFERROR(MATCH(TRIM($G561),'Transparency List 2018_10'!$D:$D,0),FALSE)),\"On the 2018_10 List\",\"-\")","v":"-"},{"$f":"IF(OR(IFERROR(MATCH($D561,'Transparency List 2018_04'!$L:$L,0),FALSE),IFERROR(MATCH(TRIM($G561),'Transparency List 2018_04'!$D:$D,0),FALSE)),\"On the 2018_04 List\",\"-\")","v":"-"},{"$f":"IF(OR(IFERROR(MATCH($D561,'Transparency List 2017'!$L:$L,0),FALSE),IFERROR(MATCH(TRIM($G561),'Transparency List 2017'!$C:$C,0),FALSE)),\"On the 2017 List\",\"-\")","v":"-"},{"$f":"IF(OR(IFERROR(MATCH($D561,'Transparency List 2015'!$H:$H,0),FALSE),IFERROR(MATCH(TRIM($G561),'Transparency List 2015'!$C:$C,0),FALSE)),\"On the 2015 List\",\"-\")","v":"-"}]
[null,null,4,"",null,null,null,"-",{"$f":"IF(OR(IFERROR(MATCH($D562,'Transparency List 2018_10'!$L:$L,0),FALSE),IFERROR(MATCH(TRIM($G562),'Transparency List 2018_10'!$D:$D,0),FALSE)),\"On the 2018_10 List\",\"-\")","v":"-"},{"$f":"IF(OR(IFERROR(MATCH($D562,'Transparency List 2018_04'!$L:$L,0),FALSE),IFERROR(MATCH(TRIM($G562),'Transparency List 2018_04'!$D:$D,0),FALSE)),\"On the 2018_04 List\",\"-\")","v":"-"},{"$f":"IF(OR(IFERROR(MATCH($D562,'Transparency List 2017'!$L:$L,0),FALSE),IFERROR(MATCH(TRIM($G562),'Transparency List 2017'!$C:$C,0),FALSE)),\"On the 2017 List\",\"-\")","v":"-"},{"$f":"IF(OR(IFERROR(MATCH($D562,'Transparency List 2015'!$H:$H,0),FALSE),IFERROR(MATCH(TRIM($G562),'Transparency List 2015'!$C:$C,0),FALSE)),\"On the 2015 List\",\"-\")","v":"-"}]
[null,null,4,"",null,null,null,"-",{"$f":"IF(OR(IFERROR(MATCH($D563,'Transparency List 2018_10'!$L:$L,0),FALSE),IFERROR(MATCH(TRIM($G563),'Transparency List 2018_10'!$D:$D,0),FALSE)),\"On the 2018_10 List\",\"-\")","v":"-"},{"$f":"IF(OR(IFERROR(MATCH($D563,'Transparency List 2018_04'!$L:$L,0),FALSE),IFERROR(MATCH(TRIM($G563),'Transparency List 2018_04'!$D:$D,0),FALSE)),\"On the 2018_04 List\",\"-\")","v":"-"},{"$f":"IF(OR(IFERROR(MATCH($D563,'Transparency List 2017'!$L:$L,0),FALSE),IFERROR(MATCH(TRIM($G563),'Transparency List 2017'!$C:$C,0),FALSE)),\"On the 2017 List\",\"-\")","v":"-"},{"$f":"IF(OR(IFERROR(MATCH($D563,'Transparency List 2015'!$H:$H,0),FALSE),IFERROR(MATCH(TRIM($G563),'Transparency List 2015'!$C:$C,0),FALSE)),\"On the 2015 List\",\"-\")","v":"-"}]
[null,null,4,"",null,null,null,"-",{"$f":"IF(OR(IFERROR(MATCH($D564,'Transparency List 2018_10'!$L:$L,0),FALSE),IFERROR(MATCH(TRIM($G564),'Transparency List 2018_10'!$D:$D,0),FALSE)),\"On the 2018_10 List\",\"-\")","v":"-"},{"$f":"IF(OR(IFERROR(MATCH($D564,'Transparency List 2018_04'!$L:$L,0),FALSE),IFERROR(MATCH(TRIM($G564),'Transparency List 2018_04'!$D:$D,0),FALSE)),\"On the 2018_04 List\",\"-\")","v":"-"},{"$f":"IF(OR(IFERROR(MATCH($D564,'Transparency List 2017'!$L:$L,0),FALSE),IFERROR(MATCH(TRIM($G564),'Transparency List 2017'!$C:$C,0),FALSE)),\"On the 2017 List\",\"-\")","v":"-"},{"$f":"IF(OR(IFERROR(MATCH($D564,'Transparency List 2015'!$H:$H,0),FALSE),IFERROR(MATCH(TRIM($G564),'Transparency List 2015'!$C:$C,0),FALSE)),\"On the 2015 List\",\"-\")","v":"-"}]
[null,null,4,"",null,null,null,"-",{"$f":"IF(OR(IFERROR(MATCH($D565,'Transparency List 2018_10'!$L:$L,0),FALSE),IFERROR(MATCH(TRIM($G565),'Transparency List 2018_10'!$D:$D,0),FALSE)),\"On the 2018_10 List\",\"-\")","v":"-"},{"$f":"IF(OR(IFERROR(MATCH($D565,'Transparency List 2018_04'!$L:$L,0),FALSE),IFERROR(MATCH(TRIM($G565),'Transparency List 2018_04'!$D:$D,0),FALSE)),\"On the 2018_04 List\",\"-\")","v":"-"},{"$f":"IF(OR(IFERROR(MATCH($D565,'Transparency List 2017'!$L:$L,0),FALSE),IFERROR(MATCH(TRIM($G565),'Transparency List 2017'!$C:$C,0),FALSE)),\"On the 2017 List\",\"-\")","v":"-"},{"$f":"IF(OR(IFERROR(MATCH($D565,'Transparency List 2015'!$H:$H,0),FALSE),IFERROR(MATCH(TRIM($G565),'Transparency List 2015'!$C:$C,0),FALSE)),\"On the 2015 List\",\"-\")","v":"-"}]
[null,null,4,"",null,null,null,"-",{"$f":"IF(OR(IFERROR(MATCH($D566,'Transparency List 2018_10'!$L:$L,0),FALSE),IFERROR(MATCH(TRIM($G566),'Transparency List 2018_10'!$D:$D,0),FALSE)),\"On the 2018_10 List\",\"-\")","v":"-"},{"$f":"IF(OR(IFERROR(MATCH($D566,'Transparency List 2018_04'!$L:$L,0),FALSE),IFERROR(MATCH(TRIM($G566),'Transparency List 2018_04'!$D:$D,0),FALSE)),\"On the 2018_04 List\",\"-\")","v":"-"},{"$f":"IF(OR(IFERROR(MATCH($D566,'Transparency List 2017'!$L:$L,0),FALSE),IFERROR(MATCH(TRIM($G566),'Transparency List 2017'!$C:$C,0),FALSE)),\"On the 2017 List\",\"-\")","v":"-"},{"$f":"IF(OR(IFERROR(MATCH($D566,'Transparency List 2015'!$H:$H,0),FALSE),IFERROR(MATCH(TRIM($G566),'Transparency List 2015'!$C:$C,0),FALSE)),\"On the 2015 List\",\"-\")","v":"-"}]
[null,null,4,"",null,null,null,"-",{"$f":"IF(OR(IFERROR(MATCH($D567,'Transparency List 2018_10'!$L:$L,0),FALSE),IFERROR(MATCH(TRIM($G567),'Transparency List 2018_10'!$D:$D,0),FALSE)),\"On the 2018_10 List\",\"-\")","v":"-"},{"$f":"IF(OR(IFERROR(MATCH($D567,'Transparency List 2018_04'!$L:$L,0),FALSE),IFERROR(MATCH(TRIM($G567),'Transparency List 2018_04'!$D:$D,0),FALSE)),\"On the 2018_04 List\",\"-\")","v":"-"},{"$f":"IF(OR(IFERROR(MATCH($D567,'Transparency List 2017'!$L:$L,0),FALSE),IFERROR(MATCH(TRIM($G567),'Transparency List 2017'!$C:$C,0),FALSE)),\"On the 2017 List\",\"-\")","v":"-"},{"$f":"IF(OR(IFERROR(MATCH($D567,'Transparency List 2015'!$H:$H,0),FALSE),IFERROR(MATCH(TRIM($G567),'Transparency List 2015'!$C:$C,0),FALSE)),\"On the 2015 List\",\"-\")","v":"-"}]
[null,null,4,"",null,null,null,"-",{"$f":"IF(OR(IFERROR(MATCH($D568,'Transparency List 2018_10'!$L:$L,0),FALSE),IFERROR(MATCH(TRIM($G568),'Transparency List 2018_10'!$D:$D,0),FALSE)),\"On the 2018_10 List\",\"-\")","v":"-"},{"$f":"IF(OR(IFERROR(MATCH($D568,'Transparency List 2018_04'!$L:$L,0),FALSE),IFERROR(MATCH(TRIM($G568),'Transparency List 2018_04'!$D:$D,0),FALSE)),\"On the 2018_04 List\",\"-\")","v":"-"},{"$f":"IF(OR(IFERROR(MATCH($D568,'Transparency List 2017'!$L:$L,0),FALSE),IFERROR(MATCH(TRIM($G568),'Transparency List 2017'!$C:$C,0),FALSE)),\"On the 2017 List\",\"-\")","v":"-"},{"$f":"IF(OR(IFERROR(MATCH($D568,'Transparency List 2015'!$H:$H,0),FALSE),IFERROR(MATCH(TRIM($G568),'Transparency List 2015'!$C:$C,0),FALSE)),\"On the 2015 List\",\"-\")","v":"-"}]
[null,null,4,"",null,null,null,"-",{"$f":"IF(OR(IFERROR(MATCH($D569,'Transparency List 2018_10'!$L:$L,0),FALSE),IFERROR(MATCH(TRIM($G569),'Transparency List 2018_10'!$D:$D,0),FALSE)),\"On the 2018_10 List\",\"-\")","v":"-"},{"$f":"IF(OR(IFERROR(MATCH($D569,'Transparency List 2018_04'!$L:$L,0),FALSE),IFERROR(MATCH(TRIM($G569),'Transparency List 2018_04'!$D:$D,0),FALSE)),\"On the 2018_04 List\",\"-\")","v":"-"},{"$f":"IF(OR(IFERROR(MATCH($D569,'Transparency List 2017'!$L:$L,0),FALSE),IFERROR(MATCH(TRIM($G569),'Transparency List 2017'!$C:$C,0),FALSE)),\"On the 2017 List\",\"-\")","v":"-"},{"$f":"IF(OR(IFERROR(MATCH($D569,'Transparency List 2015'!$H:$H,0),FALSE),IFERROR(MATCH(TRIM($G569),'Transparency List 2015'!$C:$C,0),FALSE)),\"On the 2015 List\",\"-\")","v":"-"}]
[null,null,4,"",null,null,null,"-",{"$f":"IF(OR(IFERROR(MATCH($D570,'Transparency List 2018_10'!$L:$L,0),FALSE),IFERROR(MATCH(TRIM($G570),'Transparency List 2018_10'!$D:$D,0),FALSE)),\"On the 2018_10 List\",\"-\")","v":"-"},{"$f":"IF(OR(IFERROR(MATCH($D570,'Transparency List 2018_04'!$L:$L,0),FALSE),IFERROR(MATCH(TRIM($G570),'Transparency List 2018_04'!$D:$D,0),FALSE)),\"On the 2018_04 List\",\"-\")","v":"-"},{"$f":"IF(OR(IFERROR(MATCH($D570,'Transparency List 2017'!$L:$L,0),FALSE),IFERROR(MATCH(TRIM($G570),'Transparency List 2017'!$C:$C,0),FALSE)),\"On the 2017 List\",\"-\")","v":"-"},{"$f":"IF(OR(IFERROR(MATCH($D570,'Transparency List 2015'!$H:$H,0),FALSE),IFERROR(MATCH(TRIM($G570),'Transparency List 2015'!$C:$C,0),FALSE)),\"On the 2015 List\",\"-\")","v":"-"}]
[null,null,4,"",null,null,null,"-",{"$f":"IF(OR(IFERROR(MATCH($D571,'Transparency List 2018_10'!$L:$L,0),FALSE),IFERROR(MATCH(TRIM($G571),'Transparency List 2018_10'!$D:$D,0),FALSE)),\"On the 2018_10 List\",\"-\")","v":"-"},{"$f":"IF(OR(IFERROR(MATCH($D571,'Transparency List 2018_04'!$L:$L,0),FALSE),IFERROR(MATCH(TRIM($G571),'Transparency List 2018_04'!$D:$D,0),FALSE)),\"On the 2018_04 List\",\"-\")","v":"-"},{"$f":"IF(OR(IFERROR(MATCH($D571,'Transparency List 2017'!$L:$L,0),FALSE),IFERROR(MATCH(TRIM($G571),'Transparency List 2017'!$C:$C,0),FALSE)),\"On the 2017 List\",\"-\")","v":"-"},{"$f":"IF(OR(IFERROR(MATCH($D571,'Transparency List 2015'!$H:$H,0),FALSE),IFERROR(MATCH(TRIM($G571),'Transparency List 2015'!$C:$C,0),FALSE)),\"On the 2015 List\",\"-\")","v":"-"}]
[null,null,4,"",null,null,null,"-",{"$f":"IF(OR(IFERROR(MATCH($D572,'Transparency List 2018_10'!$L:$L,0),FALSE),IFERROR(MATCH(TRIM($G572),'Transparency List 2018_10'!$D:$D,0),FALSE)),\"On the 2018_10 List\",\"-\")","v":"-"},{"$f":"IF(OR(IFERROR(MATCH($D572,'Transparency List 2018_04'!$L:$L,0),FALSE),IFERROR(MATCH(TRIM($G572),'Transparency List 2018_04'!$D:$D,0),FALSE)),\"On the 2018_04 List\",\"-\")","v":"-"},{"$f":"IF(OR(IFERROR(MATCH($D572,'Transparency List 2017'!$L:$L,0),FALSE),IFERROR(MATCH(TRIM($G572),'Transparency List 2017'!$C:$C,0),FALSE)),\"On the 2017 List\",\"-\")","v":"-"},{"$f":"IF(OR(IFERROR(MATCH($D572,'Transparency List 2015'!$H:$H,0),FALSE),IFERROR(MATCH(TRIM($G572),'Transparency List 2015'!$C:$C,0),FALSE)),\"On the 2015 List\",\"-\")","v":"-"}]
[null,null,4,"",null,null,null,"-",{"$f":"IF(OR(IFERROR(MATCH($D573,'Transparency List 2018_10'!$L:$L,0),FALSE),IFERROR(MATCH(TRIM($G573),'Transparency List 2018_10'!$D:$D,0),FALSE)),\"On the 2018_10 List\",\"-\")","v":"-"},{"$f":"IF(OR(IFERROR(MATCH($D573,'Transparency List 2018_04'!$L:$L,0),FALSE),IFERROR(MATCH(TRIM($G573),'Transparency List 2018_04'!$D:$D,0),FALSE)),\"On the 2018_04 List\",\"-\")","v":"-"},{"$f":"IF(OR(IFERROR(MATCH($D573,'Transparency List 2017'!$L:$L,0),FALSE),IFERROR(MATCH(TRIM($G573),'Transparency List 2017'!$C:$C,0),FALSE)),\"On the 2017 List\",\"-\")","v":"-"},{"$f":"IF(OR(IFERROR(MATCH($D573,'Transparency List 2015'!$H:$H,0),FALSE),IFERROR(MATCH(TRIM($G573),'Transparency List 2015'!$C:$C,0),FALSE)),\"On the 2015 List\",\"-\")","v":"-"}]
[null,null,4,"",null,null,null,"-",{"$f":"IF(OR(IFERROR(MATCH($D574,'Transparency List 2018_10'!$L:$L,0),FALSE),IFERROR(MATCH(TRIM($G574),'Transparency List 2018_10'!$D:$D,0),FALSE)),\"On the 2018_10 List\",\"-\")","v":"-"},{"$f":"IF(OR(IFERROR(MATCH($D574,'Transparency List 2018_04'!$L:$L,0),FALSE),IFERROR(MATCH(TRIM($G574),'Transparency List 2018_04'!$D:$D,0),FALSE)),\"On the 2018_04 List\",\"-\")","v":"-"},{"$f":"IF(OR(IFERROR(MATCH($D574,'Transparency List 2017'!$L:$L,0),FALSE),IFERROR(MATCH(TRIM($G574),'Transparency List 2017'!$C:$C,0),FALSE)),\"On the 2017 List\",\"-\")","v":"-"},{"$f":"IF(OR(IFERROR(MATCH($D574,'Transparency List 2015'!$H:$H,0),FALSE),IFERROR(MATCH(TRIM($G574),'Transparency List 2015'!$C:$C,0),FALSE)),\"On the 2015 List\",\"-\")","v":"-"}]
[null,null,4,"",null,null,null,"-",{"$f":"IF(OR(IFERROR(MATCH($D575,'Transparency List 2018_10'!$L:$L,0),FALSE),IFERROR(MATCH(TRIM($G575),'Transparency List 2018_10'!$D:$D,0),FALSE)),\"On the 2018_10 List\",\"-\")","v":"-"},{"$f":"IF(OR(IFERROR(MATCH($D575,'Transparency List 2018_04'!$L:$L,0),FALSE),IFERROR(MATCH(TRIM($G575),'Transparency List 2018_04'!$D:$D,0),FALSE)),\"On the 2018_04 List\",\"-\")","v":"-"},{"$f":"IF(OR(IFERROR(MATCH($D575,'Transparency List 2017'!$L:$L,0),FALSE),IFERROR(MATCH(TRIM($G575),'Transparency List 2017'!$C:$C,0),FALSE)),\"On the 2017 List\",\"-\")","v":"-"},{"$f":"IF(OR(IFERROR(MATCH($D575,'Transparency List 2015'!$H:$H,0),FALSE),IFERROR(MATCH(TRIM($G575),'Transparency List 2015'!$C:$C,0),FALSE)),\"On the 2015 List\",\"-\")","v":"-"}]
[null,null,4,"",null,null,null,"-",{"$f":"IF(OR(IFERROR(MATCH($D576,'Transparency List 2018_10'!$L:$L,0),FALSE),IFERROR(MATCH(TRIM($G576),'Transparency List 2018_10'!$D:$D,0),FALSE)),\"On the 2018_10 List\",\"-\")","v":"-"},{"$f":"IF(OR(IFERROR(MATCH($D576,'Transparency List 2018_04'!$L:$L,0),FALSE),IFERROR(MATCH(TRIM($G576),'Transparency List 2018_04'!$D:$D,0),FALSE)),\"On the 2018_04 List\",\"-\")","v":"-"},{"$f":"IF(OR(IFERROR(MATCH($D576,'Transparency List 2017'!$L:$L,0),FALSE),IFERROR(MATCH(TRIM($G576),'Transparency List 2017'!$C:$C,0),FALSE)),\"On the 2017 List\",\"-\")","v":"-"},{"$f":"IF(OR(IFERROR(MATCH($D576,'Transparency List 2015'!$H:$H,0),FALSE),IFERROR(MATCH(TRIM($G576),'Transparency List 2015'!$C:$C,0),FALSE)),\"On the 2015 List\",\"-\")","v":"-"}]
[null,null,4,"",null,null,null,"-",{"$f":"IF(OR(IFERROR(MATCH($D577,'Transparency List 2018_10'!$L:$L,0),FALSE),IFERROR(MATCH(TRIM($G577),'Transparency List 2018_10'!$D:$D,0),FALSE)),\"On the 2018_10 List\",\"-\")","v":"-"},{"$f":"IF(OR(IFERROR(MATCH($D577,'Transparency List 2018_04'!$L:$L,0),FALSE),IFERROR(MATCH(TRIM($G577),'Transparency List 2018_04'!$D:$D,0),FALSE)),\"On the 2018_04 List\",\"-\")","v":"-"},{"$f":"IF(OR(IFERROR(MATCH($D577,'Transparency List 2017'!$L:$L,0),FALSE),IFERROR(MATCH(TRIM($G577),'Transparency List 2017'!$C:$C,0),FALSE)),\"On the 2017 List\",\"-\")","v":"-"},{"$f":"IF(OR(IFERROR(MATCH($D577,'Transparency List 2015'!$H:$H,0),FALSE),IFERROR(MATCH(TRIM($G577),'Transparency List 2015'!$C:$C,0),FALSE)),\"On the 2015 List\",\"-\")","v":"-"}]
[null,null,4,"",null,null,null,"-",{"$f":"IF(OR(IFERROR(MATCH($D578,'Transparency List 2018_10'!$L:$L,0),FALSE),IFERROR(MATCH(TRIM($G578),'Transparency List 2018_10'!$D:$D,0),FALSE)),\"On the 2018_10 List\",\"-\")","v":"-"},{"$f":"IF(OR(IFERROR(MATCH($D578,'Transparency List 2018_04'!$L:$L,0),FALSE),IFERROR(MATCH(TRIM($G578),'Transparency List 2018_04'!$D:$D,0),FALSE)),\"On the 2018_04 List\",\"-\")","v":"-"},{"$f":"IF(OR(IFERROR(MATCH($D578,'Transparency List 2017'!$L:$L,0),FALSE),IFERROR(MATCH(TRIM($G578),'Transparency List 2017'!$C:$C,0),FALSE)),\"On the 2017 List\",\"-\")","v":"-"},{"$f":"IF(OR(IFERROR(MATCH($D578,'Transparency List 2015'!$H:$H,0),FALSE),IFERROR(MATCH(TRIM($G578),'Transparency List 2015'!$C:$C,0),FALSE)),\"On the 2015 List\",\"-\")","v":"-"}]
[null,null,4,"",null,null,null,"-",{"$f":"IF(OR(IFERROR(MATCH($D579,'Transparency List 2018_10'!$L:$L,0),FALSE),IFERROR(MATCH(TRIM($G579),'Transparency List 2018_10'!$D:$D,0),FALSE)),\"On the 2018_10 List\",\"-\")","v":"-"},{"$f":"IF(OR(IFERROR(MATCH($D579,'Transparency List 2018_04'!$L:$L,0),FALSE),IFERROR(MATCH(TRIM($G579),'Transparency List 2018_04'!$D:$D,0),FALSE)),\"On the 2018_04 List\",\"-\")","v":"-"},{"$f":"IF(OR(IFERROR(MATCH($D579,'Transparency List 2017'!$L:$L,0),FALSE),IFERROR(MATCH(TRIM($G579),'Transparency List 2017'!$C:$C,0),FALSE)),\"On the 2017 List\",\"-\")","v":"-"},{"$f":"IF(OR(IFERROR(MATCH($D579,'Transparency List 2015'!$H:$H,0),FALSE),IFERROR(MATCH(TRIM($G579),'Transparency List 2015'!$C:$C,0),FALSE)),\"On the 2015 List\",\"-\")","v":"-"}]
[null,null,4,"",null,null,null,"-",{"$f":"IF(OR(IFERROR(MATCH($D580,'Transparency List 2018_10'!$L:$L,0),FALSE),IFERROR(MATCH(TRIM($G580),'Transparency List 2018_10'!$D:$D,0),FALSE)),\"On the 2018_10 List\",\"-\")","v":"-"},{"$f":"IF(OR(IFERROR(MATCH($D580,'Transparency List 2018_04'!$L:$L,0),FALSE),IFERROR(MATCH(TRIM($G580),'Transparency List 2018_04'!$D:$D,0),FALSE)),\"On the 2018_04 List\",\"-\")","v":"-"},{"$f":"IF(OR(IFERROR(MATCH($D580,'Transparency List 2017'!$L:$L,0),FALSE),IFERROR(MATCH(TRIM($G580),'Transparency List 2017'!$C:$C,0),FALSE)),\"On the 2017 List\",\"-\")","v":"-"},{"$f":"IF(OR(IFERROR(MATCH($D580,'Transparency List 2015'!$H:$H,0),FALSE),IFERROR(MATCH(TRIM($G580),'Transparency List 2015'!$C:$C,0),FALSE)),\"On the 2015 List\",\"-\")","v":"-"}]
[null,null,4,"",null,null,null,"-",{"$f":"IF(OR(IFERROR(MATCH($D581,'Transparency List 2018_10'!$L:$L,0),FALSE),IFERROR(MATCH(TRIM($G581),'Transparency List 2018_10'!$D:$D,0),FALSE)),\"On the 2018_10 List\",\"-\")","v":"-"},{"$f":"IF(OR(IFERROR(MATCH($D581,'Transparency List 2018_04'!$L:$L,0),FALSE),IFERROR(MATCH(TRIM($G581),'Transparency List 2018_04'!$D:$D,0),FALSE)),\"On the 2018_04 List\",\"-\")","v":"-"},{"$f":"IF(OR(IFERROR(MATCH($D581,'Transparency List 2017'!$L:$L,0),FALSE),IFERROR(MATCH(TRIM($G581),'Transparency List 2017'!$C:$C,0),FALSE)),\"On the 2017 List\",\"-\")","v":"-"},{"$f":"IF(OR(IFERROR(MATCH($D581,'Transparency List 2015'!$H:$H,0),FALSE),IFERROR(MATCH(TRIM($G581),'Transparency List 2015'!$C:$C,0),FALSE)),\"On the 2015 List\",\"-\")","v":"-"}]
[null,null,4,"",null,null,null,"-",{"$f":"IF(OR(IFERROR(MATCH($D582,'Transparency List 2018_10'!$L:$L,0),FALSE),IFERROR(MATCH(TRIM($G582),'Transparency List 2018_10'!$D:$D,0),FALSE)),\"On the 2018_10 List\",\"-\")","v":"-"},{"$f":"IF(OR(IFERROR(MATCH($D582,'Transparency List 2018_04'!$L:$L,0),FALSE),IFERROR(MATCH(TRIM($G582),'Transparency List 2018_04'!$D:$D,0),FALSE)),\"On the 2018_04 List\",\"-\")","v":"-"},{"$f":"IF(OR(IFERROR(MATCH($D582,'Transparency List 2017'!$L:$L,0),FALSE),IFERROR(MATCH(TRIM($G582),'Transparency List 2017'!$C:$C,0),FALSE)),\"On the 2017 List\",\"-\")","v":"-"},{"$f":"IF(OR(IFERROR(MATCH($D582,'Transparency List 2015'!$H:$H,0),FALSE),IFERROR(MATCH(TRIM($G582),'Transparency List 2015'!$C:$C,0),FALSE)),\"On the 2015 List\",\"-\")","v":"-"}]
[null,null,4,"",null,null,null,"-",{"$f":"IF(OR(IFERROR(MATCH($D583,'Transparency List 2018_10'!$L:$L,0),FALSE),IFERROR(MATCH(TRIM($G583),'Transparency List 2018_10'!$D:$D,0),FALSE)),\"On the 2018_10 List\",\"-\")","v":"-"},{"$f":"IF(OR(IFERROR(MATCH($D583,'Transparency List 2018_04'!$L:$L,0),FALSE),IFERROR(MATCH(TRIM($G583),'Transparency List 2018_04'!$D:$D,0),FALSE)),\"On the 2018_04 List\",\"-\")","v":"-"},{"$f":"IF(OR(IFERROR(MATCH($D583,'Transparency List 2017'!$L:$L,0),FALSE),IFERROR(MATCH(TRIM($G583),'Transparency List 2017'!$C:$C,0),FALSE)),\"On the 2017 List\",\"-\")","v":"-"},{"$f":"IF(OR(IFERROR(MATCH($D583,'Transparency List 2015'!$H:$H,0),FALSE),IFERROR(MATCH(TRIM($G583),'Transparency List 2015'!$C:$C,0),FALSE)),\"On the 2015 List\",\"-\")","v":"-"}]
[null,null,4,"",null,null,null,"-",{"$f":"IF(OR(IFERROR(MATCH($D584,'Transparency List 2018_10'!$L:$L,0),FALSE),IFERROR(MATCH(TRIM($G584),'Transparency List 2018_10'!$D:$D,0),FALSE)),\"On the 2018_10 List\",\"-\")","v":"-"},{"$f":"IF(OR(IFERROR(MATCH($D584,'Transparency List 2018_04'!$L:$L,0),FALSE),IFERROR(MATCH(TRIM($G584),'Transparency List 2018_04'!$D:$D,0),FALSE)),\"On the 2018_04 List\",\"-\")","v":"-"},{"$f":"IF(OR(IFERROR(MATCH($D584,'Transparency List 2017'!$L:$L,0),FALSE),IFERROR(MATCH(TRIM($G584),'Transparency List 2017'!$C:$C,0),FALSE)),\"On the 2017 List\",\"-\")","v":"-"},{"$f":"IF(OR(IFERROR(MATCH($D584,'Transparency List 2015'!$H:$H,0),FALSE),IFERROR(MATCH(TRIM($G584),'Transparency List 2015'!$C:$C,0),FALSE)),\"On the 2015 List\",\"-\")","v":"-"}]
[null,null,4,"",null,null,null,"-",{"$f":"IF(OR(IFERROR(MATCH($D585,'Transparency List 2018_10'!$L:$L,0),FALSE),IFERROR(MATCH(TRIM($G585),'Transparency List 2018_10'!$D:$D,0),FALSE)),\"On the 2018_10 List\",\"-\")","v":"-"},{"$f":"IF(OR(IFERROR(MATCH($D585,'Transparency List 2018_04'!$L:$L,0),FALSE),IFERROR(MATCH(TRIM($G585),'Transparency List 2018_04'!$D:$D,0),FALSE)),\"On the 2018_04 List\",\"-\")","v":"-"},{"$f":"IF(OR(IFERROR(MATCH($D585,'Transparency List 2017'!$L:$L,0),FALSE),IFERROR(MATCH(TRIM($G585),'Transparency List 2017'!$C:$C,0),FALSE)),\"On the 2017 List\",\"-\")","v":"-"},{"$f":"IF(OR(IFERROR(MATCH($D585,'Transparency List 2015'!$H:$H,0),FALSE),IFERROR(MATCH(TRIM($G585),'Transparency List 2015'!$C:$C,0),FALSE)),\"On the 2015 List\",\"-\")","v":"-"}]
[null,null,4,"",null,null,null,"-",{"$f":"IF(OR(IFERROR(MATCH($D586,'Transparency List 2018_10'!$L:$L,0),FALSE),IFERROR(MATCH(TRIM($G586),'Transparency List 2018_10'!$D:$D,0),FALSE)),\"On the 2018_10 List\",\"-\")","v":"-"},{"$f":"IF(OR(IFERROR(MATCH($D586,'Transparency List 2018_04'!$L:$L,0),FALSE),IFERROR(MATCH(TRIM($G586),'Transparency List 2018_04'!$D:$D,0),FALSE)),\"On the 2018_04 List\",\"-\")","v":"-"},{"$f":"IF(OR(IFERROR(MATCH($D586,'Transparency List 2017'!$L:$L,0),FALSE),IFERROR(MATCH(TRIM($G586),'Transparency List 2017'!$C:$C,0),FALSE)),\"On the 2017 List\",\"-\")","v":"-"},{"$f":"IF(OR(IFERROR(MATCH($D586,'Transparency List 2015'!$H:$H,0),FALSE),IFERROR(MATCH(TRIM($G586),'Transparency List 2015'!$C:$C,0),FALSE)),\"On the 2015 List\",\"-\")","v":"-"}]
[null,null,4,"",null,null,null,"-",{"$f":"IF(OR(IFERROR(MATCH($D587,'Transparency List 2018_10'!$L:$L,0),FALSE),IFERROR(MATCH(TRIM($G587),'Transparency List 2018_10'!$D:$D,0),FALSE)),\"On the 2018_10 List\",\"-\")","v":"-"},{"$f":"IF(OR(IFERROR(MATCH($D587,'Transparency List 2018_04'!$L:$L,0),FALSE),IFERROR(MATCH(TRIM($G587),'Transparency List 2018_04'!$D:$D,0),FALSE)),\"On the 2018_04 List\",\"-\")","v":"-"},{"$f":"IF(OR(IFERROR(MATCH($D587,'Transparency List 2017'!$L:$L,0),FALSE),IFERROR(MATCH(TRIM($G587),'Transparency List 2017'!$C:$C,0),FALSE)),\"On the 2017 List\",\"-\")","v":"-"},{"$f":"IF(OR(IFERROR(MATCH($D587,'Transparency List 2015'!$H:$H,0),FALSE),IFERROR(MATCH(TRIM($G587),'Transparency List 2015'!$C:$C,0),FALSE)),\"On the 2015 List\",\"-\")","v":"-"}]
[null,null,4,"",null,null,null,"-",{"$f":"IF(OR(IFERROR(MATCH($D588,'Transparency List 2018_10'!$L:$L,0),FALSE),IFERROR(MATCH(TRIM($G588),'Transparency List 2018_10'!$D:$D,0),FALSE)),\"On the 2018_10 List\",\"-\")","v":"-"},{"$f":"IF(OR(IFERROR(MATCH($D588,'Transparency List 2018_04'!$L:$L,0),FALSE),IFERROR(MATCH(TRIM($G588),'Transparency List 2018_04'!$D:$D,0),FALSE)),\"On the 2018_04 List\",\"-\")","v":"-"},{"$f":"IF(OR(IFERROR(MATCH($D588,'Transparency List 2017'!$L:$L,0),FALSE),IFERROR(MATCH(TRIM($G588),'Transparency List 2017'!$C:$C,0),FALSE)),\"On the 2017 List\",\"-\")","v":"-"},{"$f":"IF(OR(IFERROR(MATCH($D588,'Transparency List 2015'!$H:$H,0),FALSE),IFERROR(MATCH(TRIM($G588),'Transparency List 2015'!$C:$C,0),FALSE)),\"On the 2015 List\",\"-\")","v":"-"}]
[null,null,4,"",null,null,null,"-",{"$f":"IF(OR(IFERROR(MATCH($D589,'Transparency List 2018_10'!$L:$L,0),FALSE),IFERROR(MATCH(TRIM($G589),'Transparency List 2018_10'!$D:$D,0),FALSE)),\"On the 2018_10 List\",\"-\")","v":"-"},{"$f":"IF(OR(IFERROR(MATCH($D589,'Transparency List 2018_04'!$L:$L,0),FALSE),IFERROR(MATCH(TRIM($G589),'Transparency List 2018_04'!$D:$D,0),FALSE)),\"On the 2018_04 List\",\"-\")","v":"-"},{"$f":"IF(OR(IFERROR(MATCH($D589,'Transparency List 2017'!$L:$L,0),FALSE),IFERROR(MATCH(TRIM($G589),'Transparency List 2017'!$C:$C,0),FALSE)),\"On the 2017 List\",\"-\")","v":"-"},{"$f":"IF(OR(IFERROR(MATCH($D589,'Transparency List 2015'!$H:$H,0),FALSE),IFERROR(MATCH(TRIM($G589),'Transparency List 2015'!$C:$C,0),FALSE)),\"On the 2015 List\",\"-\")","v":"-"}]
[null,null,4,"",null,null,null,"-",{"$f":"IF(OR(IFERROR(MATCH($D590,'Transparency List 2018_10'!$L:$L,0),FALSE),IFERROR(MATCH(TRIM($G590),'Transparency List 2018_10'!$D:$D,0),FALSE)),\"On the 2018_10 List\",\"-\")","v":"-"},{"$f":"IF(OR(IFERROR(MATCH($D590,'Transparency List 2018_04'!$L:$L,0),FALSE),IFERROR(MATCH(TRIM($G590),'Transparency List 2018_04'!$D:$D,0),FALSE)),\"On the 2018_04 List\",\"-\")","v":"-"},{"$f":"IF(OR(IFERROR(MATCH($D590,'Transparency List 2017'!$L:$L,0),FALSE),IFERROR(MATCH(TRIM($G590),'Transparency List 2017'!$C:$C,0),FALSE)),\"On the 2017 List\",\"-\")","v":"-"},{"$f":"IF(OR(IFERROR(MATCH($D590,'Transparency List 2015'!$H:$H,0),FALSE),IFERROR(MATCH(TRIM($G590),'Transparency List 2015'!$C:$C,0),FALSE)),\"On the 2015 List\",\"-\")","v":"-"}]
[null,null,4,"",null,null,null,"-",{"$f":"IF(OR(IFERROR(MATCH($D591,'Transparency List 2018_10'!$L:$L,0),FALSE),IFERROR(MATCH(TRIM($G591),'Transparency List 2018_10'!$D:$D,0),FALSE)),\"On the 2018_10 List\",\"-\")","v":"-"},{"$f":"IF(OR(IFERROR(MATCH($D591,'Transparency List 2018_04'!$L:$L,0),FALSE),IFERROR(MATCH(TRIM($G591),'Transparency List 2018_04'!$D:$D,0),FALSE)),\"On the 2018_04 List\",\"-\")","v":"-"},{"$f":"IF(OR(IFERROR(MATCH($D591,'Transparency List 2017'!$L:$L,0),FALSE),IFERROR(MATCH(TRIM($G591),'Transparency List 2017'!$C:$C,0),FALSE)),\"On the 2017 List\",\"-\")","v":"-"},{"$f":"IF(OR(IFERROR(MATCH($D591,'Transparency List 2015'!$H:$H,0),FALSE),IFERROR(MATCH(TRIM($G591),'Transparency List 2015'!$C:$C,0),FALSE)),\"On the 2015 List\",\"-\")","v":"-"}]
[null,null,4,"",null,null,null,"-",{"$f":"IF(OR(IFERROR(MATCH($D592,'Transparency List 2018_10'!$L:$L,0),FALSE),IFERROR(MATCH(TRIM($G592),'Transparency List 2018_10'!$D:$D,0),FALSE)),\"On the 2018_10 List\",\"-\")","v":"-"},{"$f":"IF(OR(IFERROR(MATCH($D592,'Transparency List 2018_04'!$L:$L,0),FALSE),IFERROR(MATCH(TRIM($G592),'Transparency List 2018_04'!$D:$D,0),FALSE)),\"On the 2018_04 List\",\"-\")","v":"-"},{"$f":"IF(OR(IFERROR(MATCH($D592,'Transparency List 2017'!$L:$L,0),FALSE),IFERROR(MATCH(TRIM($G592),'Transparency List 2017'!$C:$C,0),FALSE)),\"On the 2017 List\",\"-\")","v":"-"},{"$f":"IF(OR(IFERROR(MATCH($D592,'Transparency List 2015'!$H:$H,0),FALSE),IFERROR(MATCH(TRIM($G592),'Transparency List 2015'!$C:$C,0),FALSE)),\"On the 2015 List\",\"-\")","v":"-"}]
[null,null,4,"",null,null,null,"-",{"$f":"IF(OR(IFERROR(MATCH($D593,'Transparency List 2018_10'!$L:$L,0),FALSE),IFERROR(MATCH(TRIM($G593),'Transparency List 2018_10'!$D:$D,0),FALSE)),\"On the 2018_10 List\",\"-\")","v":"-"},{"$f":"IF(OR(IFERROR(MATCH($D593,'Transparency List 2018_04'!$L:$L,0),FALSE),IFERROR(MATCH(TRIM($G593),'Transparency List 2018_04'!$D:$D,0),FALSE)),\"On the 2018_04 List\",\"-\")","v":"-"},{"$f":"IF(OR(IFERROR(MATCH($D593,'Transparency List 2017'!$L:$L,0),FALSE),IFERROR(MATCH(TRIM($G593),'Transparency List 2017'!$C:$C,0),FALSE)),\"On the 2017 List\",\"-\")","v":"-"},{"$f":"IF(OR(IFERROR(MATCH($D593,'Transparency List 2015'!$H:$H,0),FALSE),IFERROR(MATCH(TRIM($G593),'Transparency List 2015'!$C:$C,0),FALSE)),\"On the 2015 List\",\"-\")","v":"-"}]
[null,null,4,"",null,null,null,"-",{"$f":"IF(OR(IFERROR(MATCH($D594,'Transparency List 2018_10'!$L:$L,0),FALSE),IFERROR(MATCH(TRIM($G594),'Transparency List 2018_10'!$D:$D,0),FALSE)),\"On the 2018_10 List\",\"-\")","v":"-"},{"$f":"IF(OR(IFERROR(MATCH($D594,'Transparency List 2018_04'!$L:$L,0),FALSE),IFERROR(MATCH(TRIM($G594),'Transparency List 2018_04'!$D:$D,0),FALSE)),\"On the 2018_04 List\",\"-\")","v":"-"},{"$f":"IF(OR(IFERROR(MATCH($D594,'Transparency List 2017'!$L:$L,0),FALSE),IFERROR(MATCH(TRIM($G594),'Transparency List 2017'!$C:$C,0),FALSE)),\"On the 2017 List\",\"-\")","v":"-"},{"$f":"IF(OR(IFERROR(MATCH($D594,'Transparency List 2015'!$H:$H,0),FALSE),IFERROR(MATCH(TRIM($G594),'Transparency List 2015'!$C:$C,0),FALSE)),\"On the 2015 List\",\"-\")","v":"-"}]
[null,null,4,"",null,null,null,"-",{"$f":"IF(OR(IFERROR(MATCH($D595,'Transparency List 2018_10'!$L:$L,0),FALSE),IFERROR(MATCH(TRIM($G595),'Transparency List 2018_10'!$D:$D,0),FALSE)),\"On the 2018_10 List\",\"-\")","v":"-"},{"$f":"IF(OR(IFERROR(MATCH($D595,'Transparency List 2018_04'!$L:$L,0),FALSE),IFERROR(MATCH(TRIM($G595),'Transparency List 2018_04'!$D:$D,0),FALSE)),\"On the 2018_04 List\",\"-\")","v":"-"},{"$f":"IF(OR(IFERROR(MATCH($D595,'Transparency List 2017'!$L:$L,0),FALSE),IFERROR(MATCH(TRIM($G595),'Transparency List 2017'!$C:$C,0),FALSE)),\"On the 2017 List\",\"-\")","v":"-"},{"$f":"IF(OR(IFERROR(MATCH($D595,'Transparency List 2015'!$H:$H,0),FALSE),IFERROR(MATCH(TRIM($G595),'Transparency List 2015'!$C:$C,0),FALSE)),\"On the 2015 List\",\"-\")","v":"-"}]
[null,null,4,"",null,null,null,"-",{"$f":"IF(OR(IFERROR(MATCH($D596,'Transparency List 2018_10'!$L:$L,0),FALSE),IFERROR(MATCH(TRIM($G596),'Transparency List 2018_10'!$D:$D,0),FALSE)),\"On the 2018_10 List\",\"-\")","v":"-"},{"$f":"IF(OR(IFERROR(MATCH($D596,'Transparency List 2018_04'!$L:$L,0),FALSE),IFERROR(MATCH(TRIM($G596),'Transparency List 2018_04'!$D:$D,0),FALSE)),\"On the 2018_04 List\",\"-\")","v":"-"},{"$f":"IF(OR(IFERROR(MATCH($D596,'Transparency List 2017'!$L:$L,0),FALSE),IFERROR(MATCH(TRIM($G596),'Transparency List 2017'!$C:$C,0),FALSE)),\"On the 2017 List\",\"-\")","v":"-"},{"$f":"IF(OR(IFERROR(MATCH($D596,'Transparency List 2015'!$H:$H,0),FALSE),IFERROR(MATCH(TRIM($G596),'Transparency List 2015'!$C:$C,0),FALSE)),\"On the 2015 List\",\"-\")","v":"-"}]
[null,null,4,"",null,null,null,"-",{"$f":"IF(OR(IFERROR(MATCH($D597,'Transparency List 2018_10'!$L:$L,0),FALSE),IFERROR(MATCH(TRIM($G597),'Transparency List 2018_10'!$D:$D,0),FALSE)),\"On the 2018_10 List\",\"-\")","v":"-"},{"$f":"IF(OR(IFERROR(MATCH($D597,'Transparency List 2018_04'!$L:$L,0),FALSE),IFERROR(MATCH(TRIM($G597),'Transparency List 2018_04'!$D:$D,0),FALSE)),\"On the 2018_04 List\",\"-\")","v":"-"},{"$f":"IF(OR(IFERROR(MATCH($D597,'Transparency List 2017'!$L:$L,0),FALSE),IFERROR(MATCH(TRIM($G597),'Transparency List 2017'!$C:$C,0),FALSE)),\"On the 2017 List\",\"-\")","v":"-"},{"$f":"IF(OR(IFERROR(MATCH($D597,'Transparency List 2015'!$H:$H,0),FALSE),IFERROR(MATCH(TRIM($G597),'Transparency List 2015'!$C:$C,0),FALSE)),\"On the 2015 List\",\"-\")","v":"-"}]
[null,null,4,"",null,null,null,"-",{"$f":"IF(OR(IFERROR(MATCH($D598,'Transparency List 2018_10'!$L:$L,0),FALSE),IFERROR(MATCH(TRIM($G598),'Transparency List 2018_10'!$D:$D,0),FALSE)),\"On the 2018_10 List\",\"-\")","v":"-"},{"$f":"IF(OR(IFERROR(MATCH($D598,'Transparency List 2018_04'!$L:$L,0),FALSE),IFERROR(MATCH(TRIM($G598),'Transparency List 2018_04'!$D:$D,0),FALSE)),\"On the 2018_04 List\",\"-\")","v":"-"},{"$f":"IF(OR(IFERROR(MATCH($D598,'Transparency List 2017'!$L:$L,0),FALSE),IFERROR(MATCH(TRIM($G598),'Transparency List 2017'!$C:$C,0),FALSE)),\"On the 2017 List\",\"-\")","v":"-"},{"$f":"IF(OR(IFERROR(MATCH($D598,'Transparency List 2015'!$H:$H,0),FALSE),IFERROR(MATCH(TRIM($G598),'Transparency List 2015'!$C:$C,0),FALSE)),\"On the 2015 List\",\"-\")","v":"-"}]
[null,null,4,"",null,null,null,"-",{"$f":"IF(OR(IFERROR(MATCH($D599,'Transparency List 2018_10'!$L:$L,0),FALSE),IFERROR(MATCH(TRIM($G599),'Transparency List 2018_10'!$D:$D,0),FALSE)),\"On the 2018_10 List\",\"-\")","v":"-"},{"$f":"IF(OR(IFERROR(MATCH($D599,'Transparency List 2018_04'!$L:$L,0),FALSE),IFERROR(MATCH(TRIM($G599),'Transparency List 2018_04'!$D:$D,0),FALSE)),\"On the 2018_04 List\",\"-\")","v":"-"},{"$f":"IF(OR(IFERROR(MATCH($D599,'Transparency List 2017'!$L:$L,0),FALSE),IFERROR(MATCH(TRIM($G599),'Transparency List 2017'!$C:$C,0),FALSE)),\"On the 2017 List\",\"-\")","v":"-"},{"$f":"IF(OR(IFERROR(MATCH($D599,'Transparency List 2015'!$H:$H,0),FALSE),IFERROR(MATCH(TRIM($G599),'Transparency List 2015'!$C:$C,0),FALSE)),\"On the 2015 List\",\"-\")","v":"-"}]
[null,null,4,"",null,null,null,"-",{"$f":"IF(OR(IFERROR(MATCH($D600,'Transparency List 2018_10'!$L:$L,0),FALSE),IFERROR(MATCH(TRIM($G600),'Transparency List 2018_10'!$D:$D,0),FALSE)),\"On the 2018_10 List\",\"-\")","v":"-"},{"$f":"IF(OR(IFERROR(MATCH($D600,'Transparency List 2018_04'!$L:$L,0),FALSE),IFERROR(MATCH(TRIM($G600),'Transparency List 2018_04'!$D:$D,0),FALSE)),\"On the 2018_04 List\",\"-\")","v":"-"},{"$f":"IF(OR(IFERROR(MATCH($D600,'Transparency List 2017'!$L:$L,0),FALSE),IFERROR(MATCH(TRIM($G600),'Transparency List 2017'!$C:$C,0),FALSE)),\"On the 2017 List\",\"-\")","v":"-"},{"$f":"IF(OR(IFERROR(MATCH($D600,'Transparency List 2015'!$H:$H,0),FALSE),IFERROR(MATCH(TRIM($G600),'Transparency List 2015'!$C:$C,0),FALSE)),\"On the 2015 List\",\"-\")","v":"-"}]
[null,null,4,"",null,null,null,"-",{"$f":"IF(OR(IFERROR(MATCH($D601,'Transparency List 2018_10'!$L:$L,0),FALSE),IFERROR(MATCH(TRIM($G601),'Transparency List 2018_10'!$D:$D,0),FALSE)),\"On the 2018_10 List\",\"-\")","v":"-"},{"$f":"IF(OR(IFERROR(MATCH($D601,'Transparency List 2018_04'!$L:$L,0),FALSE),IFERROR(MATCH(TRIM($G601),'Transparency List 2018_04'!$D:$D,0),FALSE)),\"On the 2018_04 List\",\"-\")","v":"-"},{"$f":"IF(OR(IFERROR(MATCH($D601,'Transparency List 2017'!$L:$L,0),FALSE),IFERROR(MATCH(TRIM($G601),'Transparency List 2017'!$C:$C,0),FALSE)),\"On the 2017 List\",\"-\")","v":"-"},{"$f":"IF(OR(IFERROR(MATCH($D601,'Transparency List 2015'!$H:$H,0),FALSE),IFERROR(MATCH(TRIM($G601),'Transparency List 2015'!$C:$C,0),FALSE)),\"On the 2015 List\",\"-\")","v":"-"}]
[null,null,4,"",null,null,null,"-",{"$f":"IF(OR(IFERROR(MATCH($D602,'Transparency List 2018_10'!$L:$L,0),FALSE),IFERROR(MATCH(TRIM($G602),'Transparency List 2018_10'!$D:$D,0),FALSE)),\"On the 2018_10 List\",\"-\")","v":"-"},{"$f":"IF(OR(IFERROR(MATCH($D602,'Transparency List 2018_04'!$L:$L,0),FALSE),IFERROR(MATCH(TRIM($G602),'Transparency List 2018_04'!$D:$D,0),FALSE)),\"On the 2018_04 List\",\"-\")","v":"-"},{"$f":"IF(OR(IFERROR(MATCH($D602,'Transparency List 2017'!$L:$L,0),FALSE),IFERROR(MATCH(TRIM($G602),'Transparency List 2017'!$C:$C,0),FALSE)),\"On the 2017 List\",\"-\")","v":"-"},{"$f":"IF(OR(IFERROR(MATCH($D602,'Transparency List 2015'!$H:$H,0),FALSE),IFERROR(MATCH(TRIM($G602),'Transparency List 2015'!$C:$C,0),FALSE)),\"On the 2015 List\",\"-\")","v":"-"}]
[null,null,4,"",null,null,null,"-",{"$f":"IF(OR(IFERROR(MATCH($D603,'Transparency List 2018_10'!$L:$L,0),FALSE),IFERROR(MATCH(TRIM($G603),'Transparency List 2018_10'!$D:$D,0),FALSE)),\"On the 2018_10 List\",\"-\")","v":"-"},{"$f":"IF(OR(IFERROR(MATCH($D603,'Transparency List 2018_04'!$L:$L,0),FALSE),IFERROR(MATCH(TRIM($G603),'Transparency List 2018_04'!$D:$D,0),FALSE)),\"On the 2018_04 List\",\"-\")","v":"-"},{"$f":"IF(OR(IFERROR(MATCH($D603,'Transparency List 2017'!$L:$L,0),FALSE),IFERROR(MATCH(TRIM($G603),'Transparency List 2017'!$C:$C,0),FALSE)),\"On the 2017 List\",\"-\")","v":"-"},{"$f":"IF(OR(IFERROR(MATCH($D603,'Transparency List 2015'!$H:$H,0),FALSE),IFERROR(MATCH(TRIM($G603),'Transparency List 2015'!$C:$C,0),FALSE)),\"On the 2015 List\",\"-\")","v":"-"}]
[null,null,4,"",null,null,null,"-",{"$f":"IF(OR(IFERROR(MATCH($D604,'Transparency List 2018_10'!$L:$L,0),FALSE),IFERROR(MATCH(TRIM($G604),'Transparency List 2018_10'!$D:$D,0),FALSE)),\"On the 2018_10 List\",\"-\")","v":"-"},{"$f":"IF(OR(IFERROR(MATCH($D604,'Transparency List 2018_04'!$L:$L,0),FALSE),IFERROR(MATCH(TRIM($G604),'Transparency List 2018_04'!$D:$D,0),FALSE)),\"On the 2018_04 List\",\"-\")","v":"-"},{"$f":"IF(OR(IFERROR(MATCH($D604,'Transparency List 2017'!$L:$L,0),FALSE),IFERROR(MATCH(TRIM($G604),'Transparency List 2017'!$C:$C,0),FALSE)),\"On the 2017 List\",\"-\")","v":"-"},{"$f":"IF(OR(IFERROR(MATCH($D604,'Transparency List 2015'!$H:$H,0),FALSE),IFERROR(MATCH(TRIM($G604),'Transparency List 2015'!$C:$C,0),FALSE)),\"On the 2015 List\",\"-\")","v":"-"}]
[null,null,4,"",null,null,null,"-",{"$f":"IF(OR(IFERROR(MATCH($D605,'Transparency List 2018_10'!$L:$L,0),FALSE),IFERROR(MATCH(TRIM($G605),'Transparency List 2018_10'!$D:$D,0),FALSE)),\"On the 2018_10 List\",\"-\")","v":"-"},{"$f":"IF(OR(IFERROR(MATCH($D605,'Transparency List 2018_04'!$L:$L,0),FALSE),IFERROR(MATCH(TRIM($G605),'Transparency List 2018_04'!$D:$D,0),FALSE)),\"On the 2018_04 List\",\"-\")","v":"-"},{"$f":"IF(OR(IFERROR(MATCH($D605,'Transparency List 2017'!$L:$L,0),FALSE),IFERROR(MATCH(TRIM($G605),'Transparency List 2017'!$C:$C,0),FALSE)),\"On the 2017 List\",\"-\")","v":"-"},{"$f":"IF(OR(IFERROR(MATCH($D605,'Transparency List 2015'!$H:$H,0),FALSE),IFERROR(MATCH(TRIM($G605),'Transparency List 2015'!$C:$C,0),FALSE)),\"On the 2015 List\",\"-\")","v":"-"}]
[null,null,4,"",null,null,null,"-",{"$f":"IF(OR(IFERROR(MATCH($D606,'Transparency List 2018_10'!$L:$L,0),FALSE),IFERROR(MATCH(TRIM($G606),'Transparency List 2018_10'!$D:$D,0),FALSE)),\"On the 2018_10 List\",\"-\")","v":"-"},{"$f":"IF(OR(IFERROR(MATCH($D606,'Transparency List 2018_04'!$L:$L,0),FALSE),IFERROR(MATCH(TRIM($G606),'Transparency List 2018_04'!$D:$D,0),FALSE)),\"On the 2018_04 List\",\"-\")","v":"-"},{"$f":"IF(OR(IFERROR(MATCH($D606,'Transparency List 2017'!$L:$L,0),FALSE),IFERROR(MATCH(TRIM($G606),'Transparency List 2017'!$C:$C,0),FALSE)),\"On the 2017 List\",\"-\")","v":"-"},{"$f":"IF(OR(IFERROR(MATCH($D606,'Transparency List 2015'!$H:$H,0),FALSE),IFERROR(MATCH(TRIM($G606),'Transparency List 2015'!$C:$C,0),FALSE)),\"On the 2015 List\",\"-\")","v":"-"}]
[null,null,{"$f":"COUNTIF($I607:$L607,\"-\")","v":4},{"$f":"SUBSTITUTE(SUBSTITUTE(SUBSTITUTE(SUBSTITUTE($G607,\" \",\"\"),\".\",\"\"),\"-\",\"\"),\"/\",\"\")","v":""},null,null,null,{"$f":"IFERROR(IF($C607=4,\"-\",\"Risk Farmer - Please conduct further steps\"),)","v":"-"},{"$f":"IF(OR(IFERROR(MATCH($D607,'Transparency List 2018_10'!$L:$L,0),FALSE),IFERROR(MATCH(TRIM($G607),'Transparency List 2018_10'!$D:$D,0),FALSE)),\"On the 2018_10 List\",\"-\")","v":"-"},{"$f":"IF(OR(IFERROR(MATCH($D607,'Transparency List 2018_04'!$L:$L,0),FALSE),IFERROR(MATCH(TRIM($G607),'Transparency List 2018_04'!$D:$D,0),FALSE)),\"On the 2018_04 List\",\"-\")","v":"-"},{"$f":"IF(OR(IFERROR(MATCH($D607,'Transparency List 2017'!$L:$L,0),FALSE),IFERROR(MATCH(TRIM($G607),'Transparency List 2017'!$C:$C,0),FALSE)),\"On the 2017 List\",\"-\")","v":"-"},{"$f":"IF(OR(IFERROR(MATCH($D607,'Transparency List 2015'!$H:$H,0),FALSE),IFERROR(MATCH(TRIM($G607),'Transparency List 2015'!$C:$C,0),FALSE)),\"On the 2015 List\",\"-\")","v":"-"}]
[null,null,4,"",null,null,null,"-",{"$f":"IF(OR(IFERROR(MATCH($D608,'Transparency List 2018_10'!$L:$L,0),FALSE),IFERROR(MATCH(TRIM($G608),'Transparency List 2018_10'!$D:$D,0),FALSE)),\"On the 2018_10 List\",\"-\")","v":"-"},{"$f":"IF(OR(IFERROR(MATCH($D608,'Transparency List 2018_04'!$L:$L,0),FALSE),IFERROR(MATCH(TRIM($G608),'Transparency List 2018_04'!$D:$D,0),FALSE)),\"On the 2018_04 List\",\"-\")","v":"-"},{"$f":"IF(OR(IFERROR(MATCH($D608,'Transparency List 2017'!$L:$L,0),FALSE),IFERROR(MATCH(TRIM($G608),'Transparency List 2017'!$C:$C,0),FALSE)),\"On the 2017 List\",\"-\")","v":"-"},{"$f":"IF(OR(IFERROR(MATCH($D608,'Transparency List 2015'!$H:$H,0),FALSE),IFERROR(MATCH(TRIM($G608),'Transparency List 2015'!$C:$C,0),FALSE)),\"On the 2015 List\",\"-\")","v":"-"}]
[null,null,4,"",null,null,null,"-",{"$f":"IF(OR(IFERROR(MATCH($D609,'Transparency List 2018_10'!$L:$L,0),FALSE),IFERROR(MATCH(TRIM($G609),'Transparency List 2018_10'!$D:$D,0),FALSE)),\"On the 2018_10 List\",\"-\")","v":"-"},{"$f":"IF(OR(IFERROR(MATCH($D609,'Transparency List 2018_04'!$L:$L,0),FALSE),IFERROR(MATCH(TRIM($G609),'Transparency List 2018_04'!$D:$D,0),FALSE)),\"On the 2018_04 List\",\"-\")","v":"-"},{"$f":"IF(OR(IFERROR(MATCH($D609,'Transparency List 2017'!$L:$L,0),FALSE),IFERROR(MATCH(TRIM($G609),'Transparency List 2017'!$C:$C,0),FALSE)),\"On the 2017 List\",\"-\")","v":"-"},{"$f":"IF(OR(IFERROR(MATCH($D609,'Transparency List 2015'!$H:$H,0),FALSE),IFERROR(MATCH(TRIM($G609),'Transparency List 2015'!$C:$C,0),FALSE)),\"On the 2015 List\",\"-\")","v":"-"}]
[null,null,4,"",null,null,null,"-",{"$f":"IF(OR(IFERROR(MATCH($D610,'Transparency List 2018_10'!$L:$L,0),FALSE),IFERROR(MATCH(TRIM($G610),'Transparency List 2018_10'!$D:$D,0),FALSE)),\"On the 2018_10 List\",\"-\")","v":"-"},{"$f":"IF(OR(IFERROR(MATCH($D610,'Transparency List 2018_04'!$L:$L,0),FALSE),IFERROR(MATCH(TRIM($G610),'Transparency List 2018_04'!$D:$D,0),FALSE)),\"On the 2018_04 List\",\"-\")","v":"-"},{"$f":"IF(OR(IFERROR(MATCH($D610,'Transparency List 2017'!$L:$L,0),FALSE),IFERROR(MATCH(TRIM($G610),'Transparency List 2017'!$C:$C,0),FALSE)),\"On the 2017 List\",\"-\")","v":"-"},{"$f":"IF(OR(IFERROR(MATCH($D610,'Transparency List 2015'!$H:$H,0),FALSE),IFERROR(MATCH(TRIM($G610),'Transparency List 2015'!$C:$C,0),FALSE)),\"On the 2015 List\",\"-\")","v":"-"}]
[null,null,4,"",null,null,null,"-",{"$f":"IF(OR(IFERROR(MATCH($D611,'Transparency List 2018_10'!$L:$L,0),FALSE),IFERROR(MATCH(TRIM($G611),'Transparency List 2018_10'!$D:$D,0),FALSE)),\"On the 2018_10 List\",\"-\")","v":"-"},{"$f":"IF(OR(IFERROR(MATCH($D611,'Transparency List 2018_04'!$L:$L,0),FALSE),IFERROR(MATCH(TRIM($G611),'Transparency List 2018_04'!$D:$D,0),FALSE)),\"On the 2018_04 List\",\"-\")","v":"-"},{"$f":"IF(OR(IFERROR(MATCH($D611,'Transparency List 2017'!$L:$L,0),FALSE),IFERROR(MATCH(TRIM($G611),'Transparency List 2017'!$C:$C,0),FALSE)),\"On the 2017 List\",\"-\")","v":"-"},{"$f":"IF(OR(IFERROR(MATCH($D611,'Transparency List 2015'!$H:$H,0),FALSE),IFERROR(MATCH(TRIM($G611),'Transparency List 2015'!$C:$C,0),FALSE)),\"On the 2015 List\",\"-\")","v":"-"}]
[null,null,4,"",null,null,null,"-",{"$f":"IF(OR(IFERROR(MATCH($D612,'Transparency List 2018_10'!$L:$L,0),FALSE),IFERROR(MATCH(TRIM($G612),'Transparency List 2018_10'!$D:$D,0),FALSE)),\"On the 2018_10 List\",\"-\")","v":"-"},{"$f":"IF(OR(IFERROR(MATCH($D612,'Transparency List 2018_04'!$L:$L,0),FALSE),IFERROR(MATCH(TRIM($G612),'Transparency List 2018_04'!$D:$D,0),FALSE)),\"On the 2018_04 List\",\"-\")","v":"-"},{"$f":"IF(OR(IFERROR(MATCH($D612,'Transparency List 2017'!$L:$L,0),FALSE),IFERROR(MATCH(TRIM($G612),'Transparency List 2017'!$C:$C,0),FALSE)),\"On the 2017 List\",\"-\")","v":"-"},{"$f":"IF(OR(IFERROR(MATCH($D612,'Transparency List 2015'!$H:$H,0),FALSE),IFERROR(MATCH(TRIM($G612),'Transparency List 2015'!$C:$C,0),FALSE)),\"On the 2015 List\",\"-\")","v":"-"}]
[null,null,4,"",null,null,null,"-",{"$f":"IF(OR(IFERROR(MATCH($D613,'Transparency List 2018_10'!$L:$L,0),FALSE),IFERROR(MATCH(TRIM($G613),'Transparency List 2018_10'!$D:$D,0),FALSE)),\"On the 2018_10 List\",\"-\")","v":"-"},{"$f":"IF(OR(IFERROR(MATCH($D613,'Transparency List 2018_04'!$L:$L,0),FALSE),IFERROR(MATCH(TRIM($G613),'Transparency List 2018_04'!$D:$D,0),FALSE)),\"On the 2018_04 List\",\"-\")","v":"-"},{"$f":"IF(OR(IFERROR(MATCH($D613,'Transparency List 2017'!$L:$L,0),FALSE),IFERROR(MATCH(TRIM($G613),'Transparency List 2017'!$C:$C,0),FALSE)),\"On the 2017 List\",\"-\")","v":"-"},{"$f":"IF(OR(IFERROR(MATCH($D613,'Transparency List 2015'!$H:$H,0),FALSE),IFERROR(MATCH(TRIM($G613),'Transparency List 2015'!$C:$C,0),FALSE)),\"On the 2015 List\",\"-\")","v":"-"}]
[null,null,4,"",null,null,null,"-",{"$f":"IF(OR(IFERROR(MATCH($D614,'Transparency List 2018_10'!$L:$L,0),FALSE),IFERROR(MATCH(TRIM($G614),'Transparency List 2018_10'!$D:$D,0),FALSE)),\"On the 2018_10 List\",\"-\")","v":"-"},{"$f":"IF(OR(IFERROR(MATCH($D614,'Transparency List 2018_04'!$L:$L,0),FALSE),IFERROR(MATCH(TRIM($G614),'Transparency List 2018_04'!$D:$D,0),FALSE)),\"On the 2018_04 List\",\"-\")","v":"-"},{"$f":"IF(OR(IFERROR(MATCH($D614,'Transparency List 2017'!$L:$L,0),FALSE),IFERROR(MATCH(TRIM($G614),'Transparency List 2017'!$C:$C,0),FALSE)),\"On the 2017 List\",\"-\")","v":"-"},{"$f":"IF(OR(IFERROR(MATCH($D614,'Transparency List 2015'!$H:$H,0),FALSE),IFERROR(MATCH(TRIM($G614),'Transparency List 2015'!$C:$C,0),FALSE)),\"On the 2015 List\",\"-\")","v":"-"}]
[null,null,4,"",null,null,null,"-",{"$f":"IF(OR(IFERROR(MATCH($D615,'Transparency List 2018_10'!$L:$L,0),FALSE),IFERROR(MATCH(TRIM($G615),'Transparency List 2018_10'!$D:$D,0),FALSE)),\"On the 2018_10 List\",\"-\")","v":"-"},{"$f":"IF(OR(IFERROR(MATCH($D615,'Transparency List 2018_04'!$L:$L,0),FALSE),IFERROR(MATCH(TRIM($G615),'Transparency List 2018_04'!$D:$D,0),FALSE)),\"On the 2018_04 List\",\"-\")","v":"-"},{"$f":"IF(OR(IFERROR(MATCH($D615,'Transparency List 2017'!$L:$L,0),FALSE),IFERROR(MATCH(TRIM($G615),'Transparency List 2017'!$C:$C,0),FALSE)),\"On the 2017 List\",\"-\")","v":"-"},{"$f":"IF(OR(IFERROR(MATCH($D615,'Transparency List 2015'!$H:$H,0),FALSE),IFERROR(MATCH(TRIM($G615),'Transparency List 2015'!$C:$C,0),FALSE)),\"On the 2015 List\",\"-\")","v":"-"}]
[null,null,4,"",null,null,null,"-",{"$f":"IF(OR(IFERROR(MATCH($D616,'Transparency List 2018_10'!$L:$L,0),FALSE),IFERROR(MATCH(TRIM($G616),'Transparency List 2018_10'!$D:$D,0),FALSE)),\"On the 2018_10 List\",\"-\")","v":"-"},{"$f":"IF(OR(IFERROR(MATCH($D616,'Transparency List 2018_04'!$L:$L,0),FALSE),IFERROR(MATCH(TRIM($G616),'Transparency List 2018_04'!$D:$D,0),FALSE)),\"On the 2018_04 List\",\"-\")","v":"-"},{"$f":"IF(OR(IFERROR(MATCH($D616,'Transparency List 2017'!$L:$L,0),FALSE),IFERROR(MATCH(TRIM($G616),'Transparency List 2017'!$C:$C,0),FALSE)),\"On the 2017 List\",\"-\")","v":"-"},{"$f":"IF(OR(IFERROR(MATCH($D616,'Transparency List 2015'!$H:$H,0),FALSE),IFERROR(MATCH(TRIM($G616),'Transparency List 2015'!$C:$C,0),FALSE)),\"On the 2015 List\",\"-\")","v":"-"}]
[null,null,4,"",null,null,null,"-",{"$f":"IF(OR(IFERROR(MATCH($D617,'Transparency List 2018_10'!$L:$L,0),FALSE),IFERROR(MATCH(TRIM($G617),'Transparency List 2018_10'!$D:$D,0),FALSE)),\"On the 2018_10 List\",\"-\")","v":"-"},{"$f":"IF(OR(IFERROR(MATCH($D617,'Transparency List 2018_04'!$L:$L,0),FALSE),IFERROR(MATCH(TRIM($G617),'Transparency List 2018_04'!$D:$D,0),FALSE)),\"On the 2018_04 List\",\"-\")","v":"-"},{"$f":"IF(OR(IFERROR(MATCH($D617,'Transparency List 2017'!$L:$L,0),FALSE),IFERROR(MATCH(TRIM($G617),'Transparency List 2017'!$C:$C,0),FALSE)),\"On the 2017 List\",\"-\")","v":"-"},{"$f":"IF(OR(IFERROR(MATCH($D617,'Transparency List 2015'!$H:$H,0),FALSE),IFERROR(MATCH(TRIM($G617),'Transparency List 2015'!$C:$C,0),FALSE)),\"On the 2015 List\",\"-\")","v":"-"}]
[null,null,4,"",null,null,null,"-",{"$f":"IF(OR(IFERROR(MATCH($D618,'Transparency List 2018_10'!$L:$L,0),FALSE),IFERROR(MATCH(TRIM($G618),'Transparency List 2018_10'!$D:$D,0),FALSE)),\"On the 2018_10 List\",\"-\")","v":"-"},{"$f":"IF(OR(IFERROR(MATCH($D618,'Transparency List 2018_04'!$L:$L,0),FALSE),IFERROR(MATCH(TRIM($G618),'Transparency List 2018_04'!$D:$D,0),FALSE)),\"On the 2018_04 List\",\"-\")","v":"-"},{"$f":"IF(OR(IFERROR(MATCH($D618,'Transparency List 2017'!$L:$L,0),FALSE),IFERROR(MATCH(TRIM($G618),'Transparency List 2017'!$C:$C,0),FALSE)),\"On the 2017 List\",\"-\")","v":"-"},{"$f":"IF(OR(IFERROR(MATCH($D618,'Transparency List 2015'!$H:$H,0),FALSE),IFERROR(MATCH(TRIM($G618),'Transparency List 2015'!$C:$C,0),FALSE)),\"On the 2015 List\",\"-\")","v":"-"}]
[null,null,4,"",null,null,null,"-",{"$f":"IF(OR(IFERROR(MATCH($D619,'Transparency List 2018_10'!$L:$L,0),FALSE),IFERROR(MATCH(TRIM($G619),'Transparency List 2018_10'!$D:$D,0),FALSE)),\"On the 2018_10 List\",\"-\")","v":"-"},{"$f":"IF(OR(IFERROR(MATCH($D619,'Transparency List 2018_04'!$L:$L,0),FALSE),IFERROR(MATCH(TRIM($G619),'Transparency List 2018_04'!$D:$D,0),FALSE)),\"On the 2018_04 List\",\"-\")","v":"-"},{"$f":"IF(OR(IFERROR(MATCH($D619,'Transparency List 2017'!$L:$L,0),FALSE),IFERROR(MATCH(TRIM($G619),'Transparency List 2017'!$C:$C,0),FALSE)),\"On the 2017 List\",\"-\")","v":"-"},{"$f":"IF(OR(IFERROR(MATCH($D619,'Transparency List 2015'!$H:$H,0),FALSE),IFERROR(MATCH(TRIM($G619),'Transparency List 2015'!$C:$C,0),FALSE)),\"On the 2015 List\",\"-\")","v":"-"}]
[null,null,4,"",null,null,null,"-",{"$f":"IF(OR(IFERROR(MATCH($D620,'Transparency List 2018_10'!$L:$L,0),FALSE),IFERROR(MATCH(TRIM($G620),'Transparency List 2018_10'!$D:$D,0),FALSE)),\"On the 2018_10 List\",\"-\")","v":"-"},{"$f":"IF(OR(IFERROR(MATCH($D620,'Transparency List 2018_04'!$L:$L,0),FALSE),IFERROR(MATCH(TRIM($G620),'Transparency List 2018_04'!$D:$D,0),FALSE)),\"On the 2018_04 List\",\"-\")","v":"-"},{"$f":"IF(OR(IFERROR(MATCH($D620,'Transparency List 2017'!$L:$L,0),FALSE),IFERROR(MATCH(TRIM($G620),'Transparency List 2017'!$C:$C,0),FALSE)),\"On the 2017 List\",\"-\")","v":"-"},{"$f":"IF(OR(IFERROR(MATCH($D620,'Transparency List 2015'!$H:$H,0),FALSE),IFERROR(MATCH(TRIM($G620),'Transparency List 2015'!$C:$C,0),FALSE)),\"On the 2015 List\",\"-\")","v":"-"}]
[null,null,4,"",null,null,null,"-",{"$f":"IF(OR(IFERROR(MATCH($D621,'Transparency List 2018_10'!$L:$L,0),FALSE),IFERROR(MATCH(TRIM($G621),'Transparency List 2018_10'!$D:$D,0),FALSE)),\"On the 2018_10 List\",\"-\")","v":"-"},{"$f":"IF(OR(IFERROR(MATCH($D621,'Transparency List 2018_04'!$L:$L,0),FALSE),IFERROR(MATCH(TRIM($G621),'Transparency List 2018_04'!$D:$D,0),FALSE)),\"On the 2018_04 List\",\"-\")","v":"-"},{"$f":"IF(OR(IFERROR(MATCH($D621,'Transparency List 2017'!$L:$L,0),FALSE),IFERROR(MATCH(TRIM($G621),'Transparency List 2017'!$C:$C,0),FALSE)),\"On the 2017 List\",\"-\")","v":"-"},{"$f":"IF(OR(IFERROR(MATCH($D621,'Transparency List 2015'!$H:$H,0),FALSE),IFERROR(MATCH(TRIM($G621),'Transparency List 2015'!$C:$C,0),FALSE)),\"On the 2015 List\",\"-\")","v":"-"}]
[null,null,4,"",null,null,null,"-",{"$f":"IF(OR(IFERROR(MATCH($D622,'Transparency List 2018_10'!$L:$L,0),FALSE),IFERROR(MATCH(TRIM($G622),'Transparency List 2018_10'!$D:$D,0),FALSE)),\"On the 2018_10 List\",\"-\")","v":"-"},{"$f":"IF(OR(IFERROR(MATCH($D622,'Transparency List 2018_04'!$L:$L,0),FALSE),IFERROR(MATCH(TRIM($G622),'Transparency List 2018_04'!$D:$D,0),FALSE)),\"On the 2018_04 List\",\"-\")","v":"-"},{"$f":"IF(OR(IFERROR(MATCH($D622,'Transparency List 2017'!$L:$L,0),FALSE),IFERROR(MATCH(TRIM($G622),'Transparency List 2017'!$C:$C,0),FALSE)),\"On the 2017 List\",\"-\")","v":"-"},{"$f":"IF(OR(IFERROR(MATCH($D622,'Transparency List 2015'!$H:$H,0),FALSE),IFERROR(MATCH(TRIM($G622),'Transparency List 2015'!$C:$C,0),FALSE)),\"On the 2015 List\",\"-\")","v":"-"}]
[null,null,4,"",null,null,null,"-",{"$f":"IF(OR(IFERROR(MATCH($D623,'Transparency List 2018_10'!$L:$L,0),FALSE),IFERROR(MATCH(TRIM($G623),'Transparency List 2018_10'!$D:$D,0),FALSE)),\"On the 2018_10 List\",\"-\")","v":"-"},{"$f":"IF(OR(IFERROR(MATCH($D623,'Transparency List 2018_04'!$L:$L,0),FALSE),IFERROR(MATCH(TRIM($G623),'Transparency List 2018_04'!$D:$D,0),FALSE)),\"On the 2018_04 List\",\"-\")","v":"-"},{"$f":"IF(OR(IFERROR(MATCH($D623,'Transparency List 2017'!$L:$L,0),FALSE),IFERROR(MATCH(TRIM($G623),'Transparency List 2017'!$C:$C,0),FALSE)),\"On the 2017 List\",\"-\")","v":"-"},{"$f":"IF(OR(IFERROR(MATCH($D623,'Transparency List 2015'!$H:$H,0),FALSE),IFERROR(MATCH(TRIM($G623),'Transparency List 2015'!$C:$C,0),FALSE)),\"On the 2015 List\",\"-\")","v":"-"}]
[null,null,4,"",null,null,null,"-",{"$f":"IF(OR(IFERROR(MATCH($D624,'Transparency List 2018_10'!$L:$L,0),FALSE),IFERROR(MATCH(TRIM($G624),'Transparency List 2018_10'!$D:$D,0),FALSE)),\"On the 2018_10 List\",\"-\")","v":"-"},{"$f":"IF(OR(IFERROR(MATCH($D624,'Transparency List 2018_04'!$L:$L,0),FALSE),IFERROR(MATCH(TRIM($G624),'Transparency List 2018_04'!$D:$D,0),FALSE)),\"On the 2018_04 List\",\"-\")","v":"-"},{"$f":"IF(OR(IFERROR(MATCH($D624,'Transparency List 2017'!$L:$L,0),FALSE),IFERROR(MATCH(TRIM($G624),'Transparency List 2017'!$C:$C,0),FALSE)),\"On the 2017 List\",\"-\")","v":"-"},{"$f":"IF(OR(IFERROR(MATCH($D624,'Transparency List 2015'!$H:$H,0),FALSE),IFERROR(MATCH(TRIM($G624),'Transparency List 2015'!$C:$C,0),FALSE)),\"On the 2015 List\",\"-\")","v":"-"}]
[null,null,4,"",null,null,null,"-",{"$f":"IF(OR(IFERROR(MATCH($D625,'Transparency List 2018_10'!$L:$L,0),FALSE),IFERROR(MATCH(TRIM($G625),'Transparency List 2018_10'!$D:$D,0),FALSE)),\"On the 2018_10 List\",\"-\")","v":"-"},{"$f":"IF(OR(IFERROR(MATCH($D625,'Transparency List 2018_04'!$L:$L,0),FALSE),IFERROR(MATCH(TRIM($G625),'Transparency List 2018_04'!$D:$D,0),FALSE)),\"On the 2018_04 List\",\"-\")","v":"-"},{"$f":"IF(OR(IFERROR(MATCH($D625,'Transparency List 2017'!$L:$L,0),FALSE),IFERROR(MATCH(TRIM($G625),'Transparency List 2017'!$C:$C,0),FALSE)),\"On the 2017 List\",\"-\")","v":"-"},{"$f":"IF(OR(IFERROR(MATCH($D625,'Transparency List 2015'!$H:$H,0),FALSE),IFERROR(MATCH(TRIM($G625),'Transparency List 2015'!$C:$C,0),FALSE)),\"On the 2015 List\",\"-\")","v":"-"}]
[null,null,4,"",null,null,null,"-",{"$f":"IF(OR(IFERROR(MATCH($D626,'Transparency List 2018_10'!$L:$L,0),FALSE),IFERROR(MATCH(TRIM($G626),'Transparency List 2018_10'!$D:$D,0),FALSE)),\"On the 2018_10 List\",\"-\")","v":"-"},{"$f":"IF(OR(IFERROR(MATCH($D626,'Transparency List 2018_04'!$L:$L,0),FALSE),IFERROR(MATCH(TRIM($G626),'Transparency List 2018_04'!$D:$D,0),FALSE)),\"On the 2018_04 List\",\"-\")","v":"-"},{"$f":"IF(OR(IFERROR(MATCH($D626,'Transparency List 2017'!$L:$L,0),FALSE),IFERROR(MATCH(TRIM($G626),'Transparency List 2017'!$C:$C,0),FALSE)),\"On the 2017 List\",\"-\")","v":"-"},{"$f":"IF(OR(IFERROR(MATCH($D626,'Transparency List 2015'!$H:$H,0),FALSE),IFERROR(MATCH(TRIM($G626),'Transparency List 2015'!$C:$C,0),FALSE)),\"On the 2015 List\",\"-\")","v":"-"}]
[null,null,4,"",null,null,null,"-",{"$f":"IF(OR(IFERROR(MATCH($D627,'Transparency List 2018_10'!$L:$L,0),FALSE),IFERROR(MATCH(TRIM($G627),'Transparency List 2018_10'!$D:$D,0),FALSE)),\"On the 2018_10 List\",\"-\")","v":"-"},{"$f":"IF(OR(IFERROR(MATCH($D627,'Transparency List 2018_04'!$L:$L,0),FALSE),IFERROR(MATCH(TRIM($G627),'Transparency List 2018_04'!$D:$D,0),FALSE)),\"On the 2018_04 List\",\"-\")","v":"-"},{"$f":"IF(OR(IFERROR(MATCH($D627,'Transparency List 2017'!$L:$L,0),FALSE),IFERROR(MATCH(TRIM($G627),'Transparency List 2017'!$C:$C,0),FALSE)),\"On the 2017 List\",\"-\")","v":"-"},{"$f":"IF(OR(IFERROR(MATCH($D627,'Transparency List 2015'!$H:$H,0),FALSE),IFERROR(MATCH(TRIM($G627),'Transparency List 2015'!$C:$C,0),FALSE)),\"On the 2015 List\",\"-\")","v":"-"}]
[null,null,4,"",null,null,null,"-",{"$f":"IF(OR(IFERROR(MATCH($D628,'Transparency List 2018_10'!$L:$L,0),FALSE),IFERROR(MATCH(TRIM($G628),'Transparency List 2018_10'!$D:$D,0),FALSE)),\"On the 2018_10 List\",\"-\")","v":"-"},{"$f":"IF(OR(IFERROR(MATCH($D628,'Transparency List 2018_04'!$L:$L,0),FALSE),IFERROR(MATCH(TRIM($G628),'Transparency List 2018_04'!$D:$D,0),FALSE)),\"On the 2018_04 List\",\"-\")","v":"-"},{"$f":"IF(OR(IFERROR(MATCH($D628,'Transparency List 2017'!$L:$L,0),FALSE),IFERROR(MATCH(TRIM($G628),'Transparency List 2017'!$C:$C,0),FALSE)),\"On the 2017 List\",\"-\")","v":"-"},{"$f":"IF(OR(IFERROR(MATCH($D628,'Transparency List 2015'!$H:$H,0),FALSE),IFERROR(MATCH(TRIM($G628),'Transparency List 2015'!$C:$C,0),FALSE)),\"On the 2015 List\",\"-\")","v":"-"}]
[null,null,4,"",null,null,null,"-",{"$f":"IF(OR(IFERROR(MATCH($D629,'Transparency List 2018_10'!$L:$L,0),FALSE),IFERROR(MATCH(TRIM($G629),'Transparency List 2018_10'!$D:$D,0),FALSE)),\"On the 2018_10 List\",\"-\")","v":"-"},{"$f":"IF(OR(IFERROR(MATCH($D629,'Transparency List 2018_04'!$L:$L,0),FALSE),IFERROR(MATCH(TRIM($G629),'Transparency List 2018_04'!$D:$D,0),FALSE)),\"On the 2018_04 List\",\"-\")","v":"-"},{"$f":"IF(OR(IFERROR(MATCH($D629,'Transparency List 2017'!$L:$L,0),FALSE),IFERROR(MATCH(TRIM($G629),'Transparency List 2017'!$C:$C,0),FALSE)),\"On the 2017 List\",\"-\")","v":"-"},{"$f":"IF(OR(IFERROR(MATCH($D629,'Transparency List 2015'!$H:$H,0),FALSE),IFERROR(MATCH(TRIM($G629),'Transparency List 2015'!$C:$C,0),FALSE)),\"On the 2015 List\",\"-\")","v":"-"}]
[null,null,4,"",null,null,null,"-",{"$f":"IF(OR(IFERROR(MATCH($D630,'Transparency List 2018_10'!$L:$L,0),FALSE),IFERROR(MATCH(TRIM($G630),'Transparency List 2018_10'!$D:$D,0),FALSE)),\"On the 2018_10 List\",\"-\")","v":"-"},{"$f":"IF(OR(IFERROR(MATCH($D630,'Transparency List 2018_04'!$L:$L,0),FALSE),IFERROR(MATCH(TRIM($G630),'Transparency List 2018_04'!$D:$D,0),FALSE)),\"On the 2018_04 List\",\"-\")","v":"-"},{"$f":"IF(OR(IFERROR(MATCH($D630,'Transparency List 2017'!$L:$L,0),FALSE),IFERROR(MATCH(TRIM($G630),'Transparency List 2017'!$C:$C,0),FALSE)),\"On the 2017 List\",\"-\")","v":"-"},{"$f":"IF(OR(IFERROR(MATCH($D630,'Transparency List 2015'!$H:$H,0),FALSE),IFERROR(MATCH(TRIM($G630),'Transparency List 2015'!$C:$C,0),FALSE)),\"On the 2015 List\",\"-\")","v":"-"}]
[null,null,4,"",null,null,null,"-",{"$f":"IF(OR(IFERROR(MATCH($D631,'Transparency List 2018_10'!$L:$L,0),FALSE),IFERROR(MATCH(TRIM($G631),'Transparency List 2018_10'!$D:$D,0),FALSE)),\"On the 2018_10 List\",\"-\")","v":"-"},{"$f":"IF(OR(IFERROR(MATCH($D631,'Transparency List 2018_04'!$L:$L,0),FALSE),IFERROR(MATCH(TRIM($G631),'Transparency List 2018_04'!$D:$D,0),FALSE)),\"On the 2018_04 List\",\"-\")","v":"-"},{"$f":"IF(OR(IFERROR(MATCH($D631,'Transparency List 2017'!$L:$L,0),FALSE),IFERROR(MATCH(TRIM($G631),'Transparency List 2017'!$C:$C,0),FALSE)),\"On the 2017 List\",\"-\")","v":"-"},{"$f":"IF(OR(IFERROR(MATCH($D631,'Transparency List 2015'!$H:$H,0),FALSE),IFERROR(MATCH(TRIM($G631),'Transparency List 2015'!$C:$C,0),FALSE)),\"On the 2015 List\",\"-\")","v":"-"}]
[null,null,4,"",null,null,null,"-",{"$f":"IF(OR(IFERROR(MATCH($D632,'Transparency List 2018_10'!$L:$L,0),FALSE),IFERROR(MATCH(TRIM($G632),'Transparency List 2018_10'!$D:$D,0),FALSE)),\"On the 2018_10 List\",\"-\")","v":"-"},{"$f":"IF(OR(IFERROR(MATCH($D632,'Transparency List 2018_04'!$L:$L,0),FALSE),IFERROR(MATCH(TRIM($G632),'Transparency List 2018_04'!$D:$D,0),FALSE)),\"On the 2018_04 List\",\"-\")","v":"-"},{"$f":"IF(OR(IFERROR(MATCH($D632,'Transparency List 2017'!$L:$L,0),FALSE),IFERROR(MATCH(TRIM($G632),'Transparency List 2017'!$C:$C,0),FALSE)),\"On the 2017 List\",\"-\")","v":"-"},{"$f":"IF(OR(IFERROR(MATCH($D632,'Transparency List 2015'!$H:$H,0),FALSE),IFERROR(MATCH(TRIM($G632),'Transparency List 2015'!$C:$C,0),FALSE)),\"On the 2015 List\",\"-\")","v":"-"}]
[null,null,4,"",null,null,null,"-",{"$f":"IF(OR(IFERROR(MATCH($D633,'Transparency List 2018_10'!$L:$L,0),FALSE),IFERROR(MATCH(TRIM($G633),'Transparency List 2018_10'!$D:$D,0),FALSE)),\"On the 2018_10 List\",\"-\")","v":"-"},{"$f":"IF(OR(IFERROR(MATCH($D633,'Transparency List 2018_04'!$L:$L,0),FALSE),IFERROR(MATCH(TRIM($G633),'Transparency List 2018_04'!$D:$D,0),FALSE)),\"On the 2018_04 List\",\"-\")","v":"-"},{"$f":"IF(OR(IFERROR(MATCH($D633,'Transparency List 2017'!$L:$L,0),FALSE),IFERROR(MATCH(TRIM($G633),'Transparency List 2017'!$C:$C,0),FALSE)),\"On the 2017 List\",\"-\")","v":"-"},{"$f":"IF(OR(IFERROR(MATCH($D633,'Transparency List 2015'!$H:$H,0),FALSE),IFERROR(MATCH(TRIM($G633),'Transparency List 2015'!$C:$C,0),FALSE)),\"On the 2015 List\",\"-\")","v":"-"}]
[null,null,4,"",null,null,null,"-",{"$f":"IF(OR(IFERROR(MATCH($D634,'Transparency List 2018_10'!$L:$L,0),FALSE),IFERROR(MATCH(TRIM($G634),'Transparency List 2018_10'!$D:$D,0),FALSE)),\"On the 2018_10 List\",\"-\")","v":"-"},{"$f":"IF(OR(IFERROR(MATCH($D634,'Transparency List 2018_04'!$L:$L,0),FALSE),IFERROR(MATCH(TRIM($G634),'Transparency List 2018_04'!$D:$D,0),FALSE)),\"On the 2018_04 List\",\"-\")","v":"-"},{"$f":"IF(OR(IFERROR(MATCH($D634,'Transparency List 2017'!$L:$L,0),FALSE),IFERROR(MATCH(TRIM($G634),'Transparency List 2017'!$C:$C,0),FALSE)),\"On the 2017 List\",\"-\")","v":"-"},{"$f":"IF(OR(IFERROR(MATCH($D634,'Transparency List 2015'!$H:$H,0),FALSE),IFERROR(MATCH(TRIM($G634),'Transparency List 2015'!$C:$C,0),FALSE)),\"On the 2015 List\",\"-\")","v":"-"}]
[null,null,4,"",null,null,null,"-",{"$f":"IF(OR(IFERROR(MATCH($D635,'Transparency List 2018_10'!$L:$L,0),FALSE),IFERROR(MATCH(TRIM($G635),'Transparency List 2018_10'!$D:$D,0),FALSE)),\"On the 2018_10 List\",\"-\")","v":"-"},{"$f":"IF(OR(IFERROR(MATCH($D635,'Transparency List 2018_04'!$L:$L,0),FALSE),IFERROR(MATCH(TRIM($G635),'Transparency List 2018_04'!$D:$D,0),FALSE)),\"On the 2018_04 List\",\"-\")","v":"-"},{"$f":"IF(OR(IFERROR(MATCH($D635,'Transparency List 2017'!$L:$L,0),FALSE),IFERROR(MATCH(TRIM($G635),'Transparency List 2017'!$C:$C,0),FALSE)),\"On the 2017 List\",\"-\")","v":"-"},{"$f":"IF(OR(IFERROR(MATCH($D635,'Transparency List 2015'!$H:$H,0),FALSE),IFERROR(MATCH(TRIM($G635),'Transparency List 2015'!$C:$C,0),FALSE)),\"On the 2015 List\",\"-\")","v":"-"}]
[null,null,4,"",null,null,null,"-",{"$f":"IF(OR(IFERROR(MATCH($D636,'Transparency List 2018_10'!$L:$L,0),FALSE),IFERROR(MATCH(TRIM($G636),'Transparency List 2018_10'!$D:$D,0),FALSE)),\"On the 2018_10 List\",\"-\")","v":"-"},{"$f":"IF(OR(IFERROR(MATCH($D636,'Transparency List 2018_04'!$L:$L,0),FALSE),IFERROR(MATCH(TRIM($G636),'Transparency List 2018_04'!$D:$D,0),FALSE)),\"On the 2018_04 List\",\"-\")","v":"-"},{"$f":"IF(OR(IFERROR(MATCH($D636,'Transparency List 2017'!$L:$L,0),FALSE),IFERROR(MATCH(TRIM($G636),'Transparency List 2017'!$C:$C,0),FALSE)),\"On the 2017 List\",\"-\")","v":"-"},{"$f":"IF(OR(IFERROR(MATCH($D636,'Transparency List 2015'!$H:$H,0),FALSE),IFERROR(MATCH(TRIM($G636),'Transparency List 2015'!$C:$C,0),FALSE)),\"On the 2015 List\",\"-\")","v":"-"}]
[null,null,4,"",null,null,null,"-",{"$f":"IF(OR(IFERROR(MATCH($D637,'Transparency List 2018_10'!$L:$L,0),FALSE),IFERROR(MATCH(TRIM($G637),'Transparency List 2018_10'!$D:$D,0),FALSE)),\"On the 2018_10 List\",\"-\")","v":"-"},{"$f":"IF(OR(IFERROR(MATCH($D637,'Transparency List 2018_04'!$L:$L,0),FALSE),IFERROR(MATCH(TRIM($G637),'Transparency List 2018_04'!$D:$D,0),FALSE)),\"On the 2018_04 List\",\"-\")","v":"-"},{"$f":"IF(OR(IFERROR(MATCH($D637,'Transparency List 2017'!$L:$L,0),FALSE),IFERROR(MATCH(TRIM($G637),'Transparency List 2017'!$C:$C,0),FALSE)),\"On the 2017 List\",\"-\")","v":"-"},{"$f":"IF(OR(IFERROR(MATCH($D637,'Transparency List 2015'!$H:$H,0),FALSE),IFERROR(MATCH(TRIM($G637),'Transparency List 2015'!$C:$C,0),FALSE)),\"On the 2015 List\",\"-\")","v":"-"}]
[null,null,4,"",null,null,null,"-",{"$f":"IF(OR(IFERROR(MATCH($D638,'Transparency List 2018_10'!$L:$L,0),FALSE),IFERROR(MATCH(TRIM($G638),'Transparency List 2018_10'!$D:$D,0),FALSE)),\"On the 2018_10 List\",\"-\")","v":"-"},{"$f":"IF(OR(IFERROR(MATCH($D638,'Transparency List 2018_04'!$L:$L,0),FALSE),IFERROR(MATCH(TRIM($G638),'Transparency List 2018_04'!$D:$D,0),FALSE)),\"On the 2018_04 List\",\"-\")","v":"-"},{"$f":"IF(OR(IFERROR(MATCH($D638,'Transparency List 2017'!$L:$L,0),FALSE),IFERROR(MATCH(TRIM($G638),'Transparency List 2017'!$C:$C,0),FALSE)),\"On the 2017 List\",\"-\")","v":"-"},{"$f":"IF(OR(IFERROR(MATCH($D638,'Transparency List 2015'!$H:$H,0),FALSE),IFERROR(MATCH(TRIM($G638),'Transparency List 2015'!$C:$C,0),FALSE)),\"On the 2015 List\",\"-\")","v":"-"}]
[null,null,4,"",null,null,null,"-",{"$f":"IF(OR(IFERROR(MATCH($D639,'Transparency List 2018_10'!$L:$L,0),FALSE),IFERROR(MATCH(TRIM($G639),'Transparency List 2018_10'!$D:$D,0),FALSE)),\"On the 2018_10 List\",\"-\")","v":"-"},{"$f":"IF(OR(IFERROR(MATCH($D639,'Transparency List 2018_04'!$L:$L,0),FALSE),IFERROR(MATCH(TRIM($G639),'Transparency List 2018_04'!$D:$D,0),FALSE)),\"On the 2018_04 List\",\"-\")","v":"-"},{"$f":"IF(OR(IFERROR(MATCH($D639,'Transparency List 2017'!$L:$L,0),FALSE),IFERROR(MATCH(TRIM($G639),'Transparency List 2017'!$C:$C,0),FALSE)),\"On the 2017 List\",\"-\")","v":"-"},{"$f":"IF(OR(IFERROR(MATCH($D639,'Transparency List 2015'!$H:$H,0),FALSE),IFERROR(MATCH(TRIM($G639),'Transparency List 2015'!$C:$C,0),FALSE)),\"On the 2015 List\",\"-\")","v":"-"}]
[null,null,4,"",null,null,null,"-",{"$f":"IF(OR(IFERROR(MATCH($D640,'Transparency List 2018_10'!$L:$L,0),FALSE),IFERROR(MATCH(TRIM($G640),'Transparency List 2018_10'!$D:$D,0),FALSE)),\"On the 2018_10 List\",\"-\")","v":"-"},{"$f":"IF(OR(IFERROR(MATCH($D640,'Transparency List 2018_04'!$L:$L,0),FALSE),IFERROR(MATCH(TRIM($G640),'Transparency List 2018_04'!$D:$D,0),FALSE)),\"On the 2018_04 List\",\"-\")","v":"-"},{"$f":"IF(OR(IFERROR(MATCH($D640,'Transparency List 2017'!$L:$L,0),FALSE),IFERROR(MATCH(TRIM($G640),'Transparency List 2017'!$C:$C,0),FALSE)),\"On the 2017 List\",\"-\")","v":"-"},{"$f":"IF(OR(IFERROR(MATCH($D640,'Transparency List 2015'!$H:$H,0),FALSE),IFERROR(MATCH(TRIM($G640),'Transparency List 2015'!$C:$C,0),FALSE)),\"On the 2015 List\",\"-\")","v":"-"}]
[null,null,4,"",null,null,null,"-",{"$f":"IF(OR(IFERROR(MATCH($D641,'Transparency List 2018_10'!$L:$L,0),FALSE),IFERROR(MATCH(TRIM($G641),'Transparency List 2018_10'!$D:$D,0),FALSE)),\"On the 2018_10 List\",\"-\")","v":"-"},{"$f":"IF(OR(IFERROR(MATCH($D641,'Transparency List 2018_04'!$L:$L,0),FALSE),IFERROR(MATCH(TRIM($G641),'Transparency List 2018_04'!$D:$D,0),FALSE)),\"On the 2018_04 List\",\"-\")","v":"-"},{"$f":"IF(OR(IFERROR(MATCH($D641,'Transparency List 2017'!$L:$L,0),FALSE),IFERROR(MATCH(TRIM($G641),'Transparency List 2017'!$C:$C,0),FALSE)),\"On the 2017 List\",\"-\")","v":"-"},{"$f":"IF(OR(IFERROR(MATCH($D641,'Transparency List 2015'!$H:$H,0),FALSE),IFERROR(MATCH(TRIM($G641),'Transparency List 2015'!$C:$C,0),FALSE)),\"On the 2015 List\",\"-\")","v":"-"}]
[null,null,4,"",null,null,null,"-",{"$f":"IF(OR(IFERROR(MATCH($D642,'Transparency List 2018_10'!$L:$L,0),FALSE),IFERROR(MATCH(TRIM($G642),'Transparency List 2018_10'!$D:$D,0),FALSE)),\"On the 2018_10 List\",\"-\")","v":"-"},{"$f":"IF(OR(IFERROR(MATCH($D642,'Transparency List 2018_04'!$L:$L,0),FALSE),IFERROR(MATCH(TRIM($G642),'Transparency List 2018_04'!$D:$D,0),FALSE)),\"On the 2018_04 List\",\"-\")","v":"-"},{"$f":"IF(OR(IFERROR(MATCH($D642,'Transparency List 2017'!$L:$L,0),FALSE),IFERROR(MATCH(TRIM($G642),'Transparency List 2017'!$C:$C,0),FALSE)),\"On the 2017 List\",\"-\")","v":"-"},{"$f":"IF(OR(IFERROR(MATCH($D642,'Transparency List 2015'!$H:$H,0),FALSE),IFERROR(MATCH(TRIM($G642),'Transparency List 2015'!$C:$C,0),FALSE)),\"On the 2015 List\",\"-\")","v":"-"}]
[null,null,4,"",null,null,null,"-",{"$f":"IF(OR(IFERROR(MATCH($D643,'Transparency List 2018_10'!$L:$L,0),FALSE),IFERROR(MATCH(TRIM($G643),'Transparency List 2018_10'!$D:$D,0),FALSE)),\"On the 2018_10 List\",\"-\")","v":"-"},{"$f":"IF(OR(IFERROR(MATCH($D643,'Transparency List 2018_04'!$L:$L,0),FALSE),IFERROR(MATCH(TRIM($G643),'Transparency List 2018_04'!$D:$D,0),FALSE)),\"On the 2018_04 List\",\"-\")","v":"-"},{"$f":"IF(OR(IFERROR(MATCH($D643,'Transparency List 2017'!$L:$L,0),FALSE),IFERROR(MATCH(TRIM($G643),'Transparency List 2017'!$C:$C,0),FALSE)),\"On the 2017 List\",\"-\")","v":"-"},{"$f":"IF(OR(IFERROR(MATCH($D643,'Transparency List 2015'!$H:$H,0),FALSE),IFERROR(MATCH(TRIM($G643),'Transparency List 2015'!$C:$C,0),FALSE)),\"On the 2015 List\",\"-\")","v":"-"}]
[null,null,4,"",null,null,null,"-",{"$f":"IF(OR(IFERROR(MATCH($D644,'Transparency List 2018_10'!$L:$L,0),FALSE),IFERROR(MATCH(TRIM($G644),'Transparency List 2018_10'!$D:$D,0),FALSE)),\"On the 2018_10 List\",\"-\")","v":"-"},{"$f":"IF(OR(IFERROR(MATCH($D644,'Transparency List 2018_04'!$L:$L,0),FALSE),IFERROR(MATCH(TRIM($G644),'Transparency List 2018_04'!$D:$D,0),FALSE)),\"On the 2018_04 List\",\"-\")","v":"-"},{"$f":"IF(OR(IFERROR(MATCH($D644,'Transparency List 2017'!$L:$L,0),FALSE),IFERROR(MATCH(TRIM($G644),'Transparency List 2017'!$C:$C,0),FALSE)),\"On the 2017 List\",\"-\")","v":"-"},{"$f":"IF(OR(IFERROR(MATCH($D644,'Transparency List 2015'!$H:$H,0),FALSE),IFERROR(MATCH(TRIM($G644),'Transparency List 2015'!$C:$C,0),FALSE)),\"On the 2015 List\",\"-\")","v":"-"}]
[null,null,4,"",null,null,null,"-",{"$f":"IF(OR(IFERROR(MATCH($D645,'Transparency List 2018_10'!$L:$L,0),FALSE),IFERROR(MATCH(TRIM($G645),'Transparency List 2018_10'!$D:$D,0),FALSE)),\"On the 2018_10 List\",\"-\")","v":"-"},{"$f":"IF(OR(IFERROR(MATCH($D645,'Transparency List 2018_04'!$L:$L,0),FALSE),IFERROR(MATCH(TRIM($G645),'Transparency List 2018_04'!$D:$D,0),FALSE)),\"On the 2018_04 List\",\"-\")","v":"-"},{"$f":"IF(OR(IFERROR(MATCH($D645,'Transparency List 2017'!$L:$L,0),FALSE),IFERROR(MATCH(TRIM($G645),'Transparency List 2017'!$C:$C,0),FALSE)),\"On the 2017 List\",\"-\")","v":"-"},{"$f":"IF(OR(IFERROR(MATCH($D645,'Transparency List 2015'!$H:$H,0),FALSE),IFERROR(MATCH(TRIM($G645),'Transparency List 2015'!$C:$C,0),FALSE)),\"On the 2015 List\",\"-\")","v":"-"}]
[null,null,4,"",null,null,null,"-",{"$f":"IF(OR(IFERROR(MATCH($D646,'Transparency List 2018_10'!$L:$L,0),FALSE),IFERROR(MATCH(TRIM($G646),'Transparency List 2018_10'!$D:$D,0),FALSE)),\"On the 2018_10 List\",\"-\")","v":"-"},{"$f":"IF(OR(IFERROR(MATCH($D646,'Transparency List 2018_04'!$L:$L,0),FALSE),IFERROR(MATCH(TRIM($G646),'Transparency List 2018_04'!$D:$D,0),FALSE)),\"On the 2018_04 List\",\"-\")","v":"-"},{"$f":"IF(OR(IFERROR(MATCH($D646,'Transparency List 2017'!$L:$L,0),FALSE),IFERROR(MATCH(TRIM($G646),'Transparency List 2017'!$C:$C,0),FALSE)),\"On the 2017 List\",\"-\")","v":"-"},{"$f":"IF(OR(IFERROR(MATCH($D646,'Transparency List 2015'!$H:$H,0),FALSE),IFERROR(MATCH(TRIM($G646),'Transparency List 2015'!$C:$C,0),FALSE)),\"On the 2015 List\",\"-\")","v":"-"}]
[null,null,4,"",null,null,null,"-",{"$f":"IF(OR(IFERROR(MATCH($D647,'Transparency List 2018_10'!$L:$L,0),FALSE),IFERROR(MATCH(TRIM($G647),'Transparency List 2018_10'!$D:$D,0),FALSE)),\"On the 2018_10 List\",\"-\")","v":"-"},{"$f":"IF(OR(IFERROR(MATCH($D647,'Transparency List 2018_04'!$L:$L,0),FALSE),IFERROR(MATCH(TRIM($G647),'Transparency List 2018_04'!$D:$D,0),FALSE)),\"On the 2018_04 List\",\"-\")","v":"-"},{"$f":"IF(OR(IFERROR(MATCH($D647,'Transparency List 2017'!$L:$L,0),FALSE),IFERROR(MATCH(TRIM($G647),'Transparency List 2017'!$C:$C,0),FALSE)),\"On the 2017 List\",\"-\")","v":"-"},{"$f":"IF(OR(IFERROR(MATCH($D647,'Transparency List 2015'!$H:$H,0),FALSE),IFERROR(MATCH(TRIM($G647),'Transparency List 2015'!$C:$C,0),FALSE)),\"On the 2015 List\",\"-\")","v":"-"}]
[null,null,4,"",null,null,null,"-",{"$f":"IF(OR(IFERROR(MATCH($D648,'Transparency List 2018_10'!$L:$L,0),FALSE),IFERROR(MATCH(TRIM($G648),'Transparency List 2018_10'!$D:$D,0),FALSE)),\"On the 2018_10 List\",\"-\")","v":"-"},{"$f":"IF(OR(IFERROR(MATCH($D648,'Transparency List 2018_04'!$L:$L,0),FALSE),IFERROR(MATCH(TRIM($G648),'Transparency List 2018_04'!$D:$D,0),FALSE)),\"On the 2018_04 List\",\"-\")","v":"-"},{"$f":"IF(OR(IFERROR(MATCH($D648,'Transparency List 2017'!$L:$L,0),FALSE),IFERROR(MATCH(TRIM($G648),'Transparency List 2017'!$C:$C,0),FALSE)),\"On the 2017 List\",\"-\")","v":"-"},{"$f":"IF(OR(IFERROR(MATCH($D648,'Transparency List 2015'!$H:$H,0),FALSE),IFERROR(MATCH(TRIM($G648),'Transparency List 2015'!$C:$C,0),FALSE)),\"On the 2015 List\",\"-\")","v":"-"}]
[null,null,4,"",null,null,null,"-",{"$f":"IF(OR(IFERROR(MATCH($D649,'Transparency List 2018_10'!$L:$L,0),FALSE),IFERROR(MATCH(TRIM($G649),'Transparency List 2018_10'!$D:$D,0),FALSE)),\"On the 2018_10 List\",\"-\")","v":"-"},{"$f":"IF(OR(IFERROR(MATCH($D649,'Transparency List 2018_04'!$L:$L,0),FALSE),IFERROR(MATCH(TRIM($G649),'Transparency List 2018_04'!$D:$D,0),FALSE)),\"On the 2018_04 List\",\"-\")","v":"-"},{"$f":"IF(OR(IFERROR(MATCH($D649,'Transparency List 2017'!$L:$L,0),FALSE),IFERROR(MATCH(TRIM($G649),'Transparency List 2017'!$C:$C,0),FALSE)),\"On the 2017 List\",\"-\")","v":"-"},{"$f":"IF(OR(IFERROR(MATCH($D649,'Transparency List 2015'!$H:$H,0),FALSE),IFERROR(MATCH(TRIM($G649),'Transparency List 2015'!$C:$C,0),FALSE)),\"On the 2015 List\",\"-\")","v":"-"}]
[null,null,4,"",null,null,null,"-",{"$f":"IF(OR(IFERROR(MATCH($D650,'Transparency List 2018_10'!$L:$L,0),FALSE),IFERROR(MATCH(TRIM($G650),'Transparency List 2018_10'!$D:$D,0),FALSE)),\"On the 2018_10 List\",\"-\")","v":"-"},{"$f":"IF(OR(IFERROR(MATCH($D650,'Transparency List 2018_04'!$L:$L,0),FALSE),IFERROR(MATCH(TRIM($G650),'Transparency List 2018_04'!$D:$D,0),FALSE)),\"On the 2018_04 List\",\"-\")","v":"-"},{"$f":"IF(OR(IFERROR(MATCH($D650,'Transparency List 2017'!$L:$L,0),FALSE),IFERROR(MATCH(TRIM($G650),'Transparency List 2017'!$C:$C,0),FALSE)),\"On the 2017 List\",\"-\")","v":"-"},{"$f":"IF(OR(IFERROR(MATCH($D650,'Transparency List 2015'!$H:$H,0),FALSE),IFERROR(MATCH(TRIM($G650),'Transparency List 2015'!$C:$C,0),FALSE)),\"On the 2015 List\",\"-\")","v":"-"}]
[null,null,4,"",null,null,null,"-",{"$f":"IF(OR(IFERROR(MATCH($D651,'Transparency List 2018_10'!$L:$L,0),FALSE),IFERROR(MATCH(TRIM($G651),'Transparency List 2018_10'!$D:$D,0),FALSE)),\"On the 2018_10 List\",\"-\")","v":"-"},{"$f":"IF(OR(IFERROR(MATCH($D651,'Transparency List 2018_04'!$L:$L,0),FALSE),IFERROR(MATCH(TRIM($G651),'Transparency List 2018_04'!$D:$D,0),FALSE)),\"On the 2018_04 List\",\"-\")","v":"-"},{"$f":"IF(OR(IFERROR(MATCH($D651,'Transparency List 2017'!$L:$L,0),FALSE),IFERROR(MATCH(TRIM($G651),'Transparency List 2017'!$C:$C,0),FALSE)),\"On the 2017 List\",\"-\")","v":"-"},{"$f":"IF(OR(IFERROR(MATCH($D651,'Transparency List 2015'!$H:$H,0),FALSE),IFERROR(MATCH(TRIM($G651),'Transparency List 2015'!$C:$C,0),FALSE)),\"On the 2015 List\",\"-\")","v":"-"}]
[null,null,4,"",null,null,null,"-",{"$f":"IF(OR(IFERROR(MATCH($D652,'Transparency List 2018_10'!$L:$L,0),FALSE),IFERROR(MATCH(TRIM($G652),'Transparency List 2018_10'!$D:$D,0),FALSE)),\"On the 2018_10 List\",\"-\")","v":"-"},{"$f":"IF(OR(IFERROR(MATCH($D652,'Transparency List 2018_04'!$L:$L,0),FALSE),IFERROR(MATCH(TRIM($G652),'Transparency List 2018_04'!$D:$D,0),FALSE)),\"On the 2018_04 List\",\"-\")","v":"-"},{"$f":"IF(OR(IFERROR(MATCH($D652,'Transparency List 2017'!$L:$L,0),FALSE),IFERROR(MATCH(TRIM($G652),'Transparency List 2017'!$C:$C,0),FALSE)),\"On the 2017 List\",\"-\")","v":"-"},{"$f":"IF(OR(IFERROR(MATCH($D652,'Transparency List 2015'!$H:$H,0),FALSE),IFERROR(MATCH(TRIM($G652),'Transparency List 2015'!$C:$C,0),FALSE)),\"On the 2015 List\",\"-\")","v":"-"}]
[null,null,4,"",null,null,null,"-",{"$f":"IF(OR(IFERROR(MATCH($D653,'Transparency List 2018_10'!$L:$L,0),FALSE),IFERROR(MATCH(TRIM($G653),'Transparency List 2018_10'!$D:$D,0),FALSE)),\"On the 2018_10 List\",\"-\")","v":"-"},{"$f":"IF(OR(IFERROR(MATCH($D653,'Transparency List 2018_04'!$L:$L,0),FALSE),IFERROR(MATCH(TRIM($G653),'Transparency List 2018_04'!$D:$D,0),FALSE)),\"On the 2018_04 List\",\"-\")","v":"-"},{"$f":"IF(OR(IFERROR(MATCH($D653,'Transparency List 2017'!$L:$L,0),FALSE),IFERROR(MATCH(TRIM($G653),'Transparency List 2017'!$C:$C,0),FALSE)),\"On the 2017 List\",\"-\")","v":"-"},{"$f":"IF(OR(IFERROR(MATCH($D653,'Transparency List 2015'!$H:$H,0),FALSE),IFERROR(MATCH(TRIM($G653),'Transparency List 2015'!$C:$C,0),FALSE)),\"On the 2015 List\",\"-\")","v":"-"}]
[null,null,4,"",null,null,null,"-",{"$f":"IF(OR(IFERROR(MATCH($D654,'Transparency List 2018_10'!$L:$L,0),FALSE),IFERROR(MATCH(TRIM($G654),'Transparency List 2018_10'!$D:$D,0),FALSE)),\"On the 2018_10 List\",\"-\")","v":"-"},{"$f":"IF(OR(IFERROR(MATCH($D654,'Transparency List 2018_04'!$L:$L,0),FALSE),IFERROR(MATCH(TRIM($G654),'Transparency List 2018_04'!$D:$D,0),FALSE)),\"On the 2018_04 List\",\"-\")","v":"-"},{"$f":"IF(OR(IFERROR(MATCH($D654,'Transparency List 2017'!$L:$L,0),FALSE),IFERROR(MATCH(TRIM($G654),'Transparency List 2017'!$C:$C,0),FALSE)),\"On the 2017 List\",\"-\")","v":"-"},{"$f":"IF(OR(IFERROR(MATCH($D654,'Transparency List 2015'!$H:$H,0),FALSE),IFERROR(MATCH(TRIM($G654),'Transparency List 2015'!$C:$C,0),FALSE)),\"On the 2015 List\",\"-\")","v":"-"}]
[null,null,4,"",null,null,null,"-",{"$f":"IF(OR(IFERROR(MATCH($D655,'Transparency List 2018_10'!$L:$L,0),FALSE),IFERROR(MATCH(TRIM($G655),'Transparency List 2018_10'!$D:$D,0),FALSE)),\"On the 2018_10 List\",\"-\")","v":"-"},{"$f":"IF(OR(IFERROR(MATCH($D655,'Transparency List 2018_04'!$L:$L,0),FALSE),IFERROR(MATCH(TRIM($G655),'Transparency List 2018_04'!$D:$D,0),FALSE)),\"On the 2018_04 List\",\"-\")","v":"-"},{"$f":"IF(OR(IFERROR(MATCH($D655,'Transparency List 2017'!$L:$L,0),FALSE),IFERROR(MATCH(TRIM($G655),'Transparency List 2017'!$C:$C,0),FALSE)),\"On the 2017 List\",\"-\")","v":"-"},{"$f":"IF(OR(IFERROR(MATCH($D655,'Transparency List 2015'!$H:$H,0),FALSE),IFERROR(MATCH(TRIM($G655),'Transparency List 2015'!$C:$C,0),FALSE)),\"On the 2015 List\",\"-\")","v":"-"}]
[null,null,4,"",null,null,null,"-",{"$f":"IF(OR(IFERROR(MATCH($D656,'Transparency List 2018_10'!$L:$L,0),FALSE),IFERROR(MATCH(TRIM($G656),'Transparency List 2018_10'!$D:$D,0),FALSE)),\"On the 2018_10 List\",\"-\")","v":"-"},{"$f":"IF(OR(IFERROR(MATCH($D656,'Transparency List 2018_04'!$L:$L,0),FALSE),IFERROR(MATCH(TRIM($G656),'Transparency List 2018_04'!$D:$D,0),FALSE)),\"On the 2018_04 List\",\"-\")","v":"-"},{"$f":"IF(OR(IFERROR(MATCH($D656,'Transparency List 2017'!$L:$L,0),FALSE),IFERROR(MATCH(TRIM($G656),'Transparency List 2017'!$C:$C,0),FALSE)),\"On the 2017 List\",\"-\")","v":"-"},{"$f":"IF(OR(IFERROR(MATCH($D656,'Transparency List 2015'!$H:$H,0),FALSE),IFERROR(MATCH(TRIM($G656),'Transparency List 2015'!$C:$C,0),FALSE)),\"On the 2015 List\",\"-\")","v":"-"}]
[null,null,4,"",null,null,null,"-",{"$f":"IF(OR(IFERROR(MATCH($D657,'Transparency List 2018_10'!$L:$L,0),FALSE),IFERROR(MATCH(TRIM($G657),'Transparency List 2018_10'!$D:$D,0),FALSE)),\"On the 2018_10 List\",\"-\")","v":"-"},{"$f":"IF(OR(IFERROR(MATCH($D657,'Transparency List 2018_04'!$L:$L,0),FALSE),IFERROR(MATCH(TRIM($G657),'Transparency List 2018_04'!$D:$D,0),FALSE)),\"On the 2018_04 List\",\"-\")","v":"-"},{"$f":"IF(OR(IFERROR(MATCH($D657,'Transparency List 2017'!$L:$L,0),FALSE),IFERROR(MATCH(TRIM($G657),'Transparency List 2017'!$C:$C,0),FALSE)),\"On the 2017 List\",\"-\")","v":"-"},{"$f":"IF(OR(IFERROR(MATCH($D657,'Transparency List 2015'!$H:$H,0),FALSE),IFERROR(MATCH(TRIM($G657),'Transparency List 2015'!$C:$C,0),FALSE)),\"On the 2015 List\",\"-\")","v":"-"}]
[null,null,4,"",null,null,null,"-",{"$f":"IF(OR(IFERROR(MATCH($D658,'Transparency List 2018_10'!$L:$L,0),FALSE),IFERROR(MATCH(TRIM($G658),'Transparency List 2018_10'!$D:$D,0),FALSE)),\"On the 2018_10 List\",\"-\")","v":"-"},{"$f":"IF(OR(IFERROR(MATCH($D658,'Transparency List 2018_04'!$L:$L,0),FALSE),IFERROR(MATCH(TRIM($G658),'Transparency List 2018_04'!$D:$D,0),FALSE)),\"On the 2018_04 List\",\"-\")","v":"-"},{"$f":"IF(OR(IFERROR(MATCH($D658,'Transparency List 2017'!$L:$L,0),FALSE),IFERROR(MATCH(TRIM($G658),'Transparency List 2017'!$C:$C,0),FALSE)),\"On the 2017 List\",\"-\")","v":"-"},{"$f":"IF(OR(IFERROR(MATCH($D658,'Transparency List 2015'!$H:$H,0),FALSE),IFERROR(MATCH(TRIM($G658),'Transparency List 2015'!$C:$C,0),FALSE)),\"On the 2015 List\",\"-\")","v":"-"}]
[null,null,4,"",null,null,null,"-",{"$f":"IF(OR(IFERROR(MATCH($D659,'Transparency List 2018_10'!$L:$L,0),FALSE),IFERROR(MATCH(TRIM($G659),'Transparency List 2018_10'!$D:$D,0),FALSE)),\"On the 2018_10 List\",\"-\")","v":"-"},{"$f":"IF(OR(IFERROR(MATCH($D659,'Transparency List 2018_04'!$L:$L,0),FALSE),IFERROR(MATCH(TRIM($G659),'Transparency List 2018_04'!$D:$D,0),FALSE)),\"On the 2018_04 List\",\"-\")","v":"-"},{"$f":"IF(OR(IFERROR(MATCH($D659,'Transparency List 2017'!$L:$L,0),FALSE),IFERROR(MATCH(TRIM($G659),'Transparency List 2017'!$C:$C,0),FALSE)),\"On the 2017 List\",\"-\")","v":"-"},{"$f":"IF(OR(IFERROR(MATCH($D659,'Transparency List 2015'!$H:$H,0),FALSE),IFERROR(MATCH(TRIM($G659),'Transparency List 2015'!$C:$C,0),FALSE)),\"On the 2015 List\",\"-\")","v":"-"}]
[null,null,4,"",null,null,null,"-",{"$f":"IF(OR(IFERROR(MATCH($D660,'Transparency List 2018_10'!$L:$L,0),FALSE),IFERROR(MATCH(TRIM($G660),'Transparency List 2018_10'!$D:$D,0),FALSE)),\"On the 2018_10 List\",\"-\")","v":"-"},{"$f":"IF(OR(IFERROR(MATCH($D660,'Transparency List 2018_04'!$L:$L,0),FALSE),IFERROR(MATCH(TRIM($G660),'Transparency List 2018_04'!$D:$D,0),FALSE)),\"On the 2018_04 List\",\"-\")","v":"-"},{"$f":"IF(OR(IFERROR(MATCH($D660,'Transparency List 2017'!$L:$L,0),FALSE),IFERROR(MATCH(TRIM($G660),'Transparency List 2017'!$C:$C,0),FALSE)),\"On the 2017 List\",\"-\")","v":"-"},{"$f":"IF(OR(IFERROR(MATCH($D660,'Transparency List 2015'!$H:$H,0),FALSE),IFERROR(MATCH(TRIM($G660),'Transparency List 2015'!$C:$C,0),FALSE)),\"On the 2015 List\",\"-\")","v":"-"}]
[null,null,4,"",null,null,null,"-",{"$f":"IF(OR(IFERROR(MATCH($D661,'Transparency List 2018_10'!$L:$L,0),FALSE),IFERROR(MATCH(TRIM($G661),'Transparency List 2018_10'!$D:$D,0),FALSE)),\"On the 2018_10 List\",\"-\")","v":"-"},{"$f":"IF(OR(IFERROR(MATCH($D661,'Transparency List 2018_04'!$L:$L,0),FALSE),IFERROR(MATCH(TRIM($G661),'Transparency List 2018_04'!$D:$D,0),FALSE)),\"On the 2018_04 List\",\"-\")","v":"-"},{"$f":"IF(OR(IFERROR(MATCH($D661,'Transparency List 2017'!$L:$L,0),FALSE),IFERROR(MATCH(TRIM($G661),'Transparency List 2017'!$C:$C,0),FALSE)),\"On the 2017 List\",\"-\")","v":"-"},{"$f":"IF(OR(IFERROR(MATCH($D661,'Transparency List 2015'!$H:$H,0),FALSE),IFERROR(MATCH(TRIM($G661),'Transparency List 2015'!$C:$C,0),FALSE)),\"On the 2015 List\",\"-\")","v":"-"}]
[null,null,4,"",null,null,null,"-",{"$f":"IF(OR(IFERROR(MATCH($D662,'Transparency List 2018_10'!$L:$L,0),FALSE),IFERROR(MATCH(TRIM($G662),'Transparency List 2018_10'!$D:$D,0),FALSE)),\"On the 2018_10 List\",\"-\")","v":"-"},{"$f":"IF(OR(IFERROR(MATCH($D662,'Transparency List 2018_04'!$L:$L,0),FALSE),IFERROR(MATCH(TRIM($G662),'Transparency List 2018_04'!$D:$D,0),FALSE)),\"On the 2018_04 List\",\"-\")","v":"-"},{"$f":"IF(OR(IFERROR(MATCH($D662,'Transparency List 2017'!$L:$L,0),FALSE),IFERROR(MATCH(TRIM($G662),'Transparency List 2017'!$C:$C,0),FALSE)),\"On the 2017 List\",\"-\")","v":"-"},{"$f":"IF(OR(IFERROR(MATCH($D662,'Transparency List 2015'!$H:$H,0),FALSE),IFERROR(MATCH(TRIM($G662),'Transparency List 2015'!$C:$C,0),FALSE)),\"On the 2015 List\",\"-\")","v":"-"}]
[null,null,4,"",null,null,null,"-",{"$f":"IF(OR(IFERROR(MATCH($D663,'Transparency List 2018_10'!$L:$L,0),FALSE),IFERROR(MATCH(TRIM($G663),'Transparency List 2018_10'!$D:$D,0),FALSE)),\"On the 2018_10 List\",\"-\")","v":"-"},{"$f":"IF(OR(IFERROR(MATCH($D663,'Transparency List 2018_04'!$L:$L,0),FALSE),IFERROR(MATCH(TRIM($G663),'Transparency List 2018_04'!$D:$D,0),FALSE)),\"On the 2018_04 List\",\"-\")","v":"-"},{"$f":"IF(OR(IFERROR(MATCH($D663,'Transparency List 2017'!$L:$L,0),FALSE),IFERROR(MATCH(TRIM($G663),'Transparency List 2017'!$C:$C,0),FALSE)),\"On the 2017 List\",\"-\")","v":"-"},{"$f":"IF(OR(IFERROR(MATCH($D663,'Transparency List 2015'!$H:$H,0),FALSE),IFERROR(MATCH(TRIM($G663),'Transparency List 2015'!$C:$C,0),FALSE)),\"On the 2015 List\",\"-\")","v":"-"}]
[null,null,4,"",null,null,null,"-",{"$f":"IF(OR(IFERROR(MATCH($D664,'Transparency List 2018_10'!$L:$L,0),FALSE),IFERROR(MATCH(TRIM($G664),'Transparency List 2018_10'!$D:$D,0),FALSE)),\"On the 2018_10 List\",\"-\")","v":"-"},{"$f":"IF(OR(IFERROR(MATCH($D664,'Transparency List 2018_04'!$L:$L,0),FALSE),IFERROR(MATCH(TRIM($G664),'Transparency List 2018_04'!$D:$D,0),FALSE)),\"On the 2018_04 List\",\"-\")","v":"-"},{"$f":"IF(OR(IFERROR(MATCH($D664,'Transparency List 2017'!$L:$L,0),FALSE),IFERROR(MATCH(TRIM($G664),'Transparency List 2017'!$C:$C,0),FALSE)),\"On the 2017 List\",\"-\")","v":"-"},{"$f":"IF(OR(IFERROR(MATCH($D664,'Transparency List 2015'!$H:$H,0),FALSE),IFERROR(MATCH(TRIM($G664),'Transparency List 2015'!$C:$C,0),FALSE)),\"On the 2015 List\",\"-\")","v":"-"}]
[null,null,4,"",null,null,null,"-",{"$f":"IF(OR(IFERROR(MATCH($D665,'Transparency List 2018_10'!$L:$L,0),FALSE),IFERROR(MATCH(TRIM($G665),'Transparency List 2018_10'!$D:$D,0),FALSE)),\"On the 2018_10 List\",\"-\")","v":"-"},{"$f":"IF(OR(IFERROR(MATCH($D665,'Transparency List 2018_04'!$L:$L,0),FALSE),IFERROR(MATCH(TRIM($G665),'Transparency List 2018_04'!$D:$D,0),FALSE)),\"On the 2018_04 List\",\"-\")","v":"-"},{"$f":"IF(OR(IFERROR(MATCH($D665,'Transparency List 2017'!$L:$L,0),FALSE),IFERROR(MATCH(TRIM($G665),'Transparency List 2017'!$C:$C,0),FALSE)),\"On the 2017 List\",\"-\")","v":"-"},{"$f":"IF(OR(IFERROR(MATCH($D665,'Transparency List 2015'!$H:$H,0),FALSE),IFERROR(MATCH(TRIM($G665),'Transparency List 2015'!$C:$C,0),FALSE)),\"On the 2015 List\",\"-\")","v":"-"}]
[null,null,4,"",null,null,null,"-",{"$f":"IF(OR(IFERROR(MATCH($D666,'Transparency List 2018_10'!$L:$L,0),FALSE),IFERROR(MATCH(TRIM($G666),'Transparency List 2018_10'!$D:$D,0),FALSE)),\"On the 2018_10 List\",\"-\")","v":"-"},{"$f":"IF(OR(IFERROR(MATCH($D666,'Transparency List 2018_04'!$L:$L,0),FALSE),IFERROR(MATCH(TRIM($G666),'Transparency List 2018_04'!$D:$D,0),FALSE)),\"On the 2018_04 List\",\"-\")","v":"-"},{"$f":"IF(OR(IFERROR(MATCH($D666,'Transparency List 2017'!$L:$L,0),FALSE),IFERROR(MATCH(TRIM($G666),'Transparency List 2017'!$C:$C,0),FALSE)),\"On the 2017 List\",\"-\")","v":"-"},{"$f":"IF(OR(IFERROR(MATCH($D666,'Transparency List 2015'!$H:$H,0),FALSE),IFERROR(MATCH(TRIM($G666),'Transparency List 2015'!$C:$C,0),FALSE)),\"On the 2015 List\",\"-\")","v":"-"}]
[null,null,4,"",null,null,null,"-",{"$f":"IF(OR(IFERROR(MATCH($D667,'Transparency List 2018_10'!$L:$L,0),FALSE),IFERROR(MATCH(TRIM($G667),'Transparency List 2018_10'!$D:$D,0),FALSE)),\"On the 2018_10 List\",\"-\")","v":"-"},{"$f":"IF(OR(IFERROR(MATCH($D667,'Transparency List 2018_04'!$L:$L,0),FALSE),IFERROR(MATCH(TRIM($G667),'Transparency List 2018_04'!$D:$D,0),FALSE)),\"On the 2018_04 List\",\"-\")","v":"-"},{"$f":"IF(OR(IFERROR(MATCH($D667,'Transparency List 2017'!$L:$L,0),FALSE),IFERROR(MATCH(TRIM($G667),'Transparency List 2017'!$C:$C,0),FALSE)),\"On the 2017 List\",\"-\")","v":"-"},{"$f":"IF(OR(IFERROR(MATCH($D667,'Transparency List 2015'!$H:$H,0),FALSE),IFERROR(MATCH(TRIM($G667),'Transparency List 2015'!$C:$C,0),FALSE)),\"On the 2015 List\",\"-\")","v":"-"}]
[null,null,4,"",null,null,null,"-",{"$f":"IF(OR(IFERROR(MATCH($D668,'Transparency List 2018_10'!$L:$L,0),FALSE),IFERROR(MATCH(TRIM($G668),'Transparency List 2018_10'!$D:$D,0),FALSE)),\"On the 2018_10 List\",\"-\")","v":"-"},{"$f":"IF(OR(IFERROR(MATCH($D668,'Transparency List 2018_04'!$L:$L,0),FALSE),IFERROR(MATCH(TRIM($G668),'Transparency List 2018_04'!$D:$D,0),FALSE)),\"On the 2018_04 List\",\"-\")","v":"-"},{"$f":"IF(OR(IFERROR(MATCH($D668,'Transparency List 2017'!$L:$L,0),FALSE),IFERROR(MATCH(TRIM($G668),'Transparency List 2017'!$C:$C,0),FALSE)),\"On the 2017 List\",\"-\")","v":"-"},{"$f":"IF(OR(IFERROR(MATCH($D668,'Transparency List 2015'!$H:$H,0),FALSE),IFERROR(MATCH(TRIM($G668),'Transparency List 2015'!$C:$C,0),FALSE)),\"On the 2015 List\",\"-\")","v":"-"}]
[null,null,4,"",null,null,null,"-",{"$f":"IF(OR(IFERROR(MATCH($D669,'Transparency List 2018_10'!$L:$L,0),FALSE),IFERROR(MATCH(TRIM($G669),'Transparency List 2018_10'!$D:$D,0),FALSE)),\"On the 2018_10 List\",\"-\")","v":"-"},{"$f":"IF(OR(IFERROR(MATCH($D669,'Transparency List 2018_04'!$L:$L,0),FALSE),IFERROR(MATCH(TRIM($G669),'Transparency List 2018_04'!$D:$D,0),FALSE)),\"On the 2018_04 List\",\"-\")","v":"-"},{"$f":"IF(OR(IFERROR(MATCH($D669,'Transparency List 2017'!$L:$L,0),FALSE),IFERROR(MATCH(TRIM($G669),'Transparency List 2017'!$C:$C,0),FALSE)),\"On the 2017 List\",\"-\")","v":"-"},{"$f":"IF(OR(IFERROR(MATCH($D669,'Transparency List 2015'!$H:$H,0),FALSE),IFERROR(MATCH(TRIM($G669),'Transparency List 2015'!$C:$C,0),FALSE)),\"On the 2015 List\",\"-\")","v":"-"}]
[null,null,4,"",null,null,null,"-",{"$f":"IF(OR(IFERROR(MATCH($D670,'Transparency List 2018_10'!$L:$L,0),FALSE),IFERROR(MATCH(TRIM($G670),'Transparency List 2018_10'!$D:$D,0),FALSE)),\"On the 2018_10 List\",\"-\")","v":"-"},{"$f":"IF(OR(IFERROR(MATCH($D670,'Transparency List 2018_04'!$L:$L,0),FALSE),IFERROR(MATCH(TRIM($G670),'Transparency List 2018_04'!$D:$D,0),FALSE)),\"On the 2018_04 List\",\"-\")","v":"-"},{"$f":"IF(OR(IFERROR(MATCH($D670,'Transparency List 2017'!$L:$L,0),FALSE),IFERROR(MATCH(TRIM($G670),'Transparency List 2017'!$C:$C,0),FALSE)),\"On the 2017 List\",\"-\")","v":"-"},{"$f":"IF(OR(IFERROR(MATCH($D670,'Transparency List 2015'!$H:$H,0),FALSE),IFERROR(MATCH(TRIM($G670),'Transparency List 2015'!$C:$C,0),FALSE)),\"On the 2015 List\",\"-\")","v":"-"}]
[null,null,{"$f":"COUNTIF($I671:$L671,\"-\")","v":4},{"$f":"SUBSTITUTE(SUBSTITUTE(SUBSTITUTE(SUBSTITUTE($G671,\" \",\"\"),\".\",\"\"),\"-\",\"\"),\"/\",\"\")","v":""},null,null,null,{"$f":"IFERROR(IF($C671=4,\"-\",\"Risk Farmer - Please conduct further steps\"),)","v":"-"},{"$f":"IF(OR(IFERROR(MATCH($D671,'Transparency List 2018_10'!$L:$L,0),FALSE),IFERROR(MATCH(TRIM($G671),'Transparency List 2018_10'!$D:$D,0),FALSE)),\"On the 2018_10 List\",\"-\")","v":"-"},{"$f":"IF(OR(IFERROR(MATCH($D671,'Transparency List 2018_04'!$L:$L,0),FALSE),IFERROR(MATCH(TRIM($G671),'Transparency List 2018_04'!$D:$D,0),FALSE)),\"On the 2018_04 List\",\"-\")","v":"-"},{"$f":"IF(OR(IFERROR(MATCH($D671,'Transparency List 2017'!$L:$L,0),FALSE),IFERROR(MATCH(TRIM($G671),'Transparency List 2017'!$C:$C,0),FALSE)),\"On the 2017 List\",\"-\")","v":"-"},{"$f":"IF(OR(IFERROR(MATCH($D671,'Transparency List 2015'!$H:$H,0),FALSE),IFERROR(MATCH(TRIM($G671),'Transparency List 2015'!$C:$C,0),FALSE)),\"On the 2015 List\",\"-\")","v":"-"}]
[null,null,4,"",null,null,null,"-",{"$f":"IF(OR(IFERROR(MATCH($D672,'Transparency List 2018_10'!$L:$L,0),FALSE),IFERROR(MATCH(TRIM($G672),'Transparency List 2018_10'!$D:$D,0),FALSE)),\"On the 2018_10 List\",\"-\")","v":"-"},{"$f":"IF(OR(IFERROR(MATCH($D672,'Transparency List 2018_04'!$L:$L,0),FALSE),IFERROR(MATCH(TRIM($G672),'Transparency List 2018_04'!$D:$D,0),FALSE)),\"On the 2018_04 List\",\"-\")","v":"-"},{"$f":"IF(OR(IFERROR(MATCH($D672,'Transparency List 2017'!$L:$L,0),FALSE),IFERROR(MATCH(TRIM($G672),'Transparency List 2017'!$C:$C,0),FALSE)),\"On the 2017 List\",\"-\")","v":"-"},{"$f":"IF(OR(IFERROR(MATCH($D672,'Transparency List 2015'!$H:$H,0),FALSE),IFERROR(MATCH(TRIM($G672),'Transparency List 2015'!$C:$C,0),FALSE)),\"On the 2015 List\",\"-\")","v":"-"}]
[null,null,4,"",null,null,null,"-",{"$f":"IF(OR(IFERROR(MATCH($D673,'Transparency List 2018_10'!$L:$L,0),FALSE),IFERROR(MATCH(TRIM($G673),'Transparency List 2018_10'!$D:$D,0),FALSE)),\"On the 2018_10 List\",\"-\")","v":"-"},{"$f":"IF(OR(IFERROR(MATCH($D673,'Transparency List 2018_04'!$L:$L,0),FALSE),IFERROR(MATCH(TRIM($G673),'Transparency List 2018_04'!$D:$D,0),FALSE)),\"On the 2018_04 List\",\"-\")","v":"-"},{"$f":"IF(OR(IFERROR(MATCH($D673,'Transparency List 2017'!$L:$L,0),FALSE),IFERROR(MATCH(TRIM($G673),'Transparency List 2017'!$C:$C,0),FALSE)),\"On the 2017 List\",\"-\")","v":"-"},{"$f":"IF(OR(IFERROR(MATCH($D673,'Transparency List 2015'!$H:$H,0),FALSE),IFERROR(MATCH(TRIM($G673),'Transparency List 2015'!$C:$C,0),FALSE)),\"On the 2015 List\",\"-\")","v":"-"}]
[null,null,4,"",null,null,null,"-",{"$f":"IF(OR(IFERROR(MATCH($D674,'Transparency List 2018_10'!$L:$L,0),FALSE),IFERROR(MATCH(TRIM($G674),'Transparency List 2018_10'!$D:$D,0),FALSE)),\"On the 2018_10 List\",\"-\")","v":"-"},{"$f":"IF(OR(IFERROR(MATCH($D674,'Transparency List 2018_04'!$L:$L,0),FALSE),IFERROR(MATCH(TRIM($G674),'Transparency List 2018_04'!$D:$D,0),FALSE)),\"On the 2018_04 List\",\"-\")","v":"-"},{"$f":"IF(OR(IFERROR(MATCH($D674,'Transparency List 2017'!$L:$L,0),FALSE),IFERROR(MATCH(TRIM($G674),'Transparency List 2017'!$C:$C,0),FALSE)),\"On the 2017 List\",\"-\")","v":"-"},{"$f":"IF(OR(IFERROR(MATCH($D674,'Transparency List 2015'!$H:$H,0),FALSE),IFERROR(MATCH(TRIM($G674),'Transparency List 2015'!$C:$C,0),FALSE)),\"On the 2015 List\",\"-\")","v":"-"}]
[null,null,4,"",null,null,null,"-",{"$f":"IF(OR(IFERROR(MATCH($D675,'Transparency List 2018_10'!$L:$L,0),FALSE),IFERROR(MATCH(TRIM($G675),'Transparency List 2018_10'!$D:$D,0),FALSE)),\"On the 2018_10 List\",\"-\")","v":"-"},{"$f":"IF(OR(IFERROR(MATCH($D675,'Transparency List 2018_04'!$L:$L,0),FALSE),IFERROR(MATCH(TRIM($G675),'Transparency List 2018_04'!$D:$D,0),FALSE)),\"On the 2018_04 List\",\"-\")","v":"-"},{"$f":"IF(OR(IFERROR(MATCH($D675,'Transparency List 2017'!$L:$L,0),FALSE),IFERROR(MATCH(TRIM($G675),'Transparency List 2017'!$C:$C,0),FALSE)),\"On the 2017 List\",\"-\")","v":"-"},{"$f":"IF(OR(IFERROR(MATCH($D675,'Transparency List 2015'!$H:$H,0),FALSE),IFERROR(MATCH(TRIM($G675),'Transparency List 2015'!$C:$C,0),FALSE)),\"On the 2015 List\",\"-\")","v":"-"}]
[null,null,4,"",null,null,null,"-",{"$f":"IF(OR(IFERROR(MATCH($D676,'Transparency List 2018_10'!$L:$L,0),FALSE),IFERROR(MATCH(TRIM($G676),'Transparency List 2018_10'!$D:$D,0),FALSE)),\"On the 2018_10 List\",\"-\")","v":"-"},{"$f":"IF(OR(IFERROR(MATCH($D676,'Transparency List 2018_04'!$L:$L,0),FALSE),IFERROR(MATCH(TRIM($G676),'Transparency List 2018_04'!$D:$D,0),FALSE)),\"On the 2018_04 List\",\"-\")","v":"-"},{"$f":"IF(OR(IFERROR(MATCH($D676,'Transparency List 2017'!$L:$L,0),FALSE),IFERROR(MATCH(TRIM($G676),'Transparency List 2017'!$C:$C,0),FALSE)),\"On the 2017 List\",\"-\")","v":"-"},{"$f":"IF(OR(IFERROR(MATCH($D676,'Transparency List 2015'!$H:$H,0),FALSE),IFERROR(MATCH(TRIM($G676),'Transparency List 2015'!$C:$C,0),FALSE)),\"On the 2015 List\",\"-\")","v":"-"}]
[null,null,4,"",null,null,null,"-",{"$f":"IF(OR(IFERROR(MATCH($D677,'Transparency List 2018_10'!$L:$L,0),FALSE),IFERROR(MATCH(TRIM($G677),'Transparency List 2018_10'!$D:$D,0),FALSE)),\"On the 2018_10 List\",\"-\")","v":"-"},{"$f":"IF(OR(IFERROR(MATCH($D677,'Transparency List 2018_04'!$L:$L,0),FALSE),IFERROR(MATCH(TRIM($G677),'Transparency List 2018_04'!$D:$D,0),FALSE)),\"On the 2018_04 List\",\"-\")","v":"-"},{"$f":"IF(OR(IFERROR(MATCH($D677,'Transparency List 2017'!$L:$L,0),FALSE),IFERROR(MATCH(TRIM($G677),'Transparency List 2017'!$C:$C,0),FALSE)),\"On the 2017 List\",\"-\")","v":"-"},{"$f":"IF(OR(IFERROR(MATCH($D677,'Transparency List 2015'!$H:$H,0),FALSE),IFERROR(MATCH(TRIM($G677),'Transparency List 2015'!$C:$C,0),FALSE)),\"On the 2015 List\",\"-\")","v":"-"}]
[null,null,4,"",null,null,null,"-",{"$f":"IF(OR(IFERROR(MATCH($D678,'Transparency List 2018_10'!$L:$L,0),FALSE),IFERROR(MATCH(TRIM($G678),'Transparency List 2018_10'!$D:$D,0),FALSE)),\"On the 2018_10 List\",\"-\")","v":"-"},{"$f":"IF(OR(IFERROR(MATCH($D678,'Transparency List 2018_04'!$L:$L,0),FALSE),IFERROR(MATCH(TRIM($G678),'Transparency List 2018_04'!$D:$D,0),FALSE)),\"On the 2018_04 List\",\"-\")","v":"-"},{"$f":"IF(OR(IFERROR(MATCH($D678,'Transparency List 2017'!$L:$L,0),FALSE),IFERROR(MATCH(TRIM($G678),'Transparency List 2017'!$C:$C,0),FALSE)),\"On the 2017 List\",\"-\")","v":"-"},{"$f":"IF(OR(IFERROR(MATCH($D678,'Transparency List 2015'!$H:$H,0),FALSE),IFERROR(MATCH(TRIM($G678),'Transparency List 2015'!$C:$C,0),FALSE)),\"On the 2015 List\",\"-\")","v":"-"}]
[null,null,4,"",null,null,null,"-",{"$f":"IF(OR(IFERROR(MATCH($D679,'Transparency List 2018_10'!$L:$L,0),FALSE),IFERROR(MATCH(TRIM($G679),'Transparency List 2018_10'!$D:$D,0),FALSE)),\"On the 2018_10 List\",\"-\")","v":"-"},{"$f":"IF(OR(IFERROR(MATCH($D679,'Transparency List 2018_04'!$L:$L,0),FALSE),IFERROR(MATCH(TRIM($G679),'Transparency List 2018_04'!$D:$D,0),FALSE)),\"On the 2018_04 List\",\"-\")","v":"-"},{"$f":"IF(OR(IFERROR(MATCH($D679,'Transparency List 2017'!$L:$L,0),FALSE),IFERROR(MATCH(TRIM($G679),'Transparency List 2017'!$C:$C,0),FALSE)),\"On the 2017 List\",\"-\")","v":"-"},{"$f":"IF(OR(IFERROR(MATCH($D679,'Transparency List 2015'!$H:$H,0),FALSE),IFERROR(MATCH(TRIM($G679),'Transparency List 2015'!$C:$C,0),FALSE)),\"On the 2015 List\",\"-\")","v":"-"}]
[null,null,4,"",null,null,null,"-",{"$f":"IF(OR(IFERROR(MATCH($D680,'Transparency List 2018_10'!$L:$L,0),FALSE),IFERROR(MATCH(TRIM($G680),'Transparency List 2018_10'!$D:$D,0),FALSE)),\"On the 2018_10 List\",\"-\")","v":"-"},{"$f":"IF(OR(IFERROR(MATCH($D680,'Transparency List 2018_04'!$L:$L,0),FALSE),IFERROR(MATCH(TRIM($G680),'Transparency List 2018_04'!$D:$D,0),FALSE)),\"On the 2018_04 List\",\"-\")","v":"-"},{"$f":"IF(OR(IFERROR(MATCH($D680,'Transparency List 2017'!$L:$L,0),FALSE),IFERROR(MATCH(TRIM($G680),'Transparency List 2017'!$C:$C,0),FALSE)),\"On the 2017 List\",\"-\")","v":"-"},{"$f":"IF(OR(IFERROR(MATCH($D680,'Transparency List 2015'!$H:$H,0),FALSE),IFERROR(MATCH(TRIM($G680),'Transparency List 2015'!$C:$C,0),FALSE)),\"On the 2015 List\",\"-\")","v":"-"}]
[null,null,4,"",null,null,null,"-",{"$f":"IF(OR(IFERROR(MATCH($D681,'Transparency List 2018_10'!$L:$L,0),FALSE),IFERROR(MATCH(TRIM($G681),'Transparency List 2018_10'!$D:$D,0),FALSE)),\"On the 2018_10 List\",\"-\")","v":"-"},{"$f":"IF(OR(IFERROR(MATCH($D681,'Transparency List 2018_04'!$L:$L,0),FALSE),IFERROR(MATCH(TRIM($G681),'Transparency List 2018_04'!$D:$D,0),FALSE)),\"On the 2018_04 List\",\"-\")","v":"-"},{"$f":"IF(OR(IFERROR(MATCH($D681,'Transparency List 2017'!$L:$L,0),FALSE),IFERROR(MATCH(TRIM($G681),'Transparency List 2017'!$C:$C,0),FALSE)),\"On the 2017 List\",\"-\")","v":"-"},{"$f":"IF(OR(IFERROR(MATCH($D681,'Transparency List 2015'!$H:$H,0),FALSE),IFERROR(MATCH(TRIM($G681),'Transparency List 2015'!$C:$C,0),FALSE)),\"On the 2015 List\",\"-\")","v":"-"}]
[null,null,4,"",null,null,null,"-",{"$f":"IF(OR(IFERROR(MATCH($D682,'Transparency List 2018_10'!$L:$L,0),FALSE),IFERROR(MATCH(TRIM($G682),'Transparency List 2018_10'!$D:$D,0),FALSE)),\"On the 2018_10 List\",\"-\")","v":"-"},{"$f":"IF(OR(IFERROR(MATCH($D682,'Transparency List 2018_04'!$L:$L,0),FALSE),IFERROR(MATCH(TRIM($G682),'Transparency List 2018_04'!$D:$D,0),FALSE)),\"On the 2018_04 List\",\"-\")","v":"-"},{"$f":"IF(OR(IFERROR(MATCH($D682,'Transparency List 2017'!$L:$L,0),FALSE),IFERROR(MATCH(TRIM($G682),'Transparency List 2017'!$C:$C,0),FALSE)),\"On the 2017 List\",\"-\")","v":"-"},{"$f":"IF(OR(IFERROR(MATCH($D682,'Transparency List 2015'!$H:$H,0),FALSE),IFERROR(MATCH(TRIM($G682),'Transparency List 2015'!$C:$C,0),FALSE)),\"On the 2015 List\",\"-\")","v":"-"}]
[null,null,4,"",null,null,null,"-",{"$f":"IF(OR(IFERROR(MATCH($D683,'Transparency List 2018_10'!$L:$L,0),FALSE),IFERROR(MATCH(TRIM($G683),'Transparency List 2018_10'!$D:$D,0),FALSE)),\"On the 2018_10 List\",\"-\")","v":"-"},{"$f":"IF(OR(IFERROR(MATCH($D683,'Transparency List 2018_04'!$L:$L,0),FALSE),IFERROR(MATCH(TRIM($G683),'Transparency List 2018_04'!$D:$D,0),FALSE)),\"On the 2018_04 List\",\"-\")","v":"-"},{"$f":"IF(OR(IFERROR(MATCH($D683,'Transparency List 2017'!$L:$L,0),FALSE),IFERROR(MATCH(TRIM($G683),'Transparency List 2017'!$C:$C,0),FALSE)),\"On the 2017 List\",\"-\")","v":"-"},{"$f":"IF(OR(IFERROR(MATCH($D683,'Transparency List 2015'!$H:$H,0),FALSE),IFERROR(MATCH(TRIM($G683),'Transparency List 2015'!$C:$C,0),FALSE)),\"On the 2015 List\",\"-\")","v":"-"}]
[null,null,4,"",null,null,null,"-",{"$f":"IF(OR(IFERROR(MATCH($D684,'Transparency List 2018_10'!$L:$L,0),FALSE),IFERROR(MATCH(TRIM($G684),'Transparency List 2018_10'!$D:$D,0),FALSE)),\"On the 2018_10 List\",\"-\")","v":"-"},{"$f":"IF(OR(IFERROR(MATCH($D684,'Transparency List 2018_04'!$L:$L,0),FALSE),IFERROR(MATCH(TRIM($G684),'Transparency List 2018_04'!$D:$D,0),FALSE)),\"On the 2018_04 List\",\"-\")","v":"-"},{"$f":"IF(OR(IFERROR(MATCH($D684,'Transparency List 2017'!$L:$L,0),FALSE),IFERROR(MATCH(TRIM($G684),'Transparency List 2017'!$C:$C,0),FALSE)),\"On the 2017 List\",\"-\")","v":"-"},{"$f":"IF(OR(IFERROR(MATCH($D684,'Transparency List 2015'!$H:$H,0),FALSE),IFERROR(MATCH(TRIM($G684),'Transparency List 2015'!$C:$C,0),FALSE)),\"On the 2015 List\",\"-\")","v":"-"}]
[null,null,4,"",null,null,null,"-",{"$f":"IF(OR(IFERROR(MATCH($D685,'Transparency List 2018_10'!$L:$L,0),FALSE),IFERROR(MATCH(TRIM($G685),'Transparency List 2018_10'!$D:$D,0),FALSE)),\"On the 2018_10 List\",\"-\")","v":"-"},{"$f":"IF(OR(IFERROR(MATCH($D685,'Transparency List 2018_04'!$L:$L,0),FALSE),IFERROR(MATCH(TRIM($G685),'Transparency List 2018_04'!$D:$D,0),FALSE)),\"On the 2018_04 List\",\"-\")","v":"-"},{"$f":"IF(OR(IFERROR(MATCH($D685,'Transparency List 2017'!$L:$L,0),FALSE),IFERROR(MATCH(TRIM($G685),'Transparency List 2017'!$C:$C,0),FALSE)),\"On the 2017 List\",\"-\")","v":"-"},{"$f":"IF(OR(IFERROR(MATCH($D685,'Transparency List 2015'!$H:$H,0),FALSE),IFERROR(MATCH(TRIM($G685),'Transparency List 2015'!$C:$C,0),FALSE)),\"On the 2015 List\",\"-\")","v":"-"}]
[null,null,4,"",null,null,null,"-",{"$f":"IF(OR(IFERROR(MATCH($D686,'Transparency List 2018_10'!$L:$L,0),FALSE),IFERROR(MATCH(TRIM($G686),'Transparency List 2018_10'!$D:$D,0),FALSE)),\"On the 2018_10 List\",\"-\")","v":"-"},{"$f":"IF(OR(IFERROR(MATCH($D686,'Transparency List 2018_04'!$L:$L,0),FALSE),IFERROR(MATCH(TRIM($G686),'Transparency List 2018_04'!$D:$D,0),FALSE)),\"On the 2018_04 List\",\"-\")","v":"-"},{"$f":"IF(OR(IFERROR(MATCH($D686,'Transparency List 2017'!$L:$L,0),FALSE),IFERROR(MATCH(TRIM($G686),'Transparency List 2017'!$C:$C,0),FALSE)),\"On the 2017 List\",\"-\")","v":"-"},{"$f":"IF(OR(IFERROR(MATCH($D686,'Transparency List 2015'!$H:$H,0),FALSE),IFERROR(MATCH(TRIM($G686),'Transparency List 2015'!$C:$C,0),FALSE)),\"On the 2015 List\",\"-\")","v":"-"}]
[null,null,4,"",null,null,null,"-",{"$f":"IF(OR(IFERROR(MATCH($D687,'Transparency List 2018_10'!$L:$L,0),FALSE),IFERROR(MATCH(TRIM($G687),'Transparency List 2018_10'!$D:$D,0),FALSE)),\"On the 2018_10 List\",\"-\")","v":"-"},{"$f":"IF(OR(IFERROR(MATCH($D687,'Transparency List 2018_04'!$L:$L,0),FALSE),IFERROR(MATCH(TRIM($G687),'Transparency List 2018_04'!$D:$D,0),FALSE)),\"On the 2018_04 List\",\"-\")","v":"-"},{"$f":"IF(OR(IFERROR(MATCH($D687,'Transparency List 2017'!$L:$L,0),FALSE),IFERROR(MATCH(TRIM($G687),'Transparency List 2017'!$C:$C,0),FALSE)),\"On the 2017 List\",\"-\")","v":"-"},{"$f":"IF(OR(IFERROR(MATCH($D687,'Transparency List 2015'!$H:$H,0),FALSE),IFERROR(MATCH(TRIM($G687),'Transparency List 2015'!$C:$C,0),FALSE)),\"On the 2015 List\",\"-\")","v":"-"}]
[null,null,4,"",null,null,null,"-",{"$f":"IF(OR(IFERROR(MATCH($D688,'Transparency List 2018_10'!$L:$L,0),FALSE),IFERROR(MATCH(TRIM($G688),'Transparency List 2018_10'!$D:$D,0),FALSE)),\"On the 2018_10 List\",\"-\")","v":"-"},{"$f":"IF(OR(IFERROR(MATCH($D688,'Transparency List 2018_04'!$L:$L,0),FALSE),IFERROR(MATCH(TRIM($G688),'Transparency List 2018_04'!$D:$D,0),FALSE)),\"On the 2018_04 List\",\"-\")","v":"-"},{"$f":"IF(OR(IFERROR(MATCH($D688,'Transparency List 2017'!$L:$L,0),FALSE),IFERROR(MATCH(TRIM($G688),'Transparency List 2017'!$C:$C,0),FALSE)),\"On the 2017 List\",\"-\")","v":"-"},{"$f":"IF(OR(IFERROR(MATCH($D688,'Transparency List 2015'!$H:$H,0),FALSE),IFERROR(MATCH(TRIM($G688),'Transparency List 2015'!$C:$C,0),FALSE)),\"On the 2015 List\",\"-\")","v":"-"}]
[null,null,4,"",null,null,null,"-",{"$f":"IF(OR(IFERROR(MATCH($D689,'Transparency List 2018_10'!$L:$L,0),FALSE),IFERROR(MATCH(TRIM($G689),'Transparency List 2018_10'!$D:$D,0),FALSE)),\"On the 2018_10 List\",\"-\")","v":"-"},{"$f":"IF(OR(IFERROR(MATCH($D689,'Transparency List 2018_04'!$L:$L,0),FALSE),IFERROR(MATCH(TRIM($G689),'Transparency List 2018_04'!$D:$D,0),FALSE)),\"On the 2018_04 List\",\"-\")","v":"-"},{"$f":"IF(OR(IFERROR(MATCH($D689,'Transparency List 2017'!$L:$L,0),FALSE),IFERROR(MATCH(TRIM($G689),'Transparency List 2017'!$C:$C,0),FALSE)),\"On the 2017 List\",\"-\")","v":"-"},{"$f":"IF(OR(IFERROR(MATCH($D689,'Transparency List 2015'!$H:$H,0),FALSE),IFERROR(MATCH(TRIM($G689),'Transparency List 2015'!$C:$C,0),FALSE)),\"On the 2015 List\",\"-\")","v":"-"}]
[null,null,4,"",null,null,null,"-",{"$f":"IF(OR(IFERROR(MATCH($D690,'Transparency List 2018_10'!$L:$L,0),FALSE),IFERROR(MATCH(TRIM($G690),'Transparency List 2018_10'!$D:$D,0),FALSE)),\"On the 2018_10 List\",\"-\")","v":"-"},{"$f":"IF(OR(IFERROR(MATCH($D690,'Transparency List 2018_04'!$L:$L,0),FALSE),IFERROR(MATCH(TRIM($G690),'Transparency List 2018_04'!$D:$D,0),FALSE)),\"On the 2018_04 List\",\"-\")","v":"-"},{"$f":"IF(OR(IFERROR(MATCH($D690,'Transparency List 2017'!$L:$L,0),FALSE),IFERROR(MATCH(TRIM($G690),'Transparency List 2017'!$C:$C,0),FALSE)),\"On the 2017 List\",\"-\")","v":"-"},{"$f":"IF(OR(IFERROR(MATCH($D690,'Transparency List 2015'!$H:$H,0),FALSE),IFERROR(MATCH(TRIM($G690),'Transparency List 2015'!$C:$C,0),FALSE)),\"On the 2015 List\",\"-\")","v":"-"}]
[null,null,4,"",null,null,null,"-",{"$f":"IF(OR(IFERROR(MATCH($D691,'Transparency List 2018_10'!$L:$L,0),FALSE),IFERROR(MATCH(TRIM($G691),'Transparency List 2018_10'!$D:$D,0),FALSE)),\"On the 2018_10 List\",\"-\")","v":"-"},{"$f":"IF(OR(IFERROR(MATCH($D691,'Transparency List 2018_04'!$L:$L,0),FALSE),IFERROR(MATCH(TRIM($G691),'Transparency List 2018_04'!$D:$D,0),FALSE)),\"On the 2018_04 List\",\"-\")","v":"-"},{"$f":"IF(OR(IFERROR(MATCH($D691,'Transparency List 2017'!$L:$L,0),FALSE),IFERROR(MATCH(TRIM($G691),'Transparency List 2017'!$C:$C,0),FALSE)),\"On the 2017 List\",\"-\")","v":"-"},{"$f":"IF(OR(IFERROR(MATCH($D691,'Transparency List 2015'!$H:$H,0),FALSE),IFERROR(MATCH(TRIM($G691),'Transparency List 2015'!$C:$C,0),FALSE)),\"On the 2015 List\",\"-\")","v":"-"}]
[null,null,4,"",null,null,null,"-",{"$f":"IF(OR(IFERROR(MATCH($D692,'Transparency List 2018_10'!$L:$L,0),FALSE),IFERROR(MATCH(TRIM($G692),'Transparency List 2018_10'!$D:$D,0),FALSE)),\"On the 2018_10 List\",\"-\")","v":"-"},{"$f":"IF(OR(IFERROR(MATCH($D692,'Transparency List 2018_04'!$L:$L,0),FALSE),IFERROR(MATCH(TRIM($G692),'Transparency List 2018_04'!$D:$D,0),FALSE)),\"On the 2018_04 List\",\"-\")","v":"-"},{"$f":"IF(OR(IFERROR(MATCH($D692,'Transparency List 2017'!$L:$L,0),FALSE),IFERROR(MATCH(TRIM($G692),'Transparency List 2017'!$C:$C,0),FALSE)),\"On the 2017 List\",\"-\")","v":"-"},{"$f":"IF(OR(IFERROR(MATCH($D692,'Transparency List 2015'!$H:$H,0),FALSE),IFERROR(MATCH(TRIM($G692),'Transparency List 2015'!$C:$C,0),FALSE)),\"On the 2015 List\",\"-\")","v":"-"}]
[null,null,4,"",null,null,null,"-",{"$f":"IF(OR(IFERROR(MATCH($D693,'Transparency List 2018_10'!$L:$L,0),FALSE),IFERROR(MATCH(TRIM($G693),'Transparency List 2018_10'!$D:$D,0),FALSE)),\"On the 2018_10 List\",\"-\")","v":"-"},{"$f":"IF(OR(IFERROR(MATCH($D693,'Transparency List 2018_04'!$L:$L,0),FALSE),IFERROR(MATCH(TRIM($G693),'Transparency List 2018_04'!$D:$D,0),FALSE)),\"On the 2018_04 List\",\"-\")","v":"-"},{"$f":"IF(OR(IFERROR(MATCH($D693,'Transparency List 2017'!$L:$L,0),FALSE),IFERROR(MATCH(TRIM($G693),'Transparency List 2017'!$C:$C,0),FALSE)),\"On the 2017 List\",\"-\")","v":"-"},{"$f":"IF(OR(IFERROR(MATCH($D693,'Transparency List 2015'!$H:$H,0),FALSE),IFERROR(MATCH(TRIM($G693),'Transparency List 2015'!$C:$C,0),FALSE)),\"On the 2015 List\",\"-\")","v":"-"}]
[null,null,4,"",null,null,null,"-",{"$f":"IF(OR(IFERROR(MATCH($D694,'Transparency List 2018_10'!$L:$L,0),FALSE),IFERROR(MATCH(TRIM($G694),'Transparency List 2018_10'!$D:$D,0),FALSE)),\"On the 2018_10 List\",\"-\")","v":"-"},{"$f":"IF(OR(IFERROR(MATCH($D694,'Transparency List 2018_04'!$L:$L,0),FALSE),IFERROR(MATCH(TRIM($G694),'Transparency List 2018_04'!$D:$D,0),FALSE)),\"On the 2018_04 List\",\"-\")","v":"-"},{"$f":"IF(OR(IFERROR(MATCH($D694,'Transparency List 2017'!$L:$L,0),FALSE),IFERROR(MATCH(TRIM($G694),'Transparency List 2017'!$C:$C,0),FALSE)),\"On the 2017 List\",\"-\")","v":"-"},{"$f":"IF(OR(IFERROR(MATCH($D694,'Transparency List 2015'!$H:$H,0),FALSE),IFERROR(MATCH(TRIM($G694),'Transparency List 2015'!$C:$C,0),FALSE)),\"On the 2015 List\",\"-\")","v":"-"}]
[null,null,4,"",null,null,null,"-",{"$f":"IF(OR(IFERROR(MATCH($D695,'Transparency List 2018_10'!$L:$L,0),FALSE),IFERROR(MATCH(TRIM($G695),'Transparency List 2018_10'!$D:$D,0),FALSE)),\"On the 2018_10 List\",\"-\")","v":"-"},{"$f":"IF(OR(IFERROR(MATCH($D695,'Transparency List 2018_04'!$L:$L,0),FALSE),IFERROR(MATCH(TRIM($G695),'Transparency List 2018_04'!$D:$D,0),FALSE)),\"On the 2018_04 List\",\"-\")","v":"-"},{"$f":"IF(OR(IFERROR(MATCH($D695,'Transparency List 2017'!$L:$L,0),FALSE),IFERROR(MATCH(TRIM($G695),'Transparency List 2017'!$C:$C,0),FALSE)),\"On the 2017 List\",\"-\")","v":"-"},{"$f":"IF(OR(IFERROR(MATCH($D695,'Transparency List 2015'!$H:$H,0),FALSE),IFERROR(MATCH(TRIM($G695),'Transparency List 2015'!$C:$C,0),FALSE)),\"On the 2015 List\",\"-\")","v":"-"}]
[null,null,4,"",null,null,null,"-",{"$f":"IF(OR(IFERROR(MATCH($D696,'Transparency List 2018_10'!$L:$L,0),FALSE),IFERROR(MATCH(TRIM($G696),'Transparency List 2018_10'!$D:$D,0),FALSE)),\"On the 2018_10 List\",\"-\")","v":"-"},{"$f":"IF(OR(IFERROR(MATCH($D696,'Transparency List 2018_04'!$L:$L,0),FALSE),IFERROR(MATCH(TRIM($G696),'Transparency List 2018_04'!$D:$D,0),FALSE)),\"On the 2018_04 List\",\"-\")","v":"-"},{"$f":"IF(OR(IFERROR(MATCH($D696,'Transparency List 2017'!$L:$L,0),FALSE),IFERROR(MATCH(TRIM($G696),'Transparency List 2017'!$C:$C,0),FALSE)),\"On the 2017 List\",\"-\")","v":"-"},{"$f":"IF(OR(IFERROR(MATCH($D696,'Transparency List 2015'!$H:$H,0),FALSE),IFERROR(MATCH(TRIM($G696),'Transparency List 2015'!$C:$C,0),FALSE)),\"On the 2015 List\",\"-\")","v":"-"}]
[null,null,4,"",null,null,null,"-",{"$f":"IF(OR(IFERROR(MATCH($D697,'Transparency List 2018_10'!$L:$L,0),FALSE),IFERROR(MATCH(TRIM($G697),'Transparency List 2018_10'!$D:$D,0),FALSE)),\"On the 2018_10 List\",\"-\")","v":"-"},{"$f":"IF(OR(IFERROR(MATCH($D697,'Transparency List 2018_04'!$L:$L,0),FALSE),IFERROR(MATCH(TRIM($G697),'Transparency List 2018_04'!$D:$D,0),FALSE)),\"On the 2018_04 List\",\"-\")","v":"-"},{"$f":"IF(OR(IFERROR(MATCH($D697,'Transparency List 2017'!$L:$L,0),FALSE),IFERROR(MATCH(TRIM($G697),'Transparency List 2017'!$C:$C,0),FALSE)),\"On the 2017 List\",\"-\")","v":"-"},{"$f":"IF(OR(IFERROR(MATCH($D697,'Transparency List 2015'!$H:$H,0),FALSE),IFERROR(MATCH(TRIM($G697),'Transparency List 2015'!$C:$C,0),FALSE)),\"On the 2015 List\",\"-\")","v":"-"}]
[null,null,4,"",null,null,null,"-",{"$f":"IF(OR(IFERROR(MATCH($D698,'Transparency List 2018_10'!$L:$L,0),FALSE),IFERROR(MATCH(TRIM($G698),'Transparency List 2018_10'!$D:$D,0),FALSE)),\"On the 2018_10 List\",\"-\")","v":"-"},{"$f":"IF(OR(IFERROR(MATCH($D698,'Transparency List 2018_04'!$L:$L,0),FALSE),IFERROR(MATCH(TRIM($G698),'Transparency List 2018_04'!$D:$D,0),FALSE)),\"On the 2018_04 List\",\"-\")","v":"-"},{"$f":"IF(OR(IFERROR(MATCH($D698,'Transparency List 2017'!$L:$L,0),FALSE),IFERROR(MATCH(TRIM($G698),'Transparency List 2017'!$C:$C,0),FALSE)),\"On the 2017 List\",\"-\")","v":"-"},{"$f":"IF(OR(IFERROR(MATCH($D698,'Transparency List 2015'!$H:$H,0),FALSE),IFERROR(MATCH(TRIM($G698),'Transparency List 2015'!$C:$C,0),FALSE)),\"On the 2015 List\",\"-\")","v":"-"}]
[null,null,4,"",null,null,null,"-",{"$f":"IF(OR(IFERROR(MATCH($D699,'Transparency List 2018_10'!$L:$L,0),FALSE),IFERROR(MATCH(TRIM($G699),'Transparency List 2018_10'!$D:$D,0),FALSE)),\"On the 2018_10 List\",\"-\")","v":"-"},{"$f":"IF(OR(IFERROR(MATCH($D699,'Transparency List 2018_04'!$L:$L,0),FALSE),IFERROR(MATCH(TRIM($G699),'Transparency List 2018_04'!$D:$D,0),FALSE)),\"On the 2018_04 List\",\"-\")","v":"-"},{"$f":"IF(OR(IFERROR(MATCH($D699,'Transparency List 2017'!$L:$L,0),FALSE),IFERROR(MATCH(TRIM($G699),'Transparency List 2017'!$C:$C,0),FALSE)),\"On the 2017 List\",\"-\")","v":"-"},{"$f":"IF(OR(IFERROR(MATCH($D699,'Transparency List 2015'!$H:$H,0),FALSE),IFERROR(MATCH(TRIM($G699),'Transparency List 2015'!$C:$C,0),FALSE)),\"On the 2015 List\",\"-\")","v":"-"}]
[null,null,4,"",null,null,null,"-",{"$f":"IF(OR(IFERROR(MATCH($D700,'Transparency List 2018_10'!$L:$L,0),FALSE),IFERROR(MATCH(TRIM($G700),'Transparency List 2018_10'!$D:$D,0),FALSE)),\"On the 2018_10 List\",\"-\")","v":"-"},{"$f":"IF(OR(IFERROR(MATCH($D700,'Transparency List 2018_04'!$L:$L,0),FALSE),IFERROR(MATCH(TRIM($G700),'Transparency List 2018_04'!$D:$D,0),FALSE)),\"On the 2018_04 List\",\"-\")","v":"-"},{"$f":"IF(OR(IFERROR(MATCH($D700,'Transparency List 2017'!$L:$L,0),FALSE),IFERROR(MATCH(TRIM($G700),'Transparency List 2017'!$C:$C,0),FALSE)),\"On the 2017 List\",\"-\")","v":"-"},{"$f":"IF(OR(IFERROR(MATCH($D700,'Transparency List 2015'!$H:$H,0),FALSE),IFERROR(MATCH(TRIM($G700),'Transparency List 2015'!$C:$C,0),FALSE)),\"On the 2015 List\",\"-\")","v":"-"}]
[null,null,4,"",null,null,null,"-",{"$f":"IF(OR(IFERROR(MATCH($D701,'Transparency List 2018_10'!$L:$L,0),FALSE),IFERROR(MATCH(TRIM($G701),'Transparency List 2018_10'!$D:$D,0),FALSE)),\"On the 2018_10 List\",\"-\")","v":"-"},{"$f":"IF(OR(IFERROR(MATCH($D701,'Transparency List 2018_04'!$L:$L,0),FALSE),IFERROR(MATCH(TRIM($G701),'Transparency List 2018_04'!$D:$D,0),FALSE)),\"On the 2018_04 List\",\"-\")","v":"-"},{"$f":"IF(OR(IFERROR(MATCH($D701,'Transparency List 2017'!$L:$L,0),FALSE),IFERROR(MATCH(TRIM($G701),'Transparency List 2017'!$C:$C,0),FALSE)),\"On the 2017 List\",\"-\")","v":"-"},{"$f":"IF(OR(IFERROR(MATCH($D701,'Transparency List 2015'!$H:$H,0),FALSE),IFERROR(MATCH(TRIM($G701),'Transparency List 2015'!$C:$C,0),FALSE)),\"On the 2015 List\",\"-\")","v":"-"}]
[null,null,4,"",null,null,null,"-",{"$f":"IF(OR(IFERROR(MATCH($D702,'Transparency List 2018_10'!$L:$L,0),FALSE),IFERROR(MATCH(TRIM($G702),'Transparency List 2018_10'!$D:$D,0),FALSE)),\"On the 2018_10 List\",\"-\")","v":"-"},{"$f":"IF(OR(IFERROR(MATCH($D702,'Transparency List 2018_04'!$L:$L,0),FALSE),IFERROR(MATCH(TRIM($G702),'Transparency List 2018_04'!$D:$D,0),FALSE)),\"On the 2018_04 List\",\"-\")","v":"-"},{"$f":"IF(OR(IFERROR(MATCH($D702,'Transparency List 2017'!$L:$L,0),FALSE),IFERROR(MATCH(TRIM($G702),'Transparency List 2017'!$C:$C,0),FALSE)),\"On the 2017 List\",\"-\")","v":"-"},{"$f":"IF(OR(IFERROR(MATCH($D702,'Transparency List 2015'!$H:$H,0),FALSE),IFERROR(MATCH(TRIM($G702),'Transparency List 2015'!$C:$C,0),FALSE)),\"On the 2015 List\",\"-\")","v":"-"}]
[null,null,4,"",null,null,null,"-",{"$f":"IF(OR(IFERROR(MATCH($D703,'Transparency List 2018_10'!$L:$L,0),FALSE),IFERROR(MATCH(TRIM($G703),'Transparency List 2018_10'!$D:$D,0),FALSE)),\"On the 2018_10 List\",\"-\")","v":"-"},{"$f":"IF(OR(IFERROR(MATCH($D703,'Transparency List 2018_04'!$L:$L,0),FALSE),IFERROR(MATCH(TRIM($G703),'Transparency List 2018_04'!$D:$D,0),FALSE)),\"On the 2018_04 List\",\"-\")","v":"-"},{"$f":"IF(OR(IFERROR(MATCH($D703,'Transparency List 2017'!$L:$L,0),FALSE),IFERROR(MATCH(TRIM($G703),'Transparency List 2017'!$C:$C,0),FALSE)),\"On the 2017 List\",\"-\")","v":"-"},{"$f":"IF(OR(IFERROR(MATCH($D703,'Transparency List 2015'!$H:$H,0),FALSE),IFERROR(MATCH(TRIM($G703),'Transparency List 2015'!$C:$C,0),FALSE)),\"On the 2015 List\",\"-\")","v":"-"}]
[null,null,4,"",null,null,null,"-",{"$f":"IF(OR(IFERROR(MATCH($D704,'Transparency List 2018_10'!$L:$L,0),FALSE),IFERROR(MATCH(TRIM($G704),'Transparency List 2018_10'!$D:$D,0),FALSE)),\"On the 2018_10 List\",\"-\")","v":"-"},{"$f":"IF(OR(IFERROR(MATCH($D704,'Transparency List 2018_04'!$L:$L,0),FALSE),IFERROR(MATCH(TRIM($G704),'Transparency List 2018_04'!$D:$D,0),FALSE)),\"On the 2018_04 List\",\"-\")","v":"-"},{"$f":"IF(OR(IFERROR(MATCH($D704,'Transparency List 2017'!$L:$L,0),FALSE),IFERROR(MATCH(TRIM($G704),'Transparency List 2017'!$C:$C,0),FALSE)),\"On the 2017 List\",\"-\")","v":"-"},{"$f":"IF(OR(IFERROR(MATCH($D704,'Transparency List 2015'!$H:$H,0),FALSE),IFERROR(MATCH(TRIM($G704),'Transparency List 2015'!$C:$C,0),FALSE)),\"On the 2015 List\",\"-\")","v":"-"}]
[null,null,4,"",null,null,null,"-",{"$f":"IF(OR(IFERROR(MATCH($D705,'Transparency List 2018_10'!$L:$L,0),FALSE),IFERROR(MATCH(TRIM($G705),'Transparency List 2018_10'!$D:$D,0),FALSE)),\"On the 2018_10 List\",\"-\")","v":"-"},{"$f":"IF(OR(IFERROR(MATCH($D705,'Transparency List 2018_04'!$L:$L,0),FALSE),IFERROR(MATCH(TRIM($G705),'Transparency List 2018_04'!$D:$D,0),FALSE)),\"On the 2018_04 List\",\"-\")","v":"-"},{"$f":"IF(OR(IFERROR(MATCH($D705,'Transparency List 2017'!$L:$L,0),FALSE),IFERROR(MATCH(TRIM($G705),'Transparency List 2017'!$C:$C,0),FALSE)),\"On the 2017 List\",\"-\")","v":"-"},{"$f":"IF(OR(IFERROR(MATCH($D705,'Transparency List 2015'!$H:$H,0),FALSE),IFERROR(MATCH(TRIM($G705),'Transparency List 2015'!$C:$C,0),FALSE)),\"On the 2015 List\",\"-\")","v":"-"}]
[null,null,4,"",null,null,null,"-",{"$f":"IF(OR(IFERROR(MATCH($D706,'Transparency List 2018_10'!$L:$L,0),FALSE),IFERROR(MATCH(TRIM($G706),'Transparency List 2018_10'!$D:$D,0),FALSE)),\"On the 2018_10 List\",\"-\")","v":"-"},{"$f":"IF(OR(IFERROR(MATCH($D706,'Transparency List 2018_04'!$L:$L,0),FALSE),IFERROR(MATCH(TRIM($G706),'Transparency List 2018_04'!$D:$D,0),FALSE)),\"On the 2018_04 List\",\"-\")","v":"-"},{"$f":"IF(OR(IFERROR(MATCH($D706,'Transparency List 2017'!$L:$L,0),FALSE),IFERROR(MATCH(TRIM($G706),'Transparency List 2017'!$C:$C,0),FALSE)),\"On the 2017 List\",\"-\")","v":"-"},{"$f":"IF(OR(IFERROR(MATCH($D706,'Transparency List 2015'!$H:$H,0),FALSE),IFERROR(MATCH(TRIM($G706),'Transparency List 2015'!$C:$C,0),FALSE)),\"On the 2015 List\",\"-\")","v":"-"}]
[null,null,4,"",null,null,null,"-",{"$f":"IF(OR(IFERROR(MATCH($D707,'Transparency List 2018_10'!$L:$L,0),FALSE),IFERROR(MATCH(TRIM($G707),'Transparency List 2018_10'!$D:$D,0),FALSE)),\"On the 2018_10 List\",\"-\")","v":"-"},{"$f":"IF(OR(IFERROR(MATCH($D707,'Transparency List 2018_04'!$L:$L,0),FALSE),IFERROR(MATCH(TRIM($G707),'Transparency List 2018_04'!$D:$D,0),FALSE)),\"On the 2018_04 List\",\"-\")","v":"-"},{"$f":"IF(OR(IFERROR(MATCH($D707,'Transparency List 2017'!$L:$L,0),FALSE),IFERROR(MATCH(TRIM($G707),'Transparency List 2017'!$C:$C,0),FALSE)),\"On the 2017 List\",\"-\")","v":"-"},{"$f":"IF(OR(IFERROR(MATCH($D707,'Transparency List 2015'!$H:$H,0),FALSE),IFERROR(MATCH(TRIM($G707),'Transparency List 2015'!$C:$C,0),FALSE)),\"On the 2015 List\",\"-\")","v":"-"}]
[null,null,4,"",null,null,null,"-",{"$f":"IF(OR(IFERROR(MATCH($D708,'Transparency List 2018_10'!$L:$L,0),FALSE),IFERROR(MATCH(TRIM($G708),'Transparency List 2018_10'!$D:$D,0),FALSE)),\"On the 2018_10 List\",\"-\")","v":"-"},{"$f":"IF(OR(IFERROR(MATCH($D708,'Transparency List 2018_04'!$L:$L,0),FALSE),IFERROR(MATCH(TRIM($G708),'Transparency List 2018_04'!$D:$D,0),FALSE)),\"On the 2018_04 List\",\"-\")","v":"-"},{"$f":"IF(OR(IFERROR(MATCH($D708,'Transparency List 2017'!$L:$L,0),FALSE),IFERROR(MATCH(TRIM($G708),'Transparency List 2017'!$C:$C,0),FALSE)),\"On the 2017 List\",\"-\")","v":"-"},{"$f":"IF(OR(IFERROR(MATCH($D708,'Transparency List 2015'!$H:$H,0),FALSE),IFERROR(MATCH(TRIM($G708),'Transparency List 2015'!$C:$C,0),FALSE)),\"On the 2015 List\",\"-\")","v":"-"}]
[null,null,4,"",null,null,null,"-",{"$f":"IF(OR(IFERROR(MATCH($D709,'Transparency List 2018_10'!$L:$L,0),FALSE),IFERROR(MATCH(TRIM($G709),'Transparency List 2018_10'!$D:$D,0),FALSE)),\"On the 2018_10 List\",\"-\")","v":"-"},{"$f":"IF(OR(IFERROR(MATCH($D709,'Transparency List 2018_04'!$L:$L,0),FALSE),IFERROR(MATCH(TRIM($G709),'Transparency List 2018_04'!$D:$D,0),FALSE)),\"On the 2018_04 List\",\"-\")","v":"-"},{"$f":"IF(OR(IFERROR(MATCH($D709,'Transparency List 2017'!$L:$L,0),FALSE),IFERROR(MATCH(TRIM($G709),'Transparency List 2017'!$C:$C,0),FALSE)),\"On the 2017 List\",\"-\")","v":"-"},{"$f":"IF(OR(IFERROR(MATCH($D709,'Transparency List 2015'!$H:$H,0),FALSE),IFERROR(MATCH(TRIM($G709),'Transparency List 2015'!$C:$C,0),FALSE)),\"On the 2015 List\",\"-\")","v":"-"}]
[null,null,4,"",null,null,null,"-",{"$f":"IF(OR(IFERROR(MATCH($D710,'Transparency List 2018_10'!$L:$L,0),FALSE),IFERROR(MATCH(TRIM($G710),'Transparency List 2018_10'!$D:$D,0),FALSE)),\"On the 2018_10 List\",\"-\")","v":"-"},{"$f":"IF(OR(IFERROR(MATCH($D710,'Transparency List 2018_04'!$L:$L,0),FALSE),IFERROR(MATCH(TRIM($G710),'Transparency List 2018_04'!$D:$D,0),FALSE)),\"On the 2018_04 List\",\"-\")","v":"-"},{"$f":"IF(OR(IFERROR(MATCH($D710,'Transparency List 2017'!$L:$L,0),FALSE),IFERROR(MATCH(TRIM($G710),'Transparency List 2017'!$C:$C,0),FALSE)),\"On the 2017 List\",\"-\")","v":"-"},{"$f":"IF(OR(IFERROR(MATCH($D710,'Transparency List 2015'!$H:$H,0),FALSE),IFERROR(MATCH(TRIM($G710),'Transparency List 2015'!$C:$C,0),FALSE)),\"On the 2015 List\",\"-\")","v":"-"}]
[null,null,4,"",null,null,null,"-",{"$f":"IF(OR(IFERROR(MATCH($D711,'Transparency List 2018_10'!$L:$L,0),FALSE),IFERROR(MATCH(TRIM($G711),'Transparency List 2018_10'!$D:$D,0),FALSE)),\"On the 2018_10 List\",\"-\")","v":"-"},{"$f":"IF(OR(IFERROR(MATCH($D711,'Transparency List 2018_04'!$L:$L,0),FALSE),IFERROR(MATCH(TRIM($G711),'Transparency List 2018_04'!$D:$D,0),FALSE)),\"On the 2018_04 List\",\"-\")","v":"-"},{"$f":"IF(OR(IFERROR(MATCH($D711,'Transparency List 2017'!$L:$L,0),FALSE),IFERROR(MATCH(TRIM($G711),'Transparency List 2017'!$C:$C,0),FALSE)),\"On the 2017 List\",\"-\")","v":"-"},{"$f":"IF(OR(IFERROR(MATCH($D711,'Transparency List 2015'!$H:$H,0),FALSE),IFERROR(MATCH(TRIM($G711),'Transparency List 2015'!$C:$C,0),FALSE)),\"On the 2015 List\",\"-\")","v":"-"}]
[null,null,4,"",null,null,null,"-",{"$f":"IF(OR(IFERROR(MATCH($D712,'Transparency List 2018_10'!$L:$L,0),FALSE),IFERROR(MATCH(TRIM($G712),'Transparency List 2018_10'!$D:$D,0),FALSE)),\"On the 2018_10 List\",\"-\")","v":"-"},{"$f":"IF(OR(IFERROR(MATCH($D712,'Transparency List 2018_04'!$L:$L,0),FALSE),IFERROR(MATCH(TRIM($G712),'Transparency List 2018_04'!$D:$D,0),FALSE)),\"On the 2018_04 List\",\"-\")","v":"-"},{"$f":"IF(OR(IFERROR(MATCH($D712,'Transparency List 2017'!$L:$L,0),FALSE),IFERROR(MATCH(TRIM($G712),'Transparency List 2017'!$C:$C,0),FALSE)),\"On the 2017 List\",\"-\")","v":"-"},{"$f":"IF(OR(IFERROR(MATCH($D712,'Transparency List 2015'!$H:$H,0),FALSE),IFERROR(MATCH(TRIM($G712),'Transparency List 2015'!$C:$C,0),FALSE)),\"On the 2015 List\",\"-\")","v":"-"}]
[null,null,4,"",null,null,null,"-",{"$f":"IF(OR(IFERROR(MATCH($D713,'Transparency List 2018_10'!$L:$L,0),FALSE),IFERROR(MATCH(TRIM($G713),'Transparency List 2018_10'!$D:$D,0),FALSE)),\"On the 2018_10 List\",\"-\")","v":"-"},{"$f":"IF(OR(IFERROR(MATCH($D713,'Transparency List 2018_04'!$L:$L,0),FALSE),IFERROR(MATCH(TRIM($G713),'Transparency List 2018_04'!$D:$D,0),FALSE)),\"On the 2018_04 List\",\"-\")","v":"-"},{"$f":"IF(OR(IFERROR(MATCH($D713,'Transparency List 2017'!$L:$L,0),FALSE),IFERROR(MATCH(TRIM($G713),'Transparency List 2017'!$C:$C,0),FALSE)),\"On the 2017 List\",\"-\")","v":"-"},{"$f":"IF(OR(IFERROR(MATCH($D713,'Transparency List 2015'!$H:$H,0),FALSE),IFERROR(MATCH(TRIM($G713),'Transparency List 2015'!$C:$C,0),FALSE)),\"On the 2015 List\",\"-\")","v":"-"}]
[null,null,4,"",null,null,null,"-",{"$f":"IF(OR(IFERROR(MATCH($D714,'Transparency List 2018_10'!$L:$L,0),FALSE),IFERROR(MATCH(TRIM($G714),'Transparency List 2018_10'!$D:$D,0),FALSE)),\"On the 2018_10 List\",\"-\")","v":"-"},{"$f":"IF(OR(IFERROR(MATCH($D714,'Transparency List 2018_04'!$L:$L,0),FALSE),IFERROR(MATCH(TRIM($G714),'Transparency List 2018_04'!$D:$D,0),FALSE)),\"On the 2018_04 List\",\"-\")","v":"-"},{"$f":"IF(OR(IFERROR(MATCH($D714,'Transparency List 2017'!$L:$L,0),FALSE),IFERROR(MATCH(TRIM($G714),'Transparency List 2017'!$C:$C,0),FALSE)),\"On the 2017 List\",\"-\")","v":"-"},{"$f":"IF(OR(IFERROR(MATCH($D714,'Transparency List 2015'!$H:$H,0),FALSE),IFERROR(MATCH(TRIM($G714),'Transparency List 2015'!$C:$C,0),FALSE)),\"On the 2015 List\",\"-\")","v":"-"}]
[null,null,4,"",null,null,null,"-",{"$f":"IF(OR(IFERROR(MATCH($D715,'Transparency List 2018_10'!$L:$L,0),FALSE),IFERROR(MATCH(TRIM($G715),'Transparency List 2018_10'!$D:$D,0),FALSE)),\"On the 2018_10 List\",\"-\")","v":"-"},{"$f":"IF(OR(IFERROR(MATCH($D715,'Transparency List 2018_04'!$L:$L,0),FALSE),IFERROR(MATCH(TRIM($G715),'Transparency List 2018_04'!$D:$D,0),FALSE)),\"On the 2018_04 List\",\"-\")","v":"-"},{"$f":"IF(OR(IFERROR(MATCH($D715,'Transparency List 2017'!$L:$L,0),FALSE),IFERROR(MATCH(TRIM($G715),'Transparency List 2017'!$C:$C,0),FALSE)),\"On the 2017 List\",\"-\")","v":"-"},{"$f":"IF(OR(IFERROR(MATCH($D715,'Transparency List 2015'!$H:$H,0),FALSE),IFERROR(MATCH(TRIM($G715),'Transparency List 2015'!$C:$C,0),FALSE)),\"On the 2015 List\",\"-\")","v":"-"}]
[null,null,4,"",null,null,null,"-",{"$f":"IF(OR(IFERROR(MATCH($D716,'Transparency List 2018_10'!$L:$L,0),FALSE),IFERROR(MATCH(TRIM($G716),'Transparency List 2018_10'!$D:$D,0),FALSE)),\"On the 2018_10 List\",\"-\")","v":"-"},{"$f":"IF(OR(IFERROR(MATCH($D716,'Transparency List 2018_04'!$L:$L,0),FALSE),IFERROR(MATCH(TRIM($G716),'Transparency List 2018_04'!$D:$D,0),FALSE)),\"On the 2018_04 List\",\"-\")","v":"-"},{"$f":"IF(OR(IFERROR(MATCH($D716,'Transparency List 2017'!$L:$L,0),FALSE),IFERROR(MATCH(TRIM($G716),'Transparency List 2017'!$C:$C,0),FALSE)),\"On the 2017 List\",\"-\")","v":"-"},{"$f":"IF(OR(IFERROR(MATCH($D716,'Transparency List 2015'!$H:$H,0),FALSE),IFERROR(MATCH(TRIM($G716),'Transparency List 2015'!$C:$C,0),FALSE)),\"On the 2015 List\",\"-\")","v":"-"}]
[null,null,4,"",null,null,null,"-",{"$f":"IF(OR(IFERROR(MATCH($D717,'Transparency List 2018_10'!$L:$L,0),FALSE),IFERROR(MATCH(TRIM($G717),'Transparency List 2018_10'!$D:$D,0),FALSE)),\"On the 2018_10 List\",\"-\")","v":"-"},{"$f":"IF(OR(IFERROR(MATCH($D717,'Transparency List 2018_04'!$L:$L,0),FALSE),IFERROR(MATCH(TRIM($G717),'Transparency List 2018_04'!$D:$D,0),FALSE)),\"On the 2018_04 List\",\"-\")","v":"-"},{"$f":"IF(OR(IFERROR(MATCH($D717,'Transparency List 2017'!$L:$L,0),FALSE),IFERROR(MATCH(TRIM($G717),'Transparency List 2017'!$C:$C,0),FALSE)),\"On the 2017 List\",\"-\")","v":"-"},{"$f":"IF(OR(IFERROR(MATCH($D717,'Transparency List 2015'!$H:$H,0),FALSE),IFERROR(MATCH(TRIM($G717),'Transparency List 2015'!$C:$C,0),FALSE)),\"On the 2015 List\",\"-\")","v":"-"}]
[null,null,4,"",null,null,null,"-",{"$f":"IF(OR(IFERROR(MATCH($D718,'Transparency List 2018_10'!$L:$L,0),FALSE),IFERROR(MATCH(TRIM($G718),'Transparency List 2018_10'!$D:$D,0),FALSE)),\"On the 2018_10 List\",\"-\")","v":"-"},{"$f":"IF(OR(IFERROR(MATCH($D718,'Transparency List 2018_04'!$L:$L,0),FALSE),IFERROR(MATCH(TRIM($G718),'Transparency List 2018_04'!$D:$D,0),FALSE)),\"On the 2018_04 List\",\"-\")","v":"-"},{"$f":"IF(OR(IFERROR(MATCH($D718,'Transparency List 2017'!$L:$L,0),FALSE),IFERROR(MATCH(TRIM($G718),'Transparency List 2017'!$C:$C,0),FALSE)),\"On the 2017 List\",\"-\")","v":"-"},{"$f":"IF(OR(IFERROR(MATCH($D718,'Transparency List 2015'!$H:$H,0),FALSE),IFERROR(MATCH(TRIM($G718),'Transparency List 2015'!$C:$C,0),FALSE)),\"On the 2015 List\",\"-\")","v":"-"}]
[null,null,4,"",null,null,null,"-",{"$f":"IF(OR(IFERROR(MATCH($D719,'Transparency List 2018_10'!$L:$L,0),FALSE),IFERROR(MATCH(TRIM($G719),'Transparency List 2018_10'!$D:$D,0),FALSE)),\"On the 2018_10 List\",\"-\")","v":"-"},{"$f":"IF(OR(IFERROR(MATCH($D719,'Transparency List 2018_04'!$L:$L,0),FALSE),IFERROR(MATCH(TRIM($G719),'Transparency List 2018_04'!$D:$D,0),FALSE)),\"On the 2018_04 List\",\"-\")","v":"-"},{"$f":"IF(OR(IFERROR(MATCH($D719,'Transparency List 2017'!$L:$L,0),FALSE),IFERROR(MATCH(TRIM($G719),'Transparency List 2017'!$C:$C,0),FALSE)),\"On the 2017 List\",\"-\")","v":"-"},{"$f":"IF(OR(IFERROR(MATCH($D719,'Transparency List 2015'!$H:$H,0),FALSE),IFERROR(MATCH(TRIM($G719),'Transparency List 2015'!$C:$C,0),FALSE)),\"On the 2015 List\",\"-\")","v":"-"}]
[null,null,4,"",null,null,null,"-",{"$f":"IF(OR(IFERROR(MATCH($D720,'Transparency List 2018_10'!$L:$L,0),FALSE),IFERROR(MATCH(TRIM($G720),'Transparency List 2018_10'!$D:$D,0),FALSE)),\"On the 2018_10 List\",\"-\")","v":"-"},{"$f":"IF(OR(IFERROR(MATCH($D720,'Transparency List 2018_04'!$L:$L,0),FALSE),IFERROR(MATCH(TRIM($G720),'Transparency List 2018_04'!$D:$D,0),FALSE)),\"On the 2018_04 List\",\"-\")","v":"-"},{"$f":"IF(OR(IFERROR(MATCH($D720,'Transparency List 2017'!$L:$L,0),FALSE),IFERROR(MATCH(TRIM($G720),'Transparency List 2017'!$C:$C,0),FALSE)),\"On the 2017 List\",\"-\")","v":"-"},{"$f":"IF(OR(IFERROR(MATCH($D720,'Transparency List 2015'!$H:$H,0),FALSE),IFERROR(MATCH(TRIM($G720),'Transparency List 2015'!$C:$C,0),FALSE)),\"On the 2015 List\",\"-\")","v":"-"}]
[null,null,4,"",null,null,null,"-",{"$f":"IF(OR(IFERROR(MATCH($D721,'Transparency List 2018_10'!$L:$L,0),FALSE),IFERROR(MATCH(TRIM($G721),'Transparency List 2018_10'!$D:$D,0),FALSE)),\"On the 2018_10 List\",\"-\")","v":"-"},{"$f":"IF(OR(IFERROR(MATCH($D721,'Transparency List 2018_04'!$L:$L,0),FALSE),IFERROR(MATCH(TRIM($G721),'Transparency List 2018_04'!$D:$D,0),FALSE)),\"On the 2018_04 List\",\"-\")","v":"-"},{"$f":"IF(OR(IFERROR(MATCH($D721,'Transparency List 2017'!$L:$L,0),FALSE),IFERROR(MATCH(TRIM($G721),'Transparency List 2017'!$C:$C,0),FALSE)),\"On the 2017 List\",\"-\")","v":"-"},{"$f":"IF(OR(IFERROR(MATCH($D721,'Transparency List 2015'!$H:$H,0),FALSE),IFERROR(MATCH(TRIM($G721),'Transparency List 2015'!$C:$C,0),FALSE)),\"On the 2015 List\",\"-\")","v":"-"}]
[null,null,4,"",null,null,null,"-",{"$f":"IF(OR(IFERROR(MATCH($D722,'Transparency List 2018_10'!$L:$L,0),FALSE),IFERROR(MATCH(TRIM($G722),'Transparency List 2018_10'!$D:$D,0),FALSE)),\"On the 2018_10 List\",\"-\")","v":"-"},{"$f":"IF(OR(IFERROR(MATCH($D722,'Transparency List 2018_04'!$L:$L,0),FALSE),IFERROR(MATCH(TRIM($G722),'Transparency List 2018_04'!$D:$D,0),FALSE)),\"On the 2018_04 List\",\"-\")","v":"-"},{"$f":"IF(OR(IFERROR(MATCH($D722,'Transparency List 2017'!$L:$L,0),FALSE),IFERROR(MATCH(TRIM($G722),'Transparency List 2017'!$C:$C,0),FALSE)),\"On the 2017 List\",\"-\")","v":"-"},{"$f":"IF(OR(IFERROR(MATCH($D722,'Transparency List 2015'!$H:$H,0),FALSE),IFERROR(MATCH(TRIM($G722),'Transparency List 2015'!$C:$C,0),FALSE)),\"On the 2015 List\",\"-\")","v":"-"}]
[null,null,4,"",null,null,null,"-",{"$f":"IF(OR(IFERROR(MATCH($D723,'Transparency List 2018_10'!$L:$L,0),FALSE),IFERROR(MATCH(TRIM($G723),'Transparency List 2018_10'!$D:$D,0),FALSE)),\"On the 2018_10 List\",\"-\")","v":"-"},{"$f":"IF(OR(IFERROR(MATCH($D723,'Transparency List 2018_04'!$L:$L,0),FALSE),IFERROR(MATCH(TRIM($G723),'Transparency List 2018_04'!$D:$D,0),FALSE)),\"On the 2018_04 List\",\"-\")","v":"-"},{"$f":"IF(OR(IFERROR(MATCH($D723,'Transparency List 2017'!$L:$L,0),FALSE),IFERROR(MATCH(TRIM($G723),'Transparency List 2017'!$C:$C,0),FALSE)),\"On the 2017 List\",\"-\")","v":"-"},{"$f":"IF(OR(IFERROR(MATCH($D723,'Transparency List 2015'!$H:$H,0),FALSE),IFERROR(MATCH(TRIM($G723),'Transparency List 2015'!$C:$C,0),FALSE)),\"On the 2015 List\",\"-\")","v":"-"}]
[null,null,4,"",null,null,null,"-",{"$f":"IF(OR(IFERROR(MATCH($D724,'Transparency List 2018_10'!$L:$L,0),FALSE),IFERROR(MATCH(TRIM($G724),'Transparency List 2018_10'!$D:$D,0),FALSE)),\"On the 2018_10 List\",\"-\")","v":"-"},{"$f":"IF(OR(IFERROR(MATCH($D724,'Transparency List 2018_04'!$L:$L,0),FALSE),IFERROR(MATCH(TRIM($G724),'Transparency List 2018_04'!$D:$D,0),FALSE)),\"On the 2018_04 List\",\"-\")","v":"-"},{"$f":"IF(OR(IFERROR(MATCH($D724,'Transparency List 2017'!$L:$L,0),FALSE),IFERROR(MATCH(TRIM($G724),'Transparency List 2017'!$C:$C,0),FALSE)),\"On the 2017 List\",\"-\")","v":"-"},{"$f":"IF(OR(IFERROR(MATCH($D724,'Transparency List 2015'!$H:$H,0),FALSE),IFERROR(MATCH(TRIM($G724),'Transparency List 2015'!$C:$C,0),FALSE)),\"On the 2015 List\",\"-\")","v":"-"}]
[null,null,4,"",null,null,null,"-",{"$f":"IF(OR(IFERROR(MATCH($D725,'Transparency List 2018_10'!$L:$L,0),FALSE),IFERROR(MATCH(TRIM($G725),'Transparency List 2018_10'!$D:$D,0),FALSE)),\"On the 2018_10 List\",\"-\")","v":"-"},{"$f":"IF(OR(IFERROR(MATCH($D725,'Transparency List 2018_04'!$L:$L,0),FALSE),IFERROR(MATCH(TRIM($G725),'Transparency List 2018_04'!$D:$D,0),FALSE)),\"On the 2018_04 List\",\"-\")","v":"-"},{"$f":"IF(OR(IFERROR(MATCH($D725,'Transparency List 2017'!$L:$L,0),FALSE),IFERROR(MATCH(TRIM($G725),'Transparency List 2017'!$C:$C,0),FALSE)),\"On the 2017 List\",\"-\")","v":"-"},{"$f":"IF(OR(IFERROR(MATCH($D725,'Transparency List 2015'!$H:$H,0),FALSE),IFERROR(MATCH(TRIM($G725),'Transparency List 2015'!$C:$C,0),FALSE)),\"On the 2015 List\",\"-\")","v":"-"}]
[null,null,4,"",null,null,null,"-",{"$f":"IF(OR(IFERROR(MATCH($D726,'Transparency List 2018_10'!$L:$L,0),FALSE),IFERROR(MATCH(TRIM($G726),'Transparency List 2018_10'!$D:$D,0),FALSE)),\"On the 2018_10 List\",\"-\")","v":"-"},{"$f":"IF(OR(IFERROR(MATCH($D726,'Transparency List 2018_04'!$L:$L,0),FALSE),IFERROR(MATCH(TRIM($G726),'Transparency List 2018_04'!$D:$D,0),FALSE)),\"On the 2018_04 List\",\"-\")","v":"-"},{"$f":"IF(OR(IFERROR(MATCH($D726,'Transparency List 2017'!$L:$L,0),FALSE),IFERROR(MATCH(TRIM($G726),'Transparency List 2017'!$C:$C,0),FALSE)),\"On the 2017 List\",\"-\")","v":"-"},{"$f":"IF(OR(IFERROR(MATCH($D726,'Transparency List 2015'!$H:$H,0),FALSE),IFERROR(MATCH(TRIM($G726),'Transparency List 2015'!$C:$C,0),FALSE)),\"On the 2015 List\",\"-\")","v":"-"}]
[null,null,4,"",null,null,null,"-",{"$f":"IF(OR(IFERROR(MATCH($D727,'Transparency List 2018_10'!$L:$L,0),FALSE),IFERROR(MATCH(TRIM($G727),'Transparency List 2018_10'!$D:$D,0),FALSE)),\"On the 2018_10 List\",\"-\")","v":"-"},{"$f":"IF(OR(IFERROR(MATCH($D727,'Transparency List 2018_04'!$L:$L,0),FALSE),IFERROR(MATCH(TRIM($G727),'Transparency List 2018_04'!$D:$D,0),FALSE)),\"On the 2018_04 List\",\"-\")","v":"-"},{"$f":"IF(OR(IFERROR(MATCH($D727,'Transparency List 2017'!$L:$L,0),FALSE),IFERROR(MATCH(TRIM($G727),'Transparency List 2017'!$C:$C,0),FALSE)),\"On the 2017 List\",\"-\")","v":"-"},{"$f":"IF(OR(IFERROR(MATCH($D727,'Transparency List 2015'!$H:$H,0),FALSE),IFERROR(MATCH(TRIM($G727),'Transparency List 2015'!$C:$C,0),FALSE)),\"On the 2015 List\",\"-\")","v":"-"}]
[null,null,4,"",null,null,null,"-",{"$f":"IF(OR(IFERROR(MATCH($D728,'Transparency List 2018_10'!$L:$L,0),FALSE),IFERROR(MATCH(TRIM($G728),'Transparency List 2018_10'!$D:$D,0),FALSE)),\"On the 2018_10 List\",\"-\")","v":"-"},{"$f":"IF(OR(IFERROR(MATCH($D728,'Transparency List 2018_04'!$L:$L,0),FALSE),IFERROR(MATCH(TRIM($G728),'Transparency List 2018_04'!$D:$D,0),FALSE)),\"On the 2018_04 List\",\"-\")","v":"-"},{"$f":"IF(OR(IFERROR(MATCH($D728,'Transparency List 2017'!$L:$L,0),FALSE),IFERROR(MATCH(TRIM($G728),'Transparency List 2017'!$C:$C,0),FALSE)),\"On the 2017 List\",\"-\")","v":"-"},{"$f":"IF(OR(IFERROR(MATCH($D728,'Transparency List 2015'!$H:$H,0),FALSE),IFERROR(MATCH(TRIM($G728),'Transparency List 2015'!$C:$C,0),FALSE)),\"On the 2015 List\",\"-\")","v":"-"}]
[null,null,4,"",null,null,null,"-",{"$f":"IF(OR(IFERROR(MATCH($D729,'Transparency List 2018_10'!$L:$L,0),FALSE),IFERROR(MATCH(TRIM($G729),'Transparency List 2018_10'!$D:$D,0),FALSE)),\"On the 2018_10 List\",\"-\")","v":"-"},{"$f":"IF(OR(IFERROR(MATCH($D729,'Transparency List 2018_04'!$L:$L,0),FALSE),IFERROR(MATCH(TRIM($G729),'Transparency List 2018_04'!$D:$D,0),FALSE)),\"On the 2018_04 List\",\"-\")","v":"-"},{"$f":"IF(OR(IFERROR(MATCH($D729,'Transparency List 2017'!$L:$L,0),FALSE),IFERROR(MATCH(TRIM($G729),'Transparency List 2017'!$C:$C,0),FALSE)),\"On the 2017 List\",\"-\")","v":"-"},{"$f":"IF(OR(IFERROR(MATCH($D729,'Transparency List 2015'!$H:$H,0),FALSE),IFERROR(MATCH(TRIM($G729),'Transparency List 2015'!$C:$C,0),FALSE)),\"On the 2015 List\",\"-\")","v":"-"}]
[null,null,4,"",null,null,null,"-",{"$f":"IF(OR(IFERROR(MATCH($D730,'Transparency List 2018_10'!$L:$L,0),FALSE),IFERROR(MATCH(TRIM($G730),'Transparency List 2018_10'!$D:$D,0),FALSE)),\"On the 2018_10 List\",\"-\")","v":"-"},{"$f":"IF(OR(IFERROR(MATCH($D730,'Transparency List 2018_04'!$L:$L,0),FALSE),IFERROR(MATCH(TRIM($G730),'Transparency List 2018_04'!$D:$D,0),FALSE)),\"On the 2018_04 List\",\"-\")","v":"-"},{"$f":"IF(OR(IFERROR(MATCH($D730,'Transparency List 2017'!$L:$L,0),FALSE),IFERROR(MATCH(TRIM($G730),'Transparency List 2017'!$C:$C,0),FALSE)),\"On the 2017 List\",\"-\")","v":"-"},{"$f":"IF(OR(IFERROR(MATCH($D730,'Transparency List 2015'!$H:$H,0),FALSE),IFERROR(MATCH(TRIM($G730),'Transparency List 2015'!$C:$C,0),FALSE)),\"On the 2015 List\",\"-\")","v":"-"}]
[null,null,4,"",null,null,null,"-",{"$f":"IF(OR(IFERROR(MATCH($D731,'Transparency List 2018_10'!$L:$L,0),FALSE),IFERROR(MATCH(TRIM($G731),'Transparency List 2018_10'!$D:$D,0),FALSE)),\"On the 2018_10 List\",\"-\")","v":"-"},{"$f":"IF(OR(IFERROR(MATCH($D731,'Transparency List 2018_04'!$L:$L,0),FALSE),IFERROR(MATCH(TRIM($G731),'Transparency List 2018_04'!$D:$D,0),FALSE)),\"On the 2018_04 List\",\"-\")","v":"-"},{"$f":"IF(OR(IFERROR(MATCH($D731,'Transparency List 2017'!$L:$L,0),FALSE),IFERROR(MATCH(TRIM($G731),'Transparency List 2017'!$C:$C,0),FALSE)),\"On the 2017 List\",\"-\")","v":"-"},{"$f":"IF(OR(IFERROR(MATCH($D731,'Transparency List 2015'!$H:$H,0),FALSE),IFERROR(MATCH(TRIM($G731),'Transparency List 2015'!$C:$C,0),FALSE)),\"On the 2015 List\",\"-\")","v":"-"}]
[null,null,4,"",null,null,null,"-",{"$f":"IF(OR(IFERROR(MATCH($D732,'Transparency List 2018_10'!$L:$L,0),FALSE),IFERROR(MATCH(TRIM($G732),'Transparency List 2018_10'!$D:$D,0),FALSE)),\"On the 2018_10 List\",\"-\")","v":"-"},{"$f":"IF(OR(IFERROR(MATCH($D732,'Transparency List 2018_04'!$L:$L,0),FALSE),IFERROR(MATCH(TRIM($G732),'Transparency List 2018_04'!$D:$D,0),FALSE)),\"On the 2018_04 List\",\"-\")","v":"-"},{"$f":"IF(OR(IFERROR(MATCH($D732,'Transparency List 2017'!$L:$L,0),FALSE),IFERROR(MATCH(TRIM($G732),'Transparency List 2017'!$C:$C,0),FALSE)),\"On the 2017 List\",\"-\")","v":"-"},{"$f":"IF(OR(IFERROR(MATCH($D732,'Transparency List 2015'!$H:$H,0),FALSE),IFERROR(MATCH(TRIM($G732),'Transparency List 2015'!$C:$C,0),FALSE)),\"On the 2015 List\",\"-\")","v":"-"}]
[null,null,4,"",null,null,null,"-",{"$f":"IF(OR(IFERROR(MATCH($D733,'Transparency List 2018_10'!$L:$L,0),FALSE),IFERROR(MATCH(TRIM($G733),'Transparency List 2018_10'!$D:$D,0),FALSE)),\"On the 2018_10 List\",\"-\")","v":"-"},{"$f":"IF(OR(IFERROR(MATCH($D733,'Transparency List 2018_04'!$L:$L,0),FALSE),IFERROR(MATCH(TRIM($G733),'Transparency List 2018_04'!$D:$D,0),FALSE)),\"On the 2018_04 List\",\"-\")","v":"-"},{"$f":"IF(OR(IFERROR(MATCH($D733,'Transparency List 2017'!$L:$L,0),FALSE),IFERROR(MATCH(TRIM($G733),'Transparency List 2017'!$C:$C,0),FALSE)),\"On the 2017 List\",\"-\")","v":"-"},{"$f":"IF(OR(IFERROR(MATCH($D733,'Transparency List 2015'!$H:$H,0),FALSE),IFERROR(MATCH(TRIM($G733),'Transparency List 2015'!$C:$C,0),FALSE)),\"On the 2015 List\",\"-\")","v":"-"}]
[null,null,4,"",null,null,null,"-",{"$f":"IF(OR(IFERROR(MATCH($D734,'Transparency List 2018_10'!$L:$L,0),FALSE),IFERROR(MATCH(TRIM($G734),'Transparency List 2018_10'!$D:$D,0),FALSE)),\"On the 2018_10 List\",\"-\")","v":"-"},{"$f":"IF(OR(IFERROR(MATCH($D734,'Transparency List 2018_04'!$L:$L,0),FALSE),IFERROR(MATCH(TRIM($G734),'Transparency List 2018_04'!$D:$D,0),FALSE)),\"On the 2018_04 List\",\"-\")","v":"-"},{"$f":"IF(OR(IFERROR(MATCH($D734,'Transparency List 2017'!$L:$L,0),FALSE),IFERROR(MATCH(TRIM($G734),'Transparency List 2017'!$C:$C,0),FALSE)),\"On the 2017 List\",\"-\")","v":"-"},{"$f":"IF(OR(IFERROR(MATCH($D734,'Transparency List 2015'!$H:$H,0),FALSE),IFERROR(MATCH(TRIM($G734),'Transparency List 2015'!$C:$C,0),FALSE)),\"On the 2015 List\",\"-\")","v":"-"}]
[null,null,{"$f":"COUNTIF($I735:$L735,\"-\")","v":4},{"$f":"SUBSTITUTE(SUBSTITUTE(SUBSTITUTE(SUBSTITUTE($G735,\" \",\"\"),\".\",\"\"),\"-\",\"\"),\"/\",\"\")","v":""},null,null,null,{"$f":"IFERROR(IF($C735=4,\"-\",\"Risk Farmer - Please conduct further steps\"),)","v":"-"},{"$f":"IF(OR(IFERROR(MATCH($D735,'Transparency List 2018_10'!$L:$L,0),FALSE),IFERROR(MATCH(TRIM($G735),'Transparency List 2018_10'!$D:$D,0),FALSE)),\"On the 2018_10 List\",\"-\")","v":"-"},{"$f":"IF(OR(IFERROR(MATCH($D735,'Transparency List 2018_04'!$L:$L,0),FALSE),IFERROR(MATCH(TRIM($G735),'Transparency List 2018_04'!$D:$D,0),FALSE)),\"On the 2018_04 List\",\"-\")","v":"-"},{"$f":"IF(OR(IFERROR(MATCH($D735,'Transparency List 2017'!$L:$L,0),FALSE),IFERROR(MATCH(TRIM($G735),'Transparency List 2017'!$C:$C,0),FALSE)),\"On the 2017 List\",\"-\")","v":"-"},{"$f":"IF(OR(IFERROR(MATCH($D735,'Transparency List 2015'!$H:$H,0),FALSE),IFERROR(MATCH(TRIM($G735),'Transparency List 2015'!$C:$C,0),FALSE)),\"On the 2015 List\",\"-\")","v":"-"}]
[null,null,4,"",null,null,null,"-",{"$f":"IF(OR(IFERROR(MATCH($D736,'Transparency List 2018_10'!$L:$L,0),FALSE),IFERROR(MATCH(TRIM($G736),'Transparency List 2018_10'!$D:$D,0),FALSE)),\"On the 2018_10 List\",\"-\")","v":"-"},{"$f":"IF(OR(IFERROR(MATCH($D736,'Transparency List 2018_04'!$L:$L,0),FALSE),IFERROR(MATCH(TRIM($G736),'Transparency List 2018_04'!$D:$D,0),FALSE)),\"On the 2018_04 List\",\"-\")","v":"-"},{"$f":"IF(OR(IFERROR(MATCH($D736,'Transparency List 2017'!$L:$L,0),FALSE),IFERROR(MATCH(TRIM($G736),'Transparency List 2017'!$C:$C,0),FALSE)),\"On the 2017 List\",\"-\")","v":"-"},{"$f":"IF(OR(IFERROR(MATCH($D736,'Transparency List 2015'!$H:$H,0),FALSE),IFERROR(MATCH(TRIM($G736),'Transparency List 2015'!$C:$C,0),FALSE)),\"On the 2015 List\",\"-\")","v":"-"}]
[null,null,4,"",null,null,null,"-",{"$f":"IF(OR(IFERROR(MATCH($D737,'Transparency List 2018_10'!$L:$L,0),FALSE),IFERROR(MATCH(TRIM($G737),'Transparency List 2018_10'!$D:$D,0),FALSE)),\"On the 2018_10 List\",\"-\")","v":"-"},{"$f":"IF(OR(IFERROR(MATCH($D737,'Transparency List 2018_04'!$L:$L,0),FALSE),IFERROR(MATCH(TRIM($G737),'Transparency List 2018_04'!$D:$D,0),FALSE)),\"On the 2018_04 List\",\"-\")","v":"-"},{"$f":"IF(OR(IFERROR(MATCH($D737,'Transparency List 2017'!$L:$L,0),FALSE),IFERROR(MATCH(TRIM($G737),'Transparency List 2017'!$C:$C,0),FALSE)),\"On the 2017 List\",\"-\")","v":"-"},{"$f":"IF(OR(IFERROR(MATCH($D737,'Transparency List 2015'!$H:$H,0),FALSE),IFERROR(MATCH(TRIM($G737),'Transparency List 2015'!$C:$C,0),FALSE)),\"On the 2015 List\",\"-\")","v":"-"}]
[null,null,4,"",null,null,null,"-",{"$f":"IF(OR(IFERROR(MATCH($D738,'Transparency List 2018_10'!$L:$L,0),FALSE),IFERROR(MATCH(TRIM($G738),'Transparency List 2018_10'!$D:$D,0),FALSE)),\"On the 2018_10 List\",\"-\")","v":"-"},{"$f":"IF(OR(IFERROR(MATCH($D738,'Transparency List 2018_04'!$L:$L,0),FALSE),IFERROR(MATCH(TRIM($G738),'Transparency List 2018_04'!$D:$D,0),FALSE)),\"On the 2018_04 List\",\"-\")","v":"-"},{"$f":"IF(OR(IFERROR(MATCH($D738,'Transparency List 2017'!$L:$L,0),FALSE),IFERROR(MATCH(TRIM($G738),'Transparency List 2017'!$C:$C,0),FALSE)),\"On the 2017 List\",\"-\")","v":"-"},{"$f":"IF(OR(IFERROR(MATCH($D738,'Transparency List 2015'!$H:$H,0),FALSE),IFERROR(MATCH(TRIM($G738),'Transparency List 2015'!$C:$C,0),FALSE)),\"On the 2015 List\",\"-\")","v":"-"}]
[null,null,4,"",null,null,null,"-",{"$f":"IF(OR(IFERROR(MATCH($D739,'Transparency List 2018_10'!$L:$L,0),FALSE),IFERROR(MATCH(TRIM($G739),'Transparency List 2018_10'!$D:$D,0),FALSE)),\"On the 2018_10 List\",\"-\")","v":"-"},{"$f":"IF(OR(IFERROR(MATCH($D739,'Transparency List 2018_04'!$L:$L,0),FALSE),IFERROR(MATCH(TRIM($G739),'Transparency List 2018_04'!$D:$D,0),FALSE)),\"On the 2018_04 List\",\"-\")","v":"-"},{"$f":"IF(OR(IFERROR(MATCH($D739,'Transparency List 2017'!$L:$L,0),FALSE),IFERROR(MATCH(TRIM($G739),'Transparency List 2017'!$C:$C,0),FALSE)),\"On the 2017 List\",\"-\")","v":"-"},{"$f":"IF(OR(IFERROR(MATCH($D739,'Transparency List 2015'!$H:$H,0),FALSE),IFERROR(MATCH(TRIM($G739),'Transparency List 2015'!$C:$C,0),FALSE)),\"On the 2015 List\",\"-\")","v":"-"}]
[null,null,4,"",null,null,null,"-",{"$f":"IF(OR(IFERROR(MATCH($D740,'Transparency List 2018_10'!$L:$L,0),FALSE),IFERROR(MATCH(TRIM($G740),'Transparency List 2018_10'!$D:$D,0),FALSE)),\"On the 2018_10 List\",\"-\")","v":"-"},{"$f":"IF(OR(IFERROR(MATCH($D740,'Transparency List 2018_04'!$L:$L,0),FALSE),IFERROR(MATCH(TRIM($G740),'Transparency List 2018_04'!$D:$D,0),FALSE)),\"On the 2018_04 List\",\"-\")","v":"-"},{"$f":"IF(OR(IFERROR(MATCH($D740,'Transparency List 2017'!$L:$L,0),FALSE),IFERROR(MATCH(TRIM($G740),'Transparency List 2017'!$C:$C,0),FALSE)),\"On the 2017 List\",\"-\")","v":"-"},{"$f":"IF(OR(IFERROR(MATCH($D740,'Transparency List 2015'!$H:$H,0),FALSE),IFERROR(MATCH(TRIM($G740),'Transparency List 2015'!$C:$C,0),FALSE)),\"On the 2015 List\",\"-\")","v":"-"}]
[null,null,4,"",null,null,null,"-",{"$f":"IF(OR(IFERROR(MATCH($D741,'Transparency List 2018_10'!$L:$L,0),FALSE),IFERROR(MATCH(TRIM($G741),'Transparency List 2018_10'!$D:$D,0),FALSE)),\"On the 2018_10 List\",\"-\")","v":"-"},{"$f":"IF(OR(IFERROR(MATCH($D741,'Transparency List 2018_04'!$L:$L,0),FALSE),IFERROR(MATCH(TRIM($G741),'Transparency List 2018_04'!$D:$D,0),FALSE)),\"On the 2018_04 List\",\"-\")","v":"-"},{"$f":"IF(OR(IFERROR(MATCH($D741,'Transparency List 2017'!$L:$L,0),FALSE),IFERROR(MATCH(TRIM($G741),'Transparency List 2017'!$C:$C,0),FALSE)),\"On the 2017 List\",\"-\")","v":"-"},{"$f":"IF(OR(IFERROR(MATCH($D741,'Transparency List 2015'!$H:$H,0),FALSE),IFERROR(MATCH(TRIM($G741),'Transparency List 2015'!$C:$C,0),FALSE)),\"On the 2015 List\",\"-\")","v":"-"}]
[null,null,4,"",null,null,null,"-",{"$f":"IF(OR(IFERROR(MATCH($D742,'Transparency List 2018_10'!$L:$L,0),FALSE),IFERROR(MATCH(TRIM($G742),'Transparency List 2018_10'!$D:$D,0),FALSE)),\"On the 2018_10 List\",\"-\")","v":"-"},{"$f":"IF(OR(IFERROR(MATCH($D742,'Transparency List 2018_04'!$L:$L,0),FALSE),IFERROR(MATCH(TRIM($G742),'Transparency List 2018_04'!$D:$D,0),FALSE)),\"On the 2018_04 List\",\"-\")","v":"-"},{"$f":"IF(OR(IFERROR(MATCH($D742,'Transparency List 2017'!$L:$L,0),FALSE),IFERROR(MATCH(TRIM($G742),'Transparency List 2017'!$C:$C,0),FALSE)),\"On the 2017 List\",\"-\")","v":"-"},{"$f":"IF(OR(IFERROR(MATCH($D742,'Transparency List 2015'!$H:$H,0),FALSE),IFERROR(MATCH(TRIM($G742),'Transparency List 2015'!$C:$C,0),FALSE)),\"On the 2015 List\",\"-\")","v":"-"}]
[null,null,4,"",null,null,null,"-",{"$f":"IF(OR(IFERROR(MATCH($D743,'Transparency List 2018_10'!$L:$L,0),FALSE),IFERROR(MATCH(TRIM($G743),'Transparency List 2018_10'!$D:$D,0),FALSE)),\"On the 2018_10 List\",\"-\")","v":"-"},{"$f":"IF(OR(IFERROR(MATCH($D743,'Transparency List 2018_04'!$L:$L,0),FALSE),IFERROR(MATCH(TRIM($G743),'Transparency List 2018_04'!$D:$D,0),FALSE)),\"On the 2018_04 List\",\"-\")","v":"-"},{"$f":"IF(OR(IFERROR(MATCH($D743,'Transparency List 2017'!$L:$L,0),FALSE),IFERROR(MATCH(TRIM($G743),'Transparency List 2017'!$C:$C,0),FALSE)),\"On the 2017 List\",\"-\")","v":"-"},{"$f":"IF(OR(IFERROR(MATCH($D743,'Transparency List 2015'!$H:$H,0),FALSE),IFERROR(MATCH(TRIM($G743),'Transparency List 2015'!$C:$C,0),FALSE)),\"On the 2015 List\",\"-\")","v":"-"}]
[null,null,4,"",null,null,null,"-",{"$f":"IF(OR(IFERROR(MATCH($D744,'Transparency List 2018_10'!$L:$L,0),FALSE),IFERROR(MATCH(TRIM($G744),'Transparency List 2018_10'!$D:$D,0),FALSE)),\"On the 2018_10 List\",\"-\")","v":"-"},{"$f":"IF(OR(IFERROR(MATCH($D744,'Transparency List 2018_04'!$L:$L,0),FALSE),IFERROR(MATCH(TRIM($G744),'Transparency List 2018_04'!$D:$D,0),FALSE)),\"On the 2018_04 List\",\"-\")","v":"-"},{"$f":"IF(OR(IFERROR(MATCH($D744,'Transparency List 2017'!$L:$L,0),FALSE),IFERROR(MATCH(TRIM($G744),'Transparency List 2017'!$C:$C,0),FALSE)),\"On the 2017 List\",\"-\")","v":"-"},{"$f":"IF(OR(IFERROR(MATCH($D744,'Transparency List 2015'!$H:$H,0),FALSE),IFERROR(MATCH(TRIM($G744),'Transparency List 2015'!$C:$C,0),FALSE)),\"On the 2015 List\",\"-\")","v":"-"}]
[null,null,4,"",null,null,null,"-",{"$f":"IF(OR(IFERROR(MATCH($D745,'Transparency List 2018_10'!$L:$L,0),FALSE),IFERROR(MATCH(TRIM($G745),'Transparency List 2018_10'!$D:$D,0),FALSE)),\"On the 2018_10 List\",\"-\")","v":"-"},{"$f":"IF(OR(IFERROR(MATCH($D745,'Transparency List 2018_04'!$L:$L,0),FALSE),IFERROR(MATCH(TRIM($G745),'Transparency List 2018_04'!$D:$D,0),FALSE)),\"On the 2018_04 List\",\"-\")","v":"-"},{"$f":"IF(OR(IFERROR(MATCH($D745,'Transparency List 2017'!$L:$L,0),FALSE),IFERROR(MATCH(TRIM($G745),'Transparency List 2017'!$C:$C,0),FALSE)),\"On the 2017 List\",\"-\")","v":"-"},{"$f":"IF(OR(IFERROR(MATCH($D745,'Transparency List 2015'!$H:$H,0),FALSE),IFERROR(MATCH(TRIM($G745),'Transparency List 2015'!$C:$C,0),FALSE)),\"On the 2015 List\",\"-\")","v":"-"}]
[null,null,4,"",null,null,null,"-",{"$f":"IF(OR(IFERROR(MATCH($D746,'Transparency List 2018_10'!$L:$L,0),FALSE),IFERROR(MATCH(TRIM($G746),'Transparency List 2018_10'!$D:$D,0),FALSE)),\"On the 2018_10 List\",\"-\")","v":"-"},{"$f":"IF(OR(IFERROR(MATCH($D746,'Transparency List 2018_04'!$L:$L,0),FALSE),IFERROR(MATCH(TRIM($G746),'Transparency List 2018_04'!$D:$D,0),FALSE)),\"On the 2018_04 List\",\"-\")","v":"-"},{"$f":"IF(OR(IFERROR(MATCH($D746,'Transparency List 2017'!$L:$L,0),FALSE),IFERROR(MATCH(TRIM($G746),'Transparency List 2017'!$C:$C,0),FALSE)),\"On the 2017 List\",\"-\")","v":"-"},{"$f":"IF(OR(IFERROR(MATCH($D746,'Transparency List 2015'!$H:$H,0),FALSE),IFERROR(MATCH(TRIM($G746),'Transparency List 2015'!$C:$C,0),FALSE)),\"On the 2015 List\",\"-\")","v":"-"}]
[null,null,4,"",null,null,null,"-",{"$f":"IF(OR(IFERROR(MATCH($D747,'Transparency List 2018_10'!$L:$L,0),FALSE),IFERROR(MATCH(TRIM($G747),'Transparency List 2018_10'!$D:$D,0),FALSE)),\"On the 2018_10 List\",\"-\")","v":"-"},{"$f":"IF(OR(IFERROR(MATCH($D747,'Transparency List 2018_04'!$L:$L,0),FALSE),IFERROR(MATCH(TRIM($G747),'Transparency List 2018_04'!$D:$D,0),FALSE)),\"On the 2018_04 List\",\"-\")","v":"-"},{"$f":"IF(OR(IFERROR(MATCH($D747,'Transparency List 2017'!$L:$L,0),FALSE),IFERROR(MATCH(TRIM($G747),'Transparency List 2017'!$C:$C,0),FALSE)),\"On the 2017 List\",\"-\")","v":"-"},{"$f":"IF(OR(IFERROR(MATCH($D747,'Transparency List 2015'!$H:$H,0),FALSE),IFERROR(MATCH(TRIM($G747),'Transparency List 2015'!$C:$C,0),FALSE)),\"On the 2015 List\",\"-\")","v":"-"}]
[null,null,4,"",null,null,null,"-",{"$f":"IF(OR(IFERROR(MATCH($D748,'Transparency List 2018_10'!$L:$L,0),FALSE),IFERROR(MATCH(TRIM($G748),'Transparency List 2018_10'!$D:$D,0),FALSE)),\"On the 2018_10 List\",\"-\")","v":"-"},{"$f":"IF(OR(IFERROR(MATCH($D748,'Transparency List 2018_04'!$L:$L,0),FALSE),IFERROR(MATCH(TRIM($G748),'Transparency List 2018_04'!$D:$D,0),FALSE)),\"On the 2018_04 List\",\"-\")","v":"-"},{"$f":"IF(OR(IFERROR(MATCH($D748,'Transparency List 2017'!$L:$L,0),FALSE),IFERROR(MATCH(TRIM($G748),'Transparency List 2017'!$C:$C,0),FALSE)),\"On the 2017 List\",\"-\")","v":"-"},{"$f":"IF(OR(IFERROR(MATCH($D748,'Transparency List 2015'!$H:$H,0),FALSE),IFERROR(MATCH(TRIM($G748),'Transparency List 2015'!$C:$C,0),FALSE)),\"On the 2015 List\",\"-\")","v":"-"}]
[null,null,4,"",null,null,null,"-",{"$f":"IF(OR(IFERROR(MATCH($D749,'Transparency List 2018_10'!$L:$L,0),FALSE),IFERROR(MATCH(TRIM($G749),'Transparency List 2018_10'!$D:$D,0),FALSE)),\"On the 2018_10 List\",\"-\")","v":"-"},{"$f":"IF(OR(IFERROR(MATCH($D749,'Transparency List 2018_04'!$L:$L,0),FALSE),IFERROR(MATCH(TRIM($G749),'Transparency List 2018_04'!$D:$D,0),FALSE)),\"On the 2018_04 List\",\"-\")","v":"-"},{"$f":"IF(OR(IFERROR(MATCH($D749,'Transparency List 2017'!$L:$L,0),FALSE),IFERROR(MATCH(TRIM($G749),'Transparency List 2017'!$C:$C,0),FALSE)),\"On the 2017 List\",\"-\")","v":"-"},{"$f":"IF(OR(IFERROR(MATCH($D749,'Transparency List 2015'!$H:$H,0),FALSE),IFERROR(MATCH(TRIM($G749),'Transparency List 2015'!$C:$C,0),FALSE)),\"On the 2015 List\",\"-\")","v":"-"}]
[null,null,4,"",null,null,null,"-",{"$f":"IF(OR(IFERROR(MATCH($D750,'Transparency List 2018_10'!$L:$L,0),FALSE),IFERROR(MATCH(TRIM($G750),'Transparency List 2018_10'!$D:$D,0),FALSE)),\"On the 2018_10 List\",\"-\")","v":"-"},{"$f":"IF(OR(IFERROR(MATCH($D750,'Transparency List 2018_04'!$L:$L,0),FALSE),IFERROR(MATCH(TRIM($G750),'Transparency List 2018_04'!$D:$D,0),FALSE)),\"On the 2018_04 List\",\"-\")","v":"-"},{"$f":"IF(OR(IFERROR(MATCH($D750,'Transparency List 2017'!$L:$L,0),FALSE),IFERROR(MATCH(TRIM($G750),'Transparency List 2017'!$C:$C,0),FALSE)),\"On the 2017 List\",\"-\")","v":"-"},{"$f":"IF(OR(IFERROR(MATCH($D750,'Transparency List 2015'!$H:$H,0),FALSE),IFERROR(MATCH(TRIM($G750),'Transparency List 2015'!$C:$C,0),FALSE)),\"On the 2015 List\",\"-\")","v":"-"}]
[null,null,4,"",null,null,null,"-",{"$f":"IF(OR(IFERROR(MATCH($D751,'Transparency List 2018_10'!$L:$L,0),FALSE),IFERROR(MATCH(TRIM($G751),'Transparency List 2018_10'!$D:$D,0),FALSE)),\"On the 2018_10 List\",\"-\")","v":"-"},{"$f":"IF(OR(IFERROR(MATCH($D751,'Transparency List 2018_04'!$L:$L,0),FALSE),IFERROR(MATCH(TRIM($G751),'Transparency List 2018_04'!$D:$D,0),FALSE)),\"On the 2018_04 List\",\"-\")","v":"-"},{"$f":"IF(OR(IFERROR(MATCH($D751,'Transparency List 2017'!$L:$L,0),FALSE),IFERROR(MATCH(TRIM($G751),'Transparency List 2017'!$C:$C,0),FALSE)),\"On the 2017 List\",\"-\")","v":"-"},{"$f":"IF(OR(IFERROR(MATCH($D751,'Transparency List 2015'!$H:$H,0),FALSE),IFERROR(MATCH(TRIM($G751),'Transparency List 2015'!$C:$C,0),FALSE)),\"On the 2015 List\",\"-\")","v":"-"}]
[null,null,4,"",null,null,null,"-",{"$f":"IF(OR(IFERROR(MATCH($D752,'Transparency List 2018_10'!$L:$L,0),FALSE),IFERROR(MATCH(TRIM($G752),'Transparency List 2018_10'!$D:$D,0),FALSE)),\"On the 2018_10 List\",\"-\")","v":"-"},{"$f":"IF(OR(IFERROR(MATCH($D752,'Transparency List 2018_04'!$L:$L,0),FALSE),IFERROR(MATCH(TRIM($G752),'Transparency List 2018_04'!$D:$D,0),FALSE)),\"On the 2018_04 List\",\"-\")","v":"-"},{"$f":"IF(OR(IFERROR(MATCH($D752,'Transparency List 2017'!$L:$L,0),FALSE),IFERROR(MATCH(TRIM($G752),'Transparency List 2017'!$C:$C,0),FALSE)),\"On the 2017 List\",\"-\")","v":"-"},{"$f":"IF(OR(IFERROR(MATCH($D752,'Transparency List 2015'!$H:$H,0),FALSE),IFERROR(MATCH(TRIM($G752),'Transparency List 2015'!$C:$C,0),FALSE)),\"On the 2015 List\",\"-\")","v":"-"}]
[null,null,4,"",null,null,null,"-",{"$f":"IF(OR(IFERROR(MATCH($D753,'Transparency List 2018_10'!$L:$L,0),FALSE),IFERROR(MATCH(TRIM($G753),'Transparency List 2018_10'!$D:$D,0),FALSE)),\"On the 2018_10 List\",\"-\")","v":"-"},{"$f":"IF(OR(IFERROR(MATCH($D753,'Transparency List 2018_04'!$L:$L,0),FALSE),IFERROR(MATCH(TRIM($G753),'Transparency List 2018_04'!$D:$D,0),FALSE)),\"On the 2018_04 List\",\"-\")","v":"-"},{"$f":"IF(OR(IFERROR(MATCH($D753,'Transparency List 2017'!$L:$L,0),FALSE),IFERROR(MATCH(TRIM($G753),'Transparency List 2017'!$C:$C,0),FALSE)),\"On the 2017 List\",\"-\")","v":"-"},{"$f":"IF(OR(IFERROR(MATCH($D753,'Transparency List 2015'!$H:$H,0),FALSE),IFERROR(MATCH(TRIM($G753),'Transparency List 2015'!$C:$C,0),FALSE)),\"On the 2015 List\",\"-\")","v":"-"}]
[null,null,4,"",null,null,null,"-",{"$f":"IF(OR(IFERROR(MATCH($D754,'Transparency List 2018_10'!$L:$L,0),FALSE),IFERROR(MATCH(TRIM($G754),'Transparency List 2018_10'!$D:$D,0),FALSE)),\"On the 2018_10 List\",\"-\")","v":"-"},{"$f":"IF(OR(IFERROR(MATCH($D754,'Transparency List 2018_04'!$L:$L,0),FALSE),IFERROR(MATCH(TRIM($G754),'Transparency List 2018_04'!$D:$D,0),FALSE)),\"On the 2018_04 List\",\"-\")","v":"-"},{"$f":"IF(OR(IFERROR(MATCH($D754,'Transparency List 2017'!$L:$L,0),FALSE),IFERROR(MATCH(TRIM($G754),'Transparency List 2017'!$C:$C,0),FALSE)),\"On the 2017 List\",\"-\")","v":"-"},{"$f":"IF(OR(IFERROR(MATCH($D754,'Transparency List 2015'!$H:$H,0),FALSE),IFERROR(MATCH(TRIM($G754),'Transparency List 2015'!$C:$C,0),FALSE)),\"On the 2015 List\",\"-\")","v":"-"}]
[null,null,4,"",null,null,null,"-",{"$f":"IF(OR(IFERROR(MATCH($D755,'Transparency List 2018_10'!$L:$L,0),FALSE),IFERROR(MATCH(TRIM($G755),'Transparency List 2018_10'!$D:$D,0),FALSE)),\"On the 2018_10 List\",\"-\")","v":"-"},{"$f":"IF(OR(IFERROR(MATCH($D755,'Transparency List 2018_04'!$L:$L,0),FALSE),IFERROR(MATCH(TRIM($G755),'Transparency List 2018_04'!$D:$D,0),FALSE)),\"On the 2018_04 List\",\"-\")","v":"-"},{"$f":"IF(OR(IFERROR(MATCH($D755,'Transparency List 2017'!$L:$L,0),FALSE),IFERROR(MATCH(TRIM($G755),'Transparency List 2017'!$C:$C,0),FALSE)),\"On the 2017 List\",\"-\")","v":"-"},{"$f":"IF(OR(IFERROR(MATCH($D755,'Transparency List 2015'!$H:$H,0),FALSE),IFERROR(MATCH(TRIM($G755),'Transparency List 2015'!$C:$C,0),FALSE)),\"On the 2015 List\",\"-\")","v":"-"}]
[null,null,4,"",null,null,null,"-",{"$f":"IF(OR(IFERROR(MATCH($D756,'Transparency List 2018_10'!$L:$L,0),FALSE),IFERROR(MATCH(TRIM($G756),'Transparency List 2018_10'!$D:$D,0),FALSE)),\"On the 2018_10 List\",\"-\")","v":"-"},{"$f":"IF(OR(IFERROR(MATCH($D756,'Transparency List 2018_04'!$L:$L,0),FALSE),IFERROR(MATCH(TRIM($G756),'Transparency List 2018_04'!$D:$D,0),FALSE)),\"On the 2018_04 List\",\"-\")","v":"-"},{"$f":"IF(OR(IFERROR(MATCH($D756,'Transparency List 2017'!$L:$L,0),FALSE),IFERROR(MATCH(TRIM($G756),'Transparency List 2017'!$C:$C,0),FALSE)),\"On the 2017 List\",\"-\")","v":"-"},{"$f":"IF(OR(IFERROR(MATCH($D756,'Transparency List 2015'!$H:$H,0),FALSE),IFERROR(MATCH(TRIM($G756),'Transparency List 2015'!$C:$C,0),FALSE)),\"On the 2015 List\",\"-\")","v":"-"}]
[null,null,4,"",null,null,null,"-",{"$f":"IF(OR(IFERROR(MATCH($D757,'Transparency List 2018_10'!$L:$L,0),FALSE),IFERROR(MATCH(TRIM($G757),'Transparency List 2018_10'!$D:$D,0),FALSE)),\"On the 2018_10 List\",\"-\")","v":"-"},{"$f":"IF(OR(IFERROR(MATCH($D757,'Transparency List 2018_04'!$L:$L,0),FALSE),IFERROR(MATCH(TRIM($G757),'Transparency List 2018_04'!$D:$D,0),FALSE)),\"On the 2018_04 List\",\"-\")","v":"-"},{"$f":"IF(OR(IFERROR(MATCH($D757,'Transparency List 2017'!$L:$L,0),FALSE),IFERROR(MATCH(TRIM($G757),'Transparency List 2017'!$C:$C,0),FALSE)),\"On the 2017 List\",\"-\")","v":"-"},{"$f":"IF(OR(IFERROR(MATCH($D757,'Transparency List 2015'!$H:$H,0),FALSE),IFERROR(MATCH(TRIM($G757),'Transparency List 2015'!$C:$C,0),FALSE)),\"On the 2015 List\",\"-\")","v":"-"}]
[null,null,4,"",null,null,null,"-",{"$f":"IF(OR(IFERROR(MATCH($D758,'Transparency List 2018_10'!$L:$L,0),FALSE),IFERROR(MATCH(TRIM($G758),'Transparency List 2018_10'!$D:$D,0),FALSE)),\"On the 2018_10 List\",\"-\")","v":"-"},{"$f":"IF(OR(IFERROR(MATCH($D758,'Transparency List 2018_04'!$L:$L,0),FALSE),IFERROR(MATCH(TRIM($G758),'Transparency List 2018_04'!$D:$D,0),FALSE)),\"On the 2018_04 List\",\"-\")","v":"-"},{"$f":"IF(OR(IFERROR(MATCH($D758,'Transparency List 2017'!$L:$L,0),FALSE),IFERROR(MATCH(TRIM($G758),'Transparency List 2017'!$C:$C,0),FALSE)),\"On the 2017 List\",\"-\")","v":"-"},{"$f":"IF(OR(IFERROR(MATCH($D758,'Transparency List 2015'!$H:$H,0),FALSE),IFERROR(MATCH(TRIM($G758),'Transparency List 2015'!$C:$C,0),FALSE)),\"On the 2015 List\",\"-\")","v":"-"}]
[null,null,4,"",null,null,null,"-",{"$f":"IF(OR(IFERROR(MATCH($D759,'Transparency List 2018_10'!$L:$L,0),FALSE),IFERROR(MATCH(TRIM($G759),'Transparency List 2018_10'!$D:$D,0),FALSE)),\"On the 2018_10 List\",\"-\")","v":"-"},{"$f":"IF(OR(IFERROR(MATCH($D759,'Transparency List 2018_04'!$L:$L,0),FALSE),IFERROR(MATCH(TRIM($G759),'Transparency List 2018_04'!$D:$D,0),FALSE)),\"On the 2018_04 List\",\"-\")","v":"-"},{"$f":"IF(OR(IFERROR(MATCH($D759,'Transparency List 2017'!$L:$L,0),FALSE),IFERROR(MATCH(TRIM($G759),'Transparency List 2017'!$C:$C,0),FALSE)),\"On the 2017 List\",\"-\")","v":"-"},{"$f":"IF(OR(IFERROR(MATCH($D759,'Transparency List 2015'!$H:$H,0),FALSE),IFERROR(MATCH(TRIM($G759),'Transparency List 2015'!$C:$C,0),FALSE)),\"On the 2015 List\",\"-\")","v":"-"}]
[null,null,4,"",null,null,null,"-",{"$f":"IF(OR(IFERROR(MATCH($D760,'Transparency List 2018_10'!$L:$L,0),FALSE),IFERROR(MATCH(TRIM($G760),'Transparency List 2018_10'!$D:$D,0),FALSE)),\"On the 2018_10 List\",\"-\")","v":"-"},{"$f":"IF(OR(IFERROR(MATCH($D760,'Transparency List 2018_04'!$L:$L,0),FALSE),IFERROR(MATCH(TRIM($G760),'Transparency List 2018_04'!$D:$D,0),FALSE)),\"On the 2018_04 List\",\"-\")","v":"-"},{"$f":"IF(OR(IFERROR(MATCH($D760,'Transparency List 2017'!$L:$L,0),FALSE),IFERROR(MATCH(TRIM($G760),'Transparency List 2017'!$C:$C,0),FALSE)),\"On the 2017 List\",\"-\")","v":"-"},{"$f":"IF(OR(IFERROR(MATCH($D760,'Transparency List 2015'!$H:$H,0),FALSE),IFERROR(MATCH(TRIM($G760),'Transparency List 2015'!$C:$C,0),FALSE)),\"On the 2015 List\",\"-\")","v":"-"}]
[null,null,4,"",null,null,null,"-",{"$f":"IF(OR(IFERROR(MATCH($D761,'Transparency List 2018_10'!$L:$L,0),FALSE),IFERROR(MATCH(TRIM($G761),'Transparency List 2018_10'!$D:$D,0),FALSE)),\"On the 2018_10 List\",\"-\")","v":"-"},{"$f":"IF(OR(IFERROR(MATCH($D761,'Transparency List 2018_04'!$L:$L,0),FALSE),IFERROR(MATCH(TRIM($G761),'Transparency List 2018_04'!$D:$D,0),FALSE)),\"On the 2018_04 List\",\"-\")","v":"-"},{"$f":"IF(OR(IFERROR(MATCH($D761,'Transparency List 2017'!$L:$L,0),FALSE),IFERROR(MATCH(TRIM($G761),'Transparency List 2017'!$C:$C,0),FALSE)),\"On the 2017 List\",\"-\")","v":"-"},{"$f":"IF(OR(IFERROR(MATCH($D761,'Transparency List 2015'!$H:$H,0),FALSE),IFERROR(MATCH(TRIM($G761),'Transparency List 2015'!$C:$C,0),FALSE)),\"On the 2015 List\",\"-\")","v":"-"}]
[null,null,4,"",null,null,null,"-",{"$f":"IF(OR(IFERROR(MATCH($D762,'Transparency List 2018_10'!$L:$L,0),FALSE),IFERROR(MATCH(TRIM($G762),'Transparency List 2018_10'!$D:$D,0),FALSE)),\"On the 2018_10 List\",\"-\")","v":"-"},{"$f":"IF(OR(IFERROR(MATCH($D762,'Transparency List 2018_04'!$L:$L,0),FALSE),IFERROR(MATCH(TRIM($G762),'Transparency List 2018_04'!$D:$D,0),FALSE)),\"On the 2018_04 List\",\"-\")","v":"-"},{"$f":"IF(OR(IFERROR(MATCH($D762,'Transparency List 2017'!$L:$L,0),FALSE),IFERROR(MATCH(TRIM($G762),'Transparency List 2017'!$C:$C,0),FALSE)),\"On the 2017 List\",\"-\")","v":"-"},{"$f":"IF(OR(IFERROR(MATCH($D762,'Transparency List 2015'!$H:$H,0),FALSE),IFERROR(MATCH(TRIM($G762),'Transparency List 2015'!$C:$C,0),FALSE)),\"On the 2015 List\",\"-\")","v":"-"}]
[null,null,4,"",null,null,null,"-",{"$f":"IF(OR(IFERROR(MATCH($D763,'Transparency List 2018_10'!$L:$L,0),FALSE),IFERROR(MATCH(TRIM($G763),'Transparency List 2018_10'!$D:$D,0),FALSE)),\"On the 2018_10 List\",\"-\")","v":"-"},{"$f":"IF(OR(IFERROR(MATCH($D763,'Transparency List 2018_04'!$L:$L,0),FALSE),IFERROR(MATCH(TRIM($G763),'Transparency List 2018_04'!$D:$D,0),FALSE)),\"On the 2018_04 List\",\"-\")","v":"-"},{"$f":"IF(OR(IFERROR(MATCH($D763,'Transparency List 2017'!$L:$L,0),FALSE),IFERROR(MATCH(TRIM($G763),'Transparency List 2017'!$C:$C,0),FALSE)),\"On the 2017 List\",\"-\")","v":"-"},{"$f":"IF(OR(IFERROR(MATCH($D763,'Transparency List 2015'!$H:$H,0),FALSE),IFERROR(MATCH(TRIM($G763),'Transparency List 2015'!$C:$C,0),FALSE)),\"On the 2015 List\",\"-\")","v":"-"}]
[null,null,4,"",null,null,null,"-",{"$f":"IF(OR(IFERROR(MATCH($D764,'Transparency List 2018_10'!$L:$L,0),FALSE),IFERROR(MATCH(TRIM($G764),'Transparency List 2018_10'!$D:$D,0),FALSE)),\"On the 2018_10 List\",\"-\")","v":"-"},{"$f":"IF(OR(IFERROR(MATCH($D764,'Transparency List 2018_04'!$L:$L,0),FALSE),IFERROR(MATCH(TRIM($G764),'Transparency List 2018_04'!$D:$D,0),FALSE)),\"On the 2018_04 List\",\"-\")","v":"-"},{"$f":"IF(OR(IFERROR(MATCH($D764,'Transparency List 2017'!$L:$L,0),FALSE),IFERROR(MATCH(TRIM($G764),'Transparency List 2017'!$C:$C,0),FALSE)),\"On the 2017 List\",\"-\")","v":"-"},{"$f":"IF(OR(IFERROR(MATCH($D764,'Transparency List 2015'!$H:$H,0),FALSE),IFERROR(MATCH(TRIM($G764),'Transparency List 2015'!$C:$C,0),FALSE)),\"On the 2015 List\",\"-\")","v":"-"}]
[null,null,4,"",null,null,null,"-",{"$f":"IF(OR(IFERROR(MATCH($D765,'Transparency List 2018_10'!$L:$L,0),FALSE),IFERROR(MATCH(TRIM($G765),'Transparency List 2018_10'!$D:$D,0),FALSE)),\"On the 2018_10 List\",\"-\")","v":"-"},{"$f":"IF(OR(IFERROR(MATCH($D765,'Transparency List 2018_04'!$L:$L,0),FALSE),IFERROR(MATCH(TRIM($G765),'Transparency List 2018_04'!$D:$D,0),FALSE)),\"On the 2018_04 List\",\"-\")","v":"-"},{"$f":"IF(OR(IFERROR(MATCH($D765,'Transparency List 2017'!$L:$L,0),FALSE),IFERROR(MATCH(TRIM($G765),'Transparency List 2017'!$C:$C,0),FALSE)),\"On the 2017 List\",\"-\")","v":"-"},{"$f":"IF(OR(IFERROR(MATCH($D765,'Transparency List 2015'!$H:$H,0),FALSE),IFERROR(MATCH(TRIM($G765),'Transparency List 2015'!$C:$C,0),FALSE)),\"On the 2015 List\",\"-\")","v":"-"}]
[null,null,4,"",null,null,null,"-",{"$f":"IF(OR(IFERROR(MATCH($D766,'Transparency List 2018_10'!$L:$L,0),FALSE),IFERROR(MATCH(TRIM($G766),'Transparency List 2018_10'!$D:$D,0),FALSE)),\"On the 2018_10 List\",\"-\")","v":"-"},{"$f":"IF(OR(IFERROR(MATCH($D766,'Transparency List 2018_04'!$L:$L,0),FALSE),IFERROR(MATCH(TRIM($G766),'Transparency List 2018_04'!$D:$D,0),FALSE)),\"On the 2018_04 List\",\"-\")","v":"-"},{"$f":"IF(OR(IFERROR(MATCH($D766,'Transparency List 2017'!$L:$L,0),FALSE),IFERROR(MATCH(TRIM($G766),'Transparency List 2017'!$C:$C,0),FALSE)),\"On the 2017 List\",\"-\")","v":"-"},{"$f":"IF(OR(IFERROR(MATCH($D766,'Transparency List 2015'!$H:$H,0),FALSE),IFERROR(MATCH(TRIM($G766),'Transparency List 2015'!$C:$C,0),FALSE)),\"On the 2015 List\",\"-\")","v":"-"}]
[null,null,4,"",null,null,null,"-",{"$f":"IF(OR(IFERROR(MATCH($D767,'Transparency List 2018_10'!$L:$L,0),FALSE),IFERROR(MATCH(TRIM($G767),'Transparency List 2018_10'!$D:$D,0),FALSE)),\"On the 2018_10 List\",\"-\")","v":"-"},{"$f":"IF(OR(IFERROR(MATCH($D767,'Transparency List 2018_04'!$L:$L,0),FALSE),IFERROR(MATCH(TRIM($G767),'Transparency List 2018_04'!$D:$D,0),FALSE)),\"On the 2018_04 List\",\"-\")","v":"-"},{"$f":"IF(OR(IFERROR(MATCH($D767,'Transparency List 2017'!$L:$L,0),FALSE),IFERROR(MATCH(TRIM($G767),'Transparency List 2017'!$C:$C,0),FALSE)),\"On the 2017 List\",\"-\")","v":"-"},{"$f":"IF(OR(IFERROR(MATCH($D767,'Transparency List 2015'!$H:$H,0),FALSE),IFERROR(MATCH(TRIM($G767),'Transparency List 2015'!$C:$C,0),FALSE)),\"On the 2015 List\",\"-\")","v":"-"}]
[null,null,4,"",null,null,null,"-",{"$f":"IF(OR(IFERROR(MATCH($D768,'Transparency List 2018_10'!$L:$L,0),FALSE),IFERROR(MATCH(TRIM($G768),'Transparency List 2018_10'!$D:$D,0),FALSE)),\"On the 2018_10 List\",\"-\")","v":"-"},{"$f":"IF(OR(IFERROR(MATCH($D768,'Transparency List 2018_04'!$L:$L,0),FALSE),IFERROR(MATCH(TRIM($G768),'Transparency List 2018_04'!$D:$D,0),FALSE)),\"On the 2018_04 List\",\"-\")","v":"-"},{"$f":"IF(OR(IFERROR(MATCH($D768,'Transparency List 2017'!$L:$L,0),FALSE),IFERROR(MATCH(TRIM($G768),'Transparency List 2017'!$C:$C,0),FALSE)),\"On the 2017 List\",\"-\")","v":"-"},{"$f":"IF(OR(IFERROR(MATCH($D768,'Transparency List 2015'!$H:$H,0),FALSE),IFERROR(MATCH(TRIM($G768),'Transparency List 2015'!$C:$C,0),FALSE)),\"On the 2015 List\",\"-\")","v":"-"}]
[null,null,4,"",null,null,null,"-",{"$f":"IF(OR(IFERROR(MATCH($D769,'Transparency List 2018_10'!$L:$L,0),FALSE),IFERROR(MATCH(TRIM($G769),'Transparency List 2018_10'!$D:$D,0),FALSE)),\"On the 2018_10 List\",\"-\")","v":"-"},{"$f":"IF(OR(IFERROR(MATCH($D769,'Transparency List 2018_04'!$L:$L,0),FALSE),IFERROR(MATCH(TRIM($G769),'Transparency List 2018_04'!$D:$D,0),FALSE)),\"On the 2018_04 List\",\"-\")","v":"-"},{"$f":"IF(OR(IFERROR(MATCH($D769,'Transparency List 2017'!$L:$L,0),FALSE),IFERROR(MATCH(TRIM($G769),'Transparency List 2017'!$C:$C,0),FALSE)),\"On the 2017 List\",\"-\")","v":"-"},{"$f":"IF(OR(IFERROR(MATCH($D769,'Transparency List 2015'!$H:$H,0),FALSE),IFERROR(MATCH(TRIM($G769),'Transparency List 2015'!$C:$C,0),FALSE)),\"On the 2015 List\",\"-\")","v":"-"}]
[null,null,4,"",null,null,null,"-",{"$f":"IF(OR(IFERROR(MATCH($D770,'Transparency List 2018_10'!$L:$L,0),FALSE),IFERROR(MATCH(TRIM($G770),'Transparency List 2018_10'!$D:$D,0),FALSE)),\"On the 2018_10 List\",\"-\")","v":"-"},{"$f":"IF(OR(IFERROR(MATCH($D770,'Transparency List 2018_04'!$L:$L,0),FALSE),IFERROR(MATCH(TRIM($G770),'Transparency List 2018_04'!$D:$D,0),FALSE)),\"On the 2018_04 List\",\"-\")","v":"-"},{"$f":"IF(OR(IFERROR(MATCH($D770,'Transparency List 2017'!$L:$L,0),FALSE),IFERROR(MATCH(TRIM($G770),'Transparency List 2017'!$C:$C,0),FALSE)),\"On the 2017 List\",\"-\")","v":"-"},{"$f":"IF(OR(IFERROR(MATCH($D770,'Transparency List 2015'!$H:$H,0),FALSE),IFERROR(MATCH(TRIM($G770),'Transparency List 2015'!$C:$C,0),FALSE)),\"On the 2015 List\",\"-\")","v":"-"}]
[null,null,4,"",null,null,null,"-",{"$f":"IF(OR(IFERROR(MATCH($D771,'Transparency List 2018_10'!$L:$L,0),FALSE),IFERROR(MATCH(TRIM($G771),'Transparency List 2018_10'!$D:$D,0),FALSE)),\"On the 2018_10 List\",\"-\")","v":"-"},{"$f":"IF(OR(IFERROR(MATCH($D771,'Transparency List 2018_04'!$L:$L,0),FALSE),IFERROR(MATCH(TRIM($G771),'Transparency List 2018_04'!$D:$D,0),FALSE)),\"On the 2018_04 List\",\"-\")","v":"-"},{"$f":"IF(OR(IFERROR(MATCH($D771,'Transparency List 2017'!$L:$L,0),FALSE),IFERROR(MATCH(TRIM($G771),'Transparency List 2017'!$C:$C,0),FALSE)),\"On the 2017 List\",\"-\")","v":"-"},{"$f":"IF(OR(IFERROR(MATCH($D771,'Transparency List 2015'!$H:$H,0),FALSE),IFERROR(MATCH(TRIM($G771),'Transparency List 2015'!$C:$C,0),FALSE)),\"On the 2015 List\",\"-\")","v":"-"}]
[null,null,4,"",null,null,null,"-",{"$f":"IF(OR(IFERROR(MATCH($D772,'Transparency List 2018_10'!$L:$L,0),FALSE),IFERROR(MATCH(TRIM($G772),'Transparency List 2018_10'!$D:$D,0),FALSE)),\"On the 2018_10 List\",\"-\")","v":"-"},{"$f":"IF(OR(IFERROR(MATCH($D772,'Transparency List 2018_04'!$L:$L,0),FALSE),IFERROR(MATCH(TRIM($G772),'Transparency List 2018_04'!$D:$D,0),FALSE)),\"On the 2018_04 List\",\"-\")","v":"-"},{"$f":"IF(OR(IFERROR(MATCH($D772,'Transparency List 2017'!$L:$L,0),FALSE),IFERROR(MATCH(TRIM($G772),'Transparency List 2017'!$C:$C,0),FALSE)),\"On the 2017 List\",\"-\")","v":"-"},{"$f":"IF(OR(IFERROR(MATCH($D772,'Transparency List 2015'!$H:$H,0),FALSE),IFERROR(MATCH(TRIM($G772),'Transparency List 2015'!$C:$C,0),FALSE)),\"On the 2015 List\",\"-\")","v":"-"}]
[null,null,4,"",null,null,null,"-",{"$f":"IF(OR(IFERROR(MATCH($D773,'Transparency List 2018_10'!$L:$L,0),FALSE),IFERROR(MATCH(TRIM($G773),'Transparency List 2018_10'!$D:$D,0),FALSE)),\"On the 2018_10 List\",\"-\")","v":"-"},{"$f":"IF(OR(IFERROR(MATCH($D773,'Transparency List 2018_04'!$L:$L,0),FALSE),IFERROR(MATCH(TRIM($G773),'Transparency List 2018_04'!$D:$D,0),FALSE)),\"On the 2018_04 List\",\"-\")","v":"-"},{"$f":"IF(OR(IFERROR(MATCH($D773,'Transparency List 2017'!$L:$L,0),FALSE),IFERROR(MATCH(TRIM($G773),'Transparency List 2017'!$C:$C,0),FALSE)),\"On the 2017 List\",\"-\")","v":"-"},{"$f":"IF(OR(IFERROR(MATCH($D773,'Transparency List 2015'!$H:$H,0),FALSE),IFERROR(MATCH(TRIM($G773),'Transparency List 2015'!$C:$C,0),FALSE)),\"On the 2015 List\",\"-\")","v":"-"}]
[null,null,4,"",null,null,null,"-",{"$f":"IF(OR(IFERROR(MATCH($D774,'Transparency List 2018_10'!$L:$L,0),FALSE),IFERROR(MATCH(TRIM($G774),'Transparency List 2018_10'!$D:$D,0),FALSE)),\"On the 2018_10 List\",\"-\")","v":"-"},{"$f":"IF(OR(IFERROR(MATCH($D774,'Transparency List 2018_04'!$L:$L,0),FALSE),IFERROR(MATCH(TRIM($G774),'Transparency List 2018_04'!$D:$D,0),FALSE)),\"On the 2018_04 List\",\"-\")","v":"-"},{"$f":"IF(OR(IFERROR(MATCH($D774,'Transparency List 2017'!$L:$L,0),FALSE),IFERROR(MATCH(TRIM($G774),'Transparency List 2017'!$C:$C,0),FALSE)),\"On the 2017 List\",\"-\")","v":"-"},{"$f":"IF(OR(IFERROR(MATCH($D774,'Transparency List 2015'!$H:$H,0),FALSE),IFERROR(MATCH(TRIM($G774),'Transparency List 2015'!$C:$C,0),FALSE)),\"On the 2015 List\",\"-\")","v":"-"}]
[null,null,4,"",null,null,null,"-",{"$f":"IF(OR(IFERROR(MATCH($D775,'Transparency List 2018_10'!$L:$L,0),FALSE),IFERROR(MATCH(TRIM($G775),'Transparency List 2018_10'!$D:$D,0),FALSE)),\"On the 2018_10 List\",\"-\")","v":"-"},{"$f":"IF(OR(IFERROR(MATCH($D775,'Transparency List 2018_04'!$L:$L,0),FALSE),IFERROR(MATCH(TRIM($G775),'Transparency List 2018_04'!$D:$D,0),FALSE)),\"On the 2018_04 List\",\"-\")","v":"-"},{"$f":"IF(OR(IFERROR(MATCH($D775,'Transparency List 2017'!$L:$L,0),FALSE),IFERROR(MATCH(TRIM($G775),'Transparency List 2017'!$C:$C,0),FALSE)),\"On the 2017 List\",\"-\")","v":"-"},{"$f":"IF(OR(IFERROR(MATCH($D775,'Transparency List 2015'!$H:$H,0),FALSE),IFERROR(MATCH(TRIM($G775),'Transparency List 2015'!$C:$C,0),FALSE)),\"On the 2015 List\",\"-\")","v":"-"}]
[null,null,4,"",null,null,null,"-",{"$f":"IF(OR(IFERROR(MATCH($D776,'Transparency List 2018_10'!$L:$L,0),FALSE),IFERROR(MATCH(TRIM($G776),'Transparency List 2018_10'!$D:$D,0),FALSE)),\"On the 2018_10 List\",\"-\")","v":"-"},{"$f":"IF(OR(IFERROR(MATCH($D776,'Transparency List 2018_04'!$L:$L,0),FALSE),IFERROR(MATCH(TRIM($G776),'Transparency List 2018_04'!$D:$D,0),FALSE)),\"On the 2018_04 List\",\"-\")","v":"-"},{"$f":"IF(OR(IFERROR(MATCH($D776,'Transparency List 2017'!$L:$L,0),FALSE),IFERROR(MATCH(TRIM($G776),'Transparency List 2017'!$C:$C,0),FALSE)),\"On the 2017 List\",\"-\")","v":"-"},{"$f":"IF(OR(IFERROR(MATCH($D776,'Transparency List 2015'!$H:$H,0),FALSE),IFERROR(MATCH(TRIM($G776),'Transparency List 2015'!$C:$C,0),FALSE)),\"On the 2015 List\",\"-\")","v":"-"}]
[null,null,4,"",null,null,null,"-",{"$f":"IF(OR(IFERROR(MATCH($D777,'Transparency List 2018_10'!$L:$L,0),FALSE),IFERROR(MATCH(TRIM($G777),'Transparency List 2018_10'!$D:$D,0),FALSE)),\"On the 2018_10 List\",\"-\")","v":"-"},{"$f":"IF(OR(IFERROR(MATCH($D777,'Transparency List 2018_04'!$L:$L,0),FALSE),IFERROR(MATCH(TRIM($G777),'Transparency List 2018_04'!$D:$D,0),FALSE)),\"On the 2018_04 List\",\"-\")","v":"-"},{"$f":"IF(OR(IFERROR(MATCH($D777,'Transparency List 2017'!$L:$L,0),FALSE),IFERROR(MATCH(TRIM($G777),'Transparency List 2017'!$C:$C,0),FALSE)),\"On the 2017 List\",\"-\")","v":"-"},{"$f":"IF(OR(IFERROR(MATCH($D777,'Transparency List 2015'!$H:$H,0),FALSE),IFERROR(MATCH(TRIM($G777),'Transparency List 2015'!$C:$C,0),FALSE)),\"On the 2015 List\",\"-\")","v":"-"}]
[null,null,4,"",null,null,null,"-",{"$f":"IF(OR(IFERROR(MATCH($D778,'Transparency List 2018_10'!$L:$L,0),FALSE),IFERROR(MATCH(TRIM($G778),'Transparency List 2018_10'!$D:$D,0),FALSE)),\"On the 2018_10 List\",\"-\")","v":"-"},{"$f":"IF(OR(IFERROR(MATCH($D778,'Transparency List 2018_04'!$L:$L,0),FALSE),IFERROR(MATCH(TRIM($G778),'Transparency List 2018_04'!$D:$D,0),FALSE)),\"On the 2018_04 List\",\"-\")","v":"-"},{"$f":"IF(OR(IFERROR(MATCH($D778,'Transparency List 2017'!$L:$L,0),FALSE),IFERROR(MATCH(TRIM($G778),'Transparency List 2017'!$C:$C,0),FALSE)),\"On the 2017 List\",\"-\")","v":"-"},{"$f":"IF(OR(IFERROR(MATCH($D778,'Transparency List 2015'!$H:$H,0),FALSE),IFERROR(MATCH(TRIM($G778),'Transparency List 2015'!$C:$C,0),FALSE)),\"On the 2015 List\",\"-\")","v":"-"}]
[null,null,4,"",null,null,null,"-",{"$f":"IF(OR(IFERROR(MATCH($D779,'Transparency List 2018_10'!$L:$L,0),FALSE),IFERROR(MATCH(TRIM($G779),'Transparency List 2018_10'!$D:$D,0),FALSE)),\"On the 2018_10 List\",\"-\")","v":"-"},{"$f":"IF(OR(IFERROR(MATCH($D779,'Transparency List 2018_04'!$L:$L,0),FALSE),IFERROR(MATCH(TRIM($G779),'Transparency List 2018_04'!$D:$D,0),FALSE)),\"On the 2018_04 List\",\"-\")","v":"-"},{"$f":"IF(OR(IFERROR(MATCH($D779,'Transparency List 2017'!$L:$L,0),FALSE),IFERROR(MATCH(TRIM($G779),'Transparency List 2017'!$C:$C,0),FALSE)),\"On the 2017 List\",\"-\")","v":"-"},{"$f":"IF(OR(IFERROR(MATCH($D779,'Transparency List 2015'!$H:$H,0),FALSE),IFERROR(MATCH(TRIM($G779),'Transparency List 2015'!$C:$C,0),FALSE)),\"On the 2015 List\",\"-\")","v":"-"}]
[null,null,4,"",null,null,null,"-",{"$f":"IF(OR(IFERROR(MATCH($D780,'Transparency List 2018_10'!$L:$L,0),FALSE),IFERROR(MATCH(TRIM($G780),'Transparency List 2018_10'!$D:$D,0),FALSE)),\"On the 2018_10 List\",\"-\")","v":"-"},{"$f":"IF(OR(IFERROR(MATCH($D780,'Transparency List 2018_04'!$L:$L,0),FALSE),IFERROR(MATCH(TRIM($G780),'Transparency List 2018_04'!$D:$D,0),FALSE)),\"On the 2018_04 List\",\"-\")","v":"-"},{"$f":"IF(OR(IFERROR(MATCH($D780,'Transparency List 2017'!$L:$L,0),FALSE),IFERROR(MATCH(TRIM($G780),'Transparency List 2017'!$C:$C,0),FALSE)),\"On the 2017 List\",\"-\")","v":"-"},{"$f":"IF(OR(IFERROR(MATCH($D780,'Transparency List 2015'!$H:$H,0),FALSE),IFERROR(MATCH(TRIM($G780),'Transparency List 2015'!$C:$C,0),FALSE)),\"On the 2015 List\",\"-\")","v":"-"}]
[null,null,4,"",null,null,null,"-",{"$f":"IF(OR(IFERROR(MATCH($D781,'Transparency List 2018_10'!$L:$L,0),FALSE),IFERROR(MATCH(TRIM($G781),'Transparency List 2018_10'!$D:$D,0),FALSE)),\"On the 2018_10 List\",\"-\")","v":"-"},{"$f":"IF(OR(IFERROR(MATCH($D781,'Transparency List 2018_04'!$L:$L,0),FALSE),IFERROR(MATCH(TRIM($G781),'Transparency List 2018_04'!$D:$D,0),FALSE)),\"On the 2018_04 List\",\"-\")","v":"-"},{"$f":"IF(OR(IFERROR(MATCH($D781,'Transparency List 2017'!$L:$L,0),FALSE),IFERROR(MATCH(TRIM($G781),'Transparency List 2017'!$C:$C,0),FALSE)),\"On the 2017 List\",\"-\")","v":"-"},{"$f":"IF(OR(IFERROR(MATCH($D781,'Transparency List 2015'!$H:$H,0),FALSE),IFERROR(MATCH(TRIM($G781),'Transparency List 2015'!$C:$C,0),FALSE)),\"On the 2015 List\",\"-\")","v":"-"}]
[null,null,4,"",null,null,null,"-",{"$f":"IF(OR(IFERROR(MATCH($D782,'Transparency List 2018_10'!$L:$L,0),FALSE),IFERROR(MATCH(TRIM($G782),'Transparency List 2018_10'!$D:$D,0),FALSE)),\"On the 2018_10 List\",\"-\")","v":"-"},{"$f":"IF(OR(IFERROR(MATCH($D782,'Transparency List 2018_04'!$L:$L,0),FALSE),IFERROR(MATCH(TRIM($G782),'Transparency List 2018_04'!$D:$D,0),FALSE)),\"On the 2018_04 List\",\"-\")","v":"-"},{"$f":"IF(OR(IFERROR(MATCH($D782,'Transparency List 2017'!$L:$L,0),FALSE),IFERROR(MATCH(TRIM($G782),'Transparency List 2017'!$C:$C,0),FALSE)),\"On the 2017 List\",\"-\")","v":"-"},{"$f":"IF(OR(IFERROR(MATCH($D782,'Transparency List 2015'!$H:$H,0),FALSE),IFERROR(MATCH(TRIM($G782),'Transparency List 2015'!$C:$C,0),FALSE)),\"On the 2015 List\",\"-\")","v":"-"}]
[null,null,4,"",null,null,null,"-",{"$f":"IF(OR(IFERROR(MATCH($D783,'Transparency List 2018_10'!$L:$L,0),FALSE),IFERROR(MATCH(TRIM($G783),'Transparency List 2018_10'!$D:$D,0),FALSE)),\"On the 2018_10 List\",\"-\")","v":"-"},{"$f":"IF(OR(IFERROR(MATCH($D783,'Transparency List 2018_04'!$L:$L,0),FALSE),IFERROR(MATCH(TRIM($G783),'Transparency List 2018_04'!$D:$D,0),FALSE)),\"On the 2018_04 List\",\"-\")","v":"-"},{"$f":"IF(OR(IFERROR(MATCH($D783,'Transparency List 2017'!$L:$L,0),FALSE),IFERROR(MATCH(TRIM($G783),'Transparency List 2017'!$C:$C,0),FALSE)),\"On the 2017 List\",\"-\")","v":"-"},{"$f":"IF(OR(IFERROR(MATCH($D783,'Transparency List 2015'!$H:$H,0),FALSE),IFERROR(MATCH(TRIM($G783),'Transparency List 2015'!$C:$C,0),FALSE)),\"On the 2015 List\",\"-\")","v":"-"}]
[null,null,4,"",null,null,null,"-",{"$f":"IF(OR(IFERROR(MATCH($D784,'Transparency List 2018_10'!$L:$L,0),FALSE),IFERROR(MATCH(TRIM($G784),'Transparency List 2018_10'!$D:$D,0),FALSE)),\"On the 2018_10 List\",\"-\")","v":"-"},{"$f":"IF(OR(IFERROR(MATCH($D784,'Transparency List 2018_04'!$L:$L,0),FALSE),IFERROR(MATCH(TRIM($G784),'Transparency List 2018_04'!$D:$D,0),FALSE)),\"On the 2018_04 List\",\"-\")","v":"-"},{"$f":"IF(OR(IFERROR(MATCH($D784,'Transparency List 2017'!$L:$L,0),FALSE),IFERROR(MATCH(TRIM($G784),'Transparency List 2017'!$C:$C,0),FALSE)),\"On the 2017 List\",\"-\")","v":"-"},{"$f":"IF(OR(IFERROR(MATCH($D784,'Transparency List 2015'!$H:$H,0),FALSE),IFERROR(MATCH(TRIM($G784),'Transparency List 2015'!$C:$C,0),FALSE)),\"On the 2015 List\",\"-\")","v":"-"}]
[null,null,4,"",null,null,null,"-",{"$f":"IF(OR(IFERROR(MATCH($D785,'Transparency List 2018_10'!$L:$L,0),FALSE),IFERROR(MATCH(TRIM($G785),'Transparency List 2018_10'!$D:$D,0),FALSE)),\"On the 2018_10 List\",\"-\")","v":"-"},{"$f":"IF(OR(IFERROR(MATCH($D785,'Transparency List 2018_04'!$L:$L,0),FALSE),IFERROR(MATCH(TRIM($G785),'Transparency List 2018_04'!$D:$D,0),FALSE)),\"On the 2018_04 List\",\"-\")","v":"-"},{"$f":"IF(OR(IFERROR(MATCH($D785,'Transparency List 2017'!$L:$L,0),FALSE),IFERROR(MATCH(TRIM($G785),'Transparency List 2017'!$C:$C,0),FALSE)),\"On the 2017 List\",\"-\")","v":"-"},{"$f":"IF(OR(IFERROR(MATCH($D785,'Transparency List 2015'!$H:$H,0),FALSE),IFERROR(MATCH(TRIM($G785),'Transparency List 2015'!$C:$C,0),FALSE)),\"On the 2015 List\",\"-\")","v":"-"}]
[null,null,4,"",null,null,null,"-",{"$f":"IF(OR(IFERROR(MATCH($D786,'Transparency List 2018_10'!$L:$L,0),FALSE),IFERROR(MATCH(TRIM($G786),'Transparency List 2018_10'!$D:$D,0),FALSE)),\"On the 2018_10 List\",\"-\")","v":"-"},{"$f":"IF(OR(IFERROR(MATCH($D786,'Transparency List 2018_04'!$L:$L,0),FALSE),IFERROR(MATCH(TRIM($G786),'Transparency List 2018_04'!$D:$D,0),FALSE)),\"On the 2018_04 List\",\"-\")","v":"-"},{"$f":"IF(OR(IFERROR(MATCH($D786,'Transparency List 2017'!$L:$L,0),FALSE),IFERROR(MATCH(TRIM($G786),'Transparency List 2017'!$C:$C,0),FALSE)),\"On the 2017 List\",\"-\")","v":"-"},{"$f":"IF(OR(IFERROR(MATCH($D786,'Transparency List 2015'!$H:$H,0),FALSE),IFERROR(MATCH(TRIM($G786),'Transparency List 2015'!$C:$C,0),FALSE)),\"On the 2015 List\",\"-\")","v":"-"}]
[null,null,4,"",null,null,null,"-",{"$f":"IF(OR(IFERROR(MATCH($D787,'Transparency List 2018_10'!$L:$L,0),FALSE),IFERROR(MATCH(TRIM($G787),'Transparency List 2018_10'!$D:$D,0),FALSE)),\"On the 2018_10 List\",\"-\")","v":"-"},{"$f":"IF(OR(IFERROR(MATCH($D787,'Transparency List 2018_04'!$L:$L,0),FALSE),IFERROR(MATCH(TRIM($G787),'Transparency List 2018_04'!$D:$D,0),FALSE)),\"On the 2018_04 List\",\"-\")","v":"-"},{"$f":"IF(OR(IFERROR(MATCH($D787,'Transparency List 2017'!$L:$L,0),FALSE),IFERROR(MATCH(TRIM($G787),'Transparency List 2017'!$C:$C,0),FALSE)),\"On the 2017 List\",\"-\")","v":"-"},{"$f":"IF(OR(IFERROR(MATCH($D787,'Transparency List 2015'!$H:$H,0),FALSE),IFERROR(MATCH(TRIM($G787),'Transparency List 2015'!$C:$C,0),FALSE)),\"On the 2015 List\",\"-\")","v":"-"}]
[null,null,4,"",null,null,null,"-",{"$f":"IF(OR(IFERROR(MATCH($D788,'Transparency List 2018_10'!$L:$L,0),FALSE),IFERROR(MATCH(TRIM($G788),'Transparency List 2018_10'!$D:$D,0),FALSE)),\"On the 2018_10 List\",\"-\")","v":"-"},{"$f":"IF(OR(IFERROR(MATCH($D788,'Transparency List 2018_04'!$L:$L,0),FALSE),IFERROR(MATCH(TRIM($G788),'Transparency List 2018_04'!$D:$D,0),FALSE)),\"On the 2018_04 List\",\"-\")","v":"-"},{"$f":"IF(OR(IFERROR(MATCH($D788,'Transparency List 2017'!$L:$L,0),FALSE),IFERROR(MATCH(TRIM($G788),'Transparency List 2017'!$C:$C,0),FALSE)),\"On the 2017 List\",\"-\")","v":"-"},{"$f":"IF(OR(IFERROR(MATCH($D788,'Transparency List 2015'!$H:$H,0),FALSE),IFERROR(MATCH(TRIM($G788),'Transparency List 2015'!$C:$C,0),FALSE)),\"On the 2015 List\",\"-\")","v":"-"}]
[null,null,4,"",null,null,null,"-",{"$f":"IF(OR(IFERROR(MATCH($D789,'Transparency List 2018_10'!$L:$L,0),FALSE),IFERROR(MATCH(TRIM($G789),'Transparency List 2018_10'!$D:$D,0),FALSE)),\"On the 2018_10 List\",\"-\")","v":"-"},{"$f":"IF(OR(IFERROR(MATCH($D789,'Transparency List 2018_04'!$L:$L,0),FALSE),IFERROR(MATCH(TRIM($G789),'Transparency List 2018_04'!$D:$D,0),FALSE)),\"On the 2018_04 List\",\"-\")","v":"-"},{"$f":"IF(OR(IFERROR(MATCH($D789,'Transparency List 2017'!$L:$L,0),FALSE),IFERROR(MATCH(TRIM($G789),'Transparency List 2017'!$C:$C,0),FALSE)),\"On the 2017 List\",\"-\")","v":"-"},{"$f":"IF(OR(IFERROR(MATCH($D789,'Transparency List 2015'!$H:$H,0),FALSE),IFERROR(MATCH(TRIM($G789),'Transparency List 2015'!$C:$C,0),FALSE)),\"On the 2015 List\",\"-\")","v":"-"}]
[null,null,4,"",null,null,null,"-",{"$f":"IF(OR(IFERROR(MATCH($D790,'Transparency List 2018_10'!$L:$L,0),FALSE),IFERROR(MATCH(TRIM($G790),'Transparency List 2018_10'!$D:$D,0),FALSE)),\"On the 2018_10 List\",\"-\")","v":"-"},{"$f":"IF(OR(IFERROR(MATCH($D790,'Transparency List 2018_04'!$L:$L,0),FALSE),IFERROR(MATCH(TRIM($G790),'Transparency List 2018_04'!$D:$D,0),FALSE)),\"On the 2018_04 List\",\"-\")","v":"-"},{"$f":"IF(OR(IFERROR(MATCH($D790,'Transparency List 2017'!$L:$L,0),FALSE),IFERROR(MATCH(TRIM($G790),'Transparency List 2017'!$C:$C,0),FALSE)),\"On the 2017 List\",\"-\")","v":"-"},{"$f":"IF(OR(IFERROR(MATCH($D790,'Transparency List 2015'!$H:$H,0),FALSE),IFERROR(MATCH(TRIM($G790),'Transparency List 2015'!$C:$C,0),FALSE)),\"On the 2015 List\",\"-\")","v":"-"}]
[null,null,4,"",null,null,null,"-",{"$f":"IF(OR(IFERROR(MATCH($D791,'Transparency List 2018_10'!$L:$L,0),FALSE),IFERROR(MATCH(TRIM($G791),'Transparency List 2018_10'!$D:$D,0),FALSE)),\"On the 2018_10 List\",\"-\")","v":"-"},{"$f":"IF(OR(IFERROR(MATCH($D791,'Transparency List 2018_04'!$L:$L,0),FALSE),IFERROR(MATCH(TRIM($G791),'Transparency List 2018_04'!$D:$D,0),FALSE)),\"On the 2018_04 List\",\"-\")","v":"-"},{"$f":"IF(OR(IFERROR(MATCH($D791,'Transparency List 2017'!$L:$L,0),FALSE),IFERROR(MATCH(TRIM($G791),'Transparency List 2017'!$C:$C,0),FALSE)),\"On the 2017 List\",\"-\")","v":"-"},{"$f":"IF(OR(IFERROR(MATCH($D791,'Transparency List 2015'!$H:$H,0),FALSE),IFERROR(MATCH(TRIM($G791),'Transparency List 2015'!$C:$C,0),FALSE)),\"On the 2015 List\",\"-\")","v":"-"}]
[null,null,4,"",null,null,null,"-",{"$f":"IF(OR(IFERROR(MATCH($D792,'Transparency List 2018_10'!$L:$L,0),FALSE),IFERROR(MATCH(TRIM($G792),'Transparency List 2018_10'!$D:$D,0),FALSE)),\"On the 2018_10 List\",\"-\")","v":"-"},{"$f":"IF(OR(IFERROR(MATCH($D792,'Transparency List 2018_04'!$L:$L,0),FALSE),IFERROR(MATCH(TRIM($G792),'Transparency List 2018_04'!$D:$D,0),FALSE)),\"On the 2018_04 List\",\"-\")","v":"-"},{"$f":"IF(OR(IFERROR(MATCH($D792,'Transparency List 2017'!$L:$L,0),FALSE),IFERROR(MATCH(TRIM($G792),'Transparency List 2017'!$C:$C,0),FALSE)),\"On the 2017 List\",\"-\")","v":"-"},{"$f":"IF(OR(IFERROR(MATCH($D792,'Transparency List 2015'!$H:$H,0),FALSE),IFERROR(MATCH(TRIM($G792),'Transparency List 2015'!$C:$C,0),FALSE)),\"On the 2015 List\",\"-\")","v":"-"}]
[null,null,4,"",null,null,null,"-",{"$f":"IF(OR(IFERROR(MATCH($D793,'Transparency List 2018_10'!$L:$L,0),FALSE),IFERROR(MATCH(TRIM($G793),'Transparency List 2018_10'!$D:$D,0),FALSE)),\"On the 2018_10 List\",\"-\")","v":"-"},{"$f":"IF(OR(IFERROR(MATCH($D793,'Transparency List 2018_04'!$L:$L,0),FALSE),IFERROR(MATCH(TRIM($G793),'Transparency List 2018_04'!$D:$D,0),FALSE)),\"On the 2018_04 List\",\"-\")","v":"-"},{"$f":"IF(OR(IFERROR(MATCH($D793,'Transparency List 2017'!$L:$L,0),FALSE),IFERROR(MATCH(TRIM($G793),'Transparency List 2017'!$C:$C,0),FALSE)),\"On the 2017 List\",\"-\")","v":"-"},{"$f":"IF(OR(IFERROR(MATCH($D793,'Transparency List 2015'!$H:$H,0),FALSE),IFERROR(MATCH(TRIM($G793),'Transparency List 2015'!$C:$C,0),FALSE)),\"On the 2015 List\",\"-\")","v":"-"}]
[null,null,4,"",null,null,null,"-",{"$f":"IF(OR(IFERROR(MATCH($D794,'Transparency List 2018_10'!$L:$L,0),FALSE),IFERROR(MATCH(TRIM($G794),'Transparency List 2018_10'!$D:$D,0),FALSE)),\"On the 2018_10 List\",\"-\")","v":"-"},{"$f":"IF(OR(IFERROR(MATCH($D794,'Transparency List 2018_04'!$L:$L,0),FALSE),IFERROR(MATCH(TRIM($G794),'Transparency List 2018_04'!$D:$D,0),FALSE)),\"On the 2018_04 List\",\"-\")","v":"-"},{"$f":"IF(OR(IFERROR(MATCH($D794,'Transparency List 2017'!$L:$L,0),FALSE),IFERROR(MATCH(TRIM($G794),'Transparency List 2017'!$C:$C,0),FALSE)),\"On the 2017 List\",\"-\")","v":"-"},{"$f":"IF(OR(IFERROR(MATCH($D794,'Transparency List 2015'!$H:$H,0),FALSE),IFERROR(MATCH(TRIM($G794),'Transparency List 2015'!$C:$C,0),FALSE)),\"On the 2015 List\",\"-\")","v":"-"}]
[null,null,4,"",null,null,null,"-",{"$f":"IF(OR(IFERROR(MATCH($D795,'Transparency List 2018_10'!$L:$L,0),FALSE),IFERROR(MATCH(TRIM($G795),'Transparency List 2018_10'!$D:$D,0),FALSE)),\"On the 2018_10 List\",\"-\")","v":"-"},{"$f":"IF(OR(IFERROR(MATCH($D795,'Transparency List 2018_04'!$L:$L,0),FALSE),IFERROR(MATCH(TRIM($G795),'Transparency List 2018_04'!$D:$D,0),FALSE)),\"On the 2018_04 List\",\"-\")","v":"-"},{"$f":"IF(OR(IFERROR(MATCH($D795,'Transparency List 2017'!$L:$L,0),FALSE),IFERROR(MATCH(TRIM($G795),'Transparency List 2017'!$C:$C,0),FALSE)),\"On the 2017 List\",\"-\")","v":"-"},{"$f":"IF(OR(IFERROR(MATCH($D795,'Transparency List 2015'!$H:$H,0),FALSE),IFERROR(MATCH(TRIM($G795),'Transparency List 2015'!$C:$C,0),FALSE)),\"On the 2015 List\",\"-\")","v":"-"}]
[null,null,4,"",null,null,null,"-",{"$f":"IF(OR(IFERROR(MATCH($D796,'Transparency List 2018_10'!$L:$L,0),FALSE),IFERROR(MATCH(TRIM($G796),'Transparency List 2018_10'!$D:$D,0),FALSE)),\"On the 2018_10 List\",\"-\")","v":"-"},{"$f":"IF(OR(IFERROR(MATCH($D796,'Transparency List 2018_04'!$L:$L,0),FALSE),IFERROR(MATCH(TRIM($G796),'Transparency List 2018_04'!$D:$D,0),FALSE)),\"On the 2018_04 List\",\"-\")","v":"-"},{"$f":"IF(OR(IFERROR(MATCH($D796,'Transparency List 2017'!$L:$L,0),FALSE),IFERROR(MATCH(TRIM($G796),'Transparency List 2017'!$C:$C,0),FALSE)),\"On the 2017 List\",\"-\")","v":"-"},{"$f":"IF(OR(IFERROR(MATCH($D796,'Transparency List 2015'!$H:$H,0),FALSE),IFERROR(MATCH(TRIM($G796),'Transparency List 2015'!$C:$C,0),FALSE)),\"On the 2015 List\",\"-\")","v":"-"}]
[null,null,4,"",null,null,null,"-",{"$f":"IF(OR(IFERROR(MATCH($D797,'Transparency List 2018_10'!$L:$L,0),FALSE),IFERROR(MATCH(TRIM($G797),'Transparency List 2018_10'!$D:$D,0),FALSE)),\"On the 2018_10 List\",\"-\")","v":"-"},{"$f":"IF(OR(IFERROR(MATCH($D797,'Transparency List 2018_04'!$L:$L,0),FALSE),IFERROR(MATCH(TRIM($G797),'Transparency List 2018_04'!$D:$D,0),FALSE)),\"On the 2018_04 List\",\"-\")","v":"-"},{"$f":"IF(OR(IFERROR(MATCH($D797,'Transparency List 2017'!$L:$L,0),FALSE),IFERROR(MATCH(TRIM($G797),'Transparency List 2017'!$C:$C,0),FALSE)),\"On the 2017 List\",\"-\")","v":"-"},{"$f":"IF(OR(IFERROR(MATCH($D797,'Transparency List 2015'!$H:$H,0),FALSE),IFERROR(MATCH(TRIM($G797),'Transparency List 2015'!$C:$C,0),FALSE)),\"On the 2015 List\",\"-\")","v":"-"}]
[null,null,4,"",null,null,null,"-",{"$f":"IF(OR(IFERROR(MATCH($D798,'Transparency List 2018_10'!$L:$L,0),FALSE),IFERROR(MATCH(TRIM($G798),'Transparency List 2018_10'!$D:$D,0),FALSE)),\"On the 2018_10 List\",\"-\")","v":"-"},{"$f":"IF(OR(IFERROR(MATCH($D798,'Transparency List 2018_04'!$L:$L,0),FALSE),IFERROR(MATCH(TRIM($G798),'Transparency List 2018_04'!$D:$D,0),FALSE)),\"On the 2018_04 List\",\"-\")","v":"-"},{"$f":"IF(OR(IFERROR(MATCH($D798,'Transparency List 2017'!$L:$L,0),FALSE),IFERROR(MATCH(TRIM($G798),'Transparency List 2017'!$C:$C,0),FALSE)),\"On the 2017 List\",\"-\")","v":"-"},{"$f":"IF(OR(IFERROR(MATCH($D798,'Transparency List 2015'!$H:$H,0),FALSE),IFERROR(MATCH(TRIM($G798),'Transparency List 2015'!$C:$C,0),FALSE)),\"On the 2015 List\",\"-\")","v":"-"}]
[null,null,{"$f":"COUNTIF($I799:$L799,\"-\")","v":4},{"$f":"SUBSTITUTE(SUBSTITUTE(SUBSTITUTE(SUBSTITUTE($G799,\" \",\"\"),\".\",\"\"),\"-\",\"\"),\"/\",\"\")","v":""},null,null,null,{"$f":"IFERROR(IF($C799=4,\"-\",\"Risk Farmer - Please conduct further steps\"),)","v":"-"},{"$f":"IF(OR(IFERROR(MATCH($D799,'Transparency List 2018_10'!$L:$L,0),FALSE),IFERROR(MATCH(TRIM($G799),'Transparency List 2018_10'!$D:$D,0),FALSE)),\"On the 2018_10 List\",\"-\")","v":"-"},{"$f":"IF(OR(IFERROR(MATCH($D799,'Transparency List 2018_04'!$L:$L,0),FALSE),IFERROR(MATCH(TRIM($G799),'Transparency List 2018_04'!$D:$D,0),FALSE)),\"On the 2018_04 List\",\"-\")","v":"-"},{"$f":"IF(OR(IFERROR(MATCH($D799,'Transparency List 2017'!$L:$L,0),FALSE),IFERROR(MATCH(TRIM($G799),'Transparency List 2017'!$C:$C,0),FALSE)),\"On the 2017 List\",\"-\")","v":"-"},{"$f":"IF(OR(IFERROR(MATCH($D799,'Transparency List 2015'!$H:$H,0),FALSE),IFERROR(MATCH(TRIM($G799),'Transparency List 2015'!$C:$C,0),FALSE)),\"On the 2015 List\",\"-\")","v":"-"}]
[null,null,4,"",null,null,null,"-",{"$f":"IF(OR(IFERROR(MATCH($D800,'Transparency List 2018_10'!$L:$L,0),FALSE),IFERROR(MATCH(TRIM($G800),'Transparency List 2018_10'!$D:$D,0),FALSE)),\"On the 2018_10 List\",\"-\")","v":"-"},{"$f":"IF(OR(IFERROR(MATCH($D800,'Transparency List 2018_04'!$L:$L,0),FALSE),IFERROR(MATCH(TRIM($G800),'Transparency List 2018_04'!$D:$D,0),FALSE)),\"On the 2018_04 List\",\"-\")","v":"-"},{"$f":"IF(OR(IFERROR(MATCH($D800,'Transparency List 2017'!$L:$L,0),FALSE),IFERROR(MATCH(TRIM($G800),'Transparency List 2017'!$C:$C,0),FALSE)),\"On the 2017 List\",\"-\")","v":"-"},{"$f":"IF(OR(IFERROR(MATCH($D800,'Transparency List 2015'!$H:$H,0),FALSE),IFERROR(MATCH(TRIM($G800),'Transparency List 2015'!$C:$C,0),FALSE)),\"On the 2015 List\",\"-\")","v":"-"}]
[null,null,4,"",null,null,null,"-",{"$f":"IF(OR(IFERROR(MATCH($D801,'Transparency List 2018_10'!$L:$L,0),FALSE),IFERROR(MATCH(TRIM($G801),'Transparency List 2018_10'!$D:$D,0),FALSE)),\"On the 2018_10 List\",\"-\")","v":"-"},{"$f":"IF(OR(IFERROR(MATCH($D801,'Transparency List 2018_04'!$L:$L,0),FALSE),IFERROR(MATCH(TRIM($G801),'Transparency List 2018_04'!$D:$D,0),FALSE)),\"On the 2018_04 List\",\"-\")","v":"-"},{"$f":"IF(OR(IFERROR(MATCH($D801,'Transparency List 2017'!$L:$L,0),FALSE),IFERROR(MATCH(TRIM($G801),'Transparency List 2017'!$C:$C,0),FALSE)),\"On the 2017 List\",\"-\")","v":"-"},{"$f":"IF(OR(IFERROR(MATCH($D801,'Transparency List 2015'!$H:$H,0),FALSE),IFERROR(MATCH(TRIM($G801),'Transparency List 2015'!$C:$C,0),FALSE)),\"On the 2015 List\",\"-\")","v":"-"}]
[null,null,4,"",null,null,null,"-",{"$f":"IF(OR(IFERROR(MATCH($D802,'Transparency List 2018_10'!$L:$L,0),FALSE),IFERROR(MATCH(TRIM($G802),'Transparency List 2018_10'!$D:$D,0),FALSE)),\"On the 2018_10 List\",\"-\")","v":"-"},{"$f":"IF(OR(IFERROR(MATCH($D802,'Transparency List 2018_04'!$L:$L,0),FALSE),IFERROR(MATCH(TRIM($G802),'Transparency List 2018_04'!$D:$D,0),FALSE)),\"On the 2018_04 List\",\"-\")","v":"-"},{"$f":"IF(OR(IFERROR(MATCH($D802,'Transparency List 2017'!$L:$L,0),FALSE),IFERROR(MATCH(TRIM($G802),'Transparency List 2017'!$C:$C,0),FALSE)),\"On the 2017 List\",\"-\")","v":"-"},{"$f":"IF(OR(IFERROR(MATCH($D802,'Transparency List 2015'!$H:$H,0),FALSE),IFERROR(MATCH(TRIM($G802),'Transparency List 2015'!$C:$C,0),FALSE)),\"On the 2015 List\",\"-\")","v":"-"}]
[null,null,4,"",null,null,null,"-",{"$f":"IF(OR(IFERROR(MATCH($D803,'Transparency List 2018_10'!$L:$L,0),FALSE),IFERROR(MATCH(TRIM($G803),'Transparency List 2018_10'!$D:$D,0),FALSE)),\"On the 2018_10 List\",\"-\")","v":"-"},{"$f":"IF(OR(IFERROR(MATCH($D803,'Transparency List 2018_04'!$L:$L,0),FALSE),IFERROR(MATCH(TRIM($G803),'Transparency List 2018_04'!$D:$D,0),FALSE)),\"On the 2018_04 List\",\"-\")","v":"-"},{"$f":"IF(OR(IFERROR(MATCH($D803,'Transparency List 2017'!$L:$L,0),FALSE),IFERROR(MATCH(TRIM($G803),'Transparency List 2017'!$C:$C,0),FALSE)),\"On the 2017 List\",\"-\")","v":"-"},{"$f":"IF(OR(IFERROR(MATCH($D803,'Transparency List 2015'!$H:$H,0),FALSE),IFERROR(MATCH(TRIM($G803),'Transparency List 2015'!$C:$C,0),FALSE)),\"On the 2015 List\",\"-\")","v":"-"}]
[null,null,4,"",null,null,null,"-",{"$f":"IF(OR(IFERROR(MATCH($D804,'Transparency List 2018_10'!$L:$L,0),FALSE),IFERROR(MATCH(TRIM($G804),'Transparency List 2018_10'!$D:$D,0),FALSE)),\"On the 2018_10 List\",\"-\")","v":"-"},{"$f":"IF(OR(IFERROR(MATCH($D804,'Transparency List 2018_04'!$L:$L,0),FALSE),IFERROR(MATCH(TRIM($G804),'Transparency List 2018_04'!$D:$D,0),FALSE)),\"On the 2018_04 List\",\"-\")","v":"-"},{"$f":"IF(OR(IFERROR(MATCH($D804,'Transparency List 2017'!$L:$L,0),FALSE),IFERROR(MATCH(TRIM($G804),'Transparency List 2017'!$C:$C,0),FALSE)),\"On the 2017 List\",\"-\")","v":"-"},{"$f":"IF(OR(IFERROR(MATCH($D804,'Transparency List 2015'!$H:$H,0),FALSE),IFERROR(MATCH(TRIM($G804),'Transparency List 2015'!$C:$C,0),FALSE)),\"On the 2015 List\",\"-\")","v":"-"}]
[null,null,4,"",null,null,null,"-",{"$f":"IF(OR(IFERROR(MATCH($D805,'Transparency List 2018_10'!$L:$L,0),FALSE),IFERROR(MATCH(TRIM($G805),'Transparency List 2018_10'!$D:$D,0),FALSE)),\"On the 2018_10 List\",\"-\")","v":"-"},{"$f":"IF(OR(IFERROR(MATCH($D805,'Transparency List 2018_04'!$L:$L,0),FALSE),IFERROR(MATCH(TRIM($G805),'Transparency List 2018_04'!$D:$D,0),FALSE)),\"On the 2018_04 List\",\"-\")","v":"-"},{"$f":"IF(OR(IFERROR(MATCH($D805,'Transparency List 2017'!$L:$L,0),FALSE),IFERROR(MATCH(TRIM($G805),'Transparency List 2017'!$C:$C,0),FALSE)),\"On the 2017 List\",\"-\")","v":"-"},{"$f":"IF(OR(IFERROR(MATCH($D805,'Transparency List 2015'!$H:$H,0),FALSE),IFERROR(MATCH(TRIM($G805),'Transparency List 2015'!$C:$C,0),FALSE)),\"On the 2015 List\",\"-\")","v":"-"}]
[null,null,4,"",null,null,null,"-",{"$f":"IF(OR(IFERROR(MATCH($D806,'Transparency List 2018_10'!$L:$L,0),FALSE),IFERROR(MATCH(TRIM($G806),'Transparency List 2018_10'!$D:$D,0),FALSE)),\"On the 2018_10 List\",\"-\")","v":"-"},{"$f":"IF(OR(IFERROR(MATCH($D806,'Transparency List 2018_04'!$L:$L,0),FALSE),IFERROR(MATCH(TRIM($G806),'Transparency List 2018_04'!$D:$D,0),FALSE)),\"On the 2018_04 List\",\"-\")","v":"-"},{"$f":"IF(OR(IFERROR(MATCH($D806,'Transparency List 2017'!$L:$L,0),FALSE),IFERROR(MATCH(TRIM($G806),'Transparency List 2017'!$C:$C,0),FALSE)),\"On the 2017 List\",\"-\")","v":"-"},{"$f":"IF(OR(IFERROR(MATCH($D806,'Transparency List 2015'!$H:$H,0),FALSE),IFERROR(MATCH(TRIM($G806),'Transparency List 2015'!$C:$C,0),FALSE)),\"On the 2015 List\",\"-\")","v":"-"}]
[null,null,4,"",null,null,null,"-",{"$f":"IF(OR(IFERROR(MATCH($D807,'Transparency List 2018_10'!$L:$L,0),FALSE),IFERROR(MATCH(TRIM($G807),'Transparency List 2018_10'!$D:$D,0),FALSE)),\"On the 2018_10 List\",\"-\")","v":"-"},{"$f":"IF(OR(IFERROR(MATCH($D807,'Transparency List 2018_04'!$L:$L,0),FALSE),IFERROR(MATCH(TRIM($G807),'Transparency List 2018_04'!$D:$D,0),FALSE)),\"On the 2018_04 List\",\"-\")","v":"-"},{"$f":"IF(OR(IFERROR(MATCH($D807,'Transparency List 2017'!$L:$L,0),FALSE),IFERROR(MATCH(TRIM($G807),'Transparency List 2017'!$C:$C,0),FALSE)),\"On the 2017 List\",\"-\")","v":"-"},{"$f":"IF(OR(IFERROR(MATCH($D807,'Transparency List 2015'!$H:$H,0),FALSE),IFERROR(MATCH(TRIM($G807),'Transparency List 2015'!$C:$C,0),FALSE)),\"On the 2015 List\",\"-\")","v":"-"}]
[null,null,4,"",null,null,null,"-",{"$f":"IF(OR(IFERROR(MATCH($D808,'Transparency List 2018_10'!$L:$L,0),FALSE),IFERROR(MATCH(TRIM($G808),'Transparency List 2018_10'!$D:$D,0),FALSE)),\"On the 2018_10 List\",\"-\")","v":"-"},{"$f":"IF(OR(IFERROR(MATCH($D808,'Transparency List 2018_04'!$L:$L,0),FALSE),IFERROR(MATCH(TRIM($G808),'Transparency List 2018_04'!$D:$D,0),FALSE)),\"On the 2018_04 List\",\"-\")","v":"-"},{"$f":"IF(OR(IFERROR(MATCH($D808,'Transparency List 2017'!$L:$L,0),FALSE),IFERROR(MATCH(TRIM($G808),'Transparency List 2017'!$C:$C,0),FALSE)),\"On the 2017 List\",\"-\")","v":"-"},{"$f":"IF(OR(IFERROR(MATCH($D808,'Transparency List 2015'!$H:$H,0),FALSE),IFERROR(MATCH(TRIM($G808),'Transparency List 2015'!$C:$C,0),FALSE)),\"On the 2015 List\",\"-\")","v":"-"}]
[null,null,4,"",null,null,null,"-",{"$f":"IF(OR(IFERROR(MATCH($D809,'Transparency List 2018_10'!$L:$L,0),FALSE),IFERROR(MATCH(TRIM($G809),'Transparency List 2018_10'!$D:$D,0),FALSE)),\"On the 2018_10 List\",\"-\")","v":"-"},{"$f":"IF(OR(IFERROR(MATCH($D809,'Transparency List 2018_04'!$L:$L,0),FALSE),IFERROR(MATCH(TRIM($G809),'Transparency List 2018_04'!$D:$D,0),FALSE)),\"On the 2018_04 List\",\"-\")","v":"-"},{"$f":"IF(OR(IFERROR(MATCH($D809,'Transparency List 2017'!$L:$L,0),FALSE),IFERROR(MATCH(TRIM($G809),'Transparency List 2017'!$C:$C,0),FALSE)),\"On the 2017 List\",\"-\")","v":"-"},{"$f":"IF(OR(IFERROR(MATCH($D809,'Transparency List 2015'!$H:$H,0),FALSE),IFERROR(MATCH(TRIM($G809),'Transparency List 2015'!$C:$C,0),FALSE)),\"On the 2015 List\",\"-\")","v":"-"}]
[null,null,4,"",null,null,null,"-",{"$f":"IF(OR(IFERROR(MATCH($D810,'Transparency List 2018_10'!$L:$L,0),FALSE),IFERROR(MATCH(TRIM($G810),'Transparency List 2018_10'!$D:$D,0),FALSE)),\"On the 2018_10 List\",\"-\")","v":"-"},{"$f":"IF(OR(IFERROR(MATCH($D810,'Transparency List 2018_04'!$L:$L,0),FALSE),IFERROR(MATCH(TRIM($G810),'Transparency List 2018_04'!$D:$D,0),FALSE)),\"On the 2018_04 List\",\"-\")","v":"-"},{"$f":"IF(OR(IFERROR(MATCH($D810,'Transparency List 2017'!$L:$L,0),FALSE),IFERROR(MATCH(TRIM($G810),'Transparency List 2017'!$C:$C,0),FALSE)),\"On the 2017 List\",\"-\")","v":"-"},{"$f":"IF(OR(IFERROR(MATCH($D810,'Transparency List 2015'!$H:$H,0),FALSE),IFERROR(MATCH(TRIM($G810),'Transparency List 2015'!$C:$C,0),FALSE)),\"On the 2015 List\",\"-\")","v":"-"}]
[null,null,4,"",null,null,null,"-",{"$f":"IF(OR(IFERROR(MATCH($D811,'Transparency List 2018_10'!$L:$L,0),FALSE),IFERROR(MATCH(TRIM($G811),'Transparency List 2018_10'!$D:$D,0),FALSE)),\"On the 2018_10 List\",\"-\")","v":"-"},{"$f":"IF(OR(IFERROR(MATCH($D811,'Transparency List 2018_04'!$L:$L,0),FALSE),IFERROR(MATCH(TRIM($G811),'Transparency List 2018_04'!$D:$D,0),FALSE)),\"On the 2018_04 List\",\"-\")","v":"-"},{"$f":"IF(OR(IFERROR(MATCH($D811,'Transparency List 2017'!$L:$L,0),FALSE),IFERROR(MATCH(TRIM($G811),'Transparency List 2017'!$C:$C,0),FALSE)),\"On the 2017 List\",\"-\")","v":"-"},{"$f":"IF(OR(IFERROR(MATCH($D811,'Transparency List 2015'!$H:$H,0),FALSE),IFERROR(MATCH(TRIM($G811),'Transparency List 2015'!$C:$C,0),FALSE)),\"On the 2015 List\",\"-\")","v":"-"}]
[null,null,4,"",null,null,null,"-",{"$f":"IF(OR(IFERROR(MATCH($D812,'Transparency List 2018_10'!$L:$L,0),FALSE),IFERROR(MATCH(TRIM($G812),'Transparency List 2018_10'!$D:$D,0),FALSE)),\"On the 2018_10 List\",\"-\")","v":"-"},{"$f":"IF(OR(IFERROR(MATCH($D812,'Transparency List 2018_04'!$L:$L,0),FALSE),IFERROR(MATCH(TRIM($G812),'Transparency List 2018_04'!$D:$D,0),FALSE)),\"On the 2018_04 List\",\"-\")","v":"-"},{"$f":"IF(OR(IFERROR(MATCH($D812,'Transparency List 2017'!$L:$L,0),FALSE),IFERROR(MATCH(TRIM($G812),'Transparency List 2017'!$C:$C,0),FALSE)),\"On the 2017 List\",\"-\")","v":"-"},{"$f":"IF(OR(IFERROR(MATCH($D812,'Transparency List 2015'!$H:$H,0),FALSE),IFERROR(MATCH(TRIM($G812),'Transparency List 2015'!$C:$C,0),FALSE)),\"On the 2015 List\",\"-\")","v":"-"}]
[null,null,4,"",null,null,null,"-",{"$f":"IF(OR(IFERROR(MATCH($D813,'Transparency List 2018_10'!$L:$L,0),FALSE),IFERROR(MATCH(TRIM($G813),'Transparency List 2018_10'!$D:$D,0),FALSE)),\"On the 2018_10 List\",\"-\")","v":"-"},{"$f":"IF(OR(IFERROR(MATCH($D813,'Transparency List 2018_04'!$L:$L,0),FALSE),IFERROR(MATCH(TRIM($G813),'Transparency List 2018_04'!$D:$D,0),FALSE)),\"On the 2018_04 List\",\"-\")","v":"-"},{"$f":"IF(OR(IFERROR(MATCH($D813,'Transparency List 2017'!$L:$L,0),FALSE),IFERROR(MATCH(TRIM($G813),'Transparency List 2017'!$C:$C,0),FALSE)),\"On the 2017 List\",\"-\")","v":"-"},{"$f":"IF(OR(IFERROR(MATCH($D813,'Transparency List 2015'!$H:$H,0),FALSE),IFERROR(MATCH(TRIM($G813),'Transparency List 2015'!$C:$C,0),FALSE)),\"On the 2015 List\",\"-\")","v":"-"}]
[null,null,4,"",null,null,null,"-",{"$f":"IF(OR(IFERROR(MATCH($D814,'Transparency List 2018_10'!$L:$L,0),FALSE),IFERROR(MATCH(TRIM($G814),'Transparency List 2018_10'!$D:$D,0),FALSE)),\"On the 2018_10 List\",\"-\")","v":"-"},{"$f":"IF(OR(IFERROR(MATCH($D814,'Transparency List 2018_04'!$L:$L,0),FALSE),IFERROR(MATCH(TRIM($G814),'Transparency List 2018_04'!$D:$D,0),FALSE)),\"On the 2018_04 List\",\"-\")","v":"-"},{"$f":"IF(OR(IFERROR(MATCH($D814,'Transparency List 2017'!$L:$L,0),FALSE),IFERROR(MATCH(TRIM($G814),'Transparency List 2017'!$C:$C,0),FALSE)),\"On the 2017 List\",\"-\")","v":"-"},{"$f":"IF(OR(IFERROR(MATCH($D814,'Transparency List 2015'!$H:$H,0),FALSE),IFERROR(MATCH(TRIM($G814),'Transparency List 2015'!$C:$C,0),FALSE)),\"On the 2015 List\",\"-\")","v":"-"}]
[null,null,4,"",null,null,null,"-",{"$f":"IF(OR(IFERROR(MATCH($D815,'Transparency List 2018_10'!$L:$L,0),FALSE),IFERROR(MATCH(TRIM($G815),'Transparency List 2018_10'!$D:$D,0),FALSE)),\"On the 2018_10 List\",\"-\")","v":"-"},{"$f":"IF(OR(IFERROR(MATCH($D815,'Transparency List 2018_04'!$L:$L,0),FALSE),IFERROR(MATCH(TRIM($G815),'Transparency List 2018_04'!$D:$D,0),FALSE)),\"On the 2018_04 List\",\"-\")","v":"-"},{"$f":"IF(OR(IFERROR(MATCH($D815,'Transparency List 2017'!$L:$L,0),FALSE),IFERROR(MATCH(TRIM($G815),'Transparency List 2017'!$C:$C,0),FALSE)),\"On the 2017 List\",\"-\")","v":"-"},{"$f":"IF(OR(IFERROR(MATCH($D815,'Transparency List 2015'!$H:$H,0),FALSE),IFERROR(MATCH(TRIM($G815),'Transparency List 2015'!$C:$C,0),FALSE)),\"On the 2015 List\",\"-\")","v":"-"}]
[null,null,4,"",null,null,null,"-",{"$f":"IF(OR(IFERROR(MATCH($D816,'Transparency List 2018_10'!$L:$L,0),FALSE),IFERROR(MATCH(TRIM($G816),'Transparency List 2018_10'!$D:$D,0),FALSE)),\"On the 2018_10 List\",\"-\")","v":"-"},{"$f":"IF(OR(IFERROR(MATCH($D816,'Transparency List 2018_04'!$L:$L,0),FALSE),IFERROR(MATCH(TRIM($G816),'Transparency List 2018_04'!$D:$D,0),FALSE)),\"On the 2018_04 List\",\"-\")","v":"-"},{"$f":"IF(OR(IFERROR(MATCH($D816,'Transparency List 2017'!$L:$L,0),FALSE),IFERROR(MATCH(TRIM($G816),'Transparency List 2017'!$C:$C,0),FALSE)),\"On the 2017 List\",\"-\")","v":"-"},{"$f":"IF(OR(IFERROR(MATCH($D816,'Transparency List 2015'!$H:$H,0),FALSE),IFERROR(MATCH(TRIM($G816),'Transparency List 2015'!$C:$C,0),FALSE)),\"On the 2015 List\",\"-\")","v":"-"}]
[null,null,4,"",null,null,null,"-",{"$f":"IF(OR(IFERROR(MATCH($D817,'Transparency List 2018_10'!$L:$L,0),FALSE),IFERROR(MATCH(TRIM($G817),'Transparency List 2018_10'!$D:$D,0),FALSE)),\"On the 2018_10 List\",\"-\")","v":"-"},{"$f":"IF(OR(IFERROR(MATCH($D817,'Transparency List 2018_04'!$L:$L,0),FALSE),IFERROR(MATCH(TRIM($G817),'Transparency List 2018_04'!$D:$D,0),FALSE)),\"On the 2018_04 List\",\"-\")","v":"-"},{"$f":"IF(OR(IFERROR(MATCH($D817,'Transparency List 2017'!$L:$L,0),FALSE),IFERROR(MATCH(TRIM($G817),'Transparency List 2017'!$C:$C,0),FALSE)),\"On the 2017 List\",\"-\")","v":"-"},{"$f":"IF(OR(IFERROR(MATCH($D817,'Transparency List 2015'!$H:$H,0),FALSE),IFERROR(MATCH(TRIM($G817),'Transparency List 2015'!$C:$C,0),FALSE)),\"On the 2015 List\",\"-\")","v":"-"}]
[null,null,4,"",null,null,null,"-",{"$f":"IF(OR(IFERROR(MATCH($D818,'Transparency List 2018_10'!$L:$L,0),FALSE),IFERROR(MATCH(TRIM($G818),'Transparency List 2018_10'!$D:$D,0),FALSE)),\"On the 2018_10 List\",\"-\")","v":"-"},{"$f":"IF(OR(IFERROR(MATCH($D818,'Transparency List 2018_04'!$L:$L,0),FALSE),IFERROR(MATCH(TRIM($G818),'Transparency List 2018_04'!$D:$D,0),FALSE)),\"On the 2018_04 List\",\"-\")","v":"-"},{"$f":"IF(OR(IFERROR(MATCH($D818,'Transparency List 2017'!$L:$L,0),FALSE),IFERROR(MATCH(TRIM($G818),'Transparency List 2017'!$C:$C,0),FALSE)),\"On the 2017 List\",\"-\")","v":"-"},{"$f":"IF(OR(IFERROR(MATCH($D818,'Transparency List 2015'!$H:$H,0),FALSE),IFERROR(MATCH(TRIM($G818),'Transparency List 2015'!$C:$C,0),FALSE)),\"On the 2015 List\",\"-\")","v":"-"}]
[null,null,4,"",null,null,null,"-",{"$f":"IF(OR(IFERROR(MATCH($D819,'Transparency List 2018_10'!$L:$L,0),FALSE),IFERROR(MATCH(TRIM($G819),'Transparency List 2018_10'!$D:$D,0),FALSE)),\"On the 2018_10 List\",\"-\")","v":"-"},{"$f":"IF(OR(IFERROR(MATCH($D819,'Transparency List 2018_04'!$L:$L,0),FALSE),IFERROR(MATCH(TRIM($G819),'Transparency List 2018_04'!$D:$D,0),FALSE)),\"On the 2018_04 List\",\"-\")","v":"-"},{"$f":"IF(OR(IFERROR(MATCH($D819,'Transparency List 2017'!$L:$L,0),FALSE),IFERROR(MATCH(TRIM($G819),'Transparency List 2017'!$C:$C,0),FALSE)),\"On the 2017 List\",\"-\")","v":"-"},{"$f":"IF(OR(IFERROR(MATCH($D819,'Transparency List 2015'!$H:$H,0),FALSE),IFERROR(MATCH(TRIM($G819),'Transparency List 2015'!$C:$C,0),FALSE)),\"On the 2015 List\",\"-\")","v":"-"}]
[null,null,4,"",null,null,null,"-",{"$f":"IF(OR(IFERROR(MATCH($D820,'Transparency List 2018_10'!$L:$L,0),FALSE),IFERROR(MATCH(TRIM($G820),'Transparency List 2018_10'!$D:$D,0),FALSE)),\"On the 2018_10 List\",\"-\")","v":"-"},{"$f":"IF(OR(IFERROR(MATCH($D820,'Transparency List 2018_04'!$L:$L,0),FALSE),IFERROR(MATCH(TRIM($G820),'Transparency List 2018_04'!$D:$D,0),FALSE)),\"On the 2018_04 List\",\"-\")","v":"-"},{"$f":"IF(OR(IFERROR(MATCH($D820,'Transparency List 2017'!$L:$L,0),FALSE),IFERROR(MATCH(TRIM($G820),'Transparency List 2017'!$C:$C,0),FALSE)),\"On the 2017 List\",\"-\")","v":"-"},{"$f":"IF(OR(IFERROR(MATCH($D820,'Transparency List 2015'!$H:$H,0),FALSE),IFERROR(MATCH(TRIM($G820),'Transparency List 2015'!$C:$C,0),FALSE)),\"On the 2015 List\",\"-\")","v":"-"}]
[null,null,4,"",null,null,null,"-",{"$f":"IF(OR(IFERROR(MATCH($D821,'Transparency List 2018_10'!$L:$L,0),FALSE),IFERROR(MATCH(TRIM($G821),'Transparency List 2018_10'!$D:$D,0),FALSE)),\"On the 2018_10 List\",\"-\")","v":"-"},{"$f":"IF(OR(IFERROR(MATCH($D821,'Transparency List 2018_04'!$L:$L,0),FALSE),IFERROR(MATCH(TRIM($G821),'Transparency List 2018_04'!$D:$D,0),FALSE)),\"On the 2018_04 List\",\"-\")","v":"-"},{"$f":"IF(OR(IFERROR(MATCH($D821,'Transparency List 2017'!$L:$L,0),FALSE),IFERROR(MATCH(TRIM($G821),'Transparency List 2017'!$C:$C,0),FALSE)),\"On the 2017 List\",\"-\")","v":"-"},{"$f":"IF(OR(IFERROR(MATCH($D821,'Transparency List 2015'!$H:$H,0),FALSE),IFERROR(MATCH(TRIM($G821),'Transparency List 2015'!$C:$C,0),FALSE)),\"On the 2015 List\",\"-\")","v":"-"}]
[null,null,4,"",null,null,null,"-",{"$f":"IF(OR(IFERROR(MATCH($D822,'Transparency List 2018_10'!$L:$L,0),FALSE),IFERROR(MATCH(TRIM($G822),'Transparency List 2018_10'!$D:$D,0),FALSE)),\"On the 2018_10 List\",\"-\")","v":"-"},{"$f":"IF(OR(IFERROR(MATCH($D822,'Transparency List 2018_04'!$L:$L,0),FALSE),IFERROR(MATCH(TRIM($G822),'Transparency List 2018_04'!$D:$D,0),FALSE)),\"On the 2018_04 List\",\"-\")","v":"-"},{"$f":"IF(OR(IFERROR(MATCH($D822,'Transparency List 2017'!$L:$L,0),FALSE),IFERROR(MATCH(TRIM($G822),'Transparency List 2017'!$C:$C,0),FALSE)),\"On the 2017 List\",\"-\")","v":"-"},{"$f":"IF(OR(IFERROR(MATCH($D822,'Transparency List 2015'!$H:$H,0),FALSE),IFERROR(MATCH(TRIM($G822),'Transparency List 2015'!$C:$C,0),FALSE)),\"On the 2015 List\",\"-\")","v":"-"}]
[null,null,4,"",null,null,null,"-",{"$f":"IF(OR(IFERROR(MATCH($D823,'Transparency List 2018_10'!$L:$L,0),FALSE),IFERROR(MATCH(TRIM($G823),'Transparency List 2018_10'!$D:$D,0),FALSE)),\"On the 2018_10 List\",\"-\")","v":"-"},{"$f":"IF(OR(IFERROR(MATCH($D823,'Transparency List 2018_04'!$L:$L,0),FALSE),IFERROR(MATCH(TRIM($G823),'Transparency List 2018_04'!$D:$D,0),FALSE)),\"On the 2018_04 List\",\"-\")","v":"-"},{"$f":"IF(OR(IFERROR(MATCH($D823,'Transparency List 2017'!$L:$L,0),FALSE),IFERROR(MATCH(TRIM($G823),'Transparency List 2017'!$C:$C,0),FALSE)),\"On the 2017 List\",\"-\")","v":"-"},{"$f":"IF(OR(IFERROR(MATCH($D823,'Transparency List 2015'!$H:$H,0),FALSE),IFERROR(MATCH(TRIM($G823),'Transparency List 2015'!$C:$C,0),FALSE)),\"On the 2015 List\",\"-\")","v":"-"}]
[null,null,4,"",null,null,null,"-",{"$f":"IF(OR(IFERROR(MATCH($D824,'Transparency List 2018_10'!$L:$L,0),FALSE),IFERROR(MATCH(TRIM($G824),'Transparency List 2018_10'!$D:$D,0),FALSE)),\"On the 2018_10 List\",\"-\")","v":"-"},{"$f":"IF(OR(IFERROR(MATCH($D824,'Transparency List 2018_04'!$L:$L,0),FALSE),IFERROR(MATCH(TRIM($G824),'Transparency List 2018_04'!$D:$D,0),FALSE)),\"On the 2018_04 List\",\"-\")","v":"-"},{"$f":"IF(OR(IFERROR(MATCH($D824,'Transparency List 2017'!$L:$L,0),FALSE),IFERROR(MATCH(TRIM($G824),'Transparency List 2017'!$C:$C,0),FALSE)),\"On the 2017 List\",\"-\")","v":"-"},{"$f":"IF(OR(IFERROR(MATCH($D824,'Transparency List 2015'!$H:$H,0),FALSE),IFERROR(MATCH(TRIM($G824),'Transparency List 2015'!$C:$C,0),FALSE)),\"On the 2015 List\",\"-\")","v":"-"}]
[null,null,4,"",null,null,null,"-",{"$f":"IF(OR(IFERROR(MATCH($D825,'Transparency List 2018_10'!$L:$L,0),FALSE),IFERROR(MATCH(TRIM($G825),'Transparency List 2018_10'!$D:$D,0),FALSE)),\"On the 2018_10 List\",\"-\")","v":"-"},{"$f":"IF(OR(IFERROR(MATCH($D825,'Transparency List 2018_04'!$L:$L,0),FALSE),IFERROR(MATCH(TRIM($G825),'Transparency List 2018_04'!$D:$D,0),FALSE)),\"On the 2018_04 List\",\"-\")","v":"-"},{"$f":"IF(OR(IFERROR(MATCH($D825,'Transparency List 2017'!$L:$L,0),FALSE),IFERROR(MATCH(TRIM($G825),'Transparency List 2017'!$C:$C,0),FALSE)),\"On the 2017 List\",\"-\")","v":"-"},{"$f":"IF(OR(IFERROR(MATCH($D825,'Transparency List 2015'!$H:$H,0),FALSE),IFERROR(MATCH(TRIM($G825),'Transparency List 2015'!$C:$C,0),FALSE)),\"On the 2015 List\",\"-\")","v":"-"}]
[null,null,4,"",null,null,null,"-",{"$f":"IF(OR(IFERROR(MATCH($D826,'Transparency List 2018_10'!$L:$L,0),FALSE),IFERROR(MATCH(TRIM($G826),'Transparency List 2018_10'!$D:$D,0),FALSE)),\"On the 2018_10 List\",\"-\")","v":"-"},{"$f":"IF(OR(IFERROR(MATCH($D826,'Transparency List 2018_04'!$L:$L,0),FALSE),IFERROR(MATCH(TRIM($G826),'Transparency List 2018_04'!$D:$D,0),FALSE)),\"On the 2018_04 List\",\"-\")","v":"-"},{"$f":"IF(OR(IFERROR(MATCH($D826,'Transparency List 2017'!$L:$L,0),FALSE),IFERROR(MATCH(TRIM($G826),'Transparency List 2017'!$C:$C,0),FALSE)),\"On the 2017 List\",\"-\")","v":"-"},{"$f":"IF(OR(IFERROR(MATCH($D826,'Transparency List 2015'!$H:$H,0),FALSE),IFERROR(MATCH(TRIM($G826),'Transparency List 2015'!$C:$C,0),FALSE)),\"On the 2015 List\",\"-\")","v":"-"}]
[null,null,4,"",null,null,null,"-",{"$f":"IF(OR(IFERROR(MATCH($D827,'Transparency List 2018_10'!$L:$L,0),FALSE),IFERROR(MATCH(TRIM($G827),'Transparency List 2018_10'!$D:$D,0),FALSE)),\"On the 2018_10 List\",\"-\")","v":"-"},{"$f":"IF(OR(IFERROR(MATCH($D827,'Transparency List 2018_04'!$L:$L,0),FALSE),IFERROR(MATCH(TRIM($G827),'Transparency List 2018_04'!$D:$D,0),FALSE)),\"On the 2018_04 List\",\"-\")","v":"-"},{"$f":"IF(OR(IFERROR(MATCH($D827,'Transparency List 2017'!$L:$L,0),FALSE),IFERROR(MATCH(TRIM($G827),'Transparency List 2017'!$C:$C,0),FALSE)),\"On the 2017 List\",\"-\")","v":"-"},{"$f":"IF(OR(IFERROR(MATCH($D827,'Transparency List 2015'!$H:$H,0),FALSE),IFERROR(MATCH(TRIM($G827),'Transparency List 2015'!$C:$C,0),FALSE)),\"On the 2015 List\",\"-\")","v":"-"}]
[null,null,4,"",null,null,null,"-",{"$f":"IF(OR(IFERROR(MATCH($D828,'Transparency List 2018_10'!$L:$L,0),FALSE),IFERROR(MATCH(TRIM($G828),'Transparency List 2018_10'!$D:$D,0),FALSE)),\"On the 2018_10 List\",\"-\")","v":"-"},{"$f":"IF(OR(IFERROR(MATCH($D828,'Transparency List 2018_04'!$L:$L,0),FALSE),IFERROR(MATCH(TRIM($G828),'Transparency List 2018_04'!$D:$D,0),FALSE)),\"On the 2018_04 List\",\"-\")","v":"-"},{"$f":"IF(OR(IFERROR(MATCH($D828,'Transparency List 2017'!$L:$L,0),FALSE),IFERROR(MATCH(TRIM($G828),'Transparency List 2017'!$C:$C,0),FALSE)),\"On the 2017 List\",\"-\")","v":"-"},{"$f":"IF(OR(IFERROR(MATCH($D828,'Transparency List 2015'!$H:$H,0),FALSE),IFERROR(MATCH(TRIM($G828),'Transparency List 2015'!$C:$C,0),FALSE)),\"On the 2015 List\",\"-\")","v":"-"}]
[null,null,4,"",null,null,null,"-",{"$f":"IF(OR(IFERROR(MATCH($D829,'Transparency List 2018_10'!$L:$L,0),FALSE),IFERROR(MATCH(TRIM($G829),'Transparency List 2018_10'!$D:$D,0),FALSE)),\"On the 2018_10 List\",\"-\")","v":"-"},{"$f":"IF(OR(IFERROR(MATCH($D829,'Transparency List 2018_04'!$L:$L,0),FALSE),IFERROR(MATCH(TRIM($G829),'Transparency List 2018_04'!$D:$D,0),FALSE)),\"On the 2018_04 List\",\"-\")","v":"-"},{"$f":"IF(OR(IFERROR(MATCH($D829,'Transparency List 2017'!$L:$L,0),FALSE),IFERROR(MATCH(TRIM($G829),'Transparency List 2017'!$C:$C,0),FALSE)),\"On the 2017 List\",\"-\")","v":"-"},{"$f":"IF(OR(IFERROR(MATCH($D829,'Transparency List 2015'!$H:$H,0),FALSE),IFERROR(MATCH(TRIM($G829),'Transparency List 2015'!$C:$C,0),FALSE)),\"On the 2015 List\",\"-\")","v":"-"}]
[null,null,4,"",null,null,null,"-",{"$f":"IF(OR(IFERROR(MATCH($D830,'Transparency List 2018_10'!$L:$L,0),FALSE),IFERROR(MATCH(TRIM($G830),'Transparency List 2018_10'!$D:$D,0),FALSE)),\"On the 2018_10 List\",\"-\")","v":"-"},{"$f":"IF(OR(IFERROR(MATCH($D830,'Transparency List 2018_04'!$L:$L,0),FALSE),IFERROR(MATCH(TRIM($G830),'Transparency List 2018_04'!$D:$D,0),FALSE)),\"On the 2018_04 List\",\"-\")","v":"-"},{"$f":"IF(OR(IFERROR(MATCH($D830,'Transparency List 2017'!$L:$L,0),FALSE),IFERROR(MATCH(TRIM($G830),'Transparency List 2017'!$C:$C,0),FALSE)),\"On the 2017 List\",\"-\")","v":"-"},{"$f":"IF(OR(IFERROR(MATCH($D830,'Transparency List 2015'!$H:$H,0),FALSE),IFERROR(MATCH(TRIM($G830),'Transparency List 2015'!$C:$C,0),FALSE)),\"On the 2015 List\",\"-\")","v":"-"}]
[null,null,4,"",null,null,null,"-",{"$f":"IF(OR(IFERROR(MATCH($D831,'Transparency List 2018_10'!$L:$L,0),FALSE),IFERROR(MATCH(TRIM($G831),'Transparency List 2018_10'!$D:$D,0),FALSE)),\"On the 2018_10 List\",\"-\")","v":"-"},{"$f":"IF(OR(IFERROR(MATCH($D831,'Transparency List 2018_04'!$L:$L,0),FALSE),IFERROR(MATCH(TRIM($G831),'Transparency List 2018_04'!$D:$D,0),FALSE)),\"On the 2018_04 List\",\"-\")","v":"-"},{"$f":"IF(OR(IFERROR(MATCH($D831,'Transparency List 2017'!$L:$L,0),FALSE),IFERROR(MATCH(TRIM($G831),'Transparency List 2017'!$C:$C,0),FALSE)),\"On the 2017 List\",\"-\")","v":"-"},{"$f":"IF(OR(IFERROR(MATCH($D831,'Transparency List 2015'!$H:$H,0),FALSE),IFERROR(MATCH(TRIM($G831),'Transparency List 2015'!$C:$C,0),FALSE)),\"On the 2015 List\",\"-\")","v":"-"}]
[null,null,4,"",null,null,null,"-",{"$f":"IF(OR(IFERROR(MATCH($D832,'Transparency List 2018_10'!$L:$L,0),FALSE),IFERROR(MATCH(TRIM($G832),'Transparency List 2018_10'!$D:$D,0),FALSE)),\"On the 2018_10 List\",\"-\")","v":"-"},{"$f":"IF(OR(IFERROR(MATCH($D832,'Transparency List 2018_04'!$L:$L,0),FALSE),IFERROR(MATCH(TRIM($G832),'Transparency List 2018_04'!$D:$D,0),FALSE)),\"On the 2018_04 List\",\"-\")","v":"-"},{"$f":"IF(OR(IFERROR(MATCH($D832,'Transparency List 2017'!$L:$L,0),FALSE),IFERROR(MATCH(TRIM($G832),'Transparency List 2017'!$C:$C,0),FALSE)),\"On the 2017 List\",\"-\")","v":"-"},{"$f":"IF(OR(IFERROR(MATCH($D832,'Transparency List 2015'!$H:$H,0),FALSE),IFERROR(MATCH(TRIM($G832),'Transparency List 2015'!$C:$C,0),FALSE)),\"On the 2015 List\",\"-\")","v":"-"}]
[null,null,4,"",null,null,null,"-",{"$f":"IF(OR(IFERROR(MATCH($D833,'Transparency List 2018_10'!$L:$L,0),FALSE),IFERROR(MATCH(TRIM($G833),'Transparency List 2018_10'!$D:$D,0),FALSE)),\"On the 2018_10 List\",\"-\")","v":"-"},{"$f":"IF(OR(IFERROR(MATCH($D833,'Transparency List 2018_04'!$L:$L,0),FALSE),IFERROR(MATCH(TRIM($G833),'Transparency List 2018_04'!$D:$D,0),FALSE)),\"On the 2018_04 List\",\"-\")","v":"-"},{"$f":"IF(OR(IFERROR(MATCH($D833,'Transparency List 2017'!$L:$L,0),FALSE),IFERROR(MATCH(TRIM($G833),'Transparency List 2017'!$C:$C,0),FALSE)),\"On the 2017 List\",\"-\")","v":"-"},{"$f":"IF(OR(IFERROR(MATCH($D833,'Transparency List 2015'!$H:$H,0),FALSE),IFERROR(MATCH(TRIM($G833),'Transparency List 2015'!$C:$C,0),FALSE)),\"On the 2015 List\",\"-\")","v":"-"}]
[null,null,4,"",null,null,null,"-",{"$f":"IF(OR(IFERROR(MATCH($D834,'Transparency List 2018_10'!$L:$L,0),FALSE),IFERROR(MATCH(TRIM($G834),'Transparency List 2018_10'!$D:$D,0),FALSE)),\"On the 2018_10 List\",\"-\")","v":"-"},{"$f":"IF(OR(IFERROR(MATCH($D834,'Transparency List 2018_04'!$L:$L,0),FALSE),IFERROR(MATCH(TRIM($G834),'Transparency List 2018_04'!$D:$D,0),FALSE)),\"On the 2018_04 List\",\"-\")","v":"-"},{"$f":"IF(OR(IFERROR(MATCH($D834,'Transparency List 2017'!$L:$L,0),FALSE),IFERROR(MATCH(TRIM($G834),'Transparency List 2017'!$C:$C,0),FALSE)),\"On the 2017 List\",\"-\")","v":"-"},{"$f":"IF(OR(IFERROR(MATCH($D834,'Transparency List 2015'!$H:$H,0),FALSE),IFERROR(MATCH(TRIM($G834),'Transparency List 2015'!$C:$C,0),FALSE)),\"On the 2015 List\",\"-\")","v":"-"}]
[null,null,4,"",null,null,null,"-",{"$f":"IF(OR(IFERROR(MATCH($D835,'Transparency List 2018_10'!$L:$L,0),FALSE),IFERROR(MATCH(TRIM($G835),'Transparency List 2018_10'!$D:$D,0),FALSE)),\"On the 2018_10 List\",\"-\")","v":"-"},{"$f":"IF(OR(IFERROR(MATCH($D835,'Transparency List 2018_04'!$L:$L,0),FALSE),IFERROR(MATCH(TRIM($G835),'Transparency List 2018_04'!$D:$D,0),FALSE)),\"On the 2018_04 List\",\"-\")","v":"-"},{"$f":"IF(OR(IFERROR(MATCH($D835,'Transparency List 2017'!$L:$L,0),FALSE),IFERROR(MATCH(TRIM($G835),'Transparency List 2017'!$C:$C,0),FALSE)),\"On the 2017 List\",\"-\")","v":"-"},{"$f":"IF(OR(IFERROR(MATCH($D835,'Transparency List 2015'!$H:$H,0),FALSE),IFERROR(MATCH(TRIM($G835),'Transparency List 2015'!$C:$C,0),FALSE)),\"On the 2015 List\",\"-\")","v":"-"}]
[null,null,4,"",null,null,null,"-",{"$f":"IF(OR(IFERROR(MATCH($D836,'Transparency List 2018_10'!$L:$L,0),FALSE),IFERROR(MATCH(TRIM($G836),'Transparency List 2018_10'!$D:$D,0),FALSE)),\"On the 2018_10 List\",\"-\")","v":"-"},{"$f":"IF(OR(IFERROR(MATCH($D836,'Transparency List 2018_04'!$L:$L,0),FALSE),IFERROR(MATCH(TRIM($G836),'Transparency List 2018_04'!$D:$D,0),FALSE)),\"On the 2018_04 List\",\"-\")","v":"-"},{"$f":"IF(OR(IFERROR(MATCH($D836,'Transparency List 2017'!$L:$L,0),FALSE),IFERROR(MATCH(TRIM($G836),'Transparency List 2017'!$C:$C,0),FALSE)),\"On the 2017 List\",\"-\")","v":"-"},{"$f":"IF(OR(IFERROR(MATCH($D836,'Transparency List 2015'!$H:$H,0),FALSE),IFERROR(MATCH(TRIM($G836),'Transparency List 2015'!$C:$C,0),FALSE)),\"On the 2015 List\",\"-\")","v":"-"}]
[null,null,4,"",null,null,null,"-",{"$f":"IF(OR(IFERROR(MATCH($D837,'Transparency List 2018_10'!$L:$L,0),FALSE),IFERROR(MATCH(TRIM($G837),'Transparency List 2018_10'!$D:$D,0),FALSE)),\"On the 2018_10 List\",\"-\")","v":"-"},{"$f":"IF(OR(IFERROR(MATCH($D837,'Transparency List 2018_04'!$L:$L,0),FALSE),IFERROR(MATCH(TRIM($G837),'Transparency List 2018_04'!$D:$D,0),FALSE)),\"On the 2018_04 List\",\"-\")","v":"-"},{"$f":"IF(OR(IFERROR(MATCH($D837,'Transparency List 2017'!$L:$L,0),FALSE),IFERROR(MATCH(TRIM($G837),'Transparency List 2017'!$C:$C,0),FALSE)),\"On the 2017 List\",\"-\")","v":"-"},{"$f":"IF(OR(IFERROR(MATCH($D837,'Transparency List 2015'!$H:$H,0),FALSE),IFERROR(MATCH(TRIM($G837),'Transparency List 2015'!$C:$C,0),FALSE)),\"On the 2015 List\",\"-\")","v":"-"}]
[null,null,4,"",null,null,null,"-",{"$f":"IF(OR(IFERROR(MATCH($D838,'Transparency List 2018_10'!$L:$L,0),FALSE),IFERROR(MATCH(TRIM($G838),'Transparency List 2018_10'!$D:$D,0),FALSE)),\"On the 2018_10 List\",\"-\")","v":"-"},{"$f":"IF(OR(IFERROR(MATCH($D838,'Transparency List 2018_04'!$L:$L,0),FALSE),IFERROR(MATCH(TRIM($G838),'Transparency List 2018_04'!$D:$D,0),FALSE)),\"On the 2018_04 List\",\"-\")","v":"-"},{"$f":"IF(OR(IFERROR(MATCH($D838,'Transparency List 2017'!$L:$L,0),FALSE),IFERROR(MATCH(TRIM($G838),'Transparency List 2017'!$C:$C,0),FALSE)),\"On the 2017 List\",\"-\")","v":"-"},{"$f":"IF(OR(IFERROR(MATCH($D838,'Transparency List 2015'!$H:$H,0),FALSE),IFERROR(MATCH(TRIM($G838),'Transparency List 2015'!$C:$C,0),FALSE)),\"On the 2015 List\",\"-\")","v":"-"}]
[null,null,4,"",null,null,null,"-",{"$f":"IF(OR(IFERROR(MATCH($D839,'Transparency List 2018_10'!$L:$L,0),FALSE),IFERROR(MATCH(TRIM($G839),'Transparency List 2018_10'!$D:$D,0),FALSE)),\"On the 2018_10 List\",\"-\")","v":"-"},{"$f":"IF(OR(IFERROR(MATCH($D839,'Transparency List 2018_04'!$L:$L,0),FALSE),IFERROR(MATCH(TRIM($G839),'Transparency List 2018_04'!$D:$D,0),FALSE)),\"On the 2018_04 List\",\"-\")","v":"-"},{"$f":"IF(OR(IFERROR(MATCH($D839,'Transparency List 2017'!$L:$L,0),FALSE),IFERROR(MATCH(TRIM($G839),'Transparency List 2017'!$C:$C,0),FALSE)),\"On the 2017 List\",\"-\")","v":"-"},{"$f":"IF(OR(IFERROR(MATCH($D839,'Transparency List 2015'!$H:$H,0),FALSE),IFERROR(MATCH(TRIM($G839),'Transparency List 2015'!$C:$C,0),FALSE)),\"On the 2015 List\",\"-\")","v":"-"}]
[null,null,4,"",null,null,null,"-",{"$f":"IF(OR(IFERROR(MATCH($D840,'Transparency List 2018_10'!$L:$L,0),FALSE),IFERROR(MATCH(TRIM($G840),'Transparency List 2018_10'!$D:$D,0),FALSE)),\"On the 2018_10 List\",\"-\")","v":"-"},{"$f":"IF(OR(IFERROR(MATCH($D840,'Transparency List 2018_04'!$L:$L,0),FALSE),IFERROR(MATCH(TRIM($G840),'Transparency List 2018_04'!$D:$D,0),FALSE)),\"On the 2018_04 List\",\"-\")","v":"-"},{"$f":"IF(OR(IFERROR(MATCH($D840,'Transparency List 2017'!$L:$L,0),FALSE),IFERROR(MATCH(TRIM($G840),'Transparency List 2017'!$C:$C,0),FALSE)),\"On the 2017 List\",\"-\")","v":"-"},{"$f":"IF(OR(IFERROR(MATCH($D840,'Transparency List 2015'!$H:$H,0),FALSE),IFERROR(MATCH(TRIM($G840),'Transparency List 2015'!$C:$C,0),FALSE)),\"On the 2015 List\",\"-\")","v":"-"}]
[null,null,4,"",null,null,null,"-",{"$f":"IF(OR(IFERROR(MATCH($D841,'Transparency List 2018_10'!$L:$L,0),FALSE),IFERROR(MATCH(TRIM($G841),'Transparency List 2018_10'!$D:$D,0),FALSE)),\"On the 2018_10 List\",\"-\")","v":"-"},{"$f":"IF(OR(IFERROR(MATCH($D841,'Transparency List 2018_04'!$L:$L,0),FALSE),IFERROR(MATCH(TRIM($G841),'Transparency List 2018_04'!$D:$D,0),FALSE)),\"On the 2018_04 List\",\"-\")","v":"-"},{"$f":"IF(OR(IFERROR(MATCH($D841,'Transparency List 2017'!$L:$L,0),FALSE),IFERROR(MATCH(TRIM($G841),'Transparency List 2017'!$C:$C,0),FALSE)),\"On the 2017 List\",\"-\")","v":"-"},{"$f":"IF(OR(IFERROR(MATCH($D841,'Transparency List 2015'!$H:$H,0),FALSE),IFERROR(MATCH(TRIM($G841),'Transparency List 2015'!$C:$C,0),FALSE)),\"On the 2015 List\",\"-\")","v":"-"}]
[null,null,4,"",null,null,null,"-",{"$f":"IF(OR(IFERROR(MATCH($D842,'Transparency List 2018_10'!$L:$L,0),FALSE),IFERROR(MATCH(TRIM($G842),'Transparency List 2018_10'!$D:$D,0),FALSE)),\"On the 2018_10 List\",\"-\")","v":"-"},{"$f":"IF(OR(IFERROR(MATCH($D842,'Transparency List 2018_04'!$L:$L,0),FALSE),IFERROR(MATCH(TRIM($G842),'Transparency List 2018_04'!$D:$D,0),FALSE)),\"On the 2018_04 List\",\"-\")","v":"-"},{"$f":"IF(OR(IFERROR(MATCH($D842,'Transparency List 2017'!$L:$L,0),FALSE),IFERROR(MATCH(TRIM($G842),'Transparency List 2017'!$C:$C,0),FALSE)),\"On the 2017 List\",\"-\")","v":"-"},{"$f":"IF(OR(IFERROR(MATCH($D842,'Transparency List 2015'!$H:$H,0),FALSE),IFERROR(MATCH(TRIM($G842),'Transparency List 2015'!$C:$C,0),FALSE)),\"On the 2015 List\",\"-\")","v":"-"}]
[null,null,4,"",null,null,null,"-",{"$f":"IF(OR(IFERROR(MATCH($D843,'Transparency List 2018_10'!$L:$L,0),FALSE),IFERROR(MATCH(TRIM($G843),'Transparency List 2018_10'!$D:$D,0),FALSE)),\"On the 2018_10 List\",\"-\")","v":"-"},{"$f":"IF(OR(IFERROR(MATCH($D843,'Transparency List 2018_04'!$L:$L,0),FALSE),IFERROR(MATCH(TRIM($G843),'Transparency List 2018_04'!$D:$D,0),FALSE)),\"On the 2018_04 List\",\"-\")","v":"-"},{"$f":"IF(OR(IFERROR(MATCH($D843,'Transparency List 2017'!$L:$L,0),FALSE),IFERROR(MATCH(TRIM($G843),'Transparency List 2017'!$C:$C,0),FALSE)),\"On the 2017 List\",\"-\")","v":"-"},{"$f":"IF(OR(IFERROR(MATCH($D843,'Transparency List 2015'!$H:$H,0),FALSE),IFERROR(MATCH(TRIM($G843),'Transparency List 2015'!$C:$C,0),FALSE)),\"On the 2015 List\",\"-\")","v":"-"}]
[null,null,4,"",null,null,null,"-",{"$f":"IF(OR(IFERROR(MATCH($D844,'Transparency List 2018_10'!$L:$L,0),FALSE),IFERROR(MATCH(TRIM($G844),'Transparency List 2018_10'!$D:$D,0),FALSE)),\"On the 2018_10 List\",\"-\")","v":"-"},{"$f":"IF(OR(IFERROR(MATCH($D844,'Transparency List 2018_04'!$L:$L,0),FALSE),IFERROR(MATCH(TRIM($G844),'Transparency List 2018_04'!$D:$D,0),FALSE)),\"On the 2018_04 List\",\"-\")","v":"-"},{"$f":"IF(OR(IFERROR(MATCH($D844,'Transparency List 2017'!$L:$L,0),FALSE),IFERROR(MATCH(TRIM($G844),'Transparency List 2017'!$C:$C,0),FALSE)),\"On the 2017 List\",\"-\")","v":"-"},{"$f":"IF(OR(IFERROR(MATCH($D844,'Transparency List 2015'!$H:$H,0),FALSE),IFERROR(MATCH(TRIM($G844),'Transparency List 2015'!$C:$C,0),FALSE)),\"On the 2015 List\",\"-\")","v":"-"}]
[null,null,4,"",null,null,null,"-",{"$f":"IF(OR(IFERROR(MATCH($D845,'Transparency List 2018_10'!$L:$L,0),FALSE),IFERROR(MATCH(TRIM($G845),'Transparency List 2018_10'!$D:$D,0),FALSE)),\"On the 2018_10 List\",\"-\")","v":"-"},{"$f":"IF(OR(IFERROR(MATCH($D845,'Transparency List 2018_04'!$L:$L,0),FALSE),IFERROR(MATCH(TRIM($G845),'Transparency List 2018_04'!$D:$D,0),FALSE)),\"On the 2018_04 List\",\"-\")","v":"-"},{"$f":"IF(OR(IFERROR(MATCH($D845,'Transparency List 2017'!$L:$L,0),FALSE),IFERROR(MATCH(TRIM($G845),'Transparency List 2017'!$C:$C,0),FALSE)),\"On the 2017 List\",\"-\")","v":"-"},{"$f":"IF(OR(IFERROR(MATCH($D845,'Transparency List 2015'!$H:$H,0),FALSE),IFERROR(MATCH(TRIM($G845),'Transparency List 2015'!$C:$C,0),FALSE)),\"On the 2015 List\",\"-\")","v":"-"}]
[null,null,4,"",null,null,null,"-",{"$f":"IF(OR(IFERROR(MATCH($D846,'Transparency List 2018_10'!$L:$L,0),FALSE),IFERROR(MATCH(TRIM($G846),'Transparency List 2018_10'!$D:$D,0),FALSE)),\"On the 2018_10 List\",\"-\")","v":"-"},{"$f":"IF(OR(IFERROR(MATCH($D846,'Transparency List 2018_04'!$L:$L,0),FALSE),IFERROR(MATCH(TRIM($G846),'Transparency List 2018_04'!$D:$D,0),FALSE)),\"On the 2018_04 List\",\"-\")","v":"-"},{"$f":"IF(OR(IFERROR(MATCH($D846,'Transparency List 2017'!$L:$L,0),FALSE),IFERROR(MATCH(TRIM($G846),'Transparency List 2017'!$C:$C,0),FALSE)),\"On the 2017 List\",\"-\")","v":"-"},{"$f":"IF(OR(IFERROR(MATCH($D846,'Transparency List 2015'!$H:$H,0),FALSE),IFERROR(MATCH(TRIM($G846),'Transparency List 2015'!$C:$C,0),FALSE)),\"On the 2015 List\",\"-\")","v":"-"}]
[null,null,4,"",null,null,null,"-",{"$f":"IF(OR(IFERROR(MATCH($D847,'Transparency List 2018_10'!$L:$L,0),FALSE),IFERROR(MATCH(TRIM($G847),'Transparency List 2018_10'!$D:$D,0),FALSE)),\"On the 2018_10 List\",\"-\")","v":"-"},{"$f":"IF(OR(IFERROR(MATCH($D847,'Transparency List 2018_04'!$L:$L,0),FALSE),IFERROR(MATCH(TRIM($G847),'Transparency List 2018_04'!$D:$D,0),FALSE)),\"On the 2018_04 List\",\"-\")","v":"-"},{"$f":"IF(OR(IFERROR(MATCH($D847,'Transparency List 2017'!$L:$L,0),FALSE),IFERROR(MATCH(TRIM($G847),'Transparency List 2017'!$C:$C,0),FALSE)),\"On the 2017 List\",\"-\")","v":"-"},{"$f":"IF(OR(IFERROR(MATCH($D847,'Transparency List 2015'!$H:$H,0),FALSE),IFERROR(MATCH(TRIM($G847),'Transparency List 2015'!$C:$C,0),FALSE)),\"On the 2015 List\",\"-\")","v":"-"}]
[null,null,4,"",null,null,null,"-",{"$f":"IF(OR(IFERROR(MATCH($D848,'Transparency List 2018_10'!$L:$L,0),FALSE),IFERROR(MATCH(TRIM($G848),'Transparency List 2018_10'!$D:$D,0),FALSE)),\"On the 2018_10 List\",\"-\")","v":"-"},{"$f":"IF(OR(IFERROR(MATCH($D848,'Transparency List 2018_04'!$L:$L,0),FALSE),IFERROR(MATCH(TRIM($G848),'Transparency List 2018_04'!$D:$D,0),FALSE)),\"On the 2018_04 List\",\"-\")","v":"-"},{"$f":"IF(OR(IFERROR(MATCH($D848,'Transparency List 2017'!$L:$L,0),FALSE),IFERROR(MATCH(TRIM($G848),'Transparency List 2017'!$C:$C,0),FALSE)),\"On the 2017 List\",\"-\")","v":"-"},{"$f":"IF(OR(IFERROR(MATCH($D848,'Transparency List 2015'!$H:$H,0),FALSE),IFERROR(MATCH(TRIM($G848),'Transparency List 2015'!$C:$C,0),FALSE)),\"On the 2015 List\",\"-\")","v":"-"}]
[null,null,4,"",null,null,null,"-",{"$f":"IF(OR(IFERROR(MATCH($D849,'Transparency List 2018_10'!$L:$L,0),FALSE),IFERROR(MATCH(TRIM($G849),'Transparency List 2018_10'!$D:$D,0),FALSE)),\"On the 2018_10 List\",\"-\")","v":"-"},{"$f":"IF(OR(IFERROR(MATCH($D849,'Transparency List 2018_04'!$L:$L,0),FALSE),IFERROR(MATCH(TRIM($G849),'Transparency List 2018_04'!$D:$D,0),FALSE)),\"On the 2018_04 List\",\"-\")","v":"-"},{"$f":"IF(OR(IFERROR(MATCH($D849,'Transparency List 2017'!$L:$L,0),FALSE),IFERROR(MATCH(TRIM($G849),'Transparency List 2017'!$C:$C,0),FALSE)),\"On the 2017 List\",\"-\")","v":"-"},{"$f":"IF(OR(IFERROR(MATCH($D849,'Transparency List 2015'!$H:$H,0),FALSE),IFERROR(MATCH(TRIM($G849),'Transparency List 2015'!$C:$C,0),FALSE)),\"On the 2015 List\",\"-\")","v":"-"}]
[null,null,4,"",null,null,null,"-",{"$f":"IF(OR(IFERROR(MATCH($D850,'Transparency List 2018_10'!$L:$L,0),FALSE),IFERROR(MATCH(TRIM($G850),'Transparency List 2018_10'!$D:$D,0),FALSE)),\"On the 2018_10 List\",\"-\")","v":"-"},{"$f":"IF(OR(IFERROR(MATCH($D850,'Transparency List 2018_04'!$L:$L,0),FALSE),IFERROR(MATCH(TRIM($G850),'Transparency List 2018_04'!$D:$D,0),FALSE)),\"On the 2018_04 List\",\"-\")","v":"-"},{"$f":"IF(OR(IFERROR(MATCH($D850,'Transparency List 2017'!$L:$L,0),FALSE),IFERROR(MATCH(TRIM($G850),'Transparency List 2017'!$C:$C,0),FALSE)),\"On the 2017 List\",\"-\")","v":"-"},{"$f":"IF(OR(IFERROR(MATCH($D850,'Transparency List 2015'!$H:$H,0),FALSE),IFERROR(MATCH(TRIM($G850),'Transparency List 2015'!$C:$C,0),FALSE)),\"On the 2015 List\",\"-\")","v":"-"}]
[null,null,4,"",null,null,null,"-",{"$f":"IF(OR(IFERROR(MATCH($D851,'Transparency List 2018_10'!$L:$L,0),FALSE),IFERROR(MATCH(TRIM($G851),'Transparency List 2018_10'!$D:$D,0),FALSE)),\"On the 2018_10 List\",\"-\")","v":"-"},{"$f":"IF(OR(IFERROR(MATCH($D851,'Transparency List 2018_04'!$L:$L,0),FALSE),IFERROR(MATCH(TRIM($G851),'Transparency List 2018_04'!$D:$D,0),FALSE)),\"On the 2018_04 List\",\"-\")","v":"-"},{"$f":"IF(OR(IFERROR(MATCH($D851,'Transparency List 2017'!$L:$L,0),FALSE),IFERROR(MATCH(TRIM($G851),'Transparency List 2017'!$C:$C,0),FALSE)),\"On the 2017 List\",\"-\")","v":"-"},{"$f":"IF(OR(IFERROR(MATCH($D851,'Transparency List 2015'!$H:$H,0),FALSE),IFERROR(MATCH(TRIM($G851),'Transparency List 2015'!$C:$C,0),FALSE)),\"On the 2015 List\",\"-\")","v":"-"}]
[null,null,4,"",null,null,null,"-",{"$f":"IF(OR(IFERROR(MATCH($D852,'Transparency List 2018_10'!$L:$L,0),FALSE),IFERROR(MATCH(TRIM($G852),'Transparency List 2018_10'!$D:$D,0),FALSE)),\"On the 2018_10 List\",\"-\")","v":"-"},{"$f":"IF(OR(IFERROR(MATCH($D852,'Transparency List 2018_04'!$L:$L,0),FALSE),IFERROR(MATCH(TRIM($G852),'Transparency List 2018_04'!$D:$D,0),FALSE)),\"On the 2018_04 List\",\"-\")","v":"-"},{"$f":"IF(OR(IFERROR(MATCH($D852,'Transparency List 2017'!$L:$L,0),FALSE),IFERROR(MATCH(TRIM($G852),'Transparency List 2017'!$C:$C,0),FALSE)),\"On the 2017 List\",\"-\")","v":"-"},{"$f":"IF(OR(IFERROR(MATCH($D852,'Transparency List 2015'!$H:$H,0),FALSE),IFERROR(MATCH(TRIM($G852),'Transparency List 2015'!$C:$C,0),FALSE)),\"On the 2015 List\",\"-\")","v":"-"}]
[null,null,4,"",null,null,null,"-",{"$f":"IF(OR(IFERROR(MATCH($D853,'Transparency List 2018_10'!$L:$L,0),FALSE),IFERROR(MATCH(TRIM($G853),'Transparency List 2018_10'!$D:$D,0),FALSE)),\"On the 2018_10 List\",\"-\")","v":"-"},{"$f":"IF(OR(IFERROR(MATCH($D853,'Transparency List 2018_04'!$L:$L,0),FALSE),IFERROR(MATCH(TRIM($G853),'Transparency List 2018_04'!$D:$D,0),FALSE)),\"On the 2018_04 List\",\"-\")","v":"-"},{"$f":"IF(OR(IFERROR(MATCH($D853,'Transparency List 2017'!$L:$L,0),FALSE),IFERROR(MATCH(TRIM($G853),'Transparency List 2017'!$C:$C,0),FALSE)),\"On the 2017 List\",\"-\")","v":"-"},{"$f":"IF(OR(IFERROR(MATCH($D853,'Transparency List 2015'!$H:$H,0),FALSE),IFERROR(MATCH(TRIM($G853),'Transparency List 2015'!$C:$C,0),FALSE)),\"On the 2015 List\",\"-\")","v":"-"}]
[null,null,4,"",null,null,null,"-",{"$f":"IF(OR(IFERROR(MATCH($D854,'Transparency List 2018_10'!$L:$L,0),FALSE),IFERROR(MATCH(TRIM($G854),'Transparency List 2018_10'!$D:$D,0),FALSE)),\"On the 2018_10 List\",\"-\")","v":"-"},{"$f":"IF(OR(IFERROR(MATCH($D854,'Transparency List 2018_04'!$L:$L,0),FALSE),IFERROR(MATCH(TRIM($G854),'Transparency List 2018_04'!$D:$D,0),FALSE)),\"On the 2018_04 List\",\"-\")","v":"-"},{"$f":"IF(OR(IFERROR(MATCH($D854,'Transparency List 2017'!$L:$L,0),FALSE),IFERROR(MATCH(TRIM($G854),'Transparency List 2017'!$C:$C,0),FALSE)),\"On the 2017 List\",\"-\")","v":"-"},{"$f":"IF(OR(IFERROR(MATCH($D854,'Transparency List 2015'!$H:$H,0),FALSE),IFERROR(MATCH(TRIM($G854),'Transparency List 2015'!$C:$C,0),FALSE)),\"On the 2015 List\",\"-\")","v":"-"}]
[null,null,4,"",null,null,null,"-",{"$f":"IF(OR(IFERROR(MATCH($D855,'Transparency List 2018_10'!$L:$L,0),FALSE),IFERROR(MATCH(TRIM($G855),'Transparency List 2018_10'!$D:$D,0),FALSE)),\"On the 2018_10 List\",\"-\")","v":"-"},{"$f":"IF(OR(IFERROR(MATCH($D855,'Transparency List 2018_04'!$L:$L,0),FALSE),IFERROR(MATCH(TRIM($G855),'Transparency List 2018_04'!$D:$D,0),FALSE)),\"On the 2018_04 List\",\"-\")","v":"-"},{"$f":"IF(OR(IFERROR(MATCH($D855,'Transparency List 2017'!$L:$L,0),FALSE),IFERROR(MATCH(TRIM($G855),'Transparency List 2017'!$C:$C,0),FALSE)),\"On the 2017 List\",\"-\")","v":"-"},{"$f":"IF(OR(IFERROR(MATCH($D855,'Transparency List 2015'!$H:$H,0),FALSE),IFERROR(MATCH(TRIM($G855),'Transparency List 2015'!$C:$C,0),FALSE)),\"On the 2015 List\",\"-\")","v":"-"}]
[null,null,4,"",null,null,null,"-",{"$f":"IF(OR(IFERROR(MATCH($D856,'Transparency List 2018_10'!$L:$L,0),FALSE),IFERROR(MATCH(TRIM($G856),'Transparency List 2018_10'!$D:$D,0),FALSE)),\"On the 2018_10 List\",\"-\")","v":"-"},{"$f":"IF(OR(IFERROR(MATCH($D856,'Transparency List 2018_04'!$L:$L,0),FALSE),IFERROR(MATCH(TRIM($G856),'Transparency List 2018_04'!$D:$D,0),FALSE)),\"On the 2018_04 List\",\"-\")","v":"-"},{"$f":"IF(OR(IFERROR(MATCH($D856,'Transparency List 2017'!$L:$L,0),FALSE),IFERROR(MATCH(TRIM($G856),'Transparency List 2017'!$C:$C,0),FALSE)),\"On the 2017 List\",\"-\")","v":"-"},{"$f":"IF(OR(IFERROR(MATCH($D856,'Transparency List 2015'!$H:$H,0),FALSE),IFERROR(MATCH(TRIM($G856),'Transparency List 2015'!$C:$C,0),FALSE)),\"On the 2015 List\",\"-\")","v":"-"}]
[null,null,4,"",null,null,null,"-",{"$f":"IF(OR(IFERROR(MATCH($D857,'Transparency List 2018_10'!$L:$L,0),FALSE),IFERROR(MATCH(TRIM($G857),'Transparency List 2018_10'!$D:$D,0),FALSE)),\"On the 2018_10 List\",\"-\")","v":"-"},{"$f":"IF(OR(IFERROR(MATCH($D857,'Transparency List 2018_04'!$L:$L,0),FALSE),IFERROR(MATCH(TRIM($G857),'Transparency List 2018_04'!$D:$D,0),FALSE)),\"On the 2018_04 List\",\"-\")","v":"-"},{"$f":"IF(OR(IFERROR(MATCH($D857,'Transparency List 2017'!$L:$L,0),FALSE),IFERROR(MATCH(TRIM($G857),'Transparency List 2017'!$C:$C,0),FALSE)),\"On the 2017 List\",\"-\")","v":"-"},{"$f":"IF(OR(IFERROR(MATCH($D857,'Transparency List 2015'!$H:$H,0),FALSE),IFERROR(MATCH(TRIM($G857),'Transparency List 2015'!$C:$C,0),FALSE)),\"On the 2015 List\",\"-\")","v":"-"}]
[null,null,4,"",null,null,null,"-",{"$f":"IF(OR(IFERROR(MATCH($D858,'Transparency List 2018_10'!$L:$L,0),FALSE),IFERROR(MATCH(TRIM($G858),'Transparency List 2018_10'!$D:$D,0),FALSE)),\"On the 2018_10 List\",\"-\")","v":"-"},{"$f":"IF(OR(IFERROR(MATCH($D858,'Transparency List 2018_04'!$L:$L,0),FALSE),IFERROR(MATCH(TRIM($G858),'Transparency List 2018_04'!$D:$D,0),FALSE)),\"On the 2018_04 List\",\"-\")","v":"-"},{"$f":"IF(OR(IFERROR(MATCH($D858,'Transparency List 2017'!$L:$L,0),FALSE),IFERROR(MATCH(TRIM($G858),'Transparency List 2017'!$C:$C,0),FALSE)),\"On the 2017 List\",\"-\")","v":"-"},{"$f":"IF(OR(IFERROR(MATCH($D858,'Transparency List 2015'!$H:$H,0),FALSE),IFERROR(MATCH(TRIM($G858),'Transparency List 2015'!$C:$C,0),FALSE)),\"On the 2015 List\",\"-\")","v":"-"}]
[null,null,4,"",null,null,null,"-",{"$f":"IF(OR(IFERROR(MATCH($D859,'Transparency List 2018_10'!$L:$L,0),FALSE),IFERROR(MATCH(TRIM($G859),'Transparency List 2018_10'!$D:$D,0),FALSE)),\"On the 2018_10 List\",\"-\")","v":"-"},{"$f":"IF(OR(IFERROR(MATCH($D859,'Transparency List 2018_04'!$L:$L,0),FALSE),IFERROR(MATCH(TRIM($G859),'Transparency List 2018_04'!$D:$D,0),FALSE)),\"On the 2018_04 List\",\"-\")","v":"-"},{"$f":"IF(OR(IFERROR(MATCH($D859,'Transparency List 2017'!$L:$L,0),FALSE),IFERROR(MATCH(TRIM($G859),'Transparency List 2017'!$C:$C,0),FALSE)),\"On the 2017 List\",\"-\")","v":"-"},{"$f":"IF(OR(IFERROR(MATCH($D859,'Transparency List 2015'!$H:$H,0),FALSE),IFERROR(MATCH(TRIM($G859),'Transparency List 2015'!$C:$C,0),FALSE)),\"On the 2015 List\",\"-\")","v":"-"}]
[null,null,4,"",null,null,null,"-",{"$f":"IF(OR(IFERROR(MATCH($D860,'Transparency List 2018_10'!$L:$L,0),FALSE),IFERROR(MATCH(TRIM($G860),'Transparency List 2018_10'!$D:$D,0),FALSE)),\"On the 2018_10 List\",\"-\")","v":"-"},{"$f":"IF(OR(IFERROR(MATCH($D860,'Transparency List 2018_04'!$L:$L,0),FALSE),IFERROR(MATCH(TRIM($G860),'Transparency List 2018_04'!$D:$D,0),FALSE)),\"On the 2018_04 List\",\"-\")","v":"-"},{"$f":"IF(OR(IFERROR(MATCH($D860,'Transparency List 2017'!$L:$L,0),FALSE),IFERROR(MATCH(TRIM($G860),'Transparency List 2017'!$C:$C,0),FALSE)),\"On the 2017 List\",\"-\")","v":"-"},{"$f":"IF(OR(IFERROR(MATCH($D860,'Transparency List 2015'!$H:$H,0),FALSE),IFERROR(MATCH(TRIM($G860),'Transparency List 2015'!$C:$C,0),FALSE)),\"On the 2015 List\",\"-\")","v":"-"}]
[null,null,4,"",null,null,null,"-",{"$f":"IF(OR(IFERROR(MATCH($D861,'Transparency List 2018_10'!$L:$L,0),FALSE),IFERROR(MATCH(TRIM($G861),'Transparency List 2018_10'!$D:$D,0),FALSE)),\"On the 2018_10 List\",\"-\")","v":"-"},{"$f":"IF(OR(IFERROR(MATCH($D861,'Transparency List 2018_04'!$L:$L,0),FALSE),IFERROR(MATCH(TRIM($G861),'Transparency List 2018_04'!$D:$D,0),FALSE)),\"On the 2018_04 List\",\"-\")","v":"-"},{"$f":"IF(OR(IFERROR(MATCH($D861,'Transparency List 2017'!$L:$L,0),FALSE),IFERROR(MATCH(TRIM($G861),'Transparency List 2017'!$C:$C,0),FALSE)),\"On the 2017 List\",\"-\")","v":"-"},{"$f":"IF(OR(IFERROR(MATCH($D861,'Transparency List 2015'!$H:$H,0),FALSE),IFERROR(MATCH(TRIM($G861),'Transparency List 2015'!$C:$C,0),FALSE)),\"On the 2015 List\",\"-\")","v":"-"}]
[null,null,4,"",null,null,null,"-",{"$f":"IF(OR(IFERROR(MATCH($D862,'Transparency List 2018_10'!$L:$L,0),FALSE),IFERROR(MATCH(TRIM($G862),'Transparency List 2018_10'!$D:$D,0),FALSE)),\"On the 2018_10 List\",\"-\")","v":"-"},{"$f":"IF(OR(IFERROR(MATCH($D862,'Transparency List 2018_04'!$L:$L,0),FALSE),IFERROR(MATCH(TRIM($G862),'Transparency List 2018_04'!$D:$D,0),FALSE)),\"On the 2018_04 List\",\"-\")","v":"-"},{"$f":"IF(OR(IFERROR(MATCH($D862,'Transparency List 2017'!$L:$L,0),FALSE),IFERROR(MATCH(TRIM($G862),'Transparency List 2017'!$C:$C,0),FALSE)),\"On the 2017 List\",\"-\")","v":"-"},{"$f":"IF(OR(IFERROR(MATCH($D862,'Transparency List 2015'!$H:$H,0),FALSE),IFERROR(MATCH(TRIM($G862),'Transparency List 2015'!$C:$C,0),FALSE)),\"On the 2015 List\",\"-\")","v":"-"}]
[null,null,{"$f":"COUNTIF($I863:$L863,\"-\")","v":4},{"$f":"SUBSTITUTE(SUBSTITUTE(SUBSTITUTE(SUBSTITUTE($G863,\" \",\"\"),\".\",\"\"),\"-\",\"\"),\"/\",\"\")","v":""},null,null,null,{"$f":"IFERROR(IF($C863=4,\"-\",\"Risk Farmer - Please conduct further steps\"),)","v":"-"},{"$f":"IF(OR(IFERROR(MATCH($D863,'Transparency List 2018_10'!$L:$L,0),FALSE),IFERROR(MATCH(TRIM($G863),'Transparency List 2018_10'!$D:$D,0),FALSE)),\"On the 2018_10 List\",\"-\")","v":"-"},{"$f":"IF(OR(IFERROR(MATCH($D863,'Transparency List 2018_04'!$L:$L,0),FALSE),IFERROR(MATCH(TRIM($G863),'Transparency List 2018_04'!$D:$D,0),FALSE)),\"On the 2018_04 List\",\"-\")","v":"-"},{"$f":"IF(OR(IFERROR(MATCH($D863,'Transparency List 2017'!$L:$L,0),FALSE),IFERROR(MATCH(TRIM($G863),'Transparency List 2017'!$C:$C,0),FALSE)),\"On the 2017 List\",\"-\")","v":"-"},{"$f":"IF(OR(IFERROR(MATCH($D863,'Transparency List 2015'!$H:$H,0),FALSE),IFERROR(MATCH(TRIM($G863),'Transparency List 2015'!$C:$C,0),FALSE)),\"On the 2015 List\",\"-\")","v":"-"}]
[null,null,4,"",null,null,null,"-",{"$f":"IF(OR(IFERROR(MATCH($D864,'Transparency List 2018_10'!$L:$L,0),FALSE),IFERROR(MATCH(TRIM($G864),'Transparency List 2018_10'!$D:$D,0),FALSE)),\"On the 2018_10 List\",\"-\")","v":"-"},{"$f":"IF(OR(IFERROR(MATCH($D864,'Transparency List 2018_04'!$L:$L,0),FALSE),IFERROR(MATCH(TRIM($G864),'Transparency List 2018_04'!$D:$D,0),FALSE)),\"On the 2018_04 List\",\"-\")","v":"-"},{"$f":"IF(OR(IFERROR(MATCH($D864,'Transparency List 2017'!$L:$L,0),FALSE),IFERROR(MATCH(TRIM($G864),'Transparency List 2017'!$C:$C,0),FALSE)),\"On the 2017 List\",\"-\")","v":"-"},{"$f":"IF(OR(IFERROR(MATCH($D864,'Transparency List 2015'!$H:$H,0),FALSE),IFERROR(MATCH(TRIM($G864),'Transparency List 2015'!$C:$C,0),FALSE)),\"On the 2015 List\",\"-\")","v":"-"}]
[null,null,4,"",null,null,null,"-",{"$f":"IF(OR(IFERROR(MATCH($D865,'Transparency List 2018_10'!$L:$L,0),FALSE),IFERROR(MATCH(TRIM($G865),'Transparency List 2018_10'!$D:$D,0),FALSE)),\"On the 2018_10 List\",\"-\")","v":"-"},{"$f":"IF(OR(IFERROR(MATCH($D865,'Transparency List 2018_04'!$L:$L,0),FALSE),IFERROR(MATCH(TRIM($G865),'Transparency List 2018_04'!$D:$D,0),FALSE)),\"On the 2018_04 List\",\"-\")","v":"-"},{"$f":"IF(OR(IFERROR(MATCH($D865,'Transparency List 2017'!$L:$L,0),FALSE),IFERROR(MATCH(TRIM($G865),'Transparency List 2017'!$C:$C,0),FALSE)),\"On the 2017 List\",\"-\")","v":"-"},{"$f":"IF(OR(IFERROR(MATCH($D865,'Transparency List 2015'!$H:$H,0),FALSE),IFERROR(MATCH(TRIM($G865),'Transparency List 2015'!$C:$C,0),FALSE)),\"On the 2015 List\",\"-\")","v":"-"}]
[null,null,4,"",null,null,null,"-",{"$f":"IF(OR(IFERROR(MATCH($D866,'Transparency List 2018_10'!$L:$L,0),FALSE),IFERROR(MATCH(TRIM($G866),'Transparency List 2018_10'!$D:$D,0),FALSE)),\"On the 2018_10 List\",\"-\")","v":"-"},{"$f":"IF(OR(IFERROR(MATCH($D866,'Transparency List 2018_04'!$L:$L,0),FALSE),IFERROR(MATCH(TRIM($G866),'Transparency List 2018_04'!$D:$D,0),FALSE)),\"On the 2018_04 List\",\"-\")","v":"-"},{"$f":"IF(OR(IFERROR(MATCH($D866,'Transparency List 2017'!$L:$L,0),FALSE),IFERROR(MATCH(TRIM($G866),'Transparency List 2017'!$C:$C,0),FALSE)),\"On the 2017 List\",\"-\")","v":"-"},{"$f":"IF(OR(IFERROR(MATCH($D866,'Transparency List 2015'!$H:$H,0),FALSE),IFERROR(MATCH(TRIM($G866),'Transparency List 2015'!$C:$C,0),FALSE)),\"On the 2015 List\",\"-\")","v":"-"}]
[null,null,4,"",null,null,null,"-",{"$f":"IF(OR(IFERROR(MATCH($D867,'Transparency List 2018_10'!$L:$L,0),FALSE),IFERROR(MATCH(TRIM($G867),'Transparency List 2018_10'!$D:$D,0),FALSE)),\"On the 2018_10 List\",\"-\")","v":"-"},{"$f":"IF(OR(IFERROR(MATCH($D867,'Transparency List 2018_04'!$L:$L,0),FALSE),IFERROR(MATCH(TRIM($G867),'Transparency List 2018_04'!$D:$D,0),FALSE)),\"On the 2018_04 List\",\"-\")","v":"-"},{"$f":"IF(OR(IFERROR(MATCH($D867,'Transparency List 2017'!$L:$L,0),FALSE),IFERROR(MATCH(TRIM($G867),'Transparency List 2017'!$C:$C,0),FALSE)),\"On the 2017 List\",\"-\")","v":"-"},{"$f":"IF(OR(IFERROR(MATCH($D867,'Transparency List 2015'!$H:$H,0),FALSE),IFERROR(MATCH(TRIM($G867),'Transparency List 2015'!$C:$C,0),FALSE)),\"On the 2015 List\",\"-\")","v":"-"}]
[null,null,4,"",null,null,null,"-",{"$f":"IF(OR(IFERROR(MATCH($D868,'Transparency List 2018_10'!$L:$L,0),FALSE),IFERROR(MATCH(TRIM($G868),'Transparency List 2018_10'!$D:$D,0),FALSE)),\"On the 2018_10 List\",\"-\")","v":"-"},{"$f":"IF(OR(IFERROR(MATCH($D868,'Transparency List 2018_04'!$L:$L,0),FALSE),IFERROR(MATCH(TRIM($G868),'Transparency List 2018_04'!$D:$D,0),FALSE)),\"On the 2018_04 List\",\"-\")","v":"-"},{"$f":"IF(OR(IFERROR(MATCH($D868,'Transparency List 2017'!$L:$L,0),FALSE),IFERROR(MATCH(TRIM($G868),'Transparency List 2017'!$C:$C,0),FALSE)),\"On the 2017 List\",\"-\")","v":"-"},{"$f":"IF(OR(IFERROR(MATCH($D868,'Transparency List 2015'!$H:$H,0),FALSE),IFERROR(MATCH(TRIM($G868),'Transparency List 2015'!$C:$C,0),FALSE)),\"On the 2015 List\",\"-\")","v":"-"}]
[null,null,4,"",null,null,null,"-",{"$f":"IF(OR(IFERROR(MATCH($D869,'Transparency List 2018_10'!$L:$L,0),FALSE),IFERROR(MATCH(TRIM($G869),'Transparency List 2018_10'!$D:$D,0),FALSE)),\"On the 2018_10 List\",\"-\")","v":"-"},{"$f":"IF(OR(IFERROR(MATCH($D869,'Transparency List 2018_04'!$L:$L,0),FALSE),IFERROR(MATCH(TRIM($G869),'Transparency List 2018_04'!$D:$D,0),FALSE)),\"On the 2018_04 List\",\"-\")","v":"-"},{"$f":"IF(OR(IFERROR(MATCH($D869,'Transparency List 2017'!$L:$L,0),FALSE),IFERROR(MATCH(TRIM($G869),'Transparency List 2017'!$C:$C,0),FALSE)),\"On the 2017 List\",\"-\")","v":"-"},{"$f":"IF(OR(IFERROR(MATCH($D869,'Transparency List 2015'!$H:$H,0),FALSE),IFERROR(MATCH(TRIM($G869),'Transparency List 2015'!$C:$C,0),FALSE)),\"On the 2015 List\",\"-\")","v":"-"}]
[null,null,4,"",null,null,null,"-",{"$f":"IF(OR(IFERROR(MATCH($D870,'Transparency List 2018_10'!$L:$L,0),FALSE),IFERROR(MATCH(TRIM($G870),'Transparency List 2018_10'!$D:$D,0),FALSE)),\"On the 2018_10 List\",\"-\")","v":"-"},{"$f":"IF(OR(IFERROR(MATCH($D870,'Transparency List 2018_04'!$L:$L,0),FALSE),IFERROR(MATCH(TRIM($G870),'Transparency List 2018_04'!$D:$D,0),FALSE)),\"On the 2018_04 List\",\"-\")","v":"-"},{"$f":"IF(OR(IFERROR(MATCH($D870,'Transparency List 2017'!$L:$L,0),FALSE),IFERROR(MATCH(TRIM($G870),'Transparency List 2017'!$C:$C,0),FALSE)),\"On the 2017 List\",\"-\")","v":"-"},{"$f":"IF(OR(IFERROR(MATCH($D870,'Transparency List 2015'!$H:$H,0),FALSE),IFERROR(MATCH(TRIM($G870),'Transparency List 2015'!$C:$C,0),FALSE)),\"On the 2015 List\",\"-\")","v":"-"}]
[null,null,4,"",null,null,null,"-",{"$f":"IF(OR(IFERROR(MATCH($D871,'Transparency List 2018_10'!$L:$L,0),FALSE),IFERROR(MATCH(TRIM($G871),'Transparency List 2018_10'!$D:$D,0),FALSE)),\"On the 2018_10 List\",\"-\")","v":"-"},{"$f":"IF(OR(IFERROR(MATCH($D871,'Transparency List 2018_04'!$L:$L,0),FALSE),IFERROR(MATCH(TRIM($G871),'Transparency List 2018_04'!$D:$D,0),FALSE)),\"On the 2018_04 List\",\"-\")","v":"-"},{"$f":"IF(OR(IFERROR(MATCH($D871,'Transparency List 2017'!$L:$L,0),FALSE),IFERROR(MATCH(TRIM($G871),'Transparency List 2017'!$C:$C,0),FALSE)),\"On the 2017 List\",\"-\")","v":"-"},{"$f":"IF(OR(IFERROR(MATCH($D871,'Transparency List 2015'!$H:$H,0),FALSE),IFERROR(MATCH(TRIM($G871),'Transparency List 2015'!$C:$C,0),FALSE)),\"On the 2015 List\",\"-\")","v":"-"}]
[null,null,4,"",null,null,null,"-",{"$f":"IF(OR(IFERROR(MATCH($D872,'Transparency List 2018_10'!$L:$L,0),FALSE),IFERROR(MATCH(TRIM($G872),'Transparency List 2018_10'!$D:$D,0),FALSE)),\"On the 2018_10 List\",\"-\")","v":"-"},{"$f":"IF(OR(IFERROR(MATCH($D872,'Transparency List 2018_04'!$L:$L,0),FALSE),IFERROR(MATCH(TRIM($G872),'Transparency List 2018_04'!$D:$D,0),FALSE)),\"On the 2018_04 List\",\"-\")","v":"-"},{"$f":"IF(OR(IFERROR(MATCH($D872,'Transparency List 2017'!$L:$L,0),FALSE),IFERROR(MATCH(TRIM($G872),'Transparency List 2017'!$C:$C,0),FALSE)),\"On the 2017 List\",\"-\")","v":"-"},{"$f":"IF(OR(IFERROR(MATCH($D872,'Transparency List 2015'!$H:$H,0),FALSE),IFERROR(MATCH(TRIM($G872),'Transparency List 2015'!$C:$C,0),FALSE)),\"On the 2015 List\",\"-\")","v":"-"}]
[null,null,4,"",null,null,null,"-",{"$f":"IF(OR(IFERROR(MATCH($D873,'Transparency List 2018_10'!$L:$L,0),FALSE),IFERROR(MATCH(TRIM($G873),'Transparency List 2018_10'!$D:$D,0),FALSE)),\"On the 2018_10 List\",\"-\")","v":"-"},{"$f":"IF(OR(IFERROR(MATCH($D873,'Transparency List 2018_04'!$L:$L,0),FALSE),IFERROR(MATCH(TRIM($G873),'Transparency List 2018_04'!$D:$D,0),FALSE)),\"On the 2018_04 List\",\"-\")","v":"-"},{"$f":"IF(OR(IFERROR(MATCH($D873,'Transparency List 2017'!$L:$L,0),FALSE),IFERROR(MATCH(TRIM($G873),'Transparency List 2017'!$C:$C,0),FALSE)),\"On the 2017 List\",\"-\")","v":"-"},{"$f":"IF(OR(IFERROR(MATCH($D873,'Transparency List 2015'!$H:$H,0),FALSE),IFERROR(MATCH(TRIM($G873),'Transparency List 2015'!$C:$C,0),FALSE)),\"On the 2015 List\",\"-\")","v":"-"}]
[null,null,4,"",null,null,null,"-",{"$f":"IF(OR(IFERROR(MATCH($D874,'Transparency List 2018_10'!$L:$L,0),FALSE),IFERROR(MATCH(TRIM($G874),'Transparency List 2018_10'!$D:$D,0),FALSE)),\"On the 2018_10 List\",\"-\")","v":"-"},{"$f":"IF(OR(IFERROR(MATCH($D874,'Transparency List 2018_04'!$L:$L,0),FALSE),IFERROR(MATCH(TRIM($G874),'Transparency List 2018_04'!$D:$D,0),FALSE)),\"On the 2018_04 List\",\"-\")","v":"-"},{"$f":"IF(OR(IFERROR(MATCH($D874,'Transparency List 2017'!$L:$L,0),FALSE),IFERROR(MATCH(TRIM($G874),'Transparency List 2017'!$C:$C,0),FALSE)),\"On the 2017 List\",\"-\")","v":"-"},{"$f":"IF(OR(IFERROR(MATCH($D874,'Transparency List 2015'!$H:$H,0),FALSE),IFERROR(MATCH(TRIM($G874),'Transparency List 2015'!$C:$C,0),FALSE)),\"On the 2015 List\",\"-\")","v":"-"}]
[null,null,4,"",null,null,null,"-",{"$f":"IF(OR(IFERROR(MATCH($D875,'Transparency List 2018_10'!$L:$L,0),FALSE),IFERROR(MATCH(TRIM($G875),'Transparency List 2018_10'!$D:$D,0),FALSE)),\"On the 2018_10 List\",\"-\")","v":"-"},{"$f":"IF(OR(IFERROR(MATCH($D875,'Transparency List 2018_04'!$L:$L,0),FALSE),IFERROR(MATCH(TRIM($G875),'Transparency List 2018_04'!$D:$D,0),FALSE)),\"On the 2018_04 List\",\"-\")","v":"-"},{"$f":"IF(OR(IFERROR(MATCH($D875,'Transparency List 2017'!$L:$L,0),FALSE),IFERROR(MATCH(TRIM($G875),'Transparency List 2017'!$C:$C,0),FALSE)),\"On the 2017 List\",\"-\")","v":"-"},{"$f":"IF(OR(IFERROR(MATCH($D875,'Transparency List 2015'!$H:$H,0),FALSE),IFERROR(MATCH(TRIM($G875),'Transparency List 2015'!$C:$C,0),FALSE)),\"On the 2015 List\",\"-\")","v":"-"}]
[null,null,4,"",null,null,null,"-",{"$f":"IF(OR(IFERROR(MATCH($D876,'Transparency List 2018_10'!$L:$L,0),FALSE),IFERROR(MATCH(TRIM($G876),'Transparency List 2018_10'!$D:$D,0),FALSE)),\"On the 2018_10 List\",\"-\")","v":"-"},{"$f":"IF(OR(IFERROR(MATCH($D876,'Transparency List 2018_04'!$L:$L,0),FALSE),IFERROR(MATCH(TRIM($G876),'Transparency List 2018_04'!$D:$D,0),FALSE)),\"On the 2018_04 List\",\"-\")","v":"-"},{"$f":"IF(OR(IFERROR(MATCH($D876,'Transparency List 2017'!$L:$L,0),FALSE),IFERROR(MATCH(TRIM($G876),'Transparency List 2017'!$C:$C,0),FALSE)),\"On the 2017 List\",\"-\")","v":"-"},{"$f":"IF(OR(IFERROR(MATCH($D876,'Transparency List 2015'!$H:$H,0),FALSE),IFERROR(MATCH(TRIM($G876),'Transparency List 2015'!$C:$C,0),FALSE)),\"On the 2015 List\",\"-\")","v":"-"}]
[null,null,4,"",null,null,null,"-",{"$f":"IF(OR(IFERROR(MATCH($D877,'Transparency List 2018_10'!$L:$L,0),FALSE),IFERROR(MATCH(TRIM($G877),'Transparency List 2018_10'!$D:$D,0),FALSE)),\"On the 2018_10 List\",\"-\")","v":"-"},{"$f":"IF(OR(IFERROR(MATCH($D877,'Transparency List 2018_04'!$L:$L,0),FALSE),IFERROR(MATCH(TRIM($G877),'Transparency List 2018_04'!$D:$D,0),FALSE)),\"On the 2018_04 List\",\"-\")","v":"-"},{"$f":"IF(OR(IFERROR(MATCH($D877,'Transparency List 2017'!$L:$L,0),FALSE),IFERROR(MATCH(TRIM($G877),'Transparency List 2017'!$C:$C,0),FALSE)),\"On the 2017 List\",\"-\")","v":"-"},{"$f":"IF(OR(IFERROR(MATCH($D877,'Transparency List 2015'!$H:$H,0),FALSE),IFERROR(MATCH(TRIM($G877),'Transparency List 2015'!$C:$C,0),FALSE)),\"On the 2015 List\",\"-\")","v":"-"}]
[null,null,4,"",null,null,null,"-",{"$f":"IF(OR(IFERROR(MATCH($D878,'Transparency List 2018_10'!$L:$L,0),FALSE),IFERROR(MATCH(TRIM($G878),'Transparency List 2018_10'!$D:$D,0),FALSE)),\"On the 2018_10 List\",\"-\")","v":"-"},{"$f":"IF(OR(IFERROR(MATCH($D878,'Transparency List 2018_04'!$L:$L,0),FALSE),IFERROR(MATCH(TRIM($G878),'Transparency List 2018_04'!$D:$D,0),FALSE)),\"On the 2018_04 List\",\"-\")","v":"-"},{"$f":"IF(OR(IFERROR(MATCH($D878,'Transparency List 2017'!$L:$L,0),FALSE),IFERROR(MATCH(TRIM($G878),'Transparency List 2017'!$C:$C,0),FALSE)),\"On the 2017 List\",\"-\")","v":"-"},{"$f":"IF(OR(IFERROR(MATCH($D878,'Transparency List 2015'!$H:$H,0),FALSE),IFERROR(MATCH(TRIM($G878),'Transparency List 2015'!$C:$C,0),FALSE)),\"On the 2015 List\",\"-\")","v":"-"}]
[null,null,4,"",null,null,null,"-",{"$f":"IF(OR(IFERROR(MATCH($D879,'Transparency List 2018_10'!$L:$L,0),FALSE),IFERROR(MATCH(TRIM($G879),'Transparency List 2018_10'!$D:$D,0),FALSE)),\"On the 2018_10 List\",\"-\")","v":"-"},{"$f":"IF(OR(IFERROR(MATCH($D879,'Transparency List 2018_04'!$L:$L,0),FALSE),IFERROR(MATCH(TRIM($G879),'Transparency List 2018_04'!$D:$D,0),FALSE)),\"On the 2018_04 List\",\"-\")","v":"-"},{"$f":"IF(OR(IFERROR(MATCH($D879,'Transparency List 2017'!$L:$L,0),FALSE),IFERROR(MATCH(TRIM($G879),'Transparency List 2017'!$C:$C,0),FALSE)),\"On the 2017 List\",\"-\")","v":"-"},{"$f":"IF(OR(IFERROR(MATCH($D879,'Transparency List 2015'!$H:$H,0),FALSE),IFERROR(MATCH(TRIM($G879),'Transparency List 2015'!$C:$C,0),FALSE)),\"On the 2015 List\",\"-\")","v":"-"}]
[null,null,4,"",null,null,null,"-",{"$f":"IF(OR(IFERROR(MATCH($D880,'Transparency List 2018_10'!$L:$L,0),FALSE),IFERROR(MATCH(TRIM($G880),'Transparency List 2018_10'!$D:$D,0),FALSE)),\"On the 2018_10 List\",\"-\")","v":"-"},{"$f":"IF(OR(IFERROR(MATCH($D880,'Transparency List 2018_04'!$L:$L,0),FALSE),IFERROR(MATCH(TRIM($G880),'Transparency List 2018_04'!$D:$D,0),FALSE)),\"On the 2018_04 List\",\"-\")","v":"-"},{"$f":"IF(OR(IFERROR(MATCH($D880,'Transparency List 2017'!$L:$L,0),FALSE),IFERROR(MATCH(TRIM($G880),'Transparency List 2017'!$C:$C,0),FALSE)),\"On the 2017 List\",\"-\")","v":"-"},{"$f":"IF(OR(IFERROR(MATCH($D880,'Transparency List 2015'!$H:$H,0),FALSE),IFERROR(MATCH(TRIM($G880),'Transparency List 2015'!$C:$C,0),FALSE)),\"On the 2015 List\",\"-\")","v":"-"}]
[null,null,4,"",null,null,null,"-",{"$f":"IF(OR(IFERROR(MATCH($D881,'Transparency List 2018_10'!$L:$L,0),FALSE),IFERROR(MATCH(TRIM($G881),'Transparency List 2018_10'!$D:$D,0),FALSE)),\"On the 2018_10 List\",\"-\")","v":"-"},{"$f":"IF(OR(IFERROR(MATCH($D881,'Transparency List 2018_04'!$L:$L,0),FALSE),IFERROR(MATCH(TRIM($G881),'Transparency List 2018_04'!$D:$D,0),FALSE)),\"On the 2018_04 List\",\"-\")","v":"-"},{"$f":"IF(OR(IFERROR(MATCH($D881,'Transparency List 2017'!$L:$L,0),FALSE),IFERROR(MATCH(TRIM($G881),'Transparency List 2017'!$C:$C,0),FALSE)),\"On the 2017 List\",\"-\")","v":"-"},{"$f":"IF(OR(IFERROR(MATCH($D881,'Transparency List 2015'!$H:$H,0),FALSE),IFERROR(MATCH(TRIM($G881),'Transparency List 2015'!$C:$C,0),FALSE)),\"On the 2015 List\",\"-\")","v":"-"}]
[null,null,4,"",null,null,null,"-",{"$f":"IF(OR(IFERROR(MATCH($D882,'Transparency List 2018_10'!$L:$L,0),FALSE),IFERROR(MATCH(TRIM($G882),'Transparency List 2018_10'!$D:$D,0),FALSE)),\"On the 2018_10 List\",\"-\")","v":"-"},{"$f":"IF(OR(IFERROR(MATCH($D882,'Transparency List 2018_04'!$L:$L,0),FALSE),IFERROR(MATCH(TRIM($G882),'Transparency List 2018_04'!$D:$D,0),FALSE)),\"On the 2018_04 List\",\"-\")","v":"-"},{"$f":"IF(OR(IFERROR(MATCH($D882,'Transparency List 2017'!$L:$L,0),FALSE),IFERROR(MATCH(TRIM($G882),'Transparency List 2017'!$C:$C,0),FALSE)),\"On the 2017 List\",\"-\")","v":"-"},{"$f":"IF(OR(IFERROR(MATCH($D882,'Transparency List 2015'!$H:$H,0),FALSE),IFERROR(MATCH(TRIM($G882),'Transparency List 2015'!$C:$C,0),FALSE)),\"On the 2015 List\",\"-\")","v":"-"}]
[null,null,4,"",null,null,null,"-",{"$f":"IF(OR(IFERROR(MATCH($D883,'Transparency List 2018_10'!$L:$L,0),FALSE),IFERROR(MATCH(TRIM($G883),'Transparency List 2018_10'!$D:$D,0),FALSE)),\"On the 2018_10 List\",\"-\")","v":"-"},{"$f":"IF(OR(IFERROR(MATCH($D883,'Transparency List 2018_04'!$L:$L,0),FALSE),IFERROR(MATCH(TRIM($G883),'Transparency List 2018_04'!$D:$D,0),FALSE)),\"On the 2018_04 List\",\"-\")","v":"-"},{"$f":"IF(OR(IFERROR(MATCH($D883,'Transparency List 2017'!$L:$L,0),FALSE),IFERROR(MATCH(TRIM($G883),'Transparency List 2017'!$C:$C,0),FALSE)),\"On the 2017 List\",\"-\")","v":"-"},{"$f":"IF(OR(IFERROR(MATCH($D883,'Transparency List 2015'!$H:$H,0),FALSE),IFERROR(MATCH(TRIM($G883),'Transparency List 2015'!$C:$C,0),FALSE)),\"On the 2015 List\",\"-\")","v":"-"}]
[null,null,4,"",null,null,null,"-",{"$f":"IF(OR(IFERROR(MATCH($D884,'Transparency List 2018_10'!$L:$L,0),FALSE),IFERROR(MATCH(TRIM($G884),'Transparency List 2018_10'!$D:$D,0),FALSE)),\"On the 2018_10 List\",\"-\")","v":"-"},{"$f":"IF(OR(IFERROR(MATCH($D884,'Transparency List 2018_04'!$L:$L,0),FALSE),IFERROR(MATCH(TRIM($G884),'Transparency List 2018_04'!$D:$D,0),FALSE)),\"On the 2018_04 List\",\"-\")","v":"-"},{"$f":"IF(OR(IFERROR(MATCH($D884,'Transparency List 2017'!$L:$L,0),FALSE),IFERROR(MATCH(TRIM($G884),'Transparency List 2017'!$C:$C,0),FALSE)),\"On the 2017 List\",\"-\")","v":"-"},{"$f":"IF(OR(IFERROR(MATCH($D884,'Transparency List 2015'!$H:$H,0),FALSE),IFERROR(MATCH(TRIM($G884),'Transparency List 2015'!$C:$C,0),FALSE)),\"On the 2015 List\",\"-\")","v":"-"}]
[null,null,4,"",null,null,null,"-",{"$f":"IF(OR(IFERROR(MATCH($D885,'Transparency List 2018_10'!$L:$L,0),FALSE),IFERROR(MATCH(TRIM($G885),'Transparency List 2018_10'!$D:$D,0),FALSE)),\"On the 2018_10 List\",\"-\")","v":"-"},{"$f":"IF(OR(IFERROR(MATCH($D885,'Transparency List 2018_04'!$L:$L,0),FALSE),IFERROR(MATCH(TRIM($G885),'Transparency List 2018_04'!$D:$D,0),FALSE)),\"On the 2018_04 List\",\"-\")","v":"-"},{"$f":"IF(OR(IFERROR(MATCH($D885,'Transparency List 2017'!$L:$L,0),FALSE),IFERROR(MATCH(TRIM($G885),'Transparency List 2017'!$C:$C,0),FALSE)),\"On the 2017 List\",\"-\")","v":"-"},{"$f":"IF(OR(IFERROR(MATCH($D885,'Transparency List 2015'!$H:$H,0),FALSE),IFERROR(MATCH(TRIM($G885),'Transparency List 2015'!$C:$C,0),FALSE)),\"On the 2015 List\",\"-\")","v":"-"}]
[null,null,4,"",null,null,null,"-",{"$f":"IF(OR(IFERROR(MATCH($D886,'Transparency List 2018_10'!$L:$L,0),FALSE),IFERROR(MATCH(TRIM($G886),'Transparency List 2018_10'!$D:$D,0),FALSE)),\"On the 2018_10 List\",\"-\")","v":"-"},{"$f":"IF(OR(IFERROR(MATCH($D886,'Transparency List 2018_04'!$L:$L,0),FALSE),IFERROR(MATCH(TRIM($G886),'Transparency List 2018_04'!$D:$D,0),FALSE)),\"On the 2018_04 List\",\"-\")","v":"-"},{"$f":"IF(OR(IFERROR(MATCH($D886,'Transparency List 2017'!$L:$L,0),FALSE),IFERROR(MATCH(TRIM($G886),'Transparency List 2017'!$C:$C,0),FALSE)),\"On the 2017 List\",\"-\")","v":"-"},{"$f":"IF(OR(IFERROR(MATCH($D886,'Transparency List 2015'!$H:$H,0),FALSE),IFERROR(MATCH(TRIM($G886),'Transparency List 2015'!$C:$C,0),FALSE)),\"On the 2015 List\",\"-\")","v":"-"}]
[null,null,4,"",null,null,null,"-",{"$f":"IF(OR(IFERROR(MATCH($D887,'Transparency List 2018_10'!$L:$L,0),FALSE),IFERROR(MATCH(TRIM($G887),'Transparency List 2018_10'!$D:$D,0),FALSE)),\"On the 2018_10 List\",\"-\")","v":"-"},{"$f":"IF(OR(IFERROR(MATCH($D887,'Transparency List 2018_04'!$L:$L,0),FALSE),IFERROR(MATCH(TRIM($G887),'Transparency List 2018_04'!$D:$D,0),FALSE)),\"On the 2018_04 List\",\"-\")","v":"-"},{"$f":"IF(OR(IFERROR(MATCH($D887,'Transparency List 2017'!$L:$L,0),FALSE),IFERROR(MATCH(TRIM($G887),'Transparency List 2017'!$C:$C,0),FALSE)),\"On the 2017 List\",\"-\")","v":"-"},{"$f":"IF(OR(IFERROR(MATCH($D887,'Transparency List 2015'!$H:$H,0),FALSE),IFERROR(MATCH(TRIM($G887),'Transparency List 2015'!$C:$C,0),FALSE)),\"On the 2015 List\",\"-\")","v":"-"}]
[null,null,4,"",null,null,null,"-",{"$f":"IF(OR(IFERROR(MATCH($D888,'Transparency List 2018_10'!$L:$L,0),FALSE),IFERROR(MATCH(TRIM($G888),'Transparency List 2018_10'!$D:$D,0),FALSE)),\"On the 2018_10 List\",\"-\")","v":"-"},{"$f":"IF(OR(IFERROR(MATCH($D888,'Transparency List 2018_04'!$L:$L,0),FALSE),IFERROR(MATCH(TRIM($G888),'Transparency List 2018_04'!$D:$D,0),FALSE)),\"On the 2018_04 List\",\"-\")","v":"-"},{"$f":"IF(OR(IFERROR(MATCH($D888,'Transparency List 2017'!$L:$L,0),FALSE),IFERROR(MATCH(TRIM($G888),'Transparency List 2017'!$C:$C,0),FALSE)),\"On the 2017 List\",\"-\")","v":"-"},{"$f":"IF(OR(IFERROR(MATCH($D888,'Transparency List 2015'!$H:$H,0),FALSE),IFERROR(MATCH(TRIM($G888),'Transparency List 2015'!$C:$C,0),FALSE)),\"On the 2015 List\",\"-\")","v":"-"}]
[null,null,4,"",null,null,null,"-",{"$f":"IF(OR(IFERROR(MATCH($D889,'Transparency List 2018_10'!$L:$L,0),FALSE),IFERROR(MATCH(TRIM($G889),'Transparency List 2018_10'!$D:$D,0),FALSE)),\"On the 2018_10 List\",\"-\")","v":"-"},{"$f":"IF(OR(IFERROR(MATCH($D889,'Transparency List 2018_04'!$L:$L,0),FALSE),IFERROR(MATCH(TRIM($G889),'Transparency List 2018_04'!$D:$D,0),FALSE)),\"On the 2018_04 List\",\"-\")","v":"-"},{"$f":"IF(OR(IFERROR(MATCH($D889,'Transparency List 2017'!$L:$L,0),FALSE),IFERROR(MATCH(TRIM($G889),'Transparency List 2017'!$C:$C,0),FALSE)),\"On the 2017 List\",\"-\")","v":"-"},{"$f":"IF(OR(IFERROR(MATCH($D889,'Transparency List 2015'!$H:$H,0),FALSE),IFERROR(MATCH(TRIM($G889),'Transparency List 2015'!$C:$C,0),FALSE)),\"On the 2015 List\",\"-\")","v":"-"}]
[null,null,4,"",null,null,null,"-",{"$f":"IF(OR(IFERROR(MATCH($D890,'Transparency List 2018_10'!$L:$L,0),FALSE),IFERROR(MATCH(TRIM($G890),'Transparency List 2018_10'!$D:$D,0),FALSE)),\"On the 2018_10 List\",\"-\")","v":"-"},{"$f":"IF(OR(IFERROR(MATCH($D890,'Transparency List 2018_04'!$L:$L,0),FALSE),IFERROR(MATCH(TRIM($G890),'Transparency List 2018_04'!$D:$D,0),FALSE)),\"On the 2018_04 List\",\"-\")","v":"-"},{"$f":"IF(OR(IFERROR(MATCH($D890,'Transparency List 2017'!$L:$L,0),FALSE),IFERROR(MATCH(TRIM($G890),'Transparency List 2017'!$C:$C,0),FALSE)),\"On the 2017 List\",\"-\")","v":"-"},{"$f":"IF(OR(IFERROR(MATCH($D890,'Transparency List 2015'!$H:$H,0),FALSE),IFERROR(MATCH(TRIM($G890),'Transparency List 2015'!$C:$C,0),FALSE)),\"On the 2015 List\",\"-\")","v":"-"}]
[null,null,4,"",null,null,null,"-",{"$f":"IF(OR(IFERROR(MATCH($D891,'Transparency List 2018_10'!$L:$L,0),FALSE),IFERROR(MATCH(TRIM($G891),'Transparency List 2018_10'!$D:$D,0),FALSE)),\"On the 2018_10 List\",\"-\")","v":"-"},{"$f":"IF(OR(IFERROR(MATCH($D891,'Transparency List 2018_04'!$L:$L,0),FALSE),IFERROR(MATCH(TRIM($G891),'Transparency List 2018_04'!$D:$D,0),FALSE)),\"On the 2018_04 List\",\"-\")","v":"-"},{"$f":"IF(OR(IFERROR(MATCH($D891,'Transparency List 2017'!$L:$L,0),FALSE),IFERROR(MATCH(TRIM($G891),'Transparency List 2017'!$C:$C,0),FALSE)),\"On the 2017 List\",\"-\")","v":"-"},{"$f":"IF(OR(IFERROR(MATCH($D891,'Transparency List 2015'!$H:$H,0),FALSE),IFERROR(MATCH(TRIM($G891),'Transparency List 2015'!$C:$C,0),FALSE)),\"On the 2015 List\",\"-\")","v":"-"}]
[null,null,4,"",null,null,null,"-",{"$f":"IF(OR(IFERROR(MATCH($D892,'Transparency List 2018_10'!$L:$L,0),FALSE),IFERROR(MATCH(TRIM($G892),'Transparency List 2018_10'!$D:$D,0),FALSE)),\"On the 2018_10 List\",\"-\")","v":"-"},{"$f":"IF(OR(IFERROR(MATCH($D892,'Transparency List 2018_04'!$L:$L,0),FALSE),IFERROR(MATCH(TRIM($G892),'Transparency List 2018_04'!$D:$D,0),FALSE)),\"On the 2018_04 List\",\"-\")","v":"-"},{"$f":"IF(OR(IFERROR(MATCH($D892,'Transparency List 2017'!$L:$L,0),FALSE),IFERROR(MATCH(TRIM($G892),'Transparency List 2017'!$C:$C,0),FALSE)),\"On the 2017 List\",\"-\")","v":"-"},{"$f":"IF(OR(IFERROR(MATCH($D892,'Transparency List 2015'!$H:$H,0),FALSE),IFERROR(MATCH(TRIM($G892),'Transparency List 2015'!$C:$C,0),FALSE)),\"On the 2015 List\",\"-\")","v":"-"}]
[null,null,4,"",null,null,null,"-",{"$f":"IF(OR(IFERROR(MATCH($D893,'Transparency List 2018_10'!$L:$L,0),FALSE),IFERROR(MATCH(TRIM($G893),'Transparency List 2018_10'!$D:$D,0),FALSE)),\"On the 2018_10 List\",\"-\")","v":"-"},{"$f":"IF(OR(IFERROR(MATCH($D893,'Transparency List 2018_04'!$L:$L,0),FALSE),IFERROR(MATCH(TRIM($G893),'Transparency List 2018_04'!$D:$D,0),FALSE)),\"On the 2018_04 List\",\"-\")","v":"-"},{"$f":"IF(OR(IFERROR(MATCH($D893,'Transparency List 2017'!$L:$L,0),FALSE),IFERROR(MATCH(TRIM($G893),'Transparency List 2017'!$C:$C,0),FALSE)),\"On the 2017 List\",\"-\")","v":"-"},{"$f":"IF(OR(IFERROR(MATCH($D893,'Transparency List 2015'!$H:$H,0),FALSE),IFERROR(MATCH(TRIM($G893),'Transparency List 2015'!$C:$C,0),FALSE)),\"On the 2015 List\",\"-\")","v":"-"}]
[null,null,4,"",null,null,null,"-",{"$f":"IF(OR(IFERROR(MATCH($D894,'Transparency List 2018_10'!$L:$L,0),FALSE),IFERROR(MATCH(TRIM($G894),'Transparency List 2018_10'!$D:$D,0),FALSE)),\"On the 2018_10 List\",\"-\")","v":"-"},{"$f":"IF(OR(IFERROR(MATCH($D894,'Transparency List 2018_04'!$L:$L,0),FALSE),IFERROR(MATCH(TRIM($G894),'Transparency List 2018_04'!$D:$D,0),FALSE)),\"On the 2018_04 List\",\"-\")","v":"-"},{"$f":"IF(OR(IFERROR(MATCH($D894,'Transparency List 2017'!$L:$L,0),FALSE),IFERROR(MATCH(TRIM($G894),'Transparency List 2017'!$C:$C,0),FALSE)),\"On the 2017 List\",\"-\")","v":"-"},{"$f":"IF(OR(IFERROR(MATCH($D894,'Transparency List 2015'!$H:$H,0),FALSE),IFERROR(MATCH(TRIM($G894),'Transparency List 2015'!$C:$C,0),FALSE)),\"On the 2015 List\",\"-\")","v":"-"}]
[null,null,4,"",null,null,null,"-",{"$f":"IF(OR(IFERROR(MATCH($D895,'Transparency List 2018_10'!$L:$L,0),FALSE),IFERROR(MATCH(TRIM($G895),'Transparency List 2018_10'!$D:$D,0),FALSE)),\"On the 2018_10 List\",\"-\")","v":"-"},{"$f":"IF(OR(IFERROR(MATCH($D895,'Transparency List 2018_04'!$L:$L,0),FALSE),IFERROR(MATCH(TRIM($G895),'Transparency List 2018_04'!$D:$D,0),FALSE)),\"On the 2018_04 List\",\"-\")","v":"-"},{"$f":"IF(OR(IFERROR(MATCH($D895,'Transparency List 2017'!$L:$L,0),FALSE),IFERROR(MATCH(TRIM($G895),'Transparency List 2017'!$C:$C,0),FALSE)),\"On the 2017 List\",\"-\")","v":"-"},{"$f":"IF(OR(IFERROR(MATCH($D895,'Transparency List 2015'!$H:$H,0),FALSE),IFERROR(MATCH(TRIM($G895),'Transparency List 2015'!$C:$C,0),FALSE)),\"On the 2015 List\",\"-\")","v":"-"}]
[null,null,4,"",null,null,null,"-",{"$f":"IF(OR(IFERROR(MATCH($D896,'Transparency List 2018_10'!$L:$L,0),FALSE),IFERROR(MATCH(TRIM($G896),'Transparency List 2018_10'!$D:$D,0),FALSE)),\"On the 2018_10 List\",\"-\")","v":"-"},{"$f":"IF(OR(IFERROR(MATCH($D896,'Transparency List 2018_04'!$L:$L,0),FALSE),IFERROR(MATCH(TRIM($G896),'Transparency List 2018_04'!$D:$D,0),FALSE)),\"On the 2018_04 List\",\"-\")","v":"-"},{"$f":"IF(OR(IFERROR(MATCH($D896,'Transparency List 2017'!$L:$L,0),FALSE),IFERROR(MATCH(TRIM($G896),'Transparency List 2017'!$C:$C,0),FALSE)),\"On the 2017 List\",\"-\")","v":"-"},{"$f":"IF(OR(IFERROR(MATCH($D896,'Transparency List 2015'!$H:$H,0),FALSE),IFERROR(MATCH(TRIM($G896),'Transparency List 2015'!$C:$C,0),FALSE)),\"On the 2015 List\",\"-\")","v":"-"}]
[null,null,4,"",null,null,null,"-",{"$f":"IF(OR(IFERROR(MATCH($D897,'Transparency List 2018_10'!$L:$L,0),FALSE),IFERROR(MATCH(TRIM($G897),'Transparency List 2018_10'!$D:$D,0),FALSE)),\"On the 2018_10 List\",\"-\")","v":"-"},{"$f":"IF(OR(IFERROR(MATCH($D897,'Transparency List 2018_04'!$L:$L,0),FALSE),IFERROR(MATCH(TRIM($G897),'Transparency List 2018_04'!$D:$D,0),FALSE)),\"On the 2018_04 List\",\"-\")","v":"-"},{"$f":"IF(OR(IFERROR(MATCH($D897,'Transparency List 2017'!$L:$L,0),FALSE),IFERROR(MATCH(TRIM($G897),'Transparency List 2017'!$C:$C,0),FALSE)),\"On the 2017 List\",\"-\")","v":"-"},{"$f":"IF(OR(IFERROR(MATCH($D897,'Transparency List 2015'!$H:$H,0),FALSE),IFERROR(MATCH(TRIM($G897),'Transparency List 2015'!$C:$C,0),FALSE)),\"On the 2015 List\",\"-\")","v":"-"}]
[null,null,4,"",null,null,null,"-",{"$f":"IF(OR(IFERROR(MATCH($D898,'Transparency List 2018_10'!$L:$L,0),FALSE),IFERROR(MATCH(TRIM($G898),'Transparency List 2018_10'!$D:$D,0),FALSE)),\"On the 2018_10 List\",\"-\")","v":"-"},{"$f":"IF(OR(IFERROR(MATCH($D898,'Transparency List 2018_04'!$L:$L,0),FALSE),IFERROR(MATCH(TRIM($G898),'Transparency List 2018_04'!$D:$D,0),FALSE)),\"On the 2018_04 List\",\"-\")","v":"-"},{"$f":"IF(OR(IFERROR(MATCH($D898,'Transparency List 2017'!$L:$L,0),FALSE),IFERROR(MATCH(TRIM($G898),'Transparency List 2017'!$C:$C,0),FALSE)),\"On the 2017 List\",\"-\")","v":"-"},{"$f":"IF(OR(IFERROR(MATCH($D898,'Transparency List 2015'!$H:$H,0),FALSE),IFERROR(MATCH(TRIM($G898),'Transparency List 2015'!$C:$C,0),FALSE)),\"On the 2015 List\",\"-\")","v":"-"}]
[null,null,4,"",null,null,null,"-",{"$f":"IF(OR(IFERROR(MATCH($D899,'Transparency List 2018_10'!$L:$L,0),FALSE),IFERROR(MATCH(TRIM($G899),'Transparency List 2018_10'!$D:$D,0),FALSE)),\"On the 2018_10 List\",\"-\")","v":"-"},{"$f":"IF(OR(IFERROR(MATCH($D899,'Transparency List 2018_04'!$L:$L,0),FALSE),IFERROR(MATCH(TRIM($G899),'Transparency List 2018_04'!$D:$D,0),FALSE)),\"On the 2018_04 List\",\"-\")","v":"-"},{"$f":"IF(OR(IFERROR(MATCH($D899,'Transparency List 2017'!$L:$L,0),FALSE),IFERROR(MATCH(TRIM($G899),'Transparency List 2017'!$C:$C,0),FALSE)),\"On the 2017 List\",\"-\")","v":"-"},{"$f":"IF(OR(IFERROR(MATCH($D899,'Transparency List 2015'!$H:$H,0),FALSE),IFERROR(MATCH(TRIM($G899),'Transparency List 2015'!$C:$C,0),FALSE)),\"On the 2015 List\",\"-\")","v":"-"}]
[null,null,4,"",null,null,null,"-",{"$f":"IF(OR(IFERROR(MATCH($D900,'Transparency List 2018_10'!$L:$L,0),FALSE),IFERROR(MATCH(TRIM($G900),'Transparency List 2018_10'!$D:$D,0),FALSE)),\"On the 2018_10 List\",\"-\")","v":"-"},{"$f":"IF(OR(IFERROR(MATCH($D900,'Transparency List 2018_04'!$L:$L,0),FALSE),IFERROR(MATCH(TRIM($G900),'Transparency List 2018_04'!$D:$D,0),FALSE)),\"On the 2018_04 List\",\"-\")","v":"-"},{"$f":"IF(OR(IFERROR(MATCH($D900,'Transparency List 2017'!$L:$L,0),FALSE),IFERROR(MATCH(TRIM($G900),'Transparency List 2017'!$C:$C,0),FALSE)),\"On the 2017 List\",\"-\")","v":"-"},{"$f":"IF(OR(IFERROR(MATCH($D900,'Transparency List 2015'!$H:$H,0),FALSE),IFERROR(MATCH(TRIM($G900),'Transparency List 2015'!$C:$C,0),FALSE)),\"On the 2015 List\",\"-\")","v":"-"}]
[null,null,4,"",null,null,null,"-",{"$f":"IF(OR(IFERROR(MATCH($D901,'Transparency List 2018_10'!$L:$L,0),FALSE),IFERROR(MATCH(TRIM($G901),'Transparency List 2018_10'!$D:$D,0),FALSE)),\"On the 2018_10 List\",\"-\")","v":"-"},{"$f":"IF(OR(IFERROR(MATCH($D901,'Transparency List 2018_04'!$L:$L,0),FALSE),IFERROR(MATCH(TRIM($G901),'Transparency List 2018_04'!$D:$D,0),FALSE)),\"On the 2018_04 List\",\"-\")","v":"-"},{"$f":"IF(OR(IFERROR(MATCH($D901,'Transparency List 2017'!$L:$L,0),FALSE),IFERROR(MATCH(TRIM($G901),'Transparency List 2017'!$C:$C,0),FALSE)),\"On the 2017 List\",\"-\")","v":"-"},{"$f":"IF(OR(IFERROR(MATCH($D901,'Transparency List 2015'!$H:$H,0),FALSE),IFERROR(MATCH(TRIM($G901),'Transparency List 2015'!$C:$C,0),FALSE)),\"On the 2015 List\",\"-\")","v":"-"}]
[null,null,4,"",null,null,null,"-",{"$f":"IF(OR(IFERROR(MATCH($D902,'Transparency List 2018_10'!$L:$L,0),FALSE),IFERROR(MATCH(TRIM($G902),'Transparency List 2018_10'!$D:$D,0),FALSE)),\"On the 2018_10 List\",\"-\")","v":"-"},{"$f":"IF(OR(IFERROR(MATCH($D902,'Transparency List 2018_04'!$L:$L,0),FALSE),IFERROR(MATCH(TRIM($G902),'Transparency List 2018_04'!$D:$D,0),FALSE)),\"On the 2018_04 List\",\"-\")","v":"-"},{"$f":"IF(OR(IFERROR(MATCH($D902,'Transparency List 2017'!$L:$L,0),FALSE),IFERROR(MATCH(TRIM($G902),'Transparency List 2017'!$C:$C,0),FALSE)),\"On the 2017 List\",\"-\")","v":"-"},{"$f":"IF(OR(IFERROR(MATCH($D902,'Transparency List 2015'!$H:$H,0),FALSE),IFERROR(MATCH(TRIM($G902),'Transparency List 2015'!$C:$C,0),FALSE)),\"On the 2015 List\",\"-\")","v":"-"}]
[null,null,4,"",null,null,null,"-",{"$f":"IF(OR(IFERROR(MATCH($D903,'Transparency List 2018_10'!$L:$L,0),FALSE),IFERROR(MATCH(TRIM($G903),'Transparency List 2018_10'!$D:$D,0),FALSE)),\"On the 2018_10 List\",\"-\")","v":"-"},{"$f":"IF(OR(IFERROR(MATCH($D903,'Transparency List 2018_04'!$L:$L,0),FALSE),IFERROR(MATCH(TRIM($G903),'Transparency List 2018_04'!$D:$D,0),FALSE)),\"On the 2018_04 List\",\"-\")","v":"-"},{"$f":"IF(OR(IFERROR(MATCH($D903,'Transparency List 2017'!$L:$L,0),FALSE),IFERROR(MATCH(TRIM($G903),'Transparency List 2017'!$C:$C,0),FALSE)),\"On the 2017 List\",\"-\")","v":"-"},{"$f":"IF(OR(IFERROR(MATCH($D903,'Transparency List 2015'!$H:$H,0),FALSE),IFERROR(MATCH(TRIM($G903),'Transparency List 2015'!$C:$C,0),FALSE)),\"On the 2015 List\",\"-\")","v":"-"}]
[null,null,4,"",null,null,null,"-",{"$f":"IF(OR(IFERROR(MATCH($D904,'Transparency List 2018_10'!$L:$L,0),FALSE),IFERROR(MATCH(TRIM($G904),'Transparency List 2018_10'!$D:$D,0),FALSE)),\"On the 2018_10 List\",\"-\")","v":"-"},{"$f":"IF(OR(IFERROR(MATCH($D904,'Transparency List 2018_04'!$L:$L,0),FALSE),IFERROR(MATCH(TRIM($G904),'Transparency List 2018_04'!$D:$D,0),FALSE)),\"On the 2018_04 List\",\"-\")","v":"-"},{"$f":"IF(OR(IFERROR(MATCH($D904,'Transparency List 2017'!$L:$L,0),FALSE),IFERROR(MATCH(TRIM($G904),'Transparency List 2017'!$C:$C,0),FALSE)),\"On the 2017 List\",\"-\")","v":"-"},{"$f":"IF(OR(IFERROR(MATCH($D904,'Transparency List 2015'!$H:$H,0),FALSE),IFERROR(MATCH(TRIM($G904),'Transparency List 2015'!$C:$C,0),FALSE)),\"On the 2015 List\",\"-\")","v":"-"}]
[null,null,4,"",null,null,null,"-",{"$f":"IF(OR(IFERROR(MATCH($D905,'Transparency List 2018_10'!$L:$L,0),FALSE),IFERROR(MATCH(TRIM($G905),'Transparency List 2018_10'!$D:$D,0),FALSE)),\"On the 2018_10 List\",\"-\")","v":"-"},{"$f":"IF(OR(IFERROR(MATCH($D905,'Transparency List 2018_04'!$L:$L,0),FALSE),IFERROR(MATCH(TRIM($G905),'Transparency List 2018_04'!$D:$D,0),FALSE)),\"On the 2018_04 List\",\"-\")","v":"-"},{"$f":"IF(OR(IFERROR(MATCH($D905,'Transparency List 2017'!$L:$L,0),FALSE),IFERROR(MATCH(TRIM($G905),'Transparency List 2017'!$C:$C,0),FALSE)),\"On the 2017 List\",\"-\")","v":"-"},{"$f":"IF(OR(IFERROR(MATCH($D905,'Transparency List 2015'!$H:$H,0),FALSE),IFERROR(MATCH(TRIM($G905),'Transparency List 2015'!$C:$C,0),FALSE)),\"On the 2015 List\",\"-\")","v":"-"}]
[null,null,4,"",null,null,null,"-",{"$f":"IF(OR(IFERROR(MATCH($D906,'Transparency List 2018_10'!$L:$L,0),FALSE),IFERROR(MATCH(TRIM($G906),'Transparency List 2018_10'!$D:$D,0),FALSE)),\"On the 2018_10 List\",\"-\")","v":"-"},{"$f":"IF(OR(IFERROR(MATCH($D906,'Transparency List 2018_04'!$L:$L,0),FALSE),IFERROR(MATCH(TRIM($G906),'Transparency List 2018_04'!$D:$D,0),FALSE)),\"On the 2018_04 List\",\"-\")","v":"-"},{"$f":"IF(OR(IFERROR(MATCH($D906,'Transparency List 2017'!$L:$L,0),FALSE),IFERROR(MATCH(TRIM($G906),'Transparency List 2017'!$C:$C,0),FALSE)),\"On the 2017 List\",\"-\")","v":"-"},{"$f":"IF(OR(IFERROR(MATCH($D906,'Transparency List 2015'!$H:$H,0),FALSE),IFERROR(MATCH(TRIM($G906),'Transparency List 2015'!$C:$C,0),FALSE)),\"On the 2015 List\",\"-\")","v":"-"}]
[null,null,4,"",null,null,null,"-",{"$f":"IF(OR(IFERROR(MATCH($D907,'Transparency List 2018_10'!$L:$L,0),FALSE),IFERROR(MATCH(TRIM($G907),'Transparency List 2018_10'!$D:$D,0),FALSE)),\"On the 2018_10 List\",\"-\")","v":"-"},{"$f":"IF(OR(IFERROR(MATCH($D907,'Transparency List 2018_04'!$L:$L,0),FALSE),IFERROR(MATCH(TRIM($G907),'Transparency List 2018_04'!$D:$D,0),FALSE)),\"On the 2018_04 List\",\"-\")","v":"-"},{"$f":"IF(OR(IFERROR(MATCH($D907,'Transparency List 2017'!$L:$L,0),FALSE),IFERROR(MATCH(TRIM($G907),'Transparency List 2017'!$C:$C,0),FALSE)),\"On the 2017 List\",\"-\")","v":"-"},{"$f":"IF(OR(IFERROR(MATCH($D907,'Transparency List 2015'!$H:$H,0),FALSE),IFERROR(MATCH(TRIM($G907),'Transparency List 2015'!$C:$C,0),FALSE)),\"On the 2015 List\",\"-\")","v":"-"}]
[null,null,4,"",null,null,null,"-",{"$f":"IF(OR(IFERROR(MATCH($D908,'Transparency List 2018_10'!$L:$L,0),FALSE),IFERROR(MATCH(TRIM($G908),'Transparency List 2018_10'!$D:$D,0),FALSE)),\"On the 2018_10 List\",\"-\")","v":"-"},{"$f":"IF(OR(IFERROR(MATCH($D908,'Transparency List 2018_04'!$L:$L,0),FALSE),IFERROR(MATCH(TRIM($G908),'Transparency List 2018_04'!$D:$D,0),FALSE)),\"On the 2018_04 List\",\"-\")","v":"-"},{"$f":"IF(OR(IFERROR(MATCH($D908,'Transparency List 2017'!$L:$L,0),FALSE),IFERROR(MATCH(TRIM($G908),'Transparency List 2017'!$C:$C,0),FALSE)),\"On the 2017 List\",\"-\")","v":"-"},{"$f":"IF(OR(IFERROR(MATCH($D908,'Transparency List 2015'!$H:$H,0),FALSE),IFERROR(MATCH(TRIM($G908),'Transparency List 2015'!$C:$C,0),FALSE)),\"On the 2015 List\",\"-\")","v":"-"}]
[null,null,4,"",null,null,null,"-",{"$f":"IF(OR(IFERROR(MATCH($D909,'Transparency List 2018_10'!$L:$L,0),FALSE),IFERROR(MATCH(TRIM($G909),'Transparency List 2018_10'!$D:$D,0),FALSE)),\"On the 2018_10 List\",\"-\")","v":"-"},{"$f":"IF(OR(IFERROR(MATCH($D909,'Transparency List 2018_04'!$L:$L,0),FALSE),IFERROR(MATCH(TRIM($G909),'Transparency List 2018_04'!$D:$D,0),FALSE)),\"On the 2018_04 List\",\"-\")","v":"-"},{"$f":"IF(OR(IFERROR(MATCH($D909,'Transparency List 2017'!$L:$L,0),FALSE),IFERROR(MATCH(TRIM($G909),'Transparency List 2017'!$C:$C,0),FALSE)),\"On the 2017 List\",\"-\")","v":"-"},{"$f":"IF(OR(IFERROR(MATCH($D909,'Transparency List 2015'!$H:$H,0),FALSE),IFERROR(MATCH(TRIM($G909),'Transparency List 2015'!$C:$C,0),FALSE)),\"On the 2015 List\",\"-\")","v":"-"}]
[null,null,4,"",null,null,null,"-",{"$f":"IF(OR(IFERROR(MATCH($D910,'Transparency List 2018_10'!$L:$L,0),FALSE),IFERROR(MATCH(TRIM($G910),'Transparency List 2018_10'!$D:$D,0),FALSE)),\"On the 2018_10 List\",\"-\")","v":"-"},{"$f":"IF(OR(IFERROR(MATCH($D910,'Transparency List 2018_04'!$L:$L,0),FALSE),IFERROR(MATCH(TRIM($G910),'Transparency List 2018_04'!$D:$D,0),FALSE)),\"On the 2018_04 List\",\"-\")","v":"-"},{"$f":"IF(OR(IFERROR(MATCH($D910,'Transparency List 2017'!$L:$L,0),FALSE),IFERROR(MATCH(TRIM($G910),'Transparency List 2017'!$C:$C,0),FALSE)),\"On the 2017 List\",\"-\")","v":"-"},{"$f":"IF(OR(IFERROR(MATCH($D910,'Transparency List 2015'!$H:$H,0),FALSE),IFERROR(MATCH(TRIM($G910),'Transparency List 2015'!$C:$C,0),FALSE)),\"On the 2015 List\",\"-\")","v":"-"}]
[null,null,4,"",null,null,null,"-",{"$f":"IF(OR(IFERROR(MATCH($D911,'Transparency List 2018_10'!$L:$L,0),FALSE),IFERROR(MATCH(TRIM($G911),'Transparency List 2018_10'!$D:$D,0),FALSE)),\"On the 2018_10 List\",\"-\")","v":"-"},{"$f":"IF(OR(IFERROR(MATCH($D911,'Transparency List 2018_04'!$L:$L,0),FALSE),IFERROR(MATCH(TRIM($G911),'Transparency List 2018_04'!$D:$D,0),FALSE)),\"On the 2018_04 List\",\"-\")","v":"-"},{"$f":"IF(OR(IFERROR(MATCH($D911,'Transparency List 2017'!$L:$L,0),FALSE),IFERROR(MATCH(TRIM($G911),'Transparency List 2017'!$C:$C,0),FALSE)),\"On the 2017 List\",\"-\")","v":"-"},{"$f":"IF(OR(IFERROR(MATCH($D911,'Transparency List 2015'!$H:$H,0),FALSE),IFERROR(MATCH(TRIM($G911),'Transparency List 2015'!$C:$C,0),FALSE)),\"On the 2015 List\",\"-\")","v":"-"}]
[null,null,4,"",null,null,null,"-",{"$f":"IF(OR(IFERROR(MATCH($D912,'Transparency List 2018_10'!$L:$L,0),FALSE),IFERROR(MATCH(TRIM($G912),'Transparency List 2018_10'!$D:$D,0),FALSE)),\"On the 2018_10 List\",\"-\")","v":"-"},{"$f":"IF(OR(IFERROR(MATCH($D912,'Transparency List 2018_04'!$L:$L,0),FALSE),IFERROR(MATCH(TRIM($G912),'Transparency List 2018_04'!$D:$D,0),FALSE)),\"On the 2018_04 List\",\"-\")","v":"-"},{"$f":"IF(OR(IFERROR(MATCH($D912,'Transparency List 2017'!$L:$L,0),FALSE),IFERROR(MATCH(TRIM($G912),'Transparency List 2017'!$C:$C,0),FALSE)),\"On the 2017 List\",\"-\")","v":"-"},{"$f":"IF(OR(IFERROR(MATCH($D912,'Transparency List 2015'!$H:$H,0),FALSE),IFERROR(MATCH(TRIM($G912),'Transparency List 2015'!$C:$C,0),FALSE)),\"On the 2015 List\",\"-\")","v":"-"}]
[null,null,4,"",null,null,null,"-",{"$f":"IF(OR(IFERROR(MATCH($D913,'Transparency List 2018_10'!$L:$L,0),FALSE),IFERROR(MATCH(TRIM($G913),'Transparency List 2018_10'!$D:$D,0),FALSE)),\"On the 2018_10 List\",\"-\")","v":"-"},{"$f":"IF(OR(IFERROR(MATCH($D913,'Transparency List 2018_04'!$L:$L,0),FALSE),IFERROR(MATCH(TRIM($G913),'Transparency List 2018_04'!$D:$D,0),FALSE)),\"On the 2018_04 List\",\"-\")","v":"-"},{"$f":"IF(OR(IFERROR(MATCH($D913,'Transparency List 2017'!$L:$L,0),FALSE),IFERROR(MATCH(TRIM($G913),'Transparency List 2017'!$C:$C,0),FALSE)),\"On the 2017 List\",\"-\")","v":"-"},{"$f":"IF(OR(IFERROR(MATCH($D913,'Transparency List 2015'!$H:$H,0),FALSE),IFERROR(MATCH(TRIM($G913),'Transparency List 2015'!$C:$C,0),FALSE)),\"On the 2015 List\",\"-\")","v":"-"}]
[null,null,4,"",null,null,null,"-",{"$f":"IF(OR(IFERROR(MATCH($D914,'Transparency List 2018_10'!$L:$L,0),FALSE),IFERROR(MATCH(TRIM($G914),'Transparency List 2018_10'!$D:$D,0),FALSE)),\"On the 2018_10 List\",\"-\")","v":"-"},{"$f":"IF(OR(IFERROR(MATCH($D914,'Transparency List 2018_04'!$L:$L,0),FALSE),IFERROR(MATCH(TRIM($G914),'Transparency List 2018_04'!$D:$D,0),FALSE)),\"On the 2018_04 List\",\"-\")","v":"-"},{"$f":"IF(OR(IFERROR(MATCH($D914,'Transparency List 2017'!$L:$L,0),FALSE),IFERROR(MATCH(TRIM($G914),'Transparency List 2017'!$C:$C,0),FALSE)),\"On the 2017 List\",\"-\")","v":"-"},{"$f":"IF(OR(IFERROR(MATCH($D914,'Transparency List 2015'!$H:$H,0),FALSE),IFERROR(MATCH(TRIM($G914),'Transparency List 2015'!$C:$C,0),FALSE)),\"On the 2015 List\",\"-\")","v":"-"}]
[null,null,4,"",null,null,null,"-",{"$f":"IF(OR(IFERROR(MATCH($D915,'Transparency List 2018_10'!$L:$L,0),FALSE),IFERROR(MATCH(TRIM($G915),'Transparency List 2018_10'!$D:$D,0),FALSE)),\"On the 2018_10 List\",\"-\")","v":"-"},{"$f":"IF(OR(IFERROR(MATCH($D915,'Transparency List 2018_04'!$L:$L,0),FALSE),IFERROR(MATCH(TRIM($G915),'Transparency List 2018_04'!$D:$D,0),FALSE)),\"On the 2018_04 List\",\"-\")","v":"-"},{"$f":"IF(OR(IFERROR(MATCH($D915,'Transparency List 2017'!$L:$L,0),FALSE),IFERROR(MATCH(TRIM($G915),'Transparency List 2017'!$C:$C,0),FALSE)),\"On the 2017 List\",\"-\")","v":"-"},{"$f":"IF(OR(IFERROR(MATCH($D915,'Transparency List 2015'!$H:$H,0),FALSE),IFERROR(MATCH(TRIM($G915),'Transparency List 2015'!$C:$C,0),FALSE)),\"On the 2015 List\",\"-\")","v":"-"}]
[null,null,4,"",null,null,null,"-",{"$f":"IF(OR(IFERROR(MATCH($D916,'Transparency List 2018_10'!$L:$L,0),FALSE),IFERROR(MATCH(TRIM($G916),'Transparency List 2018_10'!$D:$D,0),FALSE)),\"On the 2018_10 List\",\"-\")","v":"-"},{"$f":"IF(OR(IFERROR(MATCH($D916,'Transparency List 2018_04'!$L:$L,0),FALSE),IFERROR(MATCH(TRIM($G916),'Transparency List 2018_04'!$D:$D,0),FALSE)),\"On the 2018_04 List\",\"-\")","v":"-"},{"$f":"IF(OR(IFERROR(MATCH($D916,'Transparency List 2017'!$L:$L,0),FALSE),IFERROR(MATCH(TRIM($G916),'Transparency List 2017'!$C:$C,0),FALSE)),\"On the 2017 List\",\"-\")","v":"-"},{"$f":"IF(OR(IFERROR(MATCH($D916,'Transparency List 2015'!$H:$H,0),FALSE),IFERROR(MATCH(TRIM($G916),'Transparency List 2015'!$C:$C,0),FALSE)),\"On the 2015 List\",\"-\")","v":"-"}]
[null,null,4,"",null,null,null,"-",{"$f":"IF(OR(IFERROR(MATCH($D917,'Transparency List 2018_10'!$L:$L,0),FALSE),IFERROR(MATCH(TRIM($G917),'Transparency List 2018_10'!$D:$D,0),FALSE)),\"On the 2018_10 List\",\"-\")","v":"-"},{"$f":"IF(OR(IFERROR(MATCH($D917,'Transparency List 2018_04'!$L:$L,0),FALSE),IFERROR(MATCH(TRIM($G917),'Transparency List 2018_04'!$D:$D,0),FALSE)),\"On the 2018_04 List\",\"-\")","v":"-"},{"$f":"IF(OR(IFERROR(MATCH($D917,'Transparency List 2017'!$L:$L,0),FALSE),IFERROR(MATCH(TRIM($G917),'Transparency List 2017'!$C:$C,0),FALSE)),\"On the 2017 List\",\"-\")","v":"-"},{"$f":"IF(OR(IFERROR(MATCH($D917,'Transparency List 2015'!$H:$H,0),FALSE),IFERROR(MATCH(TRIM($G917),'Transparency List 2015'!$C:$C,0),FALSE)),\"On the 2015 List\",\"-\")","v":"-"}]
[null,null,4,"",null,null,null,"-",{"$f":"IF(OR(IFERROR(MATCH($D918,'Transparency List 2018_10'!$L:$L,0),FALSE),IFERROR(MATCH(TRIM($G918),'Transparency List 2018_10'!$D:$D,0),FALSE)),\"On the 2018_10 List\",\"-\")","v":"-"},{"$f":"IF(OR(IFERROR(MATCH($D918,'Transparency List 2018_04'!$L:$L,0),FALSE),IFERROR(MATCH(TRIM($G918),'Transparency List 2018_04'!$D:$D,0),FALSE)),\"On the 2018_04 List\",\"-\")","v":"-"},{"$f":"IF(OR(IFERROR(MATCH($D918,'Transparency List 2017'!$L:$L,0),FALSE),IFERROR(MATCH(TRIM($G918),'Transparency List 2017'!$C:$C,0),FALSE)),\"On the 2017 List\",\"-\")","v":"-"},{"$f":"IF(OR(IFERROR(MATCH($D918,'Transparency List 2015'!$H:$H,0),FALSE),IFERROR(MATCH(TRIM($G918),'Transparency List 2015'!$C:$C,0),FALSE)),\"On the 2015 List\",\"-\")","v":"-"}]
[null,null,4,"",null,null,null,"-",{"$f":"IF(OR(IFERROR(MATCH($D919,'Transparency List 2018_10'!$L:$L,0),FALSE),IFERROR(MATCH(TRIM($G919),'Transparency List 2018_10'!$D:$D,0),FALSE)),\"On the 2018_10 List\",\"-\")","v":"-"},{"$f":"IF(OR(IFERROR(MATCH($D919,'Transparency List 2018_04'!$L:$L,0),FALSE),IFERROR(MATCH(TRIM($G919),'Transparency List 2018_04'!$D:$D,0),FALSE)),\"On the 2018_04 List\",\"-\")","v":"-"},{"$f":"IF(OR(IFERROR(MATCH($D919,'Transparency List 2017'!$L:$L,0),FALSE),IFERROR(MATCH(TRIM($G919),'Transparency List 2017'!$C:$C,0),FALSE)),\"On the 2017 List\",\"-\")","v":"-"},{"$f":"IF(OR(IFERROR(MATCH($D919,'Transparency List 2015'!$H:$H,0),FALSE),IFERROR(MATCH(TRIM($G919),'Transparency List 2015'!$C:$C,0),FALSE)),\"On the 2015 List\",\"-\")","v":"-"}]
[null,null,4,"",null,null,null,"-",{"$f":"IF(OR(IFERROR(MATCH($D920,'Transparency List 2018_10'!$L:$L,0),FALSE),IFERROR(MATCH(TRIM($G920),'Transparency List 2018_10'!$D:$D,0),FALSE)),\"On the 2018_10 List\",\"-\")","v":"-"},{"$f":"IF(OR(IFERROR(MATCH($D920,'Transparency List 2018_04'!$L:$L,0),FALSE),IFERROR(MATCH(TRIM($G920),'Transparency List 2018_04'!$D:$D,0),FALSE)),\"On the 2018_04 List\",\"-\")","v":"-"},{"$f":"IF(OR(IFERROR(MATCH($D920,'Transparency List 2017'!$L:$L,0),FALSE),IFERROR(MATCH(TRIM($G920),'Transparency List 2017'!$C:$C,0),FALSE)),\"On the 2017 List\",\"-\")","v":"-"},{"$f":"IF(OR(IFERROR(MATCH($D920,'Transparency List 2015'!$H:$H,0),FALSE),IFERROR(MATCH(TRIM($G920),'Transparency List 2015'!$C:$C,0),FALSE)),\"On the 2015 List\",\"-\")","v":"-"}]
[null,null,4,"",null,null,null,"-",{"$f":"IF(OR(IFERROR(MATCH($D921,'Transparency List 2018_10'!$L:$L,0),FALSE),IFERROR(MATCH(TRIM($G921),'Transparency List 2018_10'!$D:$D,0),FALSE)),\"On the 2018_10 List\",\"-\")","v":"-"},{"$f":"IF(OR(IFERROR(MATCH($D921,'Transparency List 2018_04'!$L:$L,0),FALSE),IFERROR(MATCH(TRIM($G921),'Transparency List 2018_04'!$D:$D,0),FALSE)),\"On the 2018_04 List\",\"-\")","v":"-"},{"$f":"IF(OR(IFERROR(MATCH($D921,'Transparency List 2017'!$L:$L,0),FALSE),IFERROR(MATCH(TRIM($G921),'Transparency List 2017'!$C:$C,0),FALSE)),\"On the 2017 List\",\"-\")","v":"-"},{"$f":"IF(OR(IFERROR(MATCH($D921,'Transparency List 2015'!$H:$H,0),FALSE),IFERROR(MATCH(TRIM($G921),'Transparency List 2015'!$C:$C,0),FALSE)),\"On the 2015 List\",\"-\")","v":"-"}]
[null,null,4,"",null,null,null,"-",{"$f":"IF(OR(IFERROR(MATCH($D922,'Transparency List 2018_10'!$L:$L,0),FALSE),IFERROR(MATCH(TRIM($G922),'Transparency List 2018_10'!$D:$D,0),FALSE)),\"On the 2018_10 List\",\"-\")","v":"-"},{"$f":"IF(OR(IFERROR(MATCH($D922,'Transparency List 2018_04'!$L:$L,0),FALSE),IFERROR(MATCH(TRIM($G922),'Transparency List 2018_04'!$D:$D,0),FALSE)),\"On the 2018_04 List\",\"-\")","v":"-"},{"$f":"IF(OR(IFERROR(MATCH($D922,'Transparency List 2017'!$L:$L,0),FALSE),IFERROR(MATCH(TRIM($G922),'Transparency List 2017'!$C:$C,0),FALSE)),\"On the 2017 List\",\"-\")","v":"-"},{"$f":"IF(OR(IFERROR(MATCH($D922,'Transparency List 2015'!$H:$H,0),FALSE),IFERROR(MATCH(TRIM($G922),'Transparency List 2015'!$C:$C,0),FALSE)),\"On the 2015 List\",\"-\")","v":"-"}]
[null,null,4,"",null,null,null,"-",{"$f":"IF(OR(IFERROR(MATCH($D923,'Transparency List 2018_10'!$L:$L,0),FALSE),IFERROR(MATCH(TRIM($G923),'Transparency List 2018_10'!$D:$D,0),FALSE)),\"On the 2018_10 List\",\"-\")","v":"-"},{"$f":"IF(OR(IFERROR(MATCH($D923,'Transparency List 2018_04'!$L:$L,0),FALSE),IFERROR(MATCH(TRIM($G923),'Transparency List 2018_04'!$D:$D,0),FALSE)),\"On the 2018_04 List\",\"-\")","v":"-"},{"$f":"IF(OR(IFERROR(MATCH($D923,'Transparency List 2017'!$L:$L,0),FALSE),IFERROR(MATCH(TRIM($G923),'Transparency List 2017'!$C:$C,0),FALSE)),\"On the 2017 List\",\"-\")","v":"-"},{"$f":"IF(OR(IFERROR(MATCH($D923,'Transparency List 2015'!$H:$H,0),FALSE),IFERROR(MATCH(TRIM($G923),'Transparency List 2015'!$C:$C,0),FALSE)),\"On the 2015 List\",\"-\")","v":"-"}]
[null,null,4,"",null,null,null,"-",{"$f":"IF(OR(IFERROR(MATCH($D924,'Transparency List 2018_10'!$L:$L,0),FALSE),IFERROR(MATCH(TRIM($G924),'Transparency List 2018_10'!$D:$D,0),FALSE)),\"On the 2018_10 List\",\"-\")","v":"-"},{"$f":"IF(OR(IFERROR(MATCH($D924,'Transparency List 2018_04'!$L:$L,0),FALSE),IFERROR(MATCH(TRIM($G924),'Transparency List 2018_04'!$D:$D,0),FALSE)),\"On the 2018_04 List\",\"-\")","v":"-"},{"$f":"IF(OR(IFERROR(MATCH($D924,'Transparency List 2017'!$L:$L,0),FALSE),IFERROR(MATCH(TRIM($G924),'Transparency List 2017'!$C:$C,0),FALSE)),\"On the 2017 List\",\"-\")","v":"-"},{"$f":"IF(OR(IFERROR(MATCH($D924,'Transparency List 2015'!$H:$H,0),FALSE),IFERROR(MATCH(TRIM($G924),'Transparency List 2015'!$C:$C,0),FALSE)),\"On the 2015 List\",\"-\")","v":"-"}]
[null,null,4,"",null,null,null,"-",{"$f":"IF(OR(IFERROR(MATCH($D925,'Transparency List 2018_10'!$L:$L,0),FALSE),IFERROR(MATCH(TRIM($G925),'Transparency List 2018_10'!$D:$D,0),FALSE)),\"On the 2018_10 List\",\"-\")","v":"-"},{"$f":"IF(OR(IFERROR(MATCH($D925,'Transparency List 2018_04'!$L:$L,0),FALSE),IFERROR(MATCH(TRIM($G925),'Transparency List 2018_04'!$D:$D,0),FALSE)),\"On the 2018_04 List\",\"-\")","v":"-"},{"$f":"IF(OR(IFERROR(MATCH($D925,'Transparency List 2017'!$L:$L,0),FALSE),IFERROR(MATCH(TRIM($G925),'Transparency List 2017'!$C:$C,0),FALSE)),\"On the 2017 List\",\"-\")","v":"-"},{"$f":"IF(OR(IFERROR(MATCH($D925,'Transparency List 2015'!$H:$H,0),FALSE),IFERROR(MATCH(TRIM($G925),'Transparency List 2015'!$C:$C,0),FALSE)),\"On the 2015 List\",\"-\")","v":"-"}]
[null,null,4,"",null,null,null,"-",{"$f":"IF(OR(IFERROR(MATCH($D926,'Transparency List 2018_10'!$L:$L,0),FALSE),IFERROR(MATCH(TRIM($G926),'Transparency List 2018_10'!$D:$D,0),FALSE)),\"On the 2018_10 List\",\"-\")","v":"-"},{"$f":"IF(OR(IFERROR(MATCH($D926,'Transparency List 2018_04'!$L:$L,0),FALSE),IFERROR(MATCH(TRIM($G926),'Transparency List 2018_04'!$D:$D,0),FALSE)),\"On the 2018_04 List\",\"-\")","v":"-"},{"$f":"IF(OR(IFERROR(MATCH($D926,'Transparency List 2017'!$L:$L,0),FALSE),IFERROR(MATCH(TRIM($G926),'Transparency List 2017'!$C:$C,0),FALSE)),\"On the 2017 List\",\"-\")","v":"-"},{"$f":"IF(OR(IFERROR(MATCH($D926,'Transparency List 2015'!$H:$H,0),FALSE),IFERROR(MATCH(TRIM($G926),'Transparency List 2015'!$C:$C,0),FALSE)),\"On the 2015 List\",\"-\")","v":"-"}]
[null,null,{"$f":"COUNTIF($I927:$L927,\"-\")","v":4},{"$f":"SUBSTITUTE(SUBSTITUTE(SUBSTITUTE(SUBSTITUTE($G927,\" \",\"\"),\".\",\"\"),\"-\",\"\"),\"/\",\"\")","v":""},null,null,null,{"$f":"IFERROR(IF($C927=4,\"-\",\"Risk Farmer - Please conduct further steps\"),)","v":"-"},{"$f":"IF(OR(IFERROR(MATCH($D927,'Transparency List 2018_10'!$L:$L,0),FALSE),IFERROR(MATCH(TRIM($G927),'Transparency List 2018_10'!$D:$D,0),FALSE)),\"On the 2018_10 List\",\"-\")","v":"-"},{"$f":"IF(OR(IFERROR(MATCH($D927,'Transparency List 2018_04'!$L:$L,0),FALSE),IFERROR(MATCH(TRIM($G927),'Transparency List 2018_04'!$D:$D,0),FALSE)),\"On the 2018_04 List\",\"-\")","v":"-"},{"$f":"IF(OR(IFERROR(MATCH($D927,'Transparency List 2017'!$L:$L,0),FALSE),IFERROR(MATCH(TRIM($G927),'Transparency List 2017'!$C:$C,0),FALSE)),\"On the 2017 List\",\"-\")","v":"-"},{"$f":"IF(OR(IFERROR(MATCH($D927,'Transparency List 2015'!$H:$H,0),FALSE),IFERROR(MATCH(TRIM($G927),'Transparency List 2015'!$C:$C,0),FALSE)),\"On the 2015 List\",\"-\")","v":"-"}]
[null,null,4,"",null,null,null,"-",{"$f":"IF(OR(IFERROR(MATCH($D928,'Transparency List 2018_10'!$L:$L,0),FALSE),IFERROR(MATCH(TRIM($G928),'Transparency List 2018_10'!$D:$D,0),FALSE)),\"On the 2018_10 List\",\"-\")","v":"-"},{"$f":"IF(OR(IFERROR(MATCH($D928,'Transparency List 2018_04'!$L:$L,0),FALSE),IFERROR(MATCH(TRIM($G928),'Transparency List 2018_04'!$D:$D,0),FALSE)),\"On the 2018_04 List\",\"-\")","v":"-"},{"$f":"IF(OR(IFERROR(MATCH($D928,'Transparency List 2017'!$L:$L,0),FALSE),IFERROR(MATCH(TRIM($G928),'Transparency List 2017'!$C:$C,0),FALSE)),\"On the 2017 List\",\"-\")","v":"-"},{"$f":"IF(OR(IFERROR(MATCH($D928,'Transparency List 2015'!$H:$H,0),FALSE),IFERROR(MATCH(TRIM($G928),'Transparency List 2015'!$C:$C,0),FALSE)),\"On the 2015 List\",\"-\")","v":"-"}]
[null,null,4,"",null,null,null,"-",{"$f":"IF(OR(IFERROR(MATCH($D929,'Transparency List 2018_10'!$L:$L,0),FALSE),IFERROR(MATCH(TRIM($G929),'Transparency List 2018_10'!$D:$D,0),FALSE)),\"On the 2018_10 List\",\"-\")","v":"-"},{"$f":"IF(OR(IFERROR(MATCH($D929,'Transparency List 2018_04'!$L:$L,0),FALSE),IFERROR(MATCH(TRIM($G929),'Transparency List 2018_04'!$D:$D,0),FALSE)),\"On the 2018_04 List\",\"-\")","v":"-"},{"$f":"IF(OR(IFERROR(MATCH($D929,'Transparency List 2017'!$L:$L,0),FALSE),IFERROR(MATCH(TRIM($G929),'Transparency List 2017'!$C:$C,0),FALSE)),\"On the 2017 List\",\"-\")","v":"-"},{"$f":"IF(OR(IFERROR(MATCH($D929,'Transparency List 2015'!$H:$H,0),FALSE),IFERROR(MATCH(TRIM($G929),'Transparency List 2015'!$C:$C,0),FALSE)),\"On the 2015 List\",\"-\")","v":"-"}]
[null,null,4,"",null,null,null,"-",{"$f":"IF(OR(IFERROR(MATCH($D930,'Transparency List 2018_10'!$L:$L,0),FALSE),IFERROR(MATCH(TRIM($G930),'Transparency List 2018_10'!$D:$D,0),FALSE)),\"On the 2018_10 List\",\"-\")","v":"-"},{"$f":"IF(OR(IFERROR(MATCH($D930,'Transparency List 2018_04'!$L:$L,0),FALSE),IFERROR(MATCH(TRIM($G930),'Transparency List 2018_04'!$D:$D,0),FALSE)),\"On the 2018_04 List\",\"-\")","v":"-"},{"$f":"IF(OR(IFERROR(MATCH($D930,'Transparency List 2017'!$L:$L,0),FALSE),IFERROR(MATCH(TRIM($G930),'Transparency List 2017'!$C:$C,0),FALSE)),\"On the 2017 List\",\"-\")","v":"-"},{"$f":"IF(OR(IFERROR(MATCH($D930,'Transparency List 2015'!$H:$H,0),FALSE),IFERROR(MATCH(TRIM($G930),'Transparency List 2015'!$C:$C,0),FALSE)),\"On the 2015 List\",\"-\")","v":"-"}]
[null,null,4,"",null,null,null,"-",{"$f":"IF(OR(IFERROR(MATCH($D931,'Transparency List 2018_10'!$L:$L,0),FALSE),IFERROR(MATCH(TRIM($G931),'Transparency List 2018_10'!$D:$D,0),FALSE)),\"On the 2018_10 List\",\"-\")","v":"-"},{"$f":"IF(OR(IFERROR(MATCH($D931,'Transparency List 2018_04'!$L:$L,0),FALSE),IFERROR(MATCH(TRIM($G931),'Transparency List 2018_04'!$D:$D,0),FALSE)),\"On the 2018_04 List\",\"-\")","v":"-"},{"$f":"IF(OR(IFERROR(MATCH($D931,'Transparency List 2017'!$L:$L,0),FALSE),IFERROR(MATCH(TRIM($G931),'Transparency List 2017'!$C:$C,0),FALSE)),\"On the 2017 List\",\"-\")","v":"-"},{"$f":"IF(OR(IFERROR(MATCH($D931,'Transparency List 2015'!$H:$H,0),FALSE),IFERROR(MATCH(TRIM($G931),'Transparency List 2015'!$C:$C,0),FALSE)),\"On the 2015 List\",\"-\")","v":"-"}]
[null,null,4,"",null,null,null,"-",{"$f":"IF(OR(IFERROR(MATCH($D932,'Transparency List 2018_10'!$L:$L,0),FALSE),IFERROR(MATCH(TRIM($G932),'Transparency List 2018_10'!$D:$D,0),FALSE)),\"On the 2018_10 List\",\"-\")","v":"-"},{"$f":"IF(OR(IFERROR(MATCH($D932,'Transparency List 2018_04'!$L:$L,0),FALSE),IFERROR(MATCH(TRIM($G932),'Transparency List 2018_04'!$D:$D,0),FALSE)),\"On the 2018_04 List\",\"-\")","v":"-"},{"$f":"IF(OR(IFERROR(MATCH($D932,'Transparency List 2017'!$L:$L,0),FALSE),IFERROR(MATCH(TRIM($G932),'Transparency List 2017'!$C:$C,0),FALSE)),\"On the 2017 List\",\"-\")","v":"-"},{"$f":"IF(OR(IFERROR(MATCH($D932,'Transparency List 2015'!$H:$H,0),FALSE),IFERROR(MATCH(TRIM($G932),'Transparency List 2015'!$C:$C,0),FALSE)),\"On the 2015 List\",\"-\")","v":"-"}]
[null,null,4,"",null,null,null,"-",{"$f":"IF(OR(IFERROR(MATCH($D933,'Transparency List 2018_10'!$L:$L,0),FALSE),IFERROR(MATCH(TRIM($G933),'Transparency List 2018_10'!$D:$D,0),FALSE)),\"On the 2018_10 List\",\"-\")","v":"-"},{"$f":"IF(OR(IFERROR(MATCH($D933,'Transparency List 2018_04'!$L:$L,0),FALSE),IFERROR(MATCH(TRIM($G933),'Transparency List 2018_04'!$D:$D,0),FALSE)),\"On the 2018_04 List\",\"-\")","v":"-"},{"$f":"IF(OR(IFERROR(MATCH($D933,'Transparency List 2017'!$L:$L,0),FALSE),IFERROR(MATCH(TRIM($G933),'Transparency List 2017'!$C:$C,0),FALSE)),\"On the 2017 List\",\"-\")","v":"-"},{"$f":"IF(OR(IFERROR(MATCH($D933,'Transparency List 2015'!$H:$H,0),FALSE),IFERROR(MATCH(TRIM($G933),'Transparency List 2015'!$C:$C,0),FALSE)),\"On the 2015 List\",\"-\")","v":"-"}]
[null,null,4,"",null,null,null,"-",{"$f":"IF(OR(IFERROR(MATCH($D934,'Transparency List 2018_10'!$L:$L,0),FALSE),IFERROR(MATCH(TRIM($G934),'Transparency List 2018_10'!$D:$D,0),FALSE)),\"On the 2018_10 List\",\"-\")","v":"-"},{"$f":"IF(OR(IFERROR(MATCH($D934,'Transparency List 2018_04'!$L:$L,0),FALSE),IFERROR(MATCH(TRIM($G934),'Transparency List 2018_04'!$D:$D,0),FALSE)),\"On the 2018_04 List\",\"-\")","v":"-"},{"$f":"IF(OR(IFERROR(MATCH($D934,'Transparency List 2017'!$L:$L,0),FALSE),IFERROR(MATCH(TRIM($G934),'Transparency List 2017'!$C:$C,0),FALSE)),\"On the 2017 List\",\"-\")","v":"-"},{"$f":"IF(OR(IFERROR(MATCH($D934,'Transparency List 2015'!$H:$H,0),FALSE),IFERROR(MATCH(TRIM($G934),'Transparency List 2015'!$C:$C,0),FALSE)),\"On the 2015 List\",\"-\")","v":"-"}]
[null,null,4,"",null,null,null,"-",{"$f":"IF(OR(IFERROR(MATCH($D935,'Transparency List 2018_10'!$L:$L,0),FALSE),IFERROR(MATCH(TRIM($G935),'Transparency List 2018_10'!$D:$D,0),FALSE)),\"On the 2018_10 List\",\"-\")","v":"-"},{"$f":"IF(OR(IFERROR(MATCH($D935,'Transparency List 2018_04'!$L:$L,0),FALSE),IFERROR(MATCH(TRIM($G935),'Transparency List 2018_04'!$D:$D,0),FALSE)),\"On the 2018_04 List\",\"-\")","v":"-"},{"$f":"IF(OR(IFERROR(MATCH($D935,'Transparency List 2017'!$L:$L,0),FALSE),IFERROR(MATCH(TRIM($G935),'Transparency List 2017'!$C:$C,0),FALSE)),\"On the 2017 List\",\"-\")","v":"-"},{"$f":"IF(OR(IFERROR(MATCH($D935,'Transparency List 2015'!$H:$H,0),FALSE),IFERROR(MATCH(TRIM($G935),'Transparency List 2015'!$C:$C,0),FALSE)),\"On the 2015 List\",\"-\")","v":"-"}]
[null,null,4,"",null,null,null,"-",{"$f":"IF(OR(IFERROR(MATCH($D936,'Transparency List 2018_10'!$L:$L,0),FALSE),IFERROR(MATCH(TRIM($G936),'Transparency List 2018_10'!$D:$D,0),FALSE)),\"On the 2018_10 List\",\"-\")","v":"-"},{"$f":"IF(OR(IFERROR(MATCH($D936,'Transparency List 2018_04'!$L:$L,0),FALSE),IFERROR(MATCH(TRIM($G936),'Transparency List 2018_04'!$D:$D,0),FALSE)),\"On the 2018_04 List\",\"-\")","v":"-"},{"$f":"IF(OR(IFERROR(MATCH($D936,'Transparency List 2017'!$L:$L,0),FALSE),IFERROR(MATCH(TRIM($G936),'Transparency List 2017'!$C:$C,0),FALSE)),\"On the 2017 List\",\"-\")","v":"-"},{"$f":"IF(OR(IFERROR(MATCH($D936,'Transparency List 2015'!$H:$H,0),FALSE),IFERROR(MATCH(TRIM($G936),'Transparency List 2015'!$C:$C,0),FALSE)),\"On the 2015 List\",\"-\")","v":"-"}]
[null,null,4,"",null,null,null,"-",{"$f":"IF(OR(IFERROR(MATCH($D937,'Transparency List 2018_10'!$L:$L,0),FALSE),IFERROR(MATCH(TRIM($G937),'Transparency List 2018_10'!$D:$D,0),FALSE)),\"On the 2018_10 List\",\"-\")","v":"-"},{"$f":"IF(OR(IFERROR(MATCH($D937,'Transparency List 2018_04'!$L:$L,0),FALSE),IFERROR(MATCH(TRIM($G937),'Transparency List 2018_04'!$D:$D,0),FALSE)),\"On the 2018_04 List\",\"-\")","v":"-"},{"$f":"IF(OR(IFERROR(MATCH($D937,'Transparency List 2017'!$L:$L,0),FALSE),IFERROR(MATCH(TRIM($G937),'Transparency List 2017'!$C:$C,0),FALSE)),\"On the 2017 List\",\"-\")","v":"-"},{"$f":"IF(OR(IFERROR(MATCH($D937,'Transparency List 2015'!$H:$H,0),FALSE),IFERROR(MATCH(TRIM($G937),'Transparency List 2015'!$C:$C,0),FALSE)),\"On the 2015 List\",\"-\")","v":"-"}]
[null,null,4,"",null,null,null,"-",{"$f":"IF(OR(IFERROR(MATCH($D938,'Transparency List 2018_10'!$L:$L,0),FALSE),IFERROR(MATCH(TRIM($G938),'Transparency List 2018_10'!$D:$D,0),FALSE)),\"On the 2018_10 List\",\"-\")","v":"-"},{"$f":"IF(OR(IFERROR(MATCH($D938,'Transparency List 2018_04'!$L:$L,0),FALSE),IFERROR(MATCH(TRIM($G938),'Transparency List 2018_04'!$D:$D,0),FALSE)),\"On the 2018_04 List\",\"-\")","v":"-"},{"$f":"IF(OR(IFERROR(MATCH($D938,'Transparency List 2017'!$L:$L,0),FALSE),IFERROR(MATCH(TRIM($G938),'Transparency List 2017'!$C:$C,0),FALSE)),\"On the 2017 List\",\"-\")","v":"-"},{"$f":"IF(OR(IFERROR(MATCH($D938,'Transparency List 2015'!$H:$H,0),FALSE),IFERROR(MATCH(TRIM($G938),'Transparency List 2015'!$C:$C,0),FALSE)),\"On the 2015 List\",\"-\")","v":"-"}]
[null,null,4,"",null,null,null,"-",{"$f":"IF(OR(IFERROR(MATCH($D939,'Transparency List 2018_10'!$L:$L,0),FALSE),IFERROR(MATCH(TRIM($G939),'Transparency List 2018_10'!$D:$D,0),FALSE)),\"On the 2018_10 List\",\"-\")","v":"-"},{"$f":"IF(OR(IFERROR(MATCH($D939,'Transparency List 2018_04'!$L:$L,0),FALSE),IFERROR(MATCH(TRIM($G939),'Transparency List 2018_04'!$D:$D,0),FALSE)),\"On the 2018_04 List\",\"-\")","v":"-"},{"$f":"IF(OR(IFERROR(MATCH($D939,'Transparency List 2017'!$L:$L,0),FALSE),IFERROR(MATCH(TRIM($G939),'Transparency List 2017'!$C:$C,0),FALSE)),\"On the 2017 List\",\"-\")","v":"-"},{"$f":"IF(OR(IFERROR(MATCH($D939,'Transparency List 2015'!$H:$H,0),FALSE),IFERROR(MATCH(TRIM($G939),'Transparency List 2015'!$C:$C,0),FALSE)),\"On the 2015 List\",\"-\")","v":"-"}]
[null,null,4,"",null,null,null,"-",{"$f":"IF(OR(IFERROR(MATCH($D940,'Transparency List 2018_10'!$L:$L,0),FALSE),IFERROR(MATCH(TRIM($G940),'Transparency List 2018_10'!$D:$D,0),FALSE)),\"On the 2018_10 List\",\"-\")","v":"-"},{"$f":"IF(OR(IFERROR(MATCH($D940,'Transparency List 2018_04'!$L:$L,0),FALSE),IFERROR(MATCH(TRIM($G940),'Transparency List 2018_04'!$D:$D,0),FALSE)),\"On the 2018_04 List\",\"-\")","v":"-"},{"$f":"IF(OR(IFERROR(MATCH($D940,'Transparency List 2017'!$L:$L,0),FALSE),IFERROR(MATCH(TRIM($G940),'Transparency List 2017'!$C:$C,0),FALSE)),\"On the 2017 List\",\"-\")","v":"-"},{"$f":"IF(OR(IFERROR(MATCH($D940,'Transparency List 2015'!$H:$H,0),FALSE),IFERROR(MATCH(TRIM($G940),'Transparency List 2015'!$C:$C,0),FALSE)),\"On the 2015 List\",\"-\")","v":"-"}]
[null,null,4,"",null,null,null,"-",{"$f":"IF(OR(IFERROR(MATCH($D941,'Transparency List 2018_10'!$L:$L,0),FALSE),IFERROR(MATCH(TRIM($G941),'Transparency List 2018_10'!$D:$D,0),FALSE)),\"On the 2018_10 List\",\"-\")","v":"-"},{"$f":"IF(OR(IFERROR(MATCH($D941,'Transparency List 2018_04'!$L:$L,0),FALSE),IFERROR(MATCH(TRIM($G941),'Transparency List 2018_04'!$D:$D,0),FALSE)),\"On the 2018_04 List\",\"-\")","v":"-"},{"$f":"IF(OR(IFERROR(MATCH($D941,'Transparency List 2017'!$L:$L,0),FALSE),IFERROR(MATCH(TRIM($G941),'Transparency List 2017'!$C:$C,0),FALSE)),\"On the 2017 List\",\"-\")","v":"-"},{"$f":"IF(OR(IFERROR(MATCH($D941,'Transparency List 2015'!$H:$H,0),FALSE),IFERROR(MATCH(TRIM($G941),'Transparency List 2015'!$C:$C,0),FALSE)),\"On the 2015 List\",\"-\")","v":"-"}]
[null,null,4,"",null,null,null,"-",{"$f":"IF(OR(IFERROR(MATCH($D942,'Transparency List 2018_10'!$L:$L,0),FALSE),IFERROR(MATCH(TRIM($G942),'Transparency List 2018_10'!$D:$D,0),FALSE)),\"On the 2018_10 List\",\"-\")","v":"-"},{"$f":"IF(OR(IFERROR(MATCH($D942,'Transparency List 2018_04'!$L:$L,0),FALSE),IFERROR(MATCH(TRIM($G942),'Transparency List 2018_04'!$D:$D,0),FALSE)),\"On the 2018_04 List\",\"-\")","v":"-"},{"$f":"IF(OR(IFERROR(MATCH($D942,'Transparency List 2017'!$L:$L,0),FALSE),IFERROR(MATCH(TRIM($G942),'Transparency List 2017'!$C:$C,0),FALSE)),\"On the 2017 List\",\"-\")","v":"-"},{"$f":"IF(OR(IFERROR(MATCH($D942,'Transparency List 2015'!$H:$H,0),FALSE),IFERROR(MATCH(TRIM($G942),'Transparency List 2015'!$C:$C,0),FALSE)),\"On the 2015 List\",\"-\")","v":"-"}]
[null,null,4,"",null,null,null,"-",{"$f":"IF(OR(IFERROR(MATCH($D943,'Transparency List 2018_10'!$L:$L,0),FALSE),IFERROR(MATCH(TRIM($G943),'Transparency List 2018_10'!$D:$D,0),FALSE)),\"On the 2018_10 List\",\"-\")","v":"-"},{"$f":"IF(OR(IFERROR(MATCH($D943,'Transparency List 2018_04'!$L:$L,0),FALSE),IFERROR(MATCH(TRIM($G943),'Transparency List 2018_04'!$D:$D,0),FALSE)),\"On the 2018_04 List\",\"-\")","v":"-"},{"$f":"IF(OR(IFERROR(MATCH($D943,'Transparency List 2017'!$L:$L,0),FALSE),IFERROR(MATCH(TRIM($G943),'Transparency List 2017'!$C:$C,0),FALSE)),\"On the 2017 List\",\"-\")","v":"-"},{"$f":"IF(OR(IFERROR(MATCH($D943,'Transparency List 2015'!$H:$H,0),FALSE),IFERROR(MATCH(TRIM($G943),'Transparency List 2015'!$C:$C,0),FALSE)),\"On the 2015 List\",\"-\")","v":"-"}]
[null,null,4,"",null,null,null,"-",{"$f":"IF(OR(IFERROR(MATCH($D944,'Transparency List 2018_10'!$L:$L,0),FALSE),IFERROR(MATCH(TRIM($G944),'Transparency List 2018_10'!$D:$D,0),FALSE)),\"On the 2018_10 List\",\"-\")","v":"-"},{"$f":"IF(OR(IFERROR(MATCH($D944,'Transparency List 2018_04'!$L:$L,0),FALSE),IFERROR(MATCH(TRIM($G944),'Transparency List 2018_04'!$D:$D,0),FALSE)),\"On the 2018_04 List\",\"-\")","v":"-"},{"$f":"IF(OR(IFERROR(MATCH($D944,'Transparency List 2017'!$L:$L,0),FALSE),IFERROR(MATCH(TRIM($G944),'Transparency List 2017'!$C:$C,0),FALSE)),\"On the 2017 List\",\"-\")","v":"-"},{"$f":"IF(OR(IFERROR(MATCH($D944,'Transparency List 2015'!$H:$H,0),FALSE),IFERROR(MATCH(TRIM($G944),'Transparency List 2015'!$C:$C,0),FALSE)),\"On the 2015 List\",\"-\")","v":"-"}]
[null,null,4,"",null,null,null,"-",{"$f":"IF(OR(IFERROR(MATCH($D945,'Transparency List 2018_10'!$L:$L,0),FALSE),IFERROR(MATCH(TRIM($G945),'Transparency List 2018_10'!$D:$D,0),FALSE)),\"On the 2018_10 List\",\"-\")","v":"-"},{"$f":"IF(OR(IFERROR(MATCH($D945,'Transparency List 2018_04'!$L:$L,0),FALSE),IFERROR(MATCH(TRIM($G945),'Transparency List 2018_04'!$D:$D,0),FALSE)),\"On the 2018_04 List\",\"-\")","v":"-"},{"$f":"IF(OR(IFERROR(MATCH($D945,'Transparency List 2017'!$L:$L,0),FALSE),IFERROR(MATCH(TRIM($G945),'Transparency List 2017'!$C:$C,0),FALSE)),\"On the 2017 List\",\"-\")","v":"-"},{"$f":"IF(OR(IFERROR(MATCH($D945,'Transparency List 2015'!$H:$H,0),FALSE),IFERROR(MATCH(TRIM($G945),'Transparency List 2015'!$C:$C,0),FALSE)),\"On the 2015 List\",\"-\")","v":"-"}]
[null,null,4,"",null,null,null,"-",{"$f":"IF(OR(IFERROR(MATCH($D946,'Transparency List 2018_10'!$L:$L,0),FALSE),IFERROR(MATCH(TRIM($G946),'Transparency List 2018_10'!$D:$D,0),FALSE)),\"On the 2018_10 List\",\"-\")","v":"-"},{"$f":"IF(OR(IFERROR(MATCH($D946,'Transparency List 2018_04'!$L:$L,0),FALSE),IFERROR(MATCH(TRIM($G946),'Transparency List 2018_04'!$D:$D,0),FALSE)),\"On the 2018_04 List\",\"-\")","v":"-"},{"$f":"IF(OR(IFERROR(MATCH($D946,'Transparency List 2017'!$L:$L,0),FALSE),IFERROR(MATCH(TRIM($G946),'Transparency List 2017'!$C:$C,0),FALSE)),\"On the 2017 List\",\"-\")","v":"-"},{"$f":"IF(OR(IFERROR(MATCH($D946,'Transparency List 2015'!$H:$H,0),FALSE),IFERROR(MATCH(TRIM($G946),'Transparency List 2015'!$C:$C,0),FALSE)),\"On the 2015 List\",\"-\")","v":"-"}]
[null,null,4,"",null,null,null,"-",{"$f":"IF(OR(IFERROR(MATCH($D947,'Transparency List 2018_10'!$L:$L,0),FALSE),IFERROR(MATCH(TRIM($G947),'Transparency List 2018_10'!$D:$D,0),FALSE)),\"On the 2018_10 List\",\"-\")","v":"-"},{"$f":"IF(OR(IFERROR(MATCH($D947,'Transparency List 2018_04'!$L:$L,0),FALSE),IFERROR(MATCH(TRIM($G947),'Transparency List 2018_04'!$D:$D,0),FALSE)),\"On the 2018_04 List\",\"-\")","v":"-"},{"$f":"IF(OR(IFERROR(MATCH($D947,'Transparency List 2017'!$L:$L,0),FALSE),IFERROR(MATCH(TRIM($G947),'Transparency List 2017'!$C:$C,0),FALSE)),\"On the 2017 List\",\"-\")","v":"-"},{"$f":"IF(OR(IFERROR(MATCH($D947,'Transparency List 2015'!$H:$H,0),FALSE),IFERROR(MATCH(TRIM($G947),'Transparency List 2015'!$C:$C,0),FALSE)),\"On the 2015 List\",\"-\")","v":"-"}]
[null,null,4,"",null,null,null,"-",{"$f":"IF(OR(IFERROR(MATCH($D948,'Transparency List 2018_10'!$L:$L,0),FALSE),IFERROR(MATCH(TRIM($G948),'Transparency List 2018_10'!$D:$D,0),FALSE)),\"On the 2018_10 List\",\"-\")","v":"-"},{"$f":"IF(OR(IFERROR(MATCH($D948,'Transparency List 2018_04'!$L:$L,0),FALSE),IFERROR(MATCH(TRIM($G948),'Transparency List 2018_04'!$D:$D,0),FALSE)),\"On the 2018_04 List\",\"-\")","v":"-"},{"$f":"IF(OR(IFERROR(MATCH($D948,'Transparency List 2017'!$L:$L,0),FALSE),IFERROR(MATCH(TRIM($G948),'Transparency List 2017'!$C:$C,0),FALSE)),\"On the 2017 List\",\"-\")","v":"-"},{"$f":"IF(OR(IFERROR(MATCH($D948,'Transparency List 2015'!$H:$H,0),FALSE),IFERROR(MATCH(TRIM($G948),'Transparency List 2015'!$C:$C,0),FALSE)),\"On the 2015 List\",\"-\")","v":"-"}]
[null,null,4,"",null,null,null,"-",{"$f":"IF(OR(IFERROR(MATCH($D949,'Transparency List 2018_10'!$L:$L,0),FALSE),IFERROR(MATCH(TRIM($G949),'Transparency List 2018_10'!$D:$D,0),FALSE)),\"On the 2018_10 List\",\"-\")","v":"-"},{"$f":"IF(OR(IFERROR(MATCH($D949,'Transparency List 2018_04'!$L:$L,0),FALSE),IFERROR(MATCH(TRIM($G949),'Transparency List 2018_04'!$D:$D,0),FALSE)),\"On the 2018_04 List\",\"-\")","v":"-"},{"$f":"IF(OR(IFERROR(MATCH($D949,'Transparency List 2017'!$L:$L,0),FALSE),IFERROR(MATCH(TRIM($G949),'Transparency List 2017'!$C:$C,0),FALSE)),\"On the 2017 List\",\"-\")","v":"-"},{"$f":"IF(OR(IFERROR(MATCH($D949,'Transparency List 2015'!$H:$H,0),FALSE),IFERROR(MATCH(TRIM($G949),'Transparency List 2015'!$C:$C,0),FALSE)),\"On the 2015 List\",\"-\")","v":"-"}]
[null,null,4,"",null,null,null,"-",{"$f":"IF(OR(IFERROR(MATCH($D950,'Transparency List 2018_10'!$L:$L,0),FALSE),IFERROR(MATCH(TRIM($G950),'Transparency List 2018_10'!$D:$D,0),FALSE)),\"On the 2018_10 List\",\"-\")","v":"-"},{"$f":"IF(OR(IFERROR(MATCH($D950,'Transparency List 2018_04'!$L:$L,0),FALSE),IFERROR(MATCH(TRIM($G950),'Transparency List 2018_04'!$D:$D,0),FALSE)),\"On the 2018_04 List\",\"-\")","v":"-"},{"$f":"IF(OR(IFERROR(MATCH($D950,'Transparency List 2017'!$L:$L,0),FALSE),IFERROR(MATCH(TRIM($G950),'Transparency List 2017'!$C:$C,0),FALSE)),\"On the 2017 List\",\"-\")","v":"-"},{"$f":"IF(OR(IFERROR(MATCH($D950,'Transparency List 2015'!$H:$H,0),FALSE),IFERROR(MATCH(TRIM($G950),'Transparency List 2015'!$C:$C,0),FALSE)),\"On the 2015 List\",\"-\")","v":"-"}]
[null,null,4,"",null,null,null,"-",{"$f":"IF(OR(IFERROR(MATCH($D951,'Transparency List 2018_10'!$L:$L,0),FALSE),IFERROR(MATCH(TRIM($G951),'Transparency List 2018_10'!$D:$D,0),FALSE)),\"On the 2018_10 List\",\"-\")","v":"-"},{"$f":"IF(OR(IFERROR(MATCH($D951,'Transparency List 2018_04'!$L:$L,0),FALSE),IFERROR(MATCH(TRIM($G951),'Transparency List 2018_04'!$D:$D,0),FALSE)),\"On the 2018_04 List\",\"-\")","v":"-"},{"$f":"IF(OR(IFERROR(MATCH($D951,'Transparency List 2017'!$L:$L,0),FALSE),IFERROR(MATCH(TRIM($G951),'Transparency List 2017'!$C:$C,0),FALSE)),\"On the 2017 List\",\"-\")","v":"-"},{"$f":"IF(OR(IFERROR(MATCH($D951,'Transparency List 2015'!$H:$H,0),FALSE),IFERROR(MATCH(TRIM($G951),'Transparency List 2015'!$C:$C,0),FALSE)),\"On the 2015 List\",\"-\")","v":"-"}]
[null,null,4,"",null,null,null,"-",{"$f":"IF(OR(IFERROR(MATCH($D952,'Transparency List 2018_10'!$L:$L,0),FALSE),IFERROR(MATCH(TRIM($G952),'Transparency List 2018_10'!$D:$D,0),FALSE)),\"On the 2018_10 List\",\"-\")","v":"-"},{"$f":"IF(OR(IFERROR(MATCH($D952,'Transparency List 2018_04'!$L:$L,0),FALSE),IFERROR(MATCH(TRIM($G952),'Transparency List 2018_04'!$D:$D,0),FALSE)),\"On the 2018_04 List\",\"-\")","v":"-"},{"$f":"IF(OR(IFERROR(MATCH($D952,'Transparency List 2017'!$L:$L,0),FALSE),IFERROR(MATCH(TRIM($G952),'Transparency List 2017'!$C:$C,0),FALSE)),\"On the 2017 List\",\"-\")","v":"-"},{"$f":"IF(OR(IFERROR(MATCH($D952,'Transparency List 2015'!$H:$H,0),FALSE),IFERROR(MATCH(TRIM($G952),'Transparency List 2015'!$C:$C,0),FALSE)),\"On the 2015 List\",\"-\")","v":"-"}]
[null,null,4,"",null,null,null,"-",{"$f":"IF(OR(IFERROR(MATCH($D953,'Transparency List 2018_10'!$L:$L,0),FALSE),IFERROR(MATCH(TRIM($G953),'Transparency List 2018_10'!$D:$D,0),FALSE)),\"On the 2018_10 List\",\"-\")","v":"-"},{"$f":"IF(OR(IFERROR(MATCH($D953,'Transparency List 2018_04'!$L:$L,0),FALSE),IFERROR(MATCH(TRIM($G953),'Transparency List 2018_04'!$D:$D,0),FALSE)),\"On the 2018_04 List\",\"-\")","v":"-"},{"$f":"IF(OR(IFERROR(MATCH($D953,'Transparency List 2017'!$L:$L,0),FALSE),IFERROR(MATCH(TRIM($G953),'Transparency List 2017'!$C:$C,0),FALSE)),\"On the 2017 List\",\"-\")","v":"-"},{"$f":"IF(OR(IFERROR(MATCH($D953,'Transparency List 2015'!$H:$H,0),FALSE),IFERROR(MATCH(TRIM($G953),'Transparency List 2015'!$C:$C,0),FALSE)),\"On the 2015 List\",\"-\")","v":"-"}]
[null,null,4,"",null,null,null,"-",{"$f":"IF(OR(IFERROR(MATCH($D954,'Transparency List 2018_10'!$L:$L,0),FALSE),IFERROR(MATCH(TRIM($G954),'Transparency List 2018_10'!$D:$D,0),FALSE)),\"On the 2018_10 List\",\"-\")","v":"-"},{"$f":"IF(OR(IFERROR(MATCH($D954,'Transparency List 2018_04'!$L:$L,0),FALSE),IFERROR(MATCH(TRIM($G954),'Transparency List 2018_04'!$D:$D,0),FALSE)),\"On the 2018_04 List\",\"-\")","v":"-"},{"$f":"IF(OR(IFERROR(MATCH($D954,'Transparency List 2017'!$L:$L,0),FALSE),IFERROR(MATCH(TRIM($G954),'Transparency List 2017'!$C:$C,0),FALSE)),\"On the 2017 List\",\"-\")","v":"-"},{"$f":"IF(OR(IFERROR(MATCH($D954,'Transparency List 2015'!$H:$H,0),FALSE),IFERROR(MATCH(TRIM($G954),'Transparency List 2015'!$C:$C,0),FALSE)),\"On the 2015 List\",\"-\")","v":"-"}]
[null,null,4,"",null,null,null,"-",{"$f":"IF(OR(IFERROR(MATCH($D955,'Transparency List 2018_10'!$L:$L,0),FALSE),IFERROR(MATCH(TRIM($G955),'Transparency List 2018_10'!$D:$D,0),FALSE)),\"On the 2018_10 List\",\"-\")","v":"-"},{"$f":"IF(OR(IFERROR(MATCH($D955,'Transparency List 2018_04'!$L:$L,0),FALSE),IFERROR(MATCH(TRIM($G955),'Transparency List 2018_04'!$D:$D,0),FALSE)),\"On the 2018_04 List\",\"-\")","v":"-"},{"$f":"IF(OR(IFERROR(MATCH($D955,'Transparency List 2017'!$L:$L,0),FALSE),IFERROR(MATCH(TRIM($G955),'Transparency List 2017'!$C:$C,0),FALSE)),\"On the 2017 List\",\"-\")","v":"-"},{"$f":"IF(OR(IFERROR(MATCH($D955,'Transparency List 2015'!$H:$H,0),FALSE),IFERROR(MATCH(TRIM($G955),'Transparency List 2015'!$C:$C,0),FALSE)),\"On the 2015 List\",\"-\")","v":"-"}]
[null,null,4,"",null,null,null,"-",{"$f":"IF(OR(IFERROR(MATCH($D956,'Transparency List 2018_10'!$L:$L,0),FALSE),IFERROR(MATCH(TRIM($G956),'Transparency List 2018_10'!$D:$D,0),FALSE)),\"On the 2018_10 List\",\"-\")","v":"-"},{"$f":"IF(OR(IFERROR(MATCH($D956,'Transparency List 2018_04'!$L:$L,0),FALSE),IFERROR(MATCH(TRIM($G956),'Transparency List 2018_04'!$D:$D,0),FALSE)),\"On the 2018_04 List\",\"-\")","v":"-"},{"$f":"IF(OR(IFERROR(MATCH($D956,'Transparency List 2017'!$L:$L,0),FALSE),IFERROR(MATCH(TRIM($G956),'Transparency List 2017'!$C:$C,0),FALSE)),\"On the 2017 List\",\"-\")","v":"-"},{"$f":"IF(OR(IFERROR(MATCH($D956,'Transparency List 2015'!$H:$H,0),FALSE),IFERROR(MATCH(TRIM($G956),'Transparency List 2015'!$C:$C,0),FALSE)),\"On the 2015 List\",\"-\")","v":"-"}]
[null,null,4,"",null,null,null,"-",{"$f":"IF(OR(IFERROR(MATCH($D957,'Transparency List 2018_10'!$L:$L,0),FALSE),IFERROR(MATCH(TRIM($G957),'Transparency List 2018_10'!$D:$D,0),FALSE)),\"On the 2018_10 List\",\"-\")","v":"-"},{"$f":"IF(OR(IFERROR(MATCH($D957,'Transparency List 2018_04'!$L:$L,0),FALSE),IFERROR(MATCH(TRIM($G957),'Transparency List 2018_04'!$D:$D,0),FALSE)),\"On the 2018_04 List\",\"-\")","v":"-"},{"$f":"IF(OR(IFERROR(MATCH($D957,'Transparency List 2017'!$L:$L,0),FALSE),IFERROR(MATCH(TRIM($G957),'Transparency List 2017'!$C:$C,0),FALSE)),\"On the 2017 List\",\"-\")","v":"-"},{"$f":"IF(OR(IFERROR(MATCH($D957,'Transparency List 2015'!$H:$H,0),FALSE),IFERROR(MATCH(TRIM($G957),'Transparency List 2015'!$C:$C,0),FALSE)),\"On the 2015 List\",\"-\")","v":"-"}]
[null,null,4,"",null,null,null,"-",{"$f":"IF(OR(IFERROR(MATCH($D958,'Transparency List 2018_10'!$L:$L,0),FALSE),IFERROR(MATCH(TRIM($G958),'Transparency List 2018_10'!$D:$D,0),FALSE)),\"On the 2018_10 List\",\"-\")","v":"-"},{"$f":"IF(OR(IFERROR(MATCH($D958,'Transparency List 2018_04'!$L:$L,0),FALSE),IFERROR(MATCH(TRIM($G958),'Transparency List 2018_04'!$D:$D,0),FALSE)),\"On the 2018_04 List\",\"-\")","v":"-"},{"$f":"IF(OR(IFERROR(MATCH($D958,'Transparency List 2017'!$L:$L,0),FALSE),IFERROR(MATCH(TRIM($G958),'Transparency List 2017'!$C:$C,0),FALSE)),\"On the 2017 List\",\"-\")","v":"-"},{"$f":"IF(OR(IFERROR(MATCH($D958,'Transparency List 2015'!$H:$H,0),FALSE),IFERROR(MATCH(TRIM($G958),'Transparency List 2015'!$C:$C,0),FALSE)),\"On the 2015 List\",\"-\")","v":"-"}]
[null,null,4,"",null,null,null,"-",{"$f":"IF(OR(IFERROR(MATCH($D959,'Transparency List 2018_10'!$L:$L,0),FALSE),IFERROR(MATCH(TRIM($G959),'Transparency List 2018_10'!$D:$D,0),FALSE)),\"On the 2018_10 List\",\"-\")","v":"-"},{"$f":"IF(OR(IFERROR(MATCH($D959,'Transparency List 2018_04'!$L:$L,0),FALSE),IFERROR(MATCH(TRIM($G959),'Transparency List 2018_04'!$D:$D,0),FALSE)),\"On the 2018_04 List\",\"-\")","v":"-"},{"$f":"IF(OR(IFERROR(MATCH($D959,'Transparency List 2017'!$L:$L,0),FALSE),IFERROR(MATCH(TRIM($G959),'Transparency List 2017'!$C:$C,0),FALSE)),\"On the 2017 List\",\"-\")","v":"-"},{"$f":"IF(OR(IFERROR(MATCH($D959,'Transparency List 2015'!$H:$H,0),FALSE),IFERROR(MATCH(TRIM($G959),'Transparency List 2015'!$C:$C,0),FALSE)),\"On the 2015 List\",\"-\")","v":"-"}]
[null,null,4,"",null,null,null,"-",{"$f":"IF(OR(IFERROR(MATCH($D960,'Transparency List 2018_10'!$L:$L,0),FALSE),IFERROR(MATCH(TRIM($G960),'Transparency List 2018_10'!$D:$D,0),FALSE)),\"On the 2018_10 List\",\"-\")","v":"-"},{"$f":"IF(OR(IFERROR(MATCH($D960,'Transparency List 2018_04'!$L:$L,0),FALSE),IFERROR(MATCH(TRIM($G960),'Transparency List 2018_04'!$D:$D,0),FALSE)),\"On the 2018_04 List\",\"-\")","v":"-"},{"$f":"IF(OR(IFERROR(MATCH($D960,'Transparency List 2017'!$L:$L,0),FALSE),IFERROR(MATCH(TRIM($G960),'Transparency List 2017'!$C:$C,0),FALSE)),\"On the 2017 List\",\"-\")","v":"-"},{"$f":"IF(OR(IFERROR(MATCH($D960,'Transparency List 2015'!$H:$H,0),FALSE),IFERROR(MATCH(TRIM($G960),'Transparency List 2015'!$C:$C,0),FALSE)),\"On the 2015 List\",\"-\")","v":"-"}]
[null,null,4,"",null,null,null,"-",{"$f":"IF(OR(IFERROR(MATCH($D961,'Transparency List 2018_10'!$L:$L,0),FALSE),IFERROR(MATCH(TRIM($G961),'Transparency List 2018_10'!$D:$D,0),FALSE)),\"On the 2018_10 List\",\"-\")","v":"-"},{"$f":"IF(OR(IFERROR(MATCH($D961,'Transparency List 2018_04'!$L:$L,0),FALSE),IFERROR(MATCH(TRIM($G961),'Transparency List 2018_04'!$D:$D,0),FALSE)),\"On the 2018_04 List\",\"-\")","v":"-"},{"$f":"IF(OR(IFERROR(MATCH($D961,'Transparency List 2017'!$L:$L,0),FALSE),IFERROR(MATCH(TRIM($G961),'Transparency List 2017'!$C:$C,0),FALSE)),\"On the 2017 List\",\"-\")","v":"-"},{"$f":"IF(OR(IFERROR(MATCH($D961,'Transparency List 2015'!$H:$H,0),FALSE),IFERROR(MATCH(TRIM($G961),'Transparency List 2015'!$C:$C,0),FALSE)),\"On the 2015 List\",\"-\")","v":"-"}]
[null,null,4,"",null,null,null,"-",{"$f":"IF(OR(IFERROR(MATCH($D962,'Transparency List 2018_10'!$L:$L,0),FALSE),IFERROR(MATCH(TRIM($G962),'Transparency List 2018_10'!$D:$D,0),FALSE)),\"On the 2018_10 List\",\"-\")","v":"-"},{"$f":"IF(OR(IFERROR(MATCH($D962,'Transparency List 2018_04'!$L:$L,0),FALSE),IFERROR(MATCH(TRIM($G962),'Transparency List 2018_04'!$D:$D,0),FALSE)),\"On the 2018_04 List\",\"-\")","v":"-"},{"$f":"IF(OR(IFERROR(MATCH($D962,'Transparency List 2017'!$L:$L,0),FALSE),IFERROR(MATCH(TRIM($G962),'Transparency List 2017'!$C:$C,0),FALSE)),\"On the 2017 List\",\"-\")","v":"-"},{"$f":"IF(OR(IFERROR(MATCH($D962,'Transparency List 2015'!$H:$H,0),FALSE),IFERROR(MATCH(TRIM($G962),'Transparency List 2015'!$C:$C,0),FALSE)),\"On the 2015 List\",\"-\")","v":"-"}]
[null,null,4,"",null,null,null,"-",{"$f":"IF(OR(IFERROR(MATCH($D963,'Transparency List 2018_10'!$L:$L,0),FALSE),IFERROR(MATCH(TRIM($G963),'Transparency List 2018_10'!$D:$D,0),FALSE)),\"On the 2018_10 List\",\"-\")","v":"-"},{"$f":"IF(OR(IFERROR(MATCH($D963,'Transparency List 2018_04'!$L:$L,0),FALSE),IFERROR(MATCH(TRIM($G963),'Transparency List 2018_04'!$D:$D,0),FALSE)),\"On the 2018_04 List\",\"-\")","v":"-"},{"$f":"IF(OR(IFERROR(MATCH($D963,'Transparency List 2017'!$L:$L,0),FALSE),IFERROR(MATCH(TRIM($G963),'Transparency List 2017'!$C:$C,0),FALSE)),\"On the 2017 List\",\"-\")","v":"-"},{"$f":"IF(OR(IFERROR(MATCH($D963,'Transparency List 2015'!$H:$H,0),FALSE),IFERROR(MATCH(TRIM($G963),'Transparency List 2015'!$C:$C,0),FALSE)),\"On the 2015 List\",\"-\")","v":"-"}]
[null,null,4,"",null,null,null,"-",{"$f":"IF(OR(IFERROR(MATCH($D964,'Transparency List 2018_10'!$L:$L,0),FALSE),IFERROR(MATCH(TRIM($G964),'Transparency List 2018_10'!$D:$D,0),FALSE)),\"On the 2018_10 List\",\"-\")","v":"-"},{"$f":"IF(OR(IFERROR(MATCH($D964,'Transparency List 2018_04'!$L:$L,0),FALSE),IFERROR(MATCH(TRIM($G964),'Transparency List 2018_04'!$D:$D,0),FALSE)),\"On the 2018_04 List\",\"-\")","v":"-"},{"$f":"IF(OR(IFERROR(MATCH($D964,'Transparency List 2017'!$L:$L,0),FALSE),IFERROR(MATCH(TRIM($G964),'Transparency List 2017'!$C:$C,0),FALSE)),\"On the 2017 List\",\"-\")","v":"-"},{"$f":"IF(OR(IFERROR(MATCH($D964,'Transparency List 2015'!$H:$H,0),FALSE),IFERROR(MATCH(TRIM($G964),'Transparency List 2015'!$C:$C,0),FALSE)),\"On the 2015 List\",\"-\")","v":"-"}]
[null,null,4,"",null,null,null,"-",{"$f":"IF(OR(IFERROR(MATCH($D965,'Transparency List 2018_10'!$L:$L,0),FALSE),IFERROR(MATCH(TRIM($G965),'Transparency List 2018_10'!$D:$D,0),FALSE)),\"On the 2018_10 List\",\"-\")","v":"-"},{"$f":"IF(OR(IFERROR(MATCH($D965,'Transparency List 2018_04'!$L:$L,0),FALSE),IFERROR(MATCH(TRIM($G965),'Transparency List 2018_04'!$D:$D,0),FALSE)),\"On the 2018_04 List\",\"-\")","v":"-"},{"$f":"IF(OR(IFERROR(MATCH($D965,'Transparency List 2017'!$L:$L,0),FALSE),IFERROR(MATCH(TRIM($G965),'Transparency List 2017'!$C:$C,0),FALSE)),\"On the 2017 List\",\"-\")","v":"-"},{"$f":"IF(OR(IFERROR(MATCH($D965,'Transparency List 2015'!$H:$H,0),FALSE),IFERROR(MATCH(TRIM($G965),'Transparency List 2015'!$C:$C,0),FALSE)),\"On the 2015 List\",\"-\")","v":"-"}]
[null,null,4,"",null,null,null,"-",{"$f":"IF(OR(IFERROR(MATCH($D966,'Transparency List 2018_10'!$L:$L,0),FALSE),IFERROR(MATCH(TRIM($G966),'Transparency List 2018_10'!$D:$D,0),FALSE)),\"On the 2018_10 List\",\"-\")","v":"-"},{"$f":"IF(OR(IFERROR(MATCH($D966,'Transparency List 2018_04'!$L:$L,0),FALSE),IFERROR(MATCH(TRIM($G966),'Transparency List 2018_04'!$D:$D,0),FALSE)),\"On the 2018_04 List\",\"-\")","v":"-"},{"$f":"IF(OR(IFERROR(MATCH($D966,'Transparency List 2017'!$L:$L,0),FALSE),IFERROR(MATCH(TRIM($G966),'Transparency List 2017'!$C:$C,0),FALSE)),\"On the 2017 List\",\"-\")","v":"-"},{"$f":"IF(OR(IFERROR(MATCH($D966,'Transparency List 2015'!$H:$H,0),FALSE),IFERROR(MATCH(TRIM($G966),'Transparency List 2015'!$C:$C,0),FALSE)),\"On the 2015 List\",\"-\")","v":"-"}]
[null,null,4,"",null,null,null,"-",{"$f":"IF(OR(IFERROR(MATCH($D967,'Transparency List 2018_10'!$L:$L,0),FALSE),IFERROR(MATCH(TRIM($G967),'Transparency List 2018_10'!$D:$D,0),FALSE)),\"On the 2018_10 List\",\"-\")","v":"-"},{"$f":"IF(OR(IFERROR(MATCH($D967,'Transparency List 2018_04'!$L:$L,0),FALSE),IFERROR(MATCH(TRIM($G967),'Transparency List 2018_04'!$D:$D,0),FALSE)),\"On the 2018_04 List\",\"-\")","v":"-"},{"$f":"IF(OR(IFERROR(MATCH($D967,'Transparency List 2017'!$L:$L,0),FALSE),IFERROR(MATCH(TRIM($G967),'Transparency List 2017'!$C:$C,0),FALSE)),\"On the 2017 List\",\"-\")","v":"-"},{"$f":"IF(OR(IFERROR(MATCH($D967,'Transparency List 2015'!$H:$H,0),FALSE),IFERROR(MATCH(TRIM($G967),'Transparency List 2015'!$C:$C,0),FALSE)),\"On the 2015 List\",\"-\")","v":"-"}]
[null,null,4,"",null,null,null,"-",{"$f":"IF(OR(IFERROR(MATCH($D968,'Transparency List 2018_10'!$L:$L,0),FALSE),IFERROR(MATCH(TRIM($G968),'Transparency List 2018_10'!$D:$D,0),FALSE)),\"On the 2018_10 List\",\"-\")","v":"-"},{"$f":"IF(OR(IFERROR(MATCH($D968,'Transparency List 2018_04'!$L:$L,0),FALSE),IFERROR(MATCH(TRIM($G968),'Transparency List 2018_04'!$D:$D,0),FALSE)),\"On the 2018_04 List\",\"-\")","v":"-"},{"$f":"IF(OR(IFERROR(MATCH($D968,'Transparency List 2017'!$L:$L,0),FALSE),IFERROR(MATCH(TRIM($G968),'Transparency List 2017'!$C:$C,0),FALSE)),\"On the 2017 List\",\"-\")","v":"-"},{"$f":"IF(OR(IFERROR(MATCH($D968,'Transparency List 2015'!$H:$H,0),FALSE),IFERROR(MATCH(TRIM($G968),'Transparency List 2015'!$C:$C,0),FALSE)),\"On the 2015 List\",\"-\")","v":"-"}]
[null,null,4,"",null,null,null,"-",{"$f":"IF(OR(IFERROR(MATCH($D969,'Transparency List 2018_10'!$L:$L,0),FALSE),IFERROR(MATCH(TRIM($G969),'Transparency List 2018_10'!$D:$D,0),FALSE)),\"On the 2018_10 List\",\"-\")","v":"-"},{"$f":"IF(OR(IFERROR(MATCH($D969,'Transparency List 2018_04'!$L:$L,0),FALSE),IFERROR(MATCH(TRIM($G969),'Transparency List 2018_04'!$D:$D,0),FALSE)),\"On the 2018_04 List\",\"-\")","v":"-"},{"$f":"IF(OR(IFERROR(MATCH($D969,'Transparency List 2017'!$L:$L,0),FALSE),IFERROR(MATCH(TRIM($G969),'Transparency List 2017'!$C:$C,0),FALSE)),\"On the 2017 List\",\"-\")","v":"-"},{"$f":"IF(OR(IFERROR(MATCH($D969,'Transparency List 2015'!$H:$H,0),FALSE),IFERROR(MATCH(TRIM($G969),'Transparency List 2015'!$C:$C,0),FALSE)),\"On the 2015 List\",\"-\")","v":"-"}]
[null,null,4,"",null,null,null,"-",{"$f":"IF(OR(IFERROR(MATCH($D970,'Transparency List 2018_10'!$L:$L,0),FALSE),IFERROR(MATCH(TRIM($G970),'Transparency List 2018_10'!$D:$D,0),FALSE)),\"On the 2018_10 List\",\"-\")","v":"-"},{"$f":"IF(OR(IFERROR(MATCH($D970,'Transparency List 2018_04'!$L:$L,0),FALSE),IFERROR(MATCH(TRIM($G970),'Transparency List 2018_04'!$D:$D,0),FALSE)),\"On the 2018_04 List\",\"-\")","v":"-"},{"$f":"IF(OR(IFERROR(MATCH($D970,'Transparency List 2017'!$L:$L,0),FALSE),IFERROR(MATCH(TRIM($G970),'Transparency List 2017'!$C:$C,0),FALSE)),\"On the 2017 List\",\"-\")","v":"-"},{"$f":"IF(OR(IFERROR(MATCH($D970,'Transparency List 2015'!$H:$H,0),FALSE),IFERROR(MATCH(TRIM($G970),'Transparency List 2015'!$C:$C,0),FALSE)),\"On the 2015 List\",\"-\")","v":"-"}]
[null,null,4,"",null,null,null,"-",{"$f":"IF(OR(IFERROR(MATCH($D971,'Transparency List 2018_10'!$L:$L,0),FALSE),IFERROR(MATCH(TRIM($G971),'Transparency List 2018_10'!$D:$D,0),FALSE)),\"On the 2018_10 List\",\"-\")","v":"-"},{"$f":"IF(OR(IFERROR(MATCH($D971,'Transparency List 2018_04'!$L:$L,0),FALSE),IFERROR(MATCH(TRIM($G971),'Transparency List 2018_04'!$D:$D,0),FALSE)),\"On the 2018_04 List\",\"-\")","v":"-"},{"$f":"IF(OR(IFERROR(MATCH($D971,'Transparency List 2017'!$L:$L,0),FALSE),IFERROR(MATCH(TRIM($G971),'Transparency List 2017'!$C:$C,0),FALSE)),\"On the 2017 List\",\"-\")","v":"-"},{"$f":"IF(OR(IFERROR(MATCH($D971,'Transparency List 2015'!$H:$H,0),FALSE),IFERROR(MATCH(TRIM($G971),'Transparency List 2015'!$C:$C,0),FALSE)),\"On the 2015 List\",\"-\")","v":"-"}]
[null,null,4,"",null,null,null,"-",{"$f":"IF(OR(IFERROR(MATCH($D972,'Transparency List 2018_10'!$L:$L,0),FALSE),IFERROR(MATCH(TRIM($G972),'Transparency List 2018_10'!$D:$D,0),FALSE)),\"On the 2018_10 List\",\"-\")","v":"-"},{"$f":"IF(OR(IFERROR(MATCH($D972,'Transparency List 2018_04'!$L:$L,0),FALSE),IFERROR(MATCH(TRIM($G972),'Transparency List 2018_04'!$D:$D,0),FALSE)),\"On the 2018_04 List\",\"-\")","v":"-"},{"$f":"IF(OR(IFERROR(MATCH($D972,'Transparency List 2017'!$L:$L,0),FALSE),IFERROR(MATCH(TRIM($G972),'Transparency List 2017'!$C:$C,0),FALSE)),\"On the 2017 List\",\"-\")","v":"-"},{"$f":"IF(OR(IFERROR(MATCH($D972,'Transparency List 2015'!$H:$H,0),FALSE),IFERROR(MATCH(TRIM($G972),'Transparency List 2015'!$C:$C,0),FALSE)),\"On the 2015 List\",\"-\")","v":"-"}]
[null,null,4,"",null,null,null,"-",{"$f":"IF(OR(IFERROR(MATCH($D973,'Transparency List 2018_10'!$L:$L,0),FALSE),IFERROR(MATCH(TRIM($G973),'Transparency List 2018_10'!$D:$D,0),FALSE)),\"On the 2018_10 List\",\"-\")","v":"-"},{"$f":"IF(OR(IFERROR(MATCH($D973,'Transparency List 2018_04'!$L:$L,0),FALSE),IFERROR(MATCH(TRIM($G973),'Transparency List 2018_04'!$D:$D,0),FALSE)),\"On the 2018_04 List\",\"-\")","v":"-"},{"$f":"IF(OR(IFERROR(MATCH($D973,'Transparency List 2017'!$L:$L,0),FALSE),IFERROR(MATCH(TRIM($G973),'Transparency List 2017'!$C:$C,0),FALSE)),\"On the 2017 List\",\"-\")","v":"-"},{"$f":"IF(OR(IFERROR(MATCH($D973,'Transparency List 2015'!$H:$H,0),FALSE),IFERROR(MATCH(TRIM($G973),'Transparency List 2015'!$C:$C,0),FALSE)),\"On the 2015 List\",\"-\")","v":"-"}]
[null,null,4,"",null,null,null,"-",{"$f":"IF(OR(IFERROR(MATCH($D974,'Transparency List 2018_10'!$L:$L,0),FALSE),IFERROR(MATCH(TRIM($G974),'Transparency List 2018_10'!$D:$D,0),FALSE)),\"On the 2018_10 List\",\"-\")","v":"-"},{"$f":"IF(OR(IFERROR(MATCH($D974,'Transparency List 2018_04'!$L:$L,0),FALSE),IFERROR(MATCH(TRIM($G974),'Transparency List 2018_04'!$D:$D,0),FALSE)),\"On the 2018_04 List\",\"-\")","v":"-"},{"$f":"IF(OR(IFERROR(MATCH($D974,'Transparency List 2017'!$L:$L,0),FALSE),IFERROR(MATCH(TRIM($G974),'Transparency List 2017'!$C:$C,0),FALSE)),\"On the 2017 List\",\"-\")","v":"-"},{"$f":"IF(OR(IFERROR(MATCH($D974,'Transparency List 2015'!$H:$H,0),FALSE),IFERROR(MATCH(TRIM($G974),'Transparency List 2015'!$C:$C,0),FALSE)),\"On the 2015 List\",\"-\")","v":"-"}]
[null,null,4,"",null,null,null,"-",{"$f":"IF(OR(IFERROR(MATCH($D975,'Transparency List 2018_10'!$L:$L,0),FALSE),IFERROR(MATCH(TRIM($G975),'Transparency List 2018_10'!$D:$D,0),FALSE)),\"On the 2018_10 List\",\"-\")","v":"-"},{"$f":"IF(OR(IFERROR(MATCH($D975,'Transparency List 2018_04'!$L:$L,0),FALSE),IFERROR(MATCH(TRIM($G975),'Transparency List 2018_04'!$D:$D,0),FALSE)),\"On the 2018_04 List\",\"-\")","v":"-"},{"$f":"IF(OR(IFERROR(MATCH($D975,'Transparency List 2017'!$L:$L,0),FALSE),IFERROR(MATCH(TRIM($G975),'Transparency List 2017'!$C:$C,0),FALSE)),\"On the 2017 List\",\"-\")","v":"-"},{"$f":"IF(OR(IFERROR(MATCH($D975,'Transparency List 2015'!$H:$H,0),FALSE),IFERROR(MATCH(TRIM($G975),'Transparency List 2015'!$C:$C,0),FALSE)),\"On the 2015 List\",\"-\")","v":"-"}]
[null,null,4,"",null,null,null,"-",{"$f":"IF(OR(IFERROR(MATCH($D976,'Transparency List 2018_10'!$L:$L,0),FALSE),IFERROR(MATCH(TRIM($G976),'Transparency List 2018_10'!$D:$D,0),FALSE)),\"On the 2018_10 List\",\"-\")","v":"-"},{"$f":"IF(OR(IFERROR(MATCH($D976,'Transparency List 2018_04'!$L:$L,0),FALSE),IFERROR(MATCH(TRIM($G976),'Transparency List 2018_04'!$D:$D,0),FALSE)),\"On the 2018_04 List\",\"-\")","v":"-"},{"$f":"IF(OR(IFERROR(MATCH($D976,'Transparency List 2017'!$L:$L,0),FALSE),IFERROR(MATCH(TRIM($G976),'Transparency List 2017'!$C:$C,0),FALSE)),\"On the 2017 List\",\"-\")","v":"-"},{"$f":"IF(OR(IFERROR(MATCH($D976,'Transparency List 2015'!$H:$H,0),FALSE),IFERROR(MATCH(TRIM($G976),'Transparency List 2015'!$C:$C,0),FALSE)),\"On the 2015 List\",\"-\")","v":"-"}]
[null,null,4,"",null,null,null,"-",{"$f":"IF(OR(IFERROR(MATCH($D977,'Transparency List 2018_10'!$L:$L,0),FALSE),IFERROR(MATCH(TRIM($G977),'Transparency List 2018_10'!$D:$D,0),FALSE)),\"On the 2018_10 List\",\"-\")","v":"-"},{"$f":"IF(OR(IFERROR(MATCH($D977,'Transparency List 2018_04'!$L:$L,0),FALSE),IFERROR(MATCH(TRIM($G977),'Transparency List 2018_04'!$D:$D,0),FALSE)),\"On the 2018_04 List\",\"-\")","v":"-"},{"$f":"IF(OR(IFERROR(MATCH($D977,'Transparency List 2017'!$L:$L,0),FALSE),IFERROR(MATCH(TRIM($G977),'Transparency List 2017'!$C:$C,0),FALSE)),\"On the 2017 List\",\"-\")","v":"-"},{"$f":"IF(OR(IFERROR(MATCH($D977,'Transparency List 2015'!$H:$H,0),FALSE),IFERROR(MATCH(TRIM($G977),'Transparency List 2015'!$C:$C,0),FALSE)),\"On the 2015 List\",\"-\")","v":"-"}]
[null,null,4,"",null,null,null,"-",{"$f":"IF(OR(IFERROR(MATCH($D978,'Transparency List 2018_10'!$L:$L,0),FALSE),IFERROR(MATCH(TRIM($G978),'Transparency List 2018_10'!$D:$D,0),FALSE)),\"On the 2018_10 List\",\"-\")","v":"-"},{"$f":"IF(OR(IFERROR(MATCH($D978,'Transparency List 2018_04'!$L:$L,0),FALSE),IFERROR(MATCH(TRIM($G978),'Transparency List 2018_04'!$D:$D,0),FALSE)),\"On the 2018_04 List\",\"-\")","v":"-"},{"$f":"IF(OR(IFERROR(MATCH($D978,'Transparency List 2017'!$L:$L,0),FALSE),IFERROR(MATCH(TRIM($G978),'Transparency List 2017'!$C:$C,0),FALSE)),\"On the 2017 List\",\"-\")","v":"-"},{"$f":"IF(OR(IFERROR(MATCH($D978,'Transparency List 2015'!$H:$H,0),FALSE),IFERROR(MATCH(TRIM($G978),'Transparency List 2015'!$C:$C,0),FALSE)),\"On the 2015 List\",\"-\")","v":"-"}]
[null,null,4,"",null,null,null,"-",{"$f":"IF(OR(IFERROR(MATCH($D979,'Transparency List 2018_10'!$L:$L,0),FALSE),IFERROR(MATCH(TRIM($G979),'Transparency List 2018_10'!$D:$D,0),FALSE)),\"On the 2018_10 List\",\"-\")","v":"-"},{"$f":"IF(OR(IFERROR(MATCH($D979,'Transparency List 2018_04'!$L:$L,0),FALSE),IFERROR(MATCH(TRIM($G979),'Transparency List 2018_04'!$D:$D,0),FALSE)),\"On the 2018_04 List\",\"-\")","v":"-"},{"$f":"IF(OR(IFERROR(MATCH($D979,'Transparency List 2017'!$L:$L,0),FALSE),IFERROR(MATCH(TRIM($G979),'Transparency List 2017'!$C:$C,0),FALSE)),\"On the 2017 List\",\"-\")","v":"-"},{"$f":"IF(OR(IFERROR(MATCH($D979,'Transparency List 2015'!$H:$H,0),FALSE),IFERROR(MATCH(TRIM($G979),'Transparency List 2015'!$C:$C,0),FALSE)),\"On the 2015 List\",\"-\")","v":"-"}]
[null,null,4,"",null,null,null,"-",{"$f":"IF(OR(IFERROR(MATCH($D980,'Transparency List 2018_10'!$L:$L,0),FALSE),IFERROR(MATCH(TRIM($G980),'Transparency List 2018_10'!$D:$D,0),FALSE)),\"On the 2018_10 List\",\"-\")","v":"-"},{"$f":"IF(OR(IFERROR(MATCH($D980,'Transparency List 2018_04'!$L:$L,0),FALSE),IFERROR(MATCH(TRIM($G980),'Transparency List 2018_04'!$D:$D,0),FALSE)),\"On the 2018_04 List\",\"-\")","v":"-"},{"$f":"IF(OR(IFERROR(MATCH($D980,'Transparency List 2017'!$L:$L,0),FALSE),IFERROR(MATCH(TRIM($G980),'Transparency List 2017'!$C:$C,0),FALSE)),\"On the 2017 List\",\"-\")","v":"-"},{"$f":"IF(OR(IFERROR(MATCH($D980,'Transparency List 2015'!$H:$H,0),FALSE),IFERROR(MATCH(TRIM($G980),'Transparency List 2015'!$C:$C,0),FALSE)),\"On the 2015 List\",\"-\")","v":"-"}]
[null,null,4,"",null,null,null,"-",{"$f":"IF(OR(IFERROR(MATCH($D981,'Transparency List 2018_10'!$L:$L,0),FALSE),IFERROR(MATCH(TRIM($G981),'Transparency List 2018_10'!$D:$D,0),FALSE)),\"On the 2018_10 List\",\"-\")","v":"-"},{"$f":"IF(OR(IFERROR(MATCH($D981,'Transparency List 2018_04'!$L:$L,0),FALSE),IFERROR(MATCH(TRIM($G981),'Transparency List 2018_04'!$D:$D,0),FALSE)),\"On the 2018_04 List\",\"-\")","v":"-"},{"$f":"IF(OR(IFERROR(MATCH($D981,'Transparency List 2017'!$L:$L,0),FALSE),IFERROR(MATCH(TRIM($G981),'Transparency List 2017'!$C:$C,0),FALSE)),\"On the 2017 List\",\"-\")","v":"-"},{"$f":"IF(OR(IFERROR(MATCH($D981,'Transparency List 2015'!$H:$H,0),FALSE),IFERROR(MATCH(TRIM($G981),'Transparency List 2015'!$C:$C,0),FALSE)),\"On the 2015 List\",\"-\")","v":"-"}]
[null,null,4,"",null,null,null,"-",{"$f":"IF(OR(IFERROR(MATCH($D982,'Transparency List 2018_10'!$L:$L,0),FALSE),IFERROR(MATCH(TRIM($G982),'Transparency List 2018_10'!$D:$D,0),FALSE)),\"On the 2018_10 List\",\"-\")","v":"-"},{"$f":"IF(OR(IFERROR(MATCH($D982,'Transparency List 2018_04'!$L:$L,0),FALSE),IFERROR(MATCH(TRIM($G982),'Transparency List 2018_04'!$D:$D,0),FALSE)),\"On the 2018_04 List\",\"-\")","v":"-"},{"$f":"IF(OR(IFERROR(MATCH($D982,'Transparency List 2017'!$L:$L,0),FALSE),IFERROR(MATCH(TRIM($G982),'Transparency List 2017'!$C:$C,0),FALSE)),\"On the 2017 List\",\"-\")","v":"-"},{"$f":"IF(OR(IFERROR(MATCH($D982,'Transparency List 2015'!$H:$H,0),FALSE),IFERROR(MATCH(TRIM($G982),'Transparency List 2015'!$C:$C,0),FALSE)),\"On the 2015 List\",\"-\")","v":"-"}]
[null,null,4,"",null,null,null,"-",{"$f":"IF(OR(IFERROR(MATCH($D983,'Transparency List 2018_10'!$L:$L,0),FALSE),IFERROR(MATCH(TRIM($G983),'Transparency List 2018_10'!$D:$D,0),FALSE)),\"On the 2018_10 List\",\"-\")","v":"-"},{"$f":"IF(OR(IFERROR(MATCH($D983,'Transparency List 2018_04'!$L:$L,0),FALSE),IFERROR(MATCH(TRIM($G983),'Transparency List 2018_04'!$D:$D,0),FALSE)),\"On the 2018_04 List\",\"-\")","v":"-"},{"$f":"IF(OR(IFERROR(MATCH($D983,'Transparency List 2017'!$L:$L,0),FALSE),IFERROR(MATCH(TRIM($G983),'Transparency List 2017'!$C:$C,0),FALSE)),\"On the 2017 List\",\"-\")","v":"-"},{"$f":"IF(OR(IFERROR(MATCH($D983,'Transparency List 2015'!$H:$H,0),FALSE),IFERROR(MATCH(TRIM($G983),'Transparency List 2015'!$C:$C,0),FALSE)),\"On the 2015 List\",\"-\")","v":"-"}]
[null,null,4,"",null,null,null,"-",{"$f":"IF(OR(IFERROR(MATCH($D984,'Transparency List 2018_10'!$L:$L,0),FALSE),IFERROR(MATCH(TRIM($G984),'Transparency List 2018_10'!$D:$D,0),FALSE)),\"On the 2018_10 List\",\"-\")","v":"-"},{"$f":"IF(OR(IFERROR(MATCH($D984,'Transparency List 2018_04'!$L:$L,0),FALSE),IFERROR(MATCH(TRIM($G984),'Transparency List 2018_04'!$D:$D,0),FALSE)),\"On the 2018_04 List\",\"-\")","v":"-"},{"$f":"IF(OR(IFERROR(MATCH($D984,'Transparency List 2017'!$L:$L,0),FALSE),IFERROR(MATCH(TRIM($G984),'Transparency List 2017'!$C:$C,0),FALSE)),\"On the 2017 List\",\"-\")","v":"-"},{"$f":"IF(OR(IFERROR(MATCH($D984,'Transparency List 2015'!$H:$H,0),FALSE),IFERROR(MATCH(TRIM($G984),'Transparency List 2015'!$C:$C,0),FALSE)),\"On the 2015 List\",\"-\")","v":"-"}]
[null,null,4,"",null,null,null,"-",{"$f":"IF(OR(IFERROR(MATCH($D985,'Transparency List 2018_10'!$L:$L,0),FALSE),IFERROR(MATCH(TRIM($G985),'Transparency List 2018_10'!$D:$D,0),FALSE)),\"On the 2018_10 List\",\"-\")","v":"-"},{"$f":"IF(OR(IFERROR(MATCH($D985,'Transparency List 2018_04'!$L:$L,0),FALSE),IFERROR(MATCH(TRIM($G985),'Transparency List 2018_04'!$D:$D,0),FALSE)),\"On the 2018_04 List\",\"-\")","v":"-"},{"$f":"IF(OR(IFERROR(MATCH($D985,'Transparency List 2017'!$L:$L,0),FALSE),IFERROR(MATCH(TRIM($G985),'Transparency List 2017'!$C:$C,0),FALSE)),\"On the 2017 List\",\"-\")","v":"-"},{"$f":"IF(OR(IFERROR(MATCH($D985,'Transparency List 2015'!$H:$H,0),FALSE),IFERROR(MATCH(TRIM($G985),'Transparency List 2015'!$C:$C,0),FALSE)),\"On the 2015 List\",\"-\")","v":"-"}]
[null,null,4,"",null,null,null,"-",{"$f":"IF(OR(IFERROR(MATCH($D986,'Transparency List 2018_10'!$L:$L,0),FALSE),IFERROR(MATCH(TRIM($G986),'Transparency List 2018_10'!$D:$D,0),FALSE)),\"On the 2018_10 List\",\"-\")","v":"-"},{"$f":"IF(OR(IFERROR(MATCH($D986,'Transparency List 2018_04'!$L:$L,0),FALSE),IFERROR(MATCH(TRIM($G986),'Transparency List 2018_04'!$D:$D,0),FALSE)),\"On the 2018_04 List\",\"-\")","v":"-"},{"$f":"IF(OR(IFERROR(MATCH($D986,'Transparency List 2017'!$L:$L,0),FALSE),IFERROR(MATCH(TRIM($G986),'Transparency List 2017'!$C:$C,0),FALSE)),\"On the 2017 List\",\"-\")","v":"-"},{"$f":"IF(OR(IFERROR(MATCH($D986,'Transparency List 2015'!$H:$H,0),FALSE),IFERROR(MATCH(TRIM($G986),'Transparency List 2015'!$C:$C,0),FALSE)),\"On the 2015 List\",\"-\")","v":"-"}]
[null,null,4,"",null,null,null,"-",{"$f":"IF(OR(IFERROR(MATCH($D987,'Transparency List 2018_10'!$L:$L,0),FALSE),IFERROR(MATCH(TRIM($G987),'Transparency List 2018_10'!$D:$D,0),FALSE)),\"On the 2018_10 List\",\"-\")","v":"-"},{"$f":"IF(OR(IFERROR(MATCH($D987,'Transparency List 2018_04'!$L:$L,0),FALSE),IFERROR(MATCH(TRIM($G987),'Transparency List 2018_04'!$D:$D,0),FALSE)),\"On the 2018_04 List\",\"-\")","v":"-"},{"$f":"IF(OR(IFERROR(MATCH($D987,'Transparency List 2017'!$L:$L,0),FALSE),IFERROR(MATCH(TRIM($G987),'Transparency List 2017'!$C:$C,0),FALSE)),\"On the 2017 List\",\"-\")","v":"-"},{"$f":"IF(OR(IFERROR(MATCH($D987,'Transparency List 2015'!$H:$H,0),FALSE),IFERROR(MATCH(TRIM($G987),'Transparency List 2015'!$C:$C,0),FALSE)),\"On the 2015 List\",\"-\")","v":"-"}]
[null,null,4,"",null,null,null,"-",{"$f":"IF(OR(IFERROR(MATCH($D988,'Transparency List 2018_10'!$L:$L,0),FALSE),IFERROR(MATCH(TRIM($G988),'Transparency List 2018_10'!$D:$D,0),FALSE)),\"On the 2018_10 List\",\"-\")","v":"-"},{"$f":"IF(OR(IFERROR(MATCH($D988,'Transparency List 2018_04'!$L:$L,0),FALSE),IFERROR(MATCH(TRIM($G988),'Transparency List 2018_04'!$D:$D,0),FALSE)),\"On the 2018_04 List\",\"-\")","v":"-"},{"$f":"IF(OR(IFERROR(MATCH($D988,'Transparency List 2017'!$L:$L,0),FALSE),IFERROR(MATCH(TRIM($G988),'Transparency List 2017'!$C:$C,0),FALSE)),\"On the 2017 List\",\"-\")","v":"-"},{"$f":"IF(OR(IFERROR(MATCH($D988,'Transparency List 2015'!$H:$H,0),FALSE),IFERROR(MATCH(TRIM($G988),'Transparency List 2015'!$C:$C,0),FALSE)),\"On the 2015 List\",\"-\")","v":"-"}]
[null,null,4,"",null,null,null,"-",{"$f":"IF(OR(IFERROR(MATCH($D989,'Transparency List 2018_10'!$L:$L,0),FALSE),IFERROR(MATCH(TRIM($G989),'Transparency List 2018_10'!$D:$D,0),FALSE)),\"On the 2018_10 List\",\"-\")","v":"-"},{"$f":"IF(OR(IFERROR(MATCH($D989,'Transparency List 2018_04'!$L:$L,0),FALSE),IFERROR(MATCH(TRIM($G989),'Transparency List 2018_04'!$D:$D,0),FALSE)),\"On the 2018_04 List\",\"-\")","v":"-"},{"$f":"IF(OR(IFERROR(MATCH($D989,'Transparency List 2017'!$L:$L,0),FALSE),IFERROR(MATCH(TRIM($G989),'Transparency List 2017'!$C:$C,0),FALSE)),\"On the 2017 List\",\"-\")","v":"-"},{"$f":"IF(OR(IFERROR(MATCH($D989,'Transparency List 2015'!$H:$H,0),FALSE),IFERROR(MATCH(TRIM($G989),'Transparency List 2015'!$C:$C,0),FALSE)),\"On the 2015 List\",\"-\")","v":"-"}]
[null,null,4,"",null,null,null,"-",{"$f":"IF(OR(IFERROR(MATCH($D990,'Transparency List 2018_10'!$L:$L,0),FALSE),IFERROR(MATCH(TRIM($G990),'Transparency List 2018_10'!$D:$D,0),FALSE)),\"On the 2018_10 List\",\"-\")","v":"-"},{"$f":"IF(OR(IFERROR(MATCH($D990,'Transparency List 2018_04'!$L:$L,0),FALSE),IFERROR(MATCH(TRIM($G990),'Transparency List 2018_04'!$D:$D,0),FALSE)),\"On the 2018_04 List\",\"-\")","v":"-"},{"$f":"IF(OR(IFERROR(MATCH($D990,'Transparency List 2017'!$L:$L,0),FALSE),IFERROR(MATCH(TRIM($G990),'Transparency List 2017'!$C:$C,0),FALSE)),\"On the 2017 List\",\"-\")","v":"-"},{"$f":"IF(OR(IFERROR(MATCH($D990,'Transparency List 2015'!$H:$H,0),FALSE),IFERROR(MATCH(TRIM($G990),'Transparency List 2015'!$C:$C,0),FALSE)),\"On the 2015 List\",\"-\")","v":"-"}]
[null,null,{"$f":"COUNTIF($I991:$L991,\"-\")","v":4},{"$f":"SUBSTITUTE(SUBSTITUTE(SUBSTITUTE(SUBSTITUTE($G991,\" \",\"\"),\".\",\"\"),\"-\",\"\"),\"/\",\"\")","v":""},null,null,null,{"$f":"IFERROR(IF($C991=4,\"-\",\"Risk Farmer - Please conduct further steps\"),)","v":"-"},{"$f":"IF(OR(IFERROR(MATCH($D991,'Transparency List 2018_10'!$L:$L,0),FALSE),IFERROR(MATCH(TRIM($G991),'Transparency List 2018_10'!$D:$D,0),FALSE)),\"On the 2018_10 List\",\"-\")","v":"-"},{"$f":"IF(OR(IFERROR(MATCH($D991,'Transparency List 2018_04'!$L:$L,0),FALSE),IFERROR(MATCH(TRIM($G991),'Transparency List 2018_04'!$D:$D,0),FALSE)),\"On the 2018_04 List\",\"-\")","v":"-"},{"$f":"IF(OR(IFERROR(MATCH($D991,'Transparency List 2017'!$L:$L,0),FALSE),IFERROR(MATCH(TRIM($G991),'Transparency List 2017'!$C:$C,0),FALSE)),\"On the 2017 List\",\"-\")","v":"-"},{"$f":"IF(OR(IFERROR(MATCH($D991,'Transparency List 2015'!$H:$H,0),FALSE),IFERROR(MATCH(TRIM($G991),'Transparency List 2015'!$C:$C,0),FALSE)),\"On the 2015 List\",\"-\")","v":"-"}]
[null,null,4,"",null,null,null,"-",{"$f":"IF(OR(IFERROR(MATCH($D992,'Transparency List 2018_10'!$L:$L,0),FALSE),IFERROR(MATCH(TRIM($G992),'Transparency List 2018_10'!$D:$D,0),FALSE)),\"On the 2018_10 List\",\"-\")","v":"-"},{"$f":"IF(OR(IFERROR(MATCH($D992,'Transparency List 2018_04'!$L:$L,0),FALSE),IFERROR(MATCH(TRIM($G992),'Transparency List 2018_04'!$D:$D,0),FALSE)),\"On the 2018_04 List\",\"-\")","v":"-"},{"$f":"IF(OR(IFERROR(MATCH($D992,'Transparency List 2017'!$L:$L,0),FALSE),IFERROR(MATCH(TRIM($G992),'Transparency List 2017'!$C:$C,0),FALSE)),\"On the 2017 List\",\"-\")","v":"-"},{"$f":"IF(OR(IFERROR(MATCH($D992,'Transparency List 2015'!$H:$H,0),FALSE),IFERROR(MATCH(TRIM($G992),'Transparency List 2015'!$C:$C,0),FALSE)),\"On the 2015 List\",\"-\")","v":"-"}]
[null,null,4,"",null,null,null,"-",{"$f":"IF(OR(IFERROR(MATCH($D993,'Transparency List 2018_10'!$L:$L,0),FALSE),IFERROR(MATCH(TRIM($G993),'Transparency List 2018_10'!$D:$D,0),FALSE)),\"On the 2018_10 List\",\"-\")","v":"-"},{"$f":"IF(OR(IFERROR(MATCH($D993,'Transparency List 2018_04'!$L:$L,0),FALSE),IFERROR(MATCH(TRIM($G993),'Transparency List 2018_04'!$D:$D,0),FALSE)),\"On the 2018_04 List\",\"-\")","v":"-"},{"$f":"IF(OR(IFERROR(MATCH($D993,'Transparency List 2017'!$L:$L,0),FALSE),IFERROR(MATCH(TRIM($G993),'Transparency List 2017'!$C:$C,0),FALSE)),\"On the 2017 List\",\"-\")","v":"-"},{"$f":"IF(OR(IFERROR(MATCH($D993,'Transparency List 2015'!$H:$H,0),FALSE),IFERROR(MATCH(TRIM($G993),'Transparency List 2015'!$C:$C,0),FALSE)),\"On the 2015 List\",\"-\")","v":"-"}]
[null,null,4,"",null,null,null,"-",{"$f":"IF(OR(IFERROR(MATCH($D994,'Transparency List 2018_10'!$L:$L,0),FALSE),IFERROR(MATCH(TRIM($G994),'Transparency List 2018_10'!$D:$D,0),FALSE)),\"On the 2018_10 List\",\"-\")","v":"-"},{"$f":"IF(OR(IFERROR(MATCH($D994,'Transparency List 2018_04'!$L:$L,0),FALSE),IFERROR(MATCH(TRIM($G994),'Transparency List 2018_04'!$D:$D,0),FALSE)),\"On the 2018_04 List\",\"-\")","v":"-"},{"$f":"IF(OR(IFERROR(MATCH($D994,'Transparency List 2017'!$L:$L,0),FALSE),IFERROR(MATCH(TRIM($G994),'Transparency List 2017'!$C:$C,0),FALSE)),\"On the 2017 List\",\"-\")","v":"-"},{"$f":"IF(OR(IFERROR(MATCH($D994,'Transparency List 2015'!$H:$H,0),FALSE),IFERROR(MATCH(TRIM($G994),'Transparency List 2015'!$C:$C,0),FALSE)),\"On the 2015 List\",\"-\")","v":"-"}]
[null,null,4,"",null,null,null,"-",{"$f":"IF(OR(IFERROR(MATCH($D995,'Transparency List 2018_10'!$L:$L,0),FALSE),IFERROR(MATCH(TRIM($G995),'Transparency List 2018_10'!$D:$D,0),FALSE)),\"On the 2018_10 List\",\"-\")","v":"-"},{"$f":"IF(OR(IFERROR(MATCH($D995,'Transparency List 2018_04'!$L:$L,0),FALSE),IFERROR(MATCH(TRIM($G995),'Transparency List 2018_04'!$D:$D,0),FALSE)),\"On the 2018_04 List\",\"-\")","v":"-"},{"$f":"IF(OR(IFERROR(MATCH($D995,'Transparency List 2017'!$L:$L,0),FALSE),IFERROR(MATCH(TRIM($G995),'Transparency List 2017'!$C:$C,0),FALSE)),\"On the 2017 List\",\"-\")","v":"-"},{"$f":"IF(OR(IFERROR(MATCH($D995,'Transparency List 2015'!$H:$H,0),FALSE),IFERROR(MATCH(TRIM($G995),'Transparency List 2015'!$C:$C,0),FALSE)),\"On the 2015 List\",\"-\")","v":"-"}]
[null,null,4,"",null,null,null,"-",{"$f":"IF(OR(IFERROR(MATCH($D996,'Transparency List 2018_10'!$L:$L,0),FALSE),IFERROR(MATCH(TRIM($G996),'Transparency List 2018_10'!$D:$D,0),FALSE)),\"On the 2018_10 List\",\"-\")","v":"-"},{"$f":"IF(OR(IFERROR(MATCH($D996,'Transparency List 2018_04'!$L:$L,0),FALSE),IFERROR(MATCH(TRIM($G996),'Transparency List 2018_04'!$D:$D,0),FALSE)),\"On the 2018_04 List\",\"-\")","v":"-"},{"$f":"IF(OR(IFERROR(MATCH($D996,'Transparency List 2017'!$L:$L,0),FALSE),IFERROR(MATCH(TRIM($G996),'Transparency List 2017'!$C:$C,0),FALSE)),\"On the 2017 List\",\"-\")","v":"-"},{"$f":"IF(OR(IFERROR(MATCH($D996,'Transparency List 2015'!$H:$H,0),FALSE),IFERROR(MATCH(TRIM($G996),'Transparency List 2015'!$C:$C,0),FALSE)),\"On the 2015 List\",\"-\")","v":"-"}]
[null,null,4,"",null,null,null,"-",{"$f":"IF(OR(IFERROR(MATCH($D997,'Transparency List 2018_10'!$L:$L,0),FALSE),IFERROR(MATCH(TRIM($G997),'Transparency List 2018_10'!$D:$D,0),FALSE)),\"On the 2018_10 List\",\"-\")","v":"-"},{"$f":"IF(OR(IFERROR(MATCH($D997,'Transparency List 2018_04'!$L:$L,0),FALSE),IFERROR(MATCH(TRIM($G997),'Transparency List 2018_04'!$D:$D,0),FALSE)),\"On the 2018_04 List\",\"-\")","v":"-"},{"$f":"IF(OR(IFERROR(MATCH($D997,'Transparency List 2017'!$L:$L,0),FALSE),IFERROR(MATCH(TRIM($G997),'Transparency List 2017'!$C:$C,0),FALSE)),\"On the 2017 List\",\"-\")","v":"-"},{"$f":"IF(OR(IFERROR(MATCH($D997,'Transparency List 2015'!$H:$H,0),FALSE),IFERROR(MATCH(TRIM($G997),'Transparency List 2015'!$C:$C,0),FALSE)),\"On the 2015 List\",\"-\")","v":"-"}]
[null,null,4,"",null,null,null,"-",{"$f":"IF(OR(IFERROR(MATCH($D998,'Transparency List 2018_10'!$L:$L,0),FALSE),IFERROR(MATCH(TRIM($G998),'Transparency List 2018_10'!$D:$D,0),FALSE)),\"On the 2018_10 List\",\"-\")","v":"-"},{"$f":"IF(OR(IFERROR(MATCH($D998,'Transparency List 2018_04'!$L:$L,0),FALSE),IFERROR(MATCH(TRIM($G998),'Transparency List 2018_04'!$D:$D,0),FALSE)),\"On the 2018_04 List\",\"-\")","v":"-"},{"$f":"IF(OR(IFERROR(MATCH($D998,'Transparency List 2017'!$L:$L,0),FALSE),IFERROR(MATCH(TRIM($G998),'Transparency List 2017'!$C:$C,0),FALSE)),\"On the 2017 List\",\"-\")","v":"-"},{"$f":"IF(OR(IFERROR(MATCH($D998,'Transparency List 2015'!$H:$H,0),FALSE),IFERROR(MATCH(TRIM($G998),'Transparency List 2015'!$C:$C,0),FALSE)),\"On the 2015 List\",\"-\")","v":"-"}]
[null,null,4,"",null,null,null,"-",{"$f":"IF(OR(IFERROR(MATCH($D999,'Transparency List 2018_10'!$L:$L,0),FALSE),IFERROR(MATCH(TRIM($G999),'Transparency List 2018_10'!$D:$D,0),FALSE)),\"On the 2018_10 List\",\"-\")","v":"-"},{"$f":"IF(OR(IFERROR(MATCH($D999,'Transparency List 2018_04'!$L:$L,0),FALSE),IFERROR(MATCH(TRIM($G999),'Transparency List 2018_04'!$D:$D,0),FALSE)),\"On the 2018_04 List\",\"-\")","v":"-"},{"$f":"IF(OR(IFERROR(MATCH($D999,'Transparency List 2017'!$L:$L,0),FALSE),IFERROR(MATCH(TRIM($G999),'Transparency List 2017'!$C:$C,0),FALSE)),\"On the 2017 List\",\"-\")","v":"-"},{"$f":"IF(OR(IFERROR(MATCH($D999,'Transparency List 2015'!$H:$H,0),FALSE),IFERROR(MATCH(TRIM($G999),'Transparency List 2015'!$C:$C,0),FALSE)),\"On the 2015 List\",\"-\")","v":"-"}]
[null,null,4,"",null,null,null,"-",{"$f":"IF(OR(IFERROR(MATCH($D1000,'Transparency List 2018_10'!$L:$L,0),FALSE),IFERROR(MATCH(TRIM($G1000),'Transparency List 2018_10'!$D:$D,0),FALSE)),\"On the 2018_10 List\",\"-\")","v":"-"},{"$f":"IF(OR(IFERROR(MATCH($D1000,'Transparency List 2018_04'!$L:$L,0),FALSE),IFERROR(MATCH(TRIM($G1000),'Transparency List 2018_04'!$D:$D,0),FALSE)),\"On the 2018_04 List\",\"-\")","v":"-"},{"$f":"IF(OR(IFERROR(MATCH($D1000,'Transparency List 2017'!$L:$L,0),FALSE),IFERROR(MATCH(TRIM($G1000),'Transparency List 2017'!$C:$C,0),FALSE)),\"On the 2017 List\",\"-\")","v":"-"},{"$f":"IF(OR(IFERROR(MATCH($D1000,'Transparency List 2015'!$H:$H,0),FALSE),IFERROR(MATCH(TRIM($G1000),'Transparency List 2015'!$C:$C,0),FALSE)),\"On the 2015 List\",\"-\")","v":"-"}]
[null,null,4,"",null,null,null,"-",{"$f":"IF(OR(IFERROR(MATCH($D1001,'Transparency List 2018_10'!$L:$L,0),FALSE),IFERROR(MATCH(TRIM($G1001),'Transparency List 2018_10'!$D:$D,0),FALSE)),\"On the 2018_10 List\",\"-\")","v":"-"},{"$f":"IF(OR(IFERROR(MATCH($D1001,'Transparency List 2018_04'!$L:$L,0),FALSE),IFERROR(MATCH(TRIM($G1001),'Transparency List 2018_04'!$D:$D,0),FALSE)),\"On the 2018_04 List\",\"-\")","v":"-"},{"$f":"IF(OR(IFERROR(MATCH($D1001,'Transparency List 2017'!$L:$L,0),FALSE),IFERROR(MATCH(TRIM($G1001),'Transparency List 2017'!$C:$C,0),FALSE)),\"On the 2017 List\",\"-\")","v":"-"},{"$f":"IF(OR(IFERROR(MATCH($D1001,'Transparency List 2015'!$H:$H,0),FALSE),IFERROR(MATCH(TRIM($G1001),'Transparency List 2015'!$C:$C,0),FALSE)),\"On the 2015 List\",\"-\")","v":"-"}]
[null,null,4,"",null,null,null,"-",{"$f":"IF(OR(IFERROR(MATCH($D1002,'Transparency List 2018_10'!$L:$L,0),FALSE),IFERROR(MATCH(TRIM($G1002),'Transparency List 2018_10'!$D:$D,0),FALSE)),\"On the 2018_10 List\",\"-\")","v":"-"},{"$f":"IF(OR(IFERROR(MATCH($D1002,'Transparency List 2018_04'!$L:$L,0),FALSE),IFERROR(MATCH(TRIM($G1002),'Transparency List 2018_04'!$D:$D,0),FALSE)),\"On the 2018_04 List\",\"-\")","v":"-"},{"$f":"IF(OR(IFERROR(MATCH($D1002,'Transparency List 2017'!$L:$L,0),FALSE),IFERROR(MATCH(TRIM($G1002),'Transparency List 2017'!$C:$C,0),FALSE)),\"On the 2017 List\",\"-\")","v":"-"},{"$f":"IF(OR(IFERROR(MATCH($D1002,'Transparency List 2015'!$H:$H,0),FALSE),IFERROR(MATCH(TRIM($G1002),'Transparency List 2015'!$C:$C,0),FALSE)),\"On the 2015 List\",\"-\")","v":"-"}]
[null,null,4,"",null,null,null,"-",{"$f":"IF(OR(IFERROR(MATCH($D1003,'Transparency List 2018_10'!$L:$L,0),FALSE),IFERROR(MATCH(TRIM($G1003),'Transparency List 2018_10'!$D:$D,0),FALSE)),\"On the 2018_10 List\",\"-\")","v":"-"},{"$f":"IF(OR(IFERROR(MATCH($D1003,'Transparency List 2018_04'!$L:$L,0),FALSE),IFERROR(MATCH(TRIM($G1003),'Transparency List 2018_04'!$D:$D,0),FALSE)),\"On the 2018_04 List\",\"-\")","v":"-"},{"$f":"IF(OR(IFERROR(MATCH($D1003,'Transparency List 2017'!$L:$L,0),FALSE),IFERROR(MATCH(TRIM($G1003),'Transparency List 2017'!$C:$C,0),FALSE)),\"On the 2017 List\",\"-\")","v":"-"},{"$f":"IF(OR(IFERROR(MATCH($D1003,'Transparency List 2015'!$H:$H,0),FALSE),IFERROR(MATCH(TRIM($G1003),'Transparency List 2015'!$C:$C,0),FALSE)),\"On the 2015 List\",\"-\")","v":"-"}]
[null,null,4,"",null,null,null,"-",{"$f":"IF(OR(IFERROR(MATCH($D1004,'Transparency List 2018_10'!$L:$L,0),FALSE),IFERROR(MATCH(TRIM($G1004),'Transparency List 2018_10'!$D:$D,0),FALSE)),\"On the 2018_10 List\",\"-\")","v":"-"},{"$f":"IF(OR(IFERROR(MATCH($D1004,'Transparency List 2018_04'!$L:$L,0),FALSE),IFERROR(MATCH(TRIM($G1004),'Transparency List 2018_04'!$D:$D,0),FALSE)),\"On the 2018_04 List\",\"-\")","v":"-"},{"$f":"IF(OR(IFERROR(MATCH($D1004,'Transparency List 2017'!$L:$L,0),FALSE),IFERROR(MATCH(TRIM($G1004),'Transparency List 2017'!$C:$C,0),FALSE)),\"On the 2017 List\",\"-\")","v":"-"},{"$f":"IF(OR(IFERROR(MATCH($D1004,'Transparency List 2015'!$H:$H,0),FALSE),IFERROR(MATCH(TRIM($G1004),'Transparency List 2015'!$C:$C,0),FALSE)),\"On the 2015 List\",\"-\")","v":"-"}]
[null,null,4,"",null,null,null,"-",{"$f":"IF(OR(IFERROR(MATCH($D1005,'Transparency List 2018_10'!$L:$L,0),FALSE),IFERROR(MATCH(TRIM($G1005),'Transparency List 2018_10'!$D:$D,0),FALSE)),\"On the 2018_10 List\",\"-\")","v":"-"},{"$f":"IF(OR(IFERROR(MATCH($D1005,'Transparency List 2018_04'!$L:$L,0),FALSE),IFERROR(MATCH(TRIM($G1005),'Transparency List 2018_04'!$D:$D,0),FALSE)),\"On the 2018_04 List\",\"-\")","v":"-"},{"$f":"IF(OR(IFERROR(MATCH($D1005,'Transparency List 2017'!$L:$L,0),FALSE),IFERROR(MATCH(TRIM($G1005),'Transparency List 2017'!$C:$C,0),FALSE)),\"On the 2017 List\",\"-\")","v":"-"},{"$f":"IF(OR(IFERROR(MATCH($D1005,'Transparency List 2015'!$H:$H,0),FALSE),IFERROR(MATCH(TRIM($G1005),'Transparency List 2015'!$C:$C,0),FALSE)),\"On the 2015 List\",\"-\")","v":"-"}]
[null,null,4,"",null,null,null,"-",{"$f":"IF(OR(IFERROR(MATCH($D1006,'Transparency List 2018_10'!$L:$L,0),FALSE),IFERROR(MATCH(TRIM($G1006),'Transparency List 2018_10'!$D:$D,0),FALSE)),\"On the 2018_10 List\",\"-\")","v":"-"},{"$f":"IF(OR(IFERROR(MATCH($D1006,'Transparency List 2018_04'!$L:$L,0),FALSE),IFERROR(MATCH(TRIM($G1006),'Transparency List 2018_04'!$D:$D,0),FALSE)),\"On the 2018_04 List\",\"-\")","v":"-"},{"$f":"IF(OR(IFERROR(MATCH($D1006,'Transparency List 2017'!$L:$L,0),FALSE),IFERROR(MATCH(TRIM($G1006),'Transparency List 2017'!$C:$C,0),FALSE)),\"On the 2017 List\",\"-\")","v":"-"},{"$f":"IF(OR(IFERROR(MATCH($D1006,'Transparency List 2015'!$H:$H,0),FALSE),IFERROR(MATCH(TRIM($G1006),'Transparency List 2015'!$C:$C,0),FALSE)),\"On the 2015 List\",\"-\")","v":"-"}]
[null,null,4,"",null,null,null,"-",{"$f":"IF(OR(IFERROR(MATCH($D1007,'Transparency List 2018_10'!$L:$L,0),FALSE),IFERROR(MATCH(TRIM($G1007),'Transparency List 2018_10'!$D:$D,0),FALSE)),\"On the 2018_10 List\",\"-\")","v":"-"},{"$f":"IF(OR(IFERROR(MATCH($D1007,'Transparency List 2018_04'!$L:$L,0),FALSE),IFERROR(MATCH(TRIM($G1007),'Transparency List 2018_04'!$D:$D,0),FALSE)),\"On the 2018_04 List\",\"-\")","v":"-"},{"$f":"IF(OR(IFERROR(MATCH($D1007,'Transparency List 2017'!$L:$L,0),FALSE),IFERROR(MATCH(TRIM($G1007),'Transparency List 2017'!$C:$C,0),FALSE)),\"On the 2017 List\",\"-\")","v":"-"},{"$f":"IF(OR(IFERROR(MATCH($D1007,'Transparency List 2015'!$H:$H,0),FALSE),IFERROR(MATCH(TRIM($G1007),'Transparency List 2015'!$C:$C,0),FALSE)),\"On the 2015 List\",\"-\")","v":"-"}]
[null,null,4,"",null,null,null,"-",{"$f":"IF(OR(IFERROR(MATCH($D1008,'Transparency List 2018_10'!$L:$L,0),FALSE),IFERROR(MATCH(TRIM($G1008),'Transparency List 2018_10'!$D:$D,0),FALSE)),\"On the 2018_10 List\",\"-\")","v":"-"},{"$f":"IF(OR(IFERROR(MATCH($D1008,'Transparency List 2018_04'!$L:$L,0),FALSE),IFERROR(MATCH(TRIM($G1008),'Transparency List 2018_04'!$D:$D,0),FALSE)),\"On the 2018_04 List\",\"-\")","v":"-"},{"$f":"IF(OR(IFERROR(MATCH($D1008,'Transparency List 2017'!$L:$L,0),FALSE),IFERROR(MATCH(TRIM($G1008),'Transparency List 2017'!$C:$C,0),FALSE)),\"On the 2017 List\",\"-\")","v":"-"},{"$f":"IF(OR(IFERROR(MATCH($D1008,'Transparency List 2015'!$H:$H,0),FALSE),IFERROR(MATCH(TRIM($G1008),'Transparency List 2015'!$C:$C,0),FALSE)),\"On the 2015 List\",\"-\")","v":"-"}]
[null,null,4,"",null,null,null,"-",{"$f":"IF(OR(IFERROR(MATCH($D1009,'Transparency List 2018_10'!$L:$L,0),FALSE),IFERROR(MATCH(TRIM($G1009),'Transparency List 2018_10'!$D:$D,0),FALSE)),\"On the 2018_10 List\",\"-\")","v":"-"},{"$f":"IF(OR(IFERROR(MATCH($D1009,'Transparency List 2018_04'!$L:$L,0),FALSE),IFERROR(MATCH(TRIM($G1009),'Transparency List 2018_04'!$D:$D,0),FALSE)),\"On the 2018_04 List\",\"-\")","v":"-"},{"$f":"IF(OR(IFERROR(MATCH($D1009,'Transparency List 2017'!$L:$L,0),FALSE),IFERROR(MATCH(TRIM($G1009),'Transparency List 2017'!$C:$C,0),FALSE)),\"On the 2017 List\",\"-\")","v":"-"},{"$f":"IF(OR(IFERROR(MATCH($D1009,'Transparency List 2015'!$H:$H,0),FALSE),IFERROR(MATCH(TRIM($G1009),'Transparency List 2015'!$C:$C,0),FALSE)),\"On the 2015 List\",\"-\")","v":"-"}]
[null,null,4,"",null,null,null,"-",{"$f":"IF(OR(IFERROR(MATCH($D1010,'Transparency List 2018_10'!$L:$L,0),FALSE),IFERROR(MATCH(TRIM($G1010),'Transparency List 2018_10'!$D:$D,0),FALSE)),\"On the 2018_10 List\",\"-\")","v":"-"},{"$f":"IF(OR(IFERROR(MATCH($D1010,'Transparency List 2018_04'!$L:$L,0),FALSE),IFERROR(MATCH(TRIM($G1010),'Transparency List 2018_04'!$D:$D,0),FALSE)),\"On the 2018_04 List\",\"-\")","v":"-"},{"$f":"IF(OR(IFERROR(MATCH($D1010,'Transparency List 2017'!$L:$L,0),FALSE),IFERROR(MATCH(TRIM($G1010),'Transparency List 2017'!$C:$C,0),FALSE)),\"On the 2017 List\",\"-\")","v":"-"},{"$f":"IF(OR(IFERROR(MATCH($D1010,'Transparency List 2015'!$H:$H,0),FALSE),IFERROR(MATCH(TRIM($G1010),'Transparency List 2015'!$C:$C,0),FALSE)),\"On the 2015 List\",\"-\")","v":"-"}]
[null,null,4,"",null,null,null,"-",{"$f":"IF(OR(IFERROR(MATCH($D1011,'Transparency List 2018_10'!$L:$L,0),FALSE),IFERROR(MATCH(TRIM($G1011),'Transparency List 2018_10'!$D:$D,0),FALSE)),\"On the 2018_10 List\",\"-\")","v":"-"},{"$f":"IF(OR(IFERROR(MATCH($D1011,'Transparency List 2018_04'!$L:$L,0),FALSE),IFERROR(MATCH(TRIM($G1011),'Transparency List 2018_04'!$D:$D,0),FALSE)),\"On the 2018_04 List\",\"-\")","v":"-"},{"$f":"IF(OR(IFERROR(MATCH($D1011,'Transparency List 2017'!$L:$L,0),FALSE),IFERROR(MATCH(TRIM($G1011),'Transparency List 2017'!$C:$C,0),FALSE)),\"On the 2017 List\",\"-\")","v":"-"},{"$f":"IF(OR(IFERROR(MATCH($D1011,'Transparency List 2015'!$H:$H,0),FALSE),IFERROR(MATCH(TRIM($G1011),'Transparency List 2015'!$C:$C,0),FALSE)),\"On the 2015 List\",\"-\")","v":"-"}]
[null,null,4,"",null,null,null,"-",{"$f":"IF(OR(IFERROR(MATCH($D1012,'Transparency List 2018_10'!$L:$L,0),FALSE),IFERROR(MATCH(TRIM($G1012),'Transparency List 2018_10'!$D:$D,0),FALSE)),\"On the 2018_10 List\",\"-\")","v":"-"},{"$f":"IF(OR(IFERROR(MATCH($D1012,'Transparency List 2018_04'!$L:$L,0),FALSE),IFERROR(MATCH(TRIM($G1012),'Transparency List 2018_04'!$D:$D,0),FALSE)),\"On the 2018_04 List\",\"-\")","v":"-"},{"$f":"IF(OR(IFERROR(MATCH($D1012,'Transparency List 2017'!$L:$L,0),FALSE),IFERROR(MATCH(TRIM($G1012),'Transparency List 2017'!$C:$C,0),FALSE)),\"On the 2017 List\",\"-\")","v":"-"},{"$f":"IF(OR(IFERROR(MATCH($D1012,'Transparency List 2015'!$H:$H,0),FALSE),IFERROR(MATCH(TRIM($G1012),'Transparency List 2015'!$C:$C,0),FALSE)),\"On the 2015 List\",\"-\")","v":"-"}]
[null,null,4,"",null,null,null,"-",{"$f":"IF(OR(IFERROR(MATCH($D1013,'Transparency List 2018_10'!$L:$L,0),FALSE),IFERROR(MATCH(TRIM($G1013),'Transparency List 2018_10'!$D:$D,0),FALSE)),\"On the 2018_10 List\",\"-\")","v":"-"},{"$f":"IF(OR(IFERROR(MATCH($D1013,'Transparency List 2018_04'!$L:$L,0),FALSE),IFERROR(MATCH(TRIM($G1013),'Transparency List 2018_04'!$D:$D,0),FALSE)),\"On the 2018_04 List\",\"-\")","v":"-"},{"$f":"IF(OR(IFERROR(MATCH($D1013,'Transparency List 2017'!$L:$L,0),FALSE),IFERROR(MATCH(TRIM($G1013),'Transparency List 2017'!$C:$C,0),FALSE)),\"On the 2017 List\",\"-\")","v":"-"},{"$f":"IF(OR(IFERROR(MATCH($D1013,'Transparency List 2015'!$H:$H,0),FALSE),IFERROR(MATCH(TRIM($G1013),'Transparency List 2015'!$C:$C,0),FALSE)),\"On the 2015 List\",\"-\")","v":"-"}]
[null,null,4,"",null,null,null,"-",{"$f":"IF(OR(IFERROR(MATCH($D1014,'Transparency List 2018_10'!$L:$L,0),FALSE),IFERROR(MATCH(TRIM($G1014),'Transparency List 2018_10'!$D:$D,0),FALSE)),\"On the 2018_10 List\",\"-\")","v":"-"},{"$f":"IF(OR(IFERROR(MATCH($D1014,'Transparency List 2018_04'!$L:$L,0),FALSE),IFERROR(MATCH(TRIM($G1014),'Transparency List 2018_04'!$D:$D,0),FALSE)),\"On the 2018_04 List\",\"-\")","v":"-"},{"$f":"IF(OR(IFERROR(MATCH($D1014,'Transparency List 2017'!$L:$L,0),FALSE),IFERROR(MATCH(TRIM($G1014),'Transparency List 2017'!$C:$C,0),FALSE)),\"On the 2017 List\",\"-\")","v":"-"},{"$f":"IF(OR(IFERROR(MATCH($D1014,'Transparency List 2015'!$H:$H,0),FALSE),IFERROR(MATCH(TRIM($G1014),'Transparency List 2015'!$C:$C,0),FALSE)),\"On the 2015 List\",\"-\")","v":"-"}]
[null,null,4,"",null,null,null,"-",{"$f":"IF(OR(IFERROR(MATCH($D1015,'Transparency List 2018_10'!$L:$L,0),FALSE),IFERROR(MATCH(TRIM($G1015),'Transparency List 2018_10'!$D:$D,0),FALSE)),\"On the 2018_10 List\",\"-\")","v":"-"},{"$f":"IF(OR(IFERROR(MATCH($D1015,'Transparency List 2018_04'!$L:$L,0),FALSE),IFERROR(MATCH(TRIM($G1015),'Transparency List 2018_04'!$D:$D,0),FALSE)),\"On the 2018_04 List\",\"-\")","v":"-"},{"$f":"IF(OR(IFERROR(MATCH($D1015,'Transparency List 2017'!$L:$L,0),FALSE),IFERROR(MATCH(TRIM($G1015),'Transparency List 2017'!$C:$C,0),FALSE)),\"On the 2017 List\",\"-\")","v":"-"},{"$f":"IF(OR(IFERROR(MATCH($D1015,'Transparency List 2015'!$H:$H,0),FALSE),IFERROR(MATCH(TRIM($G1015),'Transparency List 2015'!$C:$C,0),FALSE)),\"On the 2015 List\",\"-\")","v":"-"}]
[null,null,4,"",null,null,null,"-",{"$f":"IF(OR(IFERROR(MATCH($D1016,'Transparency List 2018_10'!$L:$L,0),FALSE),IFERROR(MATCH(TRIM($G1016),'Transparency List 2018_10'!$D:$D,0),FALSE)),\"On the 2018_10 List\",\"-\")","v":"-"},{"$f":"IF(OR(IFERROR(MATCH($D1016,'Transparency List 2018_04'!$L:$L,0),FALSE),IFERROR(MATCH(TRIM($G1016),'Transparency List 2018_04'!$D:$D,0),FALSE)),\"On the 2018_04 List\",\"-\")","v":"-"},{"$f":"IF(OR(IFERROR(MATCH($D1016,'Transparency List 2017'!$L:$L,0),FALSE),IFERROR(MATCH(TRIM($G1016),'Transparency List 2017'!$C:$C,0),FALSE)),\"On the 2017 List\",\"-\")","v":"-"},{"$f":"IF(OR(IFERROR(MATCH($D1016,'Transparency List 2015'!$H:$H,0),FALSE),IFERROR(MATCH(TRIM($G1016),'Transparency List 2015'!$C:$C,0),FALSE)),\"On the 2015 List\",\"-\")","v":"-"}]
[null,null,4,"",null,null,null,"-",{"$f":"IF(OR(IFERROR(MATCH($D1017,'Transparency List 2018_10'!$L:$L,0),FALSE),IFERROR(MATCH(TRIM($G1017),'Transparency List 2018_10'!$D:$D,0),FALSE)),\"On the 2018_10 List\",\"-\")","v":"-"},{"$f":"IF(OR(IFERROR(MATCH($D1017,'Transparency List 2018_04'!$L:$L,0),FALSE),IFERROR(MATCH(TRIM($G1017),'Transparency List 2018_04'!$D:$D,0),FALSE)),\"On the 2018_04 List\",\"-\")","v":"-"},{"$f":"IF(OR(IFERROR(MATCH($D1017,'Transparency List 2017'!$L:$L,0),FALSE),IFERROR(MATCH(TRIM($G1017),'Transparency List 2017'!$C:$C,0),FALSE)),\"On the 2017 List\",\"-\")","v":"-"},{"$f":"IF(OR(IFERROR(MATCH($D1017,'Transparency List 2015'!$H:$H,0),FALSE),IFERROR(MATCH(TRIM($G1017),'Transparency List 2015'!$C:$C,0),FALSE)),\"On the 2015 List\",\"-\")","v":"-"}]
[null,null,4,"",null,null,null,"-",{"$f":"IF(OR(IFERROR(MATCH($D1018,'Transparency List 2018_10'!$L:$L,0),FALSE),IFERROR(MATCH(TRIM($G1018),'Transparency List 2018_10'!$D:$D,0),FALSE)),\"On the 2018_10 List\",\"-\")","v":"-"},{"$f":"IF(OR(IFERROR(MATCH($D1018,'Transparency List 2018_04'!$L:$L,0),FALSE),IFERROR(MATCH(TRIM($G1018),'Transparency List 2018_04'!$D:$D,0),FALSE)),\"On the 2018_04 List\",\"-\")","v":"-"},{"$f":"IF(OR(IFERROR(MATCH($D1018,'Transparency List 2017'!$L:$L,0),FALSE),IFERROR(MATCH(TRIM($G1018),'Transparency List 2017'!$C:$C,0),FALSE)),\"On the 2017 List\",\"-\")","v":"-"},{"$f":"IF(OR(IFERROR(MATCH($D1018,'Transparency List 2015'!$H:$H,0),FALSE),IFERROR(MATCH(TRIM($G1018),'Transparency List 2015'!$C:$C,0),FALSE)),\"On the 2015 List\",\"-\")","v":"-"}]
[null,null,4,"",null,null,null,"-",{"$f":"IF(OR(IFERROR(MATCH($D1019,'Transparency List 2018_10'!$L:$L,0),FALSE),IFERROR(MATCH(TRIM($G1019),'Transparency List 2018_10'!$D:$D,0),FALSE)),\"On the 2018_10 List\",\"-\")","v":"-"},{"$f":"IF(OR(IFERROR(MATCH($D1019,'Transparency List 2018_04'!$L:$L,0),FALSE),IFERROR(MATCH(TRIM($G1019),'Transparency List 2018_04'!$D:$D,0),FALSE)),\"On the 2018_04 List\",\"-\")","v":"-"},{"$f":"IF(OR(IFERROR(MATCH($D1019,'Transparency List 2017'!$L:$L,0),FALSE),IFERROR(MATCH(TRIM($G1019),'Transparency List 2017'!$C:$C,0),FALSE)),\"On the 2017 List\",\"-\")","v":"-"},{"$f":"IF(OR(IFERROR(MATCH($D1019,'Transparency List 2015'!$H:$H,0),FALSE),IFERROR(MATCH(TRIM($G1019),'Transparency List 2015'!$C:$C,0),FALSE)),\"On the 2015 List\",\"-\")","v":"-"}]
[null,null,4,"",null,null,null,"-",{"$f":"IF(OR(IFERROR(MATCH($D1020,'Transparency List 2018_10'!$L:$L,0),FALSE),IFERROR(MATCH(TRIM($G1020),'Transparency List 2018_10'!$D:$D,0),FALSE)),\"On the 2018_10 List\",\"-\")","v":"-"},{"$f":"IF(OR(IFERROR(MATCH($D1020,'Transparency List 2018_04'!$L:$L,0),FALSE),IFERROR(MATCH(TRIM($G1020),'Transparency List 2018_04'!$D:$D,0),FALSE)),\"On the 2018_04 List\",\"-\")","v":"-"},{"$f":"IF(OR(IFERROR(MATCH($D1020,'Transparency List 2017'!$L:$L,0),FALSE),IFERROR(MATCH(TRIM($G1020),'Transparency List 2017'!$C:$C,0),FALSE)),\"On the 2017 List\",\"-\")","v":"-"},{"$f":"IF(OR(IFERROR(MATCH($D1020,'Transparency List 2015'!$H:$H,0),FALSE),IFERROR(MATCH(TRIM($G1020),'Transparency List 2015'!$C:$C,0),FALSE)),\"On the 2015 List\",\"-\")","v":"-"}]
[null,null,4,"",null,null,null,"-",{"$f":"IF(OR(IFERROR(MATCH($D1021,'Transparency List 2018_10'!$L:$L,0),FALSE),IFERROR(MATCH(TRIM($G1021),'Transparency List 2018_10'!$D:$D,0),FALSE)),\"On the 2018_10 List\",\"-\")","v":"-"},{"$f":"IF(OR(IFERROR(MATCH($D1021,'Transparency List 2018_04'!$L:$L,0),FALSE),IFERROR(MATCH(TRIM($G1021),'Transparency List 2018_04'!$D:$D,0),FALSE)),\"On the 2018_04 List\",\"-\")","v":"-"},{"$f":"IF(OR(IFERROR(MATCH($D1021,'Transparency List 2017'!$L:$L,0),FALSE),IFERROR(MATCH(TRIM($G1021),'Transparency List 2017'!$C:$C,0),FALSE)),\"On the 2017 List\",\"-\")","v":"-"},{"$f":"IF(OR(IFERROR(MATCH($D1021,'Transparency List 2015'!$H:$H,0),FALSE),IFERROR(MATCH(TRIM($G1021),'Transparency List 2015'!$C:$C,0),FALSE)),\"On the 2015 List\",\"-\")","v":"-"}]
[null,null,4,"",null,null,null,"-",{"$f":"IF(OR(IFERROR(MATCH($D1022,'Transparency List 2018_10'!$L:$L,0),FALSE),IFERROR(MATCH(TRIM($G1022),'Transparency List 2018_10'!$D:$D,0),FALSE)),\"On the 2018_10 List\",\"-\")","v":"-"},{"$f":"IF(OR(IFERROR(MATCH($D1022,'Transparency List 2018_04'!$L:$L,0),FALSE),IFERROR(MATCH(TRIM($G1022),'Transparency List 2018_04'!$D:$D,0),FALSE)),\"On the 2018_04 List\",\"-\")","v":"-"},{"$f":"IF(OR(IFERROR(MATCH($D1022,'Transparency List 2017'!$L:$L,0),FALSE),IFERROR(MATCH(TRIM($G1022),'Transparency List 2017'!$C:$C,0),FALSE)),\"On the 2017 List\",\"-\")","v":"-"},{"$f":"IF(OR(IFERROR(MATCH($D1022,'Transparency List 2015'!$H:$H,0),FALSE),IFERROR(MATCH(TRIM($G1022),'Transparency List 2015'!$C:$C,0),FALSE)),\"On the 2015 List\",\"-\")","v":"-"}]
[null,null,4,"",null,null,null,"-",{"$f":"IF(OR(IFERROR(MATCH($D1023,'Transparency List 2018_10'!$L:$L,0),FALSE),IFERROR(MATCH(TRIM($G1023),'Transparency List 2018_10'!$D:$D,0),FALSE)),\"On the 2018_10 List\",\"-\")","v":"-"},{"$f":"IF(OR(IFERROR(MATCH($D1023,'Transparency List 2018_04'!$L:$L,0),FALSE),IFERROR(MATCH(TRIM($G1023),'Transparency List 2018_04'!$D:$D,0),FALSE)),\"On the 2018_04 List\",\"-\")","v":"-"},{"$f":"IF(OR(IFERROR(MATCH($D1023,'Transparency List 2017'!$L:$L,0),FALSE),IFERROR(MATCH(TRIM($G1023),'Transparency List 2017'!$C:$C,0),FALSE)),\"On the 2017 List\",\"-\")","v":"-"},{"$f":"IF(OR(IFERROR(MATCH($D1023,'Transparency List 2015'!$H:$H,0),FALSE),IFERROR(MATCH(TRIM($G1023),'Transparency List 2015'!$C:$C,0),FALSE)),\"On the 2015 List\",\"-\")","v":"-"}]
[null,null,4,"",null,null,null,"-",{"$f":"IF(OR(IFERROR(MATCH($D1024,'Transparency List 2018_10'!$L:$L,0),FALSE),IFERROR(MATCH(TRIM($G1024),'Transparency List 2018_10'!$D:$D,0),FALSE)),\"On the 2018_10 List\",\"-\")","v":"-"},{"$f":"IF(OR(IFERROR(MATCH($D1024,'Transparency List 2018_04'!$L:$L,0),FALSE),IFERROR(MATCH(TRIM($G1024),'Transparency List 2018_04'!$D:$D,0),FALSE)),\"On the 2018_04 List\",\"-\")","v":"-"},{"$f":"IF(OR(IFERROR(MATCH($D1024,'Transparency List 2017'!$L:$L,0),FALSE),IFERROR(MATCH(TRIM($G1024),'Transparency List 2017'!$C:$C,0),FALSE)),\"On the 2017 List\",\"-\")","v":"-"},{"$f":"IF(OR(IFERROR(MATCH($D1024,'Transparency List 2015'!$H:$H,0),FALSE),IFERROR(MATCH(TRIM($G1024),'Transparency List 2015'!$C:$C,0),FALSE)),\"On the 2015 List\",\"-\")","v":"-"}]
[null,null,4,"",null,null,null,"-",{"$f":"IF(OR(IFERROR(MATCH($D1025,'Transparency List 2018_10'!$L:$L,0),FALSE),IFERROR(MATCH(TRIM($G1025),'Transparency List 2018_10'!$D:$D,0),FALSE)),\"On the 2018_10 List\",\"-\")","v":"-"},{"$f":"IF(OR(IFERROR(MATCH($D1025,'Transparency List 2018_04'!$L:$L,0),FALSE),IFERROR(MATCH(TRIM($G1025),'Transparency List 2018_04'!$D:$D,0),FALSE)),\"On the 2018_04 List\",\"-\")","v":"-"},{"$f":"IF(OR(IFERROR(MATCH($D1025,'Transparency List 2017'!$L:$L,0),FALSE),IFERROR(MATCH(TRIM($G1025),'Transparency List 2017'!$C:$C,0),FALSE)),\"On the 2017 List\",\"-\")","v":"-"},{"$f":"IF(OR(IFERROR(MATCH($D1025,'Transparency List 2015'!$H:$H,0),FALSE),IFERROR(MATCH(TRIM($G1025),'Transparency List 2015'!$C:$C,0),FALSE)),\"On the 2015 List\",\"-\")","v":"-"}]
[null,null,4,"",null,null,null,"-",{"$f":"IF(OR(IFERROR(MATCH($D1026,'Transparency List 2018_10'!$L:$L,0),FALSE),IFERROR(MATCH(TRIM($G1026),'Transparency List 2018_10'!$D:$D,0),FALSE)),\"On the 2018_10 List\",\"-\")","v":"-"},{"$f":"IF(OR(IFERROR(MATCH($D1026,'Transparency List 2018_04'!$L:$L,0),FALSE),IFERROR(MATCH(TRIM($G1026),'Transparency List 2018_04'!$D:$D,0),FALSE)),\"On the 2018_04 List\",\"-\")","v":"-"},{"$f":"IF(OR(IFERROR(MATCH($D1026,'Transparency List 2017'!$L:$L,0),FALSE),IFERROR(MATCH(TRIM($G1026),'Transparency List 2017'!$C:$C,0),FALSE)),\"On the 2017 List\",\"-\")","v":"-"},{"$f":"IF(OR(IFERROR(MATCH($D1026,'Transparency List 2015'!$H:$H,0),FALSE),IFERROR(MATCH(TRIM($G1026),'Transparency List 2015'!$C:$C,0),FALSE)),\"On the 2015 List\",\"-\")","v":"-"}]
[null,null,4,"",null,null,null,"-",{"$f":"IF(OR(IFERROR(MATCH($D1027,'Transparency List 2018_10'!$L:$L,0),FALSE),IFERROR(MATCH(TRIM($G1027),'Transparency List 2018_10'!$D:$D,0),FALSE)),\"On the 2018_10 List\",\"-\")","v":"-"},{"$f":"IF(OR(IFERROR(MATCH($D1027,'Transparency List 2018_04'!$L:$L,0),FALSE),IFERROR(MATCH(TRIM($G1027),'Transparency List 2018_04'!$D:$D,0),FALSE)),\"On the 2018_04 List\",\"-\")","v":"-"},{"$f":"IF(OR(IFERROR(MATCH($D1027,'Transparency List 2017'!$L:$L,0),FALSE),IFERROR(MATCH(TRIM($G1027),'Transparency List 2017'!$C:$C,0),FALSE)),\"On the 2017 List\",\"-\")","v":"-"},{"$f":"IF(OR(IFERROR(MATCH($D1027,'Transparency List 2015'!$H:$H,0),FALSE),IFERROR(MATCH(TRIM($G1027),'Transparency List 2015'!$C:$C,0),FALSE)),\"On the 2015 List\",\"-\")","v":"-"}]
[null,null,4,"",null,null,null,"-",{"$f":"IF(OR(IFERROR(MATCH($D1028,'Transparency List 2018_10'!$L:$L,0),FALSE),IFERROR(MATCH(TRIM($G1028),'Transparency List 2018_10'!$D:$D,0),FALSE)),\"On the 2018_10 List\",\"-\")","v":"-"},{"$f":"IF(OR(IFERROR(MATCH($D1028,'Transparency List 2018_04'!$L:$L,0),FALSE),IFERROR(MATCH(TRIM($G1028),'Transparency List 2018_04'!$D:$D,0),FALSE)),\"On the 2018_04 List\",\"-\")","v":"-"},{"$f":"IF(OR(IFERROR(MATCH($D1028,'Transparency List 2017'!$L:$L,0),FALSE),IFERROR(MATCH(TRIM($G1028),'Transparency List 2017'!$C:$C,0),FALSE)),\"On the 2017 List\",\"-\")","v":"-"},{"$f":"IF(OR(IFERROR(MATCH($D1028,'Transparency List 2015'!$H:$H,0),FALSE),IFERROR(MATCH(TRIM($G1028),'Transparency List 2015'!$C:$C,0),FALSE)),\"On the 2015 List\",\"-\")","v":"-"}]
[null,null,4,"",null,null,null,"-",{"$f":"IF(OR(IFERROR(MATCH($D1029,'Transparency List 2018_10'!$L:$L,0),FALSE),IFERROR(MATCH(TRIM($G1029),'Transparency List 2018_10'!$D:$D,0),FALSE)),\"On the 2018_10 List\",\"-\")","v":"-"},{"$f":"IF(OR(IFERROR(MATCH($D1029,'Transparency List 2018_04'!$L:$L,0),FALSE),IFERROR(MATCH(TRIM($G1029),'Transparency List 2018_04'!$D:$D,0),FALSE)),\"On the 2018_04 List\",\"-\")","v":"-"},{"$f":"IF(OR(IFERROR(MATCH($D1029,'Transparency List 2017'!$L:$L,0),FALSE),IFERROR(MATCH(TRIM($G1029),'Transparency List 2017'!$C:$C,0),FALSE)),\"On the 2017 List\",\"-\")","v":"-"},{"$f":"IF(OR(IFERROR(MATCH($D1029,'Transparency List 2015'!$H:$H,0),FALSE),IFERROR(MATCH(TRIM($G1029),'Transparency List 2015'!$C:$C,0),FALSE)),\"On the 2015 List\",\"-\")","v":"-"}]
[null,null,4,"",null,null,null,"-",{"$f":"IF(OR(IFERROR(MATCH($D1030,'Transparency List 2018_10'!$L:$L,0),FALSE),IFERROR(MATCH(TRIM($G1030),'Transparency List 2018_10'!$D:$D,0),FALSE)),\"On the 2018_10 List\",\"-\")","v":"-"},{"$f":"IF(OR(IFERROR(MATCH($D1030,'Transparency List 2018_04'!$L:$L,0),FALSE),IFERROR(MATCH(TRIM($G1030),'Transparency List 2018_04'!$D:$D,0),FALSE)),\"On the 2018_04 List\",\"-\")","v":"-"},{"$f":"IF(OR(IFERROR(MATCH($D1030,'Transparency List 2017'!$L:$L,0),FALSE),IFERROR(MATCH(TRIM($G1030),'Transparency List 2017'!$C:$C,0),FALSE)),\"On the 2017 List\",\"-\")","v":"-"},{"$f":"IF(OR(IFERROR(MATCH($D1030,'Transparency List 2015'!$H:$H,0),FALSE),IFERROR(MATCH(TRIM($G1030),'Transparency List 2015'!$C:$C,0),FALSE)),\"On the 2015 List\",\"-\")","v":"-"}]
[null,null,4,"",null,null,null,"-",{"$f":"IF(OR(IFERROR(MATCH($D1031,'Transparency List 2018_10'!$L:$L,0),FALSE),IFERROR(MATCH(TRIM($G1031),'Transparency List 2018_10'!$D:$D,0),FALSE)),\"On the 2018_10 List\",\"-\")","v":"-"},{"$f":"IF(OR(IFERROR(MATCH($D1031,'Transparency List 2018_04'!$L:$L,0),FALSE),IFERROR(MATCH(TRIM($G1031),'Transparency List 2018_04'!$D:$D,0),FALSE)),\"On the 2018_04 List\",\"-\")","v":"-"},{"$f":"IF(OR(IFERROR(MATCH($D1031,'Transparency List 2017'!$L:$L,0),FALSE),IFERROR(MATCH(TRIM($G1031),'Transparency List 2017'!$C:$C,0),FALSE)),\"On the 2017 List\",\"-\")","v":"-"},{"$f":"IF(OR(IFERROR(MATCH($D1031,'Transparency List 2015'!$H:$H,0),FALSE),IFERROR(MATCH(TRIM($G1031),'Transparency List 2015'!$C:$C,0),FALSE)),\"On the 2015 List\",\"-\")","v":"-"}]
[null,null,4,"",null,null,null,"-",{"$f":"IF(OR(IFERROR(MATCH($D1032,'Transparency List 2018_10'!$L:$L,0),FALSE),IFERROR(MATCH(TRIM($G1032),'Transparency List 2018_10'!$D:$D,0),FALSE)),\"On the 2018_10 List\",\"-\")","v":"-"},{"$f":"IF(OR(IFERROR(MATCH($D1032,'Transparency List 2018_04'!$L:$L,0),FALSE),IFERROR(MATCH(TRIM($G1032),'Transparency List 2018_04'!$D:$D,0),FALSE)),\"On the 2018_04 List\",\"-\")","v":"-"},{"$f":"IF(OR(IFERROR(MATCH($D1032,'Transparency List 2017'!$L:$L,0),FALSE),IFERROR(MATCH(TRIM($G1032),'Transparency List 2017'!$C:$C,0),FALSE)),\"On the 2017 List\",\"-\")","v":"-"},{"$f":"IF(OR(IFERROR(MATCH($D1032,'Transparency List 2015'!$H:$H,0),FALSE),IFERROR(MATCH(TRIM($G1032),'Transparency List 2015'!$C:$C,0),FALSE)),\"On the 2015 List\",\"-\")","v":"-"}]
[null,null,4,"",null,null,null,"-",{"$f":"IF(OR(IFERROR(MATCH($D1033,'Transparency List 2018_10'!$L:$L,0),FALSE),IFERROR(MATCH(TRIM($G1033),'Transparency List 2018_10'!$D:$D,0),FALSE)),\"On the 2018_10 List\",\"-\")","v":"-"},{"$f":"IF(OR(IFERROR(MATCH($D1033,'Transparency List 2018_04'!$L:$L,0),FALSE),IFERROR(MATCH(TRIM($G1033),'Transparency List 2018_04'!$D:$D,0),FALSE)),\"On the 2018_04 List\",\"-\")","v":"-"},{"$f":"IF(OR(IFERROR(MATCH($D1033,'Transparency List 2017'!$L:$L,0),FALSE),IFERROR(MATCH(TRIM($G1033),'Transparency List 2017'!$C:$C,0),FALSE)),\"On the 2017 List\",\"-\")","v":"-"},{"$f":"IF(OR(IFERROR(MATCH($D1033,'Transparency List 2015'!$H:$H,0),FALSE),IFERROR(MATCH(TRIM($G1033),'Transparency List 2015'!$C:$C,0),FALSE)),\"On the 2015 List\",\"-\")","v":"-"}]
[null,null,4,"",null,null,null,"-",{"$f":"IF(OR(IFERROR(MATCH($D1034,'Transparency List 2018_10'!$L:$L,0),FALSE),IFERROR(MATCH(TRIM($G1034),'Transparency List 2018_10'!$D:$D,0),FALSE)),\"On the 2018_10 List\",\"-\")","v":"-"},{"$f":"IF(OR(IFERROR(MATCH($D1034,'Transparency List 2018_04'!$L:$L,0),FALSE),IFERROR(MATCH(TRIM($G1034),'Transparency List 2018_04'!$D:$D,0),FALSE)),\"On the 2018_04 List\",\"-\")","v":"-"},{"$f":"IF(OR(IFERROR(MATCH($D1034,'Transparency List 2017'!$L:$L,0),FALSE),IFERROR(MATCH(TRIM($G1034),'Transparency List 2017'!$C:$C,0),FALSE)),\"On the 2017 List\",\"-\")","v":"-"},{"$f":"IF(OR(IFERROR(MATCH($D1034,'Transparency List 2015'!$H:$H,0),FALSE),IFERROR(MATCH(TRIM($G1034),'Transparency List 2015'!$C:$C,0),FALSE)),\"On the 2015 List\",\"-\")","v":"-"}]
[null,null,4,"",null,null,null,"-",{"$f":"IF(OR(IFERROR(MATCH($D1035,'Transparency List 2018_10'!$L:$L,0),FALSE),IFERROR(MATCH(TRIM($G1035),'Transparency List 2018_10'!$D:$D,0),FALSE)),\"On the 2018_10 List\",\"-\")","v":"-"},{"$f":"IF(OR(IFERROR(MATCH($D1035,'Transparency List 2018_04'!$L:$L,0),FALSE),IFERROR(MATCH(TRIM($G1035),'Transparency List 2018_04'!$D:$D,0),FALSE)),\"On the 2018_04 List\",\"-\")","v":"-"},{"$f":"IF(OR(IFERROR(MATCH($D1035,'Transparency List 2017'!$L:$L,0),FALSE),IFERROR(MATCH(TRIM($G1035),'Transparency List 2017'!$C:$C,0),FALSE)),\"On the 2017 List\",\"-\")","v":"-"},{"$f":"IF(OR(IFERROR(MATCH($D1035,'Transparency List 2015'!$H:$H,0),FALSE),IFERROR(MATCH(TRIM($G1035),'Transparency List 2015'!$C:$C,0),FALSE)),\"On the 2015 List\",\"-\")","v":"-"}]
[null,null,4,"",null,null,null,"-",{"$f":"IF(OR(IFERROR(MATCH($D1036,'Transparency List 2018_10'!$L:$L,0),FALSE),IFERROR(MATCH(TRIM($G1036),'Transparency List 2018_10'!$D:$D,0),FALSE)),\"On the 2018_10 List\",\"-\")","v":"-"},{"$f":"IF(OR(IFERROR(MATCH($D1036,'Transparency List 2018_04'!$L:$L,0),FALSE),IFERROR(MATCH(TRIM($G1036),'Transparency List 2018_04'!$D:$D,0),FALSE)),\"On the 2018_04 List\",\"-\")","v":"-"},{"$f":"IF(OR(IFERROR(MATCH($D1036,'Transparency List 2017'!$L:$L,0),FALSE),IFERROR(MATCH(TRIM($G1036),'Transparency List 2017'!$C:$C,0),FALSE)),\"On the 2017 List\",\"-\")","v":"-"},{"$f":"IF(OR(IFERROR(MATCH($D1036,'Transparency List 2015'!$H:$H,0),FALSE),IFERROR(MATCH(TRIM($G1036),'Transparency List 2015'!$C:$C,0),FALSE)),\"On the 2015 List\",\"-\")","v":"-"}]
[null,null,4,"",null,null,null,"-",{"$f":"IF(OR(IFERROR(MATCH($D1037,'Transparency List 2018_10'!$L:$L,0),FALSE),IFERROR(MATCH(TRIM($G1037),'Transparency List 2018_10'!$D:$D,0),FALSE)),\"On the 2018_10 List\",\"-\")","v":"-"},{"$f":"IF(OR(IFERROR(MATCH($D1037,'Transparency List 2018_04'!$L:$L,0),FALSE),IFERROR(MATCH(TRIM($G1037),'Transparency List 2018_04'!$D:$D,0),FALSE)),\"On the 2018_04 List\",\"-\")","v":"-"},{"$f":"IF(OR(IFERROR(MATCH($D1037,'Transparency List 2017'!$L:$L,0),FALSE),IFERROR(MATCH(TRIM($G1037),'Transparency List 2017'!$C:$C,0),FALSE)),\"On the 2017 List\",\"-\")","v":"-"},{"$f":"IF(OR(IFERROR(MATCH($D1037,'Transparency List 2015'!$H:$H,0),FALSE),IFERROR(MATCH(TRIM($G1037),'Transparency List 2015'!$C:$C,0),FALSE)),\"On the 2015 List\",\"-\")","v":"-"}]
[null,null,4,"",null,null,null,"-",{"$f":"IF(OR(IFERROR(MATCH($D1038,'Transparency List 2018_10'!$L:$L,0),FALSE),IFERROR(MATCH(TRIM($G1038),'Transparency List 2018_10'!$D:$D,0),FALSE)),\"On the 2018_10 List\",\"-\")","v":"-"},{"$f":"IF(OR(IFERROR(MATCH($D1038,'Transparency List 2018_04'!$L:$L,0),FALSE),IFERROR(MATCH(TRIM($G1038),'Transparency List 2018_04'!$D:$D,0),FALSE)),\"On the 2018_04 List\",\"-\")","v":"-"},{"$f":"IF(OR(IFERROR(MATCH($D1038,'Transparency List 2017'!$L:$L,0),FALSE),IFERROR(MATCH(TRIM($G1038),'Transparency List 2017'!$C:$C,0),FALSE)),\"On the 2017 List\",\"-\")","v":"-"},{"$f":"IF(OR(IFERROR(MATCH($D1038,'Transparency List 2015'!$H:$H,0),FALSE),IFERROR(MATCH(TRIM($G1038),'Transparency List 2015'!$C:$C,0),FALSE)),\"On the 2015 List\",\"-\")","v":"-"}]
[null,null,4,"",null,null,null,"-",{"$f":"IF(OR(IFERROR(MATCH($D1039,'Transparency List 2018_10'!$L:$L,0),FALSE),IFERROR(MATCH(TRIM($G1039),'Transparency List 2018_10'!$D:$D,0),FALSE)),\"On the 2018_10 List\",\"-\")","v":"-"},{"$f":"IF(OR(IFERROR(MATCH($D1039,'Transparency List 2018_04'!$L:$L,0),FALSE),IFERROR(MATCH(TRIM($G1039),'Transparency List 2018_04'!$D:$D,0),FALSE)),\"On the 2018_04 List\",\"-\")","v":"-"},{"$f":"IF(OR(IFERROR(MATCH($D1039,'Transparency List 2017'!$L:$L,0),FALSE),IFERROR(MATCH(TRIM($G1039),'Transparency List 2017'!$C:$C,0),FALSE)),\"On the 2017 List\",\"-\")","v":"-"},{"$f":"IF(OR(IFERROR(MATCH($D1039,'Transparency List 2015'!$H:$H,0),FALSE),IFERROR(MATCH(TRIM($G1039),'Transparency List 2015'!$C:$C,0),FALSE)),\"On the 2015 List\",\"-\")","v":"-"}]
[null,null,4,"",null,null,null,"-",{"$f":"IF(OR(IFERROR(MATCH($D1040,'Transparency List 2018_10'!$L:$L,0),FALSE),IFERROR(MATCH(TRIM($G1040),'Transparency List 2018_10'!$D:$D,0),FALSE)),\"On the 2018_10 List\",\"-\")","v":"-"},{"$f":"IF(OR(IFERROR(MATCH($D1040,'Transparency List 2018_04'!$L:$L,0),FALSE),IFERROR(MATCH(TRIM($G1040),'Transparency List 2018_04'!$D:$D,0),FALSE)),\"On the 2018_04 List\",\"-\")","v":"-"},{"$f":"IF(OR(IFERROR(MATCH($D1040,'Transparency List 2017'!$L:$L,0),FALSE),IFERROR(MATCH(TRIM($G1040),'Transparency List 2017'!$C:$C,0),FALSE)),\"On the 2017 List\",\"-\")","v":"-"},{"$f":"IF(OR(IFERROR(MATCH($D1040,'Transparency List 2015'!$H:$H,0),FALSE),IFERROR(MATCH(TRIM($G1040),'Transparency List 2015'!$C:$C,0),FALSE)),\"On the 2015 List\",\"-\")","v":"-"}]
[null,null,4,"",null,null,null,"-",{"$f":"IF(OR(IFERROR(MATCH($D1041,'Transparency List 2018_10'!$L:$L,0),FALSE),IFERROR(MATCH(TRIM($G1041),'Transparency List 2018_10'!$D:$D,0),FALSE)),\"On the 2018_10 List\",\"-\")","v":"-"},{"$f":"IF(OR(IFERROR(MATCH($D1041,'Transparency List 2018_04'!$L:$L,0),FALSE),IFERROR(MATCH(TRIM($G1041),'Transparency List 2018_04'!$D:$D,0),FALSE)),\"On the 2018_04 List\",\"-\")","v":"-"},{"$f":"IF(OR(IFERROR(MATCH($D1041,'Transparency List 2017'!$L:$L,0),FALSE),IFERROR(MATCH(TRIM($G1041),'Transparency List 2017'!$C:$C,0),FALSE)),\"On the 2017 List\",\"-\")","v":"-"},{"$f":"IF(OR(IFERROR(MATCH($D1041,'Transparency List 2015'!$H:$H,0),FALSE),IFERROR(MATCH(TRIM($G1041),'Transparency List 2015'!$C:$C,0),FALSE)),\"On the 2015 List\",\"-\")","v":"-"}]
[null,null,4,"",null,null,null,"-",{"$f":"IF(OR(IFERROR(MATCH($D1042,'Transparency List 2018_10'!$L:$L,0),FALSE),IFERROR(MATCH(TRIM($G1042),'Transparency List 2018_10'!$D:$D,0),FALSE)),\"On the 2018_10 List\",\"-\")","v":"-"},{"$f":"IF(OR(IFERROR(MATCH($D1042,'Transparency List 2018_04'!$L:$L,0),FALSE),IFERROR(MATCH(TRIM($G1042),'Transparency List 2018_04'!$D:$D,0),FALSE)),\"On the 2018_04 List\",\"-\")","v":"-"},{"$f":"IF(OR(IFERROR(MATCH($D1042,'Transparency List 2017'!$L:$L,0),FALSE),IFERROR(MATCH(TRIM($G1042),'Transparency List 2017'!$C:$C,0),FALSE)),\"On the 2017 List\",\"-\")","v":"-"},{"$f":"IF(OR(IFERROR(MATCH($D1042,'Transparency List 2015'!$H:$H,0),FALSE),IFERROR(MATCH(TRIM($G1042),'Transparency List 2015'!$C:$C,0),FALSE)),\"On the 2015 List\",\"-\")","v":"-"}]
[null,null,4,"",null,null,null,"-",{"$f":"IF(OR(IFERROR(MATCH($D1043,'Transparency List 2018_10'!$L:$L,0),FALSE),IFERROR(MATCH(TRIM($G1043),'Transparency List 2018_10'!$D:$D,0),FALSE)),\"On the 2018_10 List\",\"-\")","v":"-"},{"$f":"IF(OR(IFERROR(MATCH($D1043,'Transparency List 2018_04'!$L:$L,0),FALSE),IFERROR(MATCH(TRIM($G1043),'Transparency List 2018_04'!$D:$D,0),FALSE)),\"On the 2018_04 List\",\"-\")","v":"-"},{"$f":"IF(OR(IFERROR(MATCH($D1043,'Transparency List 2017'!$L:$L,0),FALSE),IFERROR(MATCH(TRIM($G1043),'Transparency List 2017'!$C:$C,0),FALSE)),\"On the 2017 List\",\"-\")","v":"-"},{"$f":"IF(OR(IFERROR(MATCH($D1043,'Transparency List 2015'!$H:$H,0),FALSE),IFERROR(MATCH(TRIM($G1043),'Transparency List 2015'!$C:$C,0),FALSE)),\"On the 2015 List\",\"-\")","v":"-"}]
[null,null,4,"",null,null,null,"-",{"$f":"IF(OR(IFERROR(MATCH($D1044,'Transparency List 2018_10'!$L:$L,0),FALSE),IFERROR(MATCH(TRIM($G1044),'Transparency List 2018_10'!$D:$D,0),FALSE)),\"On the 2018_10 List\",\"-\")","v":"-"},{"$f":"IF(OR(IFERROR(MATCH($D1044,'Transparency List 2018_04'!$L:$L,0),FALSE),IFERROR(MATCH(TRIM($G1044),'Transparency List 2018_04'!$D:$D,0),FALSE)),\"On the 2018_04 List\",\"-\")","v":"-"},{"$f":"IF(OR(IFERROR(MATCH($D1044,'Transparency List 2017'!$L:$L,0),FALSE),IFERROR(MATCH(TRIM($G1044),'Transparency List 2017'!$C:$C,0),FALSE)),\"On the 2017 List\",\"-\")","v":"-"},{"$f":"IF(OR(IFERROR(MATCH($D1044,'Transparency List 2015'!$H:$H,0),FALSE),IFERROR(MATCH(TRIM($G1044),'Transparency List 2015'!$C:$C,0),FALSE)),\"On the 2015 List\",\"-\")","v":"-"}]
[null,null,4,"",null,null,null,"-",{"$f":"IF(OR(IFERROR(MATCH($D1045,'Transparency List 2018_10'!$L:$L,0),FALSE),IFERROR(MATCH(TRIM($G1045),'Transparency List 2018_10'!$D:$D,0),FALSE)),\"On the 2018_10 List\",\"-\")","v":"-"},{"$f":"IF(OR(IFERROR(MATCH($D1045,'Transparency List 2018_04'!$L:$L,0),FALSE),IFERROR(MATCH(TRIM($G1045),'Transparency List 2018_04'!$D:$D,0),FALSE)),\"On the 2018_04 List\",\"-\")","v":"-"},{"$f":"IF(OR(IFERROR(MATCH($D1045,'Transparency List 2017'!$L:$L,0),FALSE),IFERROR(MATCH(TRIM($G1045),'Transparency List 2017'!$C:$C,0),FALSE)),\"On the 2017 List\",\"-\")","v":"-"},{"$f":"IF(OR(IFERROR(MATCH($D1045,'Transparency List 2015'!$H:$H,0),FALSE),IFERROR(MATCH(TRIM($G1045),'Transparency List 2015'!$C:$C,0),FALSE)),\"On the 2015 List\",\"-\")","v":"-"}]
[null,null,4,"",null,null,null,"-",{"$f":"IF(OR(IFERROR(MATCH($D1046,'Transparency List 2018_10'!$L:$L,0),FALSE),IFERROR(MATCH(TRIM($G1046),'Transparency List 2018_10'!$D:$D,0),FALSE)),\"On the 2018_10 List\",\"-\")","v":"-"},{"$f":"IF(OR(IFERROR(MATCH($D1046,'Transparency List 2018_04'!$L:$L,0),FALSE),IFERROR(MATCH(TRIM($G1046),'Transparency List 2018_04'!$D:$D,0),FALSE)),\"On the 2018_04 List\",\"-\")","v":"-"},{"$f":"IF(OR(IFERROR(MATCH($D1046,'Transparency List 2017'!$L:$L,0),FALSE),IFERROR(MATCH(TRIM($G1046),'Transparency List 2017'!$C:$C,0),FALSE)),\"On the 2017 List\",\"-\")","v":"-"},{"$f":"IF(OR(IFERROR(MATCH($D1046,'Transparency List 2015'!$H:$H,0),FALSE),IFERROR(MATCH(TRIM($G1046),'Transparency List 2015'!$C:$C,0),FALSE)),\"On the 2015 List\",\"-\")","v":"-"}]
[null,null,4,"",null,null,null,"-",{"$f":"IF(OR(IFERROR(MATCH($D1047,'Transparency List 2018_10'!$L:$L,0),FALSE),IFERROR(MATCH(TRIM($G1047),'Transparency List 2018_10'!$D:$D,0),FALSE)),\"On the 2018_10 List\",\"-\")","v":"-"},{"$f":"IF(OR(IFERROR(MATCH($D1047,'Transparency List 2018_04'!$L:$L,0),FALSE),IFERROR(MATCH(TRIM($G1047),'Transparency List 2018_04'!$D:$D,0),FALSE)),\"On the 2018_04 List\",\"-\")","v":"-"},{"$f":"IF(OR(IFERROR(MATCH($D1047,'Transparency List 2017'!$L:$L,0),FALSE),IFERROR(MATCH(TRIM($G1047),'Transparency List 2017'!$C:$C,0),FALSE)),\"On the 2017 List\",\"-\")","v":"-"},{"$f":"IF(OR(IFERROR(MATCH($D1047,'Transparency List 2015'!$H:$H,0),FALSE),IFERROR(MATCH(TRIM($G1047),'Transparency List 2015'!$C:$C,0),FALSE)),\"On the 2015 List\",\"-\")","v":"-"}]
[null,null,4,"",null,null,null,"-",{"$f":"IF(OR(IFERROR(MATCH($D1048,'Transparency List 2018_10'!$L:$L,0),FALSE),IFERROR(MATCH(TRIM($G1048),'Transparency List 2018_10'!$D:$D,0),FALSE)),\"On the 2018_10 List\",\"-\")","v":"-"},{"$f":"IF(OR(IFERROR(MATCH($D1048,'Transparency List 2018_04'!$L:$L,0),FALSE),IFERROR(MATCH(TRIM($G1048),'Transparency List 2018_04'!$D:$D,0),FALSE)),\"On the 2018_04 List\",\"-\")","v":"-"},{"$f":"IF(OR(IFERROR(MATCH($D1048,'Transparency List 2017'!$L:$L,0),FALSE),IFERROR(MATCH(TRIM($G1048),'Transparency List 2017'!$C:$C,0),FALSE)),\"On the 2017 List\",\"-\")","v":"-"},{"$f":"IF(OR(IFERROR(MATCH($D1048,'Transparency List 2015'!$H:$H,0),FALSE),IFERROR(MATCH(TRIM($G1048),'Transparency List 2015'!$C:$C,0),FALSE)),\"On the 2015 List\",\"-\")","v":"-"}]
[null,null,4,"",null,null,null,"-",{"$f":"IF(OR(IFERROR(MATCH($D1049,'Transparency List 2018_10'!$L:$L,0),FALSE),IFERROR(MATCH(TRIM($G1049),'Transparency List 2018_10'!$D:$D,0),FALSE)),\"On the 2018_10 List\",\"-\")","v":"-"},{"$f":"IF(OR(IFERROR(MATCH($D1049,'Transparency List 2018_04'!$L:$L,0),FALSE),IFERROR(MATCH(TRIM($G1049),'Transparency List 2018_04'!$D:$D,0),FALSE)),\"On the 2018_04 List\",\"-\")","v":"-"},{"$f":"IF(OR(IFERROR(MATCH($D1049,'Transparency List 2017'!$L:$L,0),FALSE),IFERROR(MATCH(TRIM($G1049),'Transparency List 2017'!$C:$C,0),FALSE)),\"On the 2017 List\",\"-\")","v":"-"},{"$f":"IF(OR(IFERROR(MATCH($D1049,'Transparency List 2015'!$H:$H,0),FALSE),IFERROR(MATCH(TRIM($G1049),'Transparency List 2015'!$C:$C,0),FALSE)),\"On the 2015 List\",\"-\")","v":"-"}]
[null,null,4,"",null,null,null,"-",{"$f":"IF(OR(IFERROR(MATCH($D1050,'Transparency List 2018_10'!$L:$L,0),FALSE),IFERROR(MATCH(TRIM($G1050),'Transparency List 2018_10'!$D:$D,0),FALSE)),\"On the 2018_10 List\",\"-\")","v":"-"},{"$f":"IF(OR(IFERROR(MATCH($D1050,'Transparency List 2018_04'!$L:$L,0),FALSE),IFERROR(MATCH(TRIM($G1050),'Transparency List 2018_04'!$D:$D,0),FALSE)),\"On the 2018_04 List\",\"-\")","v":"-"},{"$f":"IF(OR(IFERROR(MATCH($D1050,'Transparency List 2017'!$L:$L,0),FALSE),IFERROR(MATCH(TRIM($G1050),'Transparency List 2017'!$C:$C,0),FALSE)),\"On the 2017 List\",\"-\")","v":"-"},{"$f":"IF(OR(IFERROR(MATCH($D1050,'Transparency List 2015'!$H:$H,0),FALSE),IFERROR(MATCH(TRIM($G1050),'Transparency List 2015'!$C:$C,0),FALSE)),\"On the 2015 List\",\"-\")","v":"-"}]
[null,null,4,"",null,null,null,"-",{"$f":"IF(OR(IFERROR(MATCH($D1051,'Transparency List 2018_10'!$L:$L,0),FALSE),IFERROR(MATCH(TRIM($G1051),'Transparency List 2018_10'!$D:$D,0),FALSE)),\"On the 2018_10 List\",\"-\")","v":"-"},{"$f":"IF(OR(IFERROR(MATCH($D1051,'Transparency List 2018_04'!$L:$L,0),FALSE),IFERROR(MATCH(TRIM($G1051),'Transparency List 2018_04'!$D:$D,0),FALSE)),\"On the 2018_04 List\",\"-\")","v":"-"},{"$f":"IF(OR(IFERROR(MATCH($D1051,'Transparency List 2017'!$L:$L,0),FALSE),IFERROR(MATCH(TRIM($G1051),'Transparency List 2017'!$C:$C,0),FALSE)),\"On the 2017 List\",\"-\")","v":"-"},{"$f":"IF(OR(IFERROR(MATCH($D1051,'Transparency List 2015'!$H:$H,0),FALSE),IFERROR(MATCH(TRIM($G1051),'Transparency List 2015'!$C:$C,0),FALSE)),\"On the 2015 List\",\"-\")","v":"-"}]
[null,null,4,"",null,null,null,"-",{"$f":"IF(OR(IFERROR(MATCH($D1052,'Transparency List 2018_10'!$L:$L,0),FALSE),IFERROR(MATCH(TRIM($G1052),'Transparency List 2018_10'!$D:$D,0),FALSE)),\"On the 2018_10 List\",\"-\")","v":"-"},{"$f":"IF(OR(IFERROR(MATCH($D1052,'Transparency List 2018_04'!$L:$L,0),FALSE),IFERROR(MATCH(TRIM($G1052),'Transparency List 2018_04'!$D:$D,0),FALSE)),\"On the 2018_04 List\",\"-\")","v":"-"},{"$f":"IF(OR(IFERROR(MATCH($D1052,'Transparency List 2017'!$L:$L,0),FALSE),IFERROR(MATCH(TRIM($G1052),'Transparency List 2017'!$C:$C,0),FALSE)),\"On the 2017 List\",\"-\")","v":"-"},{"$f":"IF(OR(IFERROR(MATCH($D1052,'Transparency List 2015'!$H:$H,0),FALSE),IFERROR(MATCH(TRIM($G1052),'Transparency List 2015'!$C:$C,0),FALSE)),\"On the 2015 List\",\"-\")","v":"-"}]
[null,null,4,"",null,null,null,"-",{"$f":"IF(OR(IFERROR(MATCH($D1053,'Transparency List 2018_10'!$L:$L,0),FALSE),IFERROR(MATCH(TRIM($G1053),'Transparency List 2018_10'!$D:$D,0),FALSE)),\"On the 2018_10 List\",\"-\")","v":"-"},{"$f":"IF(OR(IFERROR(MATCH($D1053,'Transparency List 2018_04'!$L:$L,0),FALSE),IFERROR(MATCH(TRIM($G1053),'Transparency List 2018_04'!$D:$D,0),FALSE)),\"On the 2018_04 List\",\"-\")","v":"-"},{"$f":"IF(OR(IFERROR(MATCH($D1053,'Transparency List 2017'!$L:$L,0),FALSE),IFERROR(MATCH(TRIM($G1053),'Transparency List 2017'!$C:$C,0),FALSE)),\"On the 2017 List\",\"-\")","v":"-"},{"$f":"IF(OR(IFERROR(MATCH($D1053,'Transparency List 2015'!$H:$H,0),FALSE),IFERROR(MATCH(TRIM($G1053),'Transparency List 2015'!$C:$C,0),FALSE)),\"On the 2015 List\",\"-\")","v":"-"}]
[null,null,4,"",null,null,null,"-",{"$f":"IF(OR(IFERROR(MATCH($D1054,'Transparency List 2018_10'!$L:$L,0),FALSE),IFERROR(MATCH(TRIM($G1054),'Transparency List 2018_10'!$D:$D,0),FALSE)),\"On the 2018_10 List\",\"-\")","v":"-"},{"$f":"IF(OR(IFERROR(MATCH($D1054,'Transparency List 2018_04'!$L:$L,0),FALSE),IFERROR(MATCH(TRIM($G1054),'Transparency List 2018_04'!$D:$D,0),FALSE)),\"On the 2018_04 List\",\"-\")","v":"-"},{"$f":"IF(OR(IFERROR(MATCH($D1054,'Transparency List 2017'!$L:$L,0),FALSE),IFERROR(MATCH(TRIM($G1054),'Transparency List 2017'!$C:$C,0),FALSE)),\"On the 2017 List\",\"-\")","v":"-"},{"$f":"IF(OR(IFERROR(MATCH($D1054,'Transparency List 2015'!$H:$H,0),FALSE),IFERROR(MATCH(TRIM($G1054),'Transparency List 2015'!$C:$C,0),FALSE)),\"On the 2015 List\",\"-\")","v":"-"}]
[null,null,{"$f":"COUNTIF($I1055:$L1055,\"-\")","v":4},{"$f":"SUBSTITUTE(SUBSTITUTE(SUBSTITUTE(SUBSTITUTE($G1055,\" \",\"\"),\".\",\"\"),\"-\",\"\"),\"/\",\"\")","v":""},null,null,null,{"$f":"IFERROR(IF($C1055=4,\"-\",\"Risk Farmer - Please conduct further steps\"),)","v":"-"},{"$f":"IF(OR(IFERROR(MATCH($D1055,'Transparency List 2018_10'!$L:$L,0),FALSE),IFERROR(MATCH(TRIM($G1055),'Transparency List 2018_10'!$D:$D,0),FALSE)),\"On the 2018_10 List\",\"-\")","v":"-"},{"$f":"IF(OR(IFERROR(MATCH($D1055,'Transparency List 2018_04'!$L:$L,0),FALSE),IFERROR(MATCH(TRIM($G1055),'Transparency List 2018_04'!$D:$D,0),FALSE)),\"On the 2018_04 List\",\"-\")","v":"-"},{"$f":"IF(OR(IFERROR(MATCH($D1055,'Transparency List 2017'!$L:$L,0),FALSE),IFERROR(MATCH(TRIM($G1055),'Transparency List 2017'!$C:$C,0),FALSE)),\"On the 2017 List\",\"-\")","v":"-"},{"$f":"IF(OR(IFERROR(MATCH($D1055,'Transparency List 2015'!$H:$H,0),FALSE),IFERROR(MATCH(TRIM($G1055),'Transparency List 2015'!$C:$C,0),FALSE)),\"On the 2015 List\",\"-\")","v":"-"}]
[null,null,4,"",null,null,null,"-",{"$f":"IF(OR(IFERROR(MATCH($D1056,'Transparency List 2018_10'!$L:$L,0),FALSE),IFERROR(MATCH(TRIM($G1056),'Transparency List 2018_10'!$D:$D,0),FALSE)),\"On the 2018_10 List\",\"-\")","v":"-"},{"$f":"IF(OR(IFERROR(MATCH($D1056,'Transparency List 2018_04'!$L:$L,0),FALSE),IFERROR(MATCH(TRIM($G1056),'Transparency List 2018_04'!$D:$D,0),FALSE)),\"On the 2018_04 List\",\"-\")","v":"-"},{"$f":"IF(OR(IFERROR(MATCH($D1056,'Transparency List 2017'!$L:$L,0),FALSE),IFERROR(MATCH(TRIM($G1056),'Transparency List 2017'!$C:$C,0),FALSE)),\"On the 2017 List\",\"-\")","v":"-"},{"$f":"IF(OR(IFERROR(MATCH($D1056,'Transparency List 2015'!$H:$H,0),FALSE),IFERROR(MATCH(TRIM($G1056),'Transparency List 2015'!$C:$C,0),FALSE)),\"On the 2015 List\",\"-\")","v":"-"}]
[null,null,4,"",null,null,null,"-",{"$f":"IF(OR(IFERROR(MATCH($D1057,'Transparency List 2018_10'!$L:$L,0),FALSE),IFERROR(MATCH(TRIM($G1057),'Transparency List 2018_10'!$D:$D,0),FALSE)),\"On the 2018_10 List\",\"-\")","v":"-"},{"$f":"IF(OR(IFERROR(MATCH($D1057,'Transparency List 2018_04'!$L:$L,0),FALSE),IFERROR(MATCH(TRIM($G1057),'Transparency List 2018_04'!$D:$D,0),FALSE)),\"On the 2018_04 List\",\"-\")","v":"-"},{"$f":"IF(OR(IFERROR(MATCH($D1057,'Transparency List 2017'!$L:$L,0),FALSE),IFERROR(MATCH(TRIM($G1057),'Transparency List 2017'!$C:$C,0),FALSE)),\"On the 2017 List\",\"-\")","v":"-"},{"$f":"IF(OR(IFERROR(MATCH($D1057,'Transparency List 2015'!$H:$H,0),FALSE),IFERROR(MATCH(TRIM($G1057),'Transparency List 2015'!$C:$C,0),FALSE)),\"On the 2015 List\",\"-\")","v":"-"}]
[null,null,4,"",null,null,null,"-",{"$f":"IF(OR(IFERROR(MATCH($D1058,'Transparency List 2018_10'!$L:$L,0),FALSE),IFERROR(MATCH(TRIM($G1058),'Transparency List 2018_10'!$D:$D,0),FALSE)),\"On the 2018_10 List\",\"-\")","v":"-"},{"$f":"IF(OR(IFERROR(MATCH($D1058,'Transparency List 2018_04'!$L:$L,0),FALSE),IFERROR(MATCH(TRIM($G1058),'Transparency List 2018_04'!$D:$D,0),FALSE)),\"On the 2018_04 List\",\"-\")","v":"-"},{"$f":"IF(OR(IFERROR(MATCH($D1058,'Transparency List 2017'!$L:$L,0),FALSE),IFERROR(MATCH(TRIM($G1058),'Transparency List 2017'!$C:$C,0),FALSE)),\"On the 2017 List\",\"-\")","v":"-"},{"$f":"IF(OR(IFERROR(MATCH($D1058,'Transparency List 2015'!$H:$H,0),FALSE),IFERROR(MATCH(TRIM($G1058),'Transparency List 2015'!$C:$C,0),FALSE)),\"On the 2015 List\",\"-\")","v":"-"}]
[null,null,4,"",null,null,null,"-",{"$f":"IF(OR(IFERROR(MATCH($D1059,'Transparency List 2018_10'!$L:$L,0),FALSE),IFERROR(MATCH(TRIM($G1059),'Transparency List 2018_10'!$D:$D,0),FALSE)),\"On the 2018_10 List\",\"-\")","v":"-"},{"$f":"IF(OR(IFERROR(MATCH($D1059,'Transparency List 2018_04'!$L:$L,0),FALSE),IFERROR(MATCH(TRIM($G1059),'Transparency List 2018_04'!$D:$D,0),FALSE)),\"On the 2018_04 List\",\"-\")","v":"-"},{"$f":"IF(OR(IFERROR(MATCH($D1059,'Transparency List 2017'!$L:$L,0),FALSE),IFERROR(MATCH(TRIM($G1059),'Transparency List 2017'!$C:$C,0),FALSE)),\"On the 2017 List\",\"-\")","v":"-"},{"$f":"IF(OR(IFERROR(MATCH($D1059,'Transparency List 2015'!$H:$H,0),FALSE),IFERROR(MATCH(TRIM($G1059),'Transparency List 2015'!$C:$C,0),FALSE)),\"On the 2015 List\",\"-\")","v":"-"}]
[null,null,4,"",null,null,null,"-",{"$f":"IF(OR(IFERROR(MATCH($D1060,'Transparency List 2018_10'!$L:$L,0),FALSE),IFERROR(MATCH(TRIM($G1060),'Transparency List 2018_10'!$D:$D,0),FALSE)),\"On the 2018_10 List\",\"-\")","v":"-"},{"$f":"IF(OR(IFERROR(MATCH($D1060,'Transparency List 2018_04'!$L:$L,0),FALSE),IFERROR(MATCH(TRIM($G1060),'Transparency List 2018_04'!$D:$D,0),FALSE)),\"On the 2018_04 List\",\"-\")","v":"-"},{"$f":"IF(OR(IFERROR(MATCH($D1060,'Transparency List 2017'!$L:$L,0),FALSE),IFERROR(MATCH(TRIM($G1060),'Transparency List 2017'!$C:$C,0),FALSE)),\"On the 2017 List\",\"-\")","v":"-"},{"$f":"IF(OR(IFERROR(MATCH($D1060,'Transparency List 2015'!$H:$H,0),FALSE),IFERROR(MATCH(TRIM($G1060),'Transparency List 2015'!$C:$C,0),FALSE)),\"On the 2015 List\",\"-\")","v":"-"}]
[null,null,4,"",null,null,null,"-",{"$f":"IF(OR(IFERROR(MATCH($D1061,'Transparency List 2018_10'!$L:$L,0),FALSE),IFERROR(MATCH(TRIM($G1061),'Transparency List 2018_10'!$D:$D,0),FALSE)),\"On the 2018_10 List\",\"-\")","v":"-"},{"$f":"IF(OR(IFERROR(MATCH($D1061,'Transparency List 2018_04'!$L:$L,0),FALSE),IFERROR(MATCH(TRIM($G1061),'Transparency List 2018_04'!$D:$D,0),FALSE)),\"On the 2018_04 List\",\"-\")","v":"-"},{"$f":"IF(OR(IFERROR(MATCH($D1061,'Transparency List 2017'!$L:$L,0),FALSE),IFERROR(MATCH(TRIM($G1061),'Transparency List 2017'!$C:$C,0),FALSE)),\"On the 2017 List\",\"-\")","v":"-"},{"$f":"IF(OR(IFERROR(MATCH($D1061,'Transparency List 2015'!$H:$H,0),FALSE),IFERROR(MATCH(TRIM($G1061),'Transparency List 2015'!$C:$C,0),FALSE)),\"On the 2015 List\",\"-\")","v":"-"}]
[null,null,4,"",null,null,null,"-",{"$f":"IF(OR(IFERROR(MATCH($D1062,'Transparency List 2018_10'!$L:$L,0),FALSE),IFERROR(MATCH(TRIM($G1062),'Transparency List 2018_10'!$D:$D,0),FALSE)),\"On the 2018_10 List\",\"-\")","v":"-"},{"$f":"IF(OR(IFERROR(MATCH($D1062,'Transparency List 2018_04'!$L:$L,0),FALSE),IFERROR(MATCH(TRIM($G1062),'Transparency List 2018_04'!$D:$D,0),FALSE)),\"On the 2018_04 List\",\"-\")","v":"-"},{"$f":"IF(OR(IFERROR(MATCH($D1062,'Transparency List 2017'!$L:$L,0),FALSE),IFERROR(MATCH(TRIM($G1062),'Transparency List 2017'!$C:$C,0),FALSE)),\"On the 2017 List\",\"-\")","v":"-"},{"$f":"IF(OR(IFERROR(MATCH($D1062,'Transparency List 2015'!$H:$H,0),FALSE),IFERROR(MATCH(TRIM($G1062),'Transparency List 2015'!$C:$C,0),FALSE)),\"On the 2015 List\",\"-\")","v":"-"}]
[null,null,4,"",null,null,null,"-",{"$f":"IF(OR(IFERROR(MATCH($D1063,'Transparency List 2018_10'!$L:$L,0),FALSE),IFERROR(MATCH(TRIM($G1063),'Transparency List 2018_10'!$D:$D,0),FALSE)),\"On the 2018_10 List\",\"-\")","v":"-"},{"$f":"IF(OR(IFERROR(MATCH($D1063,'Transparency List 2018_04'!$L:$L,0),FALSE),IFERROR(MATCH(TRIM($G1063),'Transparency List 2018_04'!$D:$D,0),FALSE)),\"On the 2018_04 List\",\"-\")","v":"-"},{"$f":"IF(OR(IFERROR(MATCH($D1063,'Transparency List 2017'!$L:$L,0),FALSE),IFERROR(MATCH(TRIM($G1063),'Transparency List 2017'!$C:$C,0),FALSE)),\"On the 2017 List\",\"-\")","v":"-"},{"$f":"IF(OR(IFERROR(MATCH($D1063,'Transparency List 2015'!$H:$H,0),FALSE),IFERROR(MATCH(TRIM($G1063),'Transparency List 2015'!$C:$C,0),FALSE)),\"On the 2015 List\",\"-\")","v":"-"}]
[null,null,4,"",null,null,null,"-",{"$f":"IF(OR(IFERROR(MATCH($D1064,'Transparency List 2018_10'!$L:$L,0),FALSE),IFERROR(MATCH(TRIM($G1064),'Transparency List 2018_10'!$D:$D,0),FALSE)),\"On the 2018_10 List\",\"-\")","v":"-"},{"$f":"IF(OR(IFERROR(MATCH($D1064,'Transparency List 2018_04'!$L:$L,0),FALSE),IFERROR(MATCH(TRIM($G1064),'Transparency List 2018_04'!$D:$D,0),FALSE)),\"On the 2018_04 List\",\"-\")","v":"-"},{"$f":"IF(OR(IFERROR(MATCH($D1064,'Transparency List 2017'!$L:$L,0),FALSE),IFERROR(MATCH(TRIM($G1064),'Transparency List 2017'!$C:$C,0),FALSE)),\"On the 2017 List\",\"-\")","v":"-"},{"$f":"IF(OR(IFERROR(MATCH($D1064,'Transparency List 2015'!$H:$H,0),FALSE),IFERROR(MATCH(TRIM($G1064),'Transparency List 2015'!$C:$C,0),FALSE)),\"On the 2015 List\",\"-\")","v":"-"}]
[null,null,4,"",null,null,null,"-",{"$f":"IF(OR(IFERROR(MATCH($D1065,'Transparency List 2018_10'!$L:$L,0),FALSE),IFERROR(MATCH(TRIM($G1065),'Transparency List 2018_10'!$D:$D,0),FALSE)),\"On the 2018_10 List\",\"-\")","v":"-"},{"$f":"IF(OR(IFERROR(MATCH($D1065,'Transparency List 2018_04'!$L:$L,0),FALSE),IFERROR(MATCH(TRIM($G1065),'Transparency List 2018_04'!$D:$D,0),FALSE)),\"On the 2018_04 List\",\"-\")","v":"-"},{"$f":"IF(OR(IFERROR(MATCH($D1065,'Transparency List 2017'!$L:$L,0),FALSE),IFERROR(MATCH(TRIM($G1065),'Transparency List 2017'!$C:$C,0),FALSE)),\"On the 2017 List\",\"-\")","v":"-"},{"$f":"IF(OR(IFERROR(MATCH($D1065,'Transparency List 2015'!$H:$H,0),FALSE),IFERROR(MATCH(TRIM($G1065),'Transparency List 2015'!$C:$C,0),FALSE)),\"On the 2015 List\",\"-\")","v":"-"}]
[null,null,4,"",null,null,null,"-",{"$f":"IF(OR(IFERROR(MATCH($D1066,'Transparency List 2018_10'!$L:$L,0),FALSE),IFERROR(MATCH(TRIM($G1066),'Transparency List 2018_10'!$D:$D,0),FALSE)),\"On the 2018_10 List\",\"-\")","v":"-"},{"$f":"IF(OR(IFERROR(MATCH($D1066,'Transparency List 2018_04'!$L:$L,0),FALSE),IFERROR(MATCH(TRIM($G1066),'Transparency List 2018_04'!$D:$D,0),FALSE)),\"On the 2018_04 List\",\"-\")","v":"-"},{"$f":"IF(OR(IFERROR(MATCH($D1066,'Transparency List 2017'!$L:$L,0),FALSE),IFERROR(MATCH(TRIM($G1066),'Transparency List 2017'!$C:$C,0),FALSE)),\"On the 2017 List\",\"-\")","v":"-"},{"$f":"IF(OR(IFERROR(MATCH($D1066,'Transparency List 2015'!$H:$H,0),FALSE),IFERROR(MATCH(TRIM($G1066),'Transparency List 2015'!$C:$C,0),FALSE)),\"On the 2015 List\",\"-\")","v":"-"}]
[null,null,4,"",null,null,null,"-",{"$f":"IF(OR(IFERROR(MATCH($D1067,'Transparency List 2018_10'!$L:$L,0),FALSE),IFERROR(MATCH(TRIM($G1067),'Transparency List 2018_10'!$D:$D,0),FALSE)),\"On the 2018_10 List\",\"-\")","v":"-"},{"$f":"IF(OR(IFERROR(MATCH($D1067,'Transparency List 2018_04'!$L:$L,0),FALSE),IFERROR(MATCH(TRIM($G1067),'Transparency List 2018_04'!$D:$D,0),FALSE)),\"On the 2018_04 List\",\"-\")","v":"-"},{"$f":"IF(OR(IFERROR(MATCH($D1067,'Transparency List 2017'!$L:$L,0),FALSE),IFERROR(MATCH(TRIM($G1067),'Transparency List 2017'!$C:$C,0),FALSE)),\"On the 2017 List\",\"-\")","v":"-"},{"$f":"IF(OR(IFERROR(MATCH($D1067,'Transparency List 2015'!$H:$H,0),FALSE),IFERROR(MATCH(TRIM($G1067),'Transparency List 2015'!$C:$C,0),FALSE)),\"On the 2015 List\",\"-\")","v":"-"}]
[null,null,4,"",null,null,null,"-",{"$f":"IF(OR(IFERROR(MATCH($D1068,'Transparency List 2018_10'!$L:$L,0),FALSE),IFERROR(MATCH(TRIM($G1068),'Transparency List 2018_10'!$D:$D,0),FALSE)),\"On the 2018_10 List\",\"-\")","v":"-"},{"$f":"IF(OR(IFERROR(MATCH($D1068,'Transparency List 2018_04'!$L:$L,0),FALSE),IFERROR(MATCH(TRIM($G1068),'Transparency List 2018_04'!$D:$D,0),FALSE)),\"On the 2018_04 List\",\"-\")","v":"-"},{"$f":"IF(OR(IFERROR(MATCH($D1068,'Transparency List 2017'!$L:$L,0),FALSE),IFERROR(MATCH(TRIM($G1068),'Transparency List 2017'!$C:$C,0),FALSE)),\"On the 2017 List\",\"-\")","v":"-"},{"$f":"IF(OR(IFERROR(MATCH($D1068,'Transparency List 2015'!$H:$H,0),FALSE),IFERROR(MATCH(TRIM($G1068),'Transparency List 2015'!$C:$C,0),FALSE)),\"On the 2015 List\",\"-\")","v":"-"}]
[null,null,4,"",null,null,null,"-",{"$f":"IF(OR(IFERROR(MATCH($D1069,'Transparency List 2018_10'!$L:$L,0),FALSE),IFERROR(MATCH(TRIM($G1069),'Transparency List 2018_10'!$D:$D,0),FALSE)),\"On the 2018_10 List\",\"-\")","v":"-"},{"$f":"IF(OR(IFERROR(MATCH($D1069,'Transparency List 2018_04'!$L:$L,0),FALSE),IFERROR(MATCH(TRIM($G1069),'Transparency List 2018_04'!$D:$D,0),FALSE)),\"On the 2018_04 List\",\"-\")","v":"-"},{"$f":"IF(OR(IFERROR(MATCH($D1069,'Transparency List 2017'!$L:$L,0),FALSE),IFERROR(MATCH(TRIM($G1069),'Transparency List 2017'!$C:$C,0),FALSE)),\"On the 2017 List\",\"-\")","v":"-"},{"$f":"IF(OR(IFERROR(MATCH($D1069,'Transparency List 2015'!$H:$H,0),FALSE),IFERROR(MATCH(TRIM($G1069),'Transparency List 2015'!$C:$C,0),FALSE)),\"On the 2015 List\",\"-\")","v":"-"}]
[null,null,4,"",null,null,null,"-",{"$f":"IF(OR(IFERROR(MATCH($D1070,'Transparency List 2018_10'!$L:$L,0),FALSE),IFERROR(MATCH(TRIM($G1070),'Transparency List 2018_10'!$D:$D,0),FALSE)),\"On the 2018_10 List\",\"-\")","v":"-"},{"$f":"IF(OR(IFERROR(MATCH($D1070,'Transparency List 2018_04'!$L:$L,0),FALSE),IFERROR(MATCH(TRIM($G1070),'Transparency List 2018_04'!$D:$D,0),FALSE)),\"On the 2018_04 List\",\"-\")","v":"-"},{"$f":"IF(OR(IFERROR(MATCH($D1070,'Transparency List 2017'!$L:$L,0),FALSE),IFERROR(MATCH(TRIM($G1070),'Transparency List 2017'!$C:$C,0),FALSE)),\"On the 2017 List\",\"-\")","v":"-"},{"$f":"IF(OR(IFERROR(MATCH($D1070,'Transparency List 2015'!$H:$H,0),FALSE),IFERROR(MATCH(TRIM($G1070),'Transparency List 2015'!$C:$C,0),FALSE)),\"On the 2015 List\",\"-\")","v":"-"}]
[null,null,4,"",null,null,null,"-",{"$f":"IF(OR(IFERROR(MATCH($D1071,'Transparency List 2018_10'!$L:$L,0),FALSE),IFERROR(MATCH(TRIM($G1071),'Transparency List 2018_10'!$D:$D,0),FALSE)),\"On the 2018_10 List\",\"-\")","v":"-"},{"$f":"IF(OR(IFERROR(MATCH($D1071,'Transparency List 2018_04'!$L:$L,0),FALSE),IFERROR(MATCH(TRIM($G1071),'Transparency List 2018_04'!$D:$D,0),FALSE)),\"On the 2018_04 List\",\"-\")","v":"-"},{"$f":"IF(OR(IFERROR(MATCH($D1071,'Transparency List 2017'!$L:$L,0),FALSE),IFERROR(MATCH(TRIM($G1071),'Transparency List 2017'!$C:$C,0),FALSE)),\"On the 2017 List\",\"-\")","v":"-"},{"$f":"IF(OR(IFERROR(MATCH($D1071,'Transparency List 2015'!$H:$H,0),FALSE),IFERROR(MATCH(TRIM($G1071),'Transparency List 2015'!$C:$C,0),FALSE)),\"On the 2015 List\",\"-\")","v":"-"}]
[null,null,4,"",null,null,null,"-",{"$f":"IF(OR(IFERROR(MATCH($D1072,'Transparency List 2018_10'!$L:$L,0),FALSE),IFERROR(MATCH(TRIM($G1072),'Transparency List 2018_10'!$D:$D,0),FALSE)),\"On the 2018_10 List\",\"-\")","v":"-"},{"$f":"IF(OR(IFERROR(MATCH($D1072,'Transparency List 2018_04'!$L:$L,0),FALSE),IFERROR(MATCH(TRIM($G1072),'Transparency List 2018_04'!$D:$D,0),FALSE)),\"On the 2018_04 List\",\"-\")","v":"-"},{"$f":"IF(OR(IFERROR(MATCH($D1072,'Transparency List 2017'!$L:$L,0),FALSE),IFERROR(MATCH(TRIM($G1072),'Transparency List 2017'!$C:$C,0),FALSE)),\"On the 2017 List\",\"-\")","v":"-"},{"$f":"IF(OR(IFERROR(MATCH($D1072,'Transparency List 2015'!$H:$H,0),FALSE),IFERROR(MATCH(TRIM($G1072),'Transparency List 2015'!$C:$C,0),FALSE)),\"On the 2015 List\",\"-\")","v":"-"}]
[null,null,4,"",null,null,null,"-",{"$f":"IF(OR(IFERROR(MATCH($D1073,'Transparency List 2018_10'!$L:$L,0),FALSE),IFERROR(MATCH(TRIM($G1073),'Transparency List 2018_10'!$D:$D,0),FALSE)),\"On the 2018_10 List\",\"-\")","v":"-"},{"$f":"IF(OR(IFERROR(MATCH($D1073,'Transparency List 2018_04'!$L:$L,0),FALSE),IFERROR(MATCH(TRIM($G1073),'Transparency List 2018_04'!$D:$D,0),FALSE)),\"On the 2018_04 List\",\"-\")","v":"-"},{"$f":"IF(OR(IFERROR(MATCH($D1073,'Transparency List 2017'!$L:$L,0),FALSE),IFERROR(MATCH(TRIM($G1073),'Transparency List 2017'!$C:$C,0),FALSE)),\"On the 2017 List\",\"-\")","v":"-"},{"$f":"IF(OR(IFERROR(MATCH($D1073,'Transparency List 2015'!$H:$H,0),FALSE),IFERROR(MATCH(TRIM($G1073),'Transparency List 2015'!$C:$C,0),FALSE)),\"On the 2015 List\",\"-\")","v":"-"}]
[null,null,4,"",null,null,null,"-",{"$f":"IF(OR(IFERROR(MATCH($D1074,'Transparency List 2018_10'!$L:$L,0),FALSE),IFERROR(MATCH(TRIM($G1074),'Transparency List 2018_10'!$D:$D,0),FALSE)),\"On the 2018_10 List\",\"-\")","v":"-"},{"$f":"IF(OR(IFERROR(MATCH($D1074,'Transparency List 2018_04'!$L:$L,0),FALSE),IFERROR(MATCH(TRIM($G1074),'Transparency List 2018_04'!$D:$D,0),FALSE)),\"On the 2018_04 List\",\"-\")","v":"-"},{"$f":"IF(OR(IFERROR(MATCH($D1074,'Transparency List 2017'!$L:$L,0),FALSE),IFERROR(MATCH(TRIM($G1074),'Transparency List 2017'!$C:$C,0),FALSE)),\"On the 2017 List\",\"-\")","v":"-"},{"$f":"IF(OR(IFERROR(MATCH($D1074,'Transparency List 2015'!$H:$H,0),FALSE),IFERROR(MATCH(TRIM($G1074),'Transparency List 2015'!$C:$C,0),FALSE)),\"On the 2015 List\",\"-\")","v":"-"}]
[null,null,4,"",null,null,null,"-",{"$f":"IF(OR(IFERROR(MATCH($D1075,'Transparency List 2018_10'!$L:$L,0),FALSE),IFERROR(MATCH(TRIM($G1075),'Transparency List 2018_10'!$D:$D,0),FALSE)),\"On the 2018_10 List\",\"-\")","v":"-"},{"$f":"IF(OR(IFERROR(MATCH($D1075,'Transparency List 2018_04'!$L:$L,0),FALSE),IFERROR(MATCH(TRIM($G1075),'Transparency List 2018_04'!$D:$D,0),FALSE)),\"On the 2018_04 List\",\"-\")","v":"-"},{"$f":"IF(OR(IFERROR(MATCH($D1075,'Transparency List 2017'!$L:$L,0),FALSE),IFERROR(MATCH(TRIM($G1075),'Transparency List 2017'!$C:$C,0),FALSE)),\"On the 2017 List\",\"-\")","v":"-"},{"$f":"IF(OR(IFERROR(MATCH($D1075,'Transparency List 2015'!$H:$H,0),FALSE),IFERROR(MATCH(TRIM($G1075),'Transparency List 2015'!$C:$C,0),FALSE)),\"On the 2015 List\",\"-\")","v":"-"}]
[null,null,4,"",null,null,null,"-",{"$f":"IF(OR(IFERROR(MATCH($D1076,'Transparency List 2018_10'!$L:$L,0),FALSE),IFERROR(MATCH(TRIM($G1076),'Transparency List 2018_10'!$D:$D,0),FALSE)),\"On the 2018_10 List\",\"-\")","v":"-"},{"$f":"IF(OR(IFERROR(MATCH($D1076,'Transparency List 2018_04'!$L:$L,0),FALSE),IFERROR(MATCH(TRIM($G1076),'Transparency List 2018_04'!$D:$D,0),FALSE)),\"On the 2018_04 List\",\"-\")","v":"-"},{"$f":"IF(OR(IFERROR(MATCH($D1076,'Transparency List 2017'!$L:$L,0),FALSE),IFERROR(MATCH(TRIM($G1076),'Transparency List 2017'!$C:$C,0),FALSE)),\"On the 2017 List\",\"-\")","v":"-"},{"$f":"IF(OR(IFERROR(MATCH($D1076,'Transparency List 2015'!$H:$H,0),FALSE),IFERROR(MATCH(TRIM($G1076),'Transparency List 2015'!$C:$C,0),FALSE)),\"On the 2015 List\",\"-\")","v":"-"}]
[null,null,4,"",null,null,null,"-",{"$f":"IF(OR(IFERROR(MATCH($D1077,'Transparency List 2018_10'!$L:$L,0),FALSE),IFERROR(MATCH(TRIM($G1077),'Transparency List 2018_10'!$D:$D,0),FALSE)),\"On the 2018_10 List\",\"-\")","v":"-"},{"$f":"IF(OR(IFERROR(MATCH($D1077,'Transparency List 2018_04'!$L:$L,0),FALSE),IFERROR(MATCH(TRIM($G1077),'Transparency List 2018_04'!$D:$D,0),FALSE)),\"On the 2018_04 List\",\"-\")","v":"-"},{"$f":"IF(OR(IFERROR(MATCH($D1077,'Transparency List 2017'!$L:$L,0),FALSE),IFERROR(MATCH(TRIM($G1077),'Transparency List 2017'!$C:$C,0),FALSE)),\"On the 2017 List\",\"-\")","v":"-"},{"$f":"IF(OR(IFERROR(MATCH($D1077,'Transparency List 2015'!$H:$H,0),FALSE),IFERROR(MATCH(TRIM($G1077),'Transparency List 2015'!$C:$C,0),FALSE)),\"On the 2015 List\",\"-\")","v":"-"}]
[null,null,4,"",null,null,null,"-",{"$f":"IF(OR(IFERROR(MATCH($D1078,'Transparency List 2018_10'!$L:$L,0),FALSE),IFERROR(MATCH(TRIM($G1078),'Transparency List 2018_10'!$D:$D,0),FALSE)),\"On the 2018_10 List\",\"-\")","v":"-"},{"$f":"IF(OR(IFERROR(MATCH($D1078,'Transparency List 2018_04'!$L:$L,0),FALSE),IFERROR(MATCH(TRIM($G1078),'Transparency List 2018_04'!$D:$D,0),FALSE)),\"On the 2018_04 List\",\"-\")","v":"-"},{"$f":"IF(OR(IFERROR(MATCH($D1078,'Transparency List 2017'!$L:$L,0),FALSE),IFERROR(MATCH(TRIM($G1078),'Transparency List 2017'!$C:$C,0),FALSE)),\"On the 2017 List\",\"-\")","v":"-"},{"$f":"IF(OR(IFERROR(MATCH($D1078,'Transparency List 2015'!$H:$H,0),FALSE),IFERROR(MATCH(TRIM($G1078),'Transparency List 2015'!$C:$C,0),FALSE)),\"On the 2015 List\",\"-\")","v":"-"}]
[null,null,4,"",null,null,null,"-",{"$f":"IF(OR(IFERROR(MATCH($D1079,'Transparency List 2018_10'!$L:$L,0),FALSE),IFERROR(MATCH(TRIM($G1079),'Transparency List 2018_10'!$D:$D,0),FALSE)),\"On the 2018_10 List\",\"-\")","v":"-"},{"$f":"IF(OR(IFERROR(MATCH($D1079,'Transparency List 2018_04'!$L:$L,0),FALSE),IFERROR(MATCH(TRIM($G1079),'Transparency List 2018_04'!$D:$D,0),FALSE)),\"On the 2018_04 List\",\"-\")","v":"-"},{"$f":"IF(OR(IFERROR(MATCH($D1079,'Transparency List 2017'!$L:$L,0),FALSE),IFERROR(MATCH(TRIM($G1079),'Transparency List 2017'!$C:$C,0),FALSE)),\"On the 2017 List\",\"-\")","v":"-"},{"$f":"IF(OR(IFERROR(MATCH($D1079,'Transparency List 2015'!$H:$H,0),FALSE),IFERROR(MATCH(TRIM($G1079),'Transparency List 2015'!$C:$C,0),FALSE)),\"On the 2015 List\",\"-\")","v":"-"}]
[null,null,4,"",null,null,null,"-",{"$f":"IF(OR(IFERROR(MATCH($D1080,'Transparency List 2018_10'!$L:$L,0),FALSE),IFERROR(MATCH(TRIM($G1080),'Transparency List 2018_10'!$D:$D,0),FALSE)),\"On the 2018_10 List\",\"-\")","v":"-"},{"$f":"IF(OR(IFERROR(MATCH($D1080,'Transparency List 2018_04'!$L:$L,0),FALSE),IFERROR(MATCH(TRIM($G1080),'Transparency List 2018_04'!$D:$D,0),FALSE)),\"On the 2018_04 List\",\"-\")","v":"-"},{"$f":"IF(OR(IFERROR(MATCH($D1080,'Transparency List 2017'!$L:$L,0),FALSE),IFERROR(MATCH(TRIM($G1080),'Transparency List 2017'!$C:$C,0),FALSE)),\"On the 2017 List\",\"-\")","v":"-"},{"$f":"IF(OR(IFERROR(MATCH($D1080,'Transparency List 2015'!$H:$H,0),FALSE),IFERROR(MATCH(TRIM($G1080),'Transparency List 2015'!$C:$C,0),FALSE)),\"On the 2015 List\",\"-\")","v":"-"}]
[null,null,4,"",null,null,null,"-",{"$f":"IF(OR(IFERROR(MATCH($D1081,'Transparency List 2018_10'!$L:$L,0),FALSE),IFERROR(MATCH(TRIM($G1081),'Transparency List 2018_10'!$D:$D,0),FALSE)),\"On the 2018_10 List\",\"-\")","v":"-"},{"$f":"IF(OR(IFERROR(MATCH($D1081,'Transparency List 2018_04'!$L:$L,0),FALSE),IFERROR(MATCH(TRIM($G1081),'Transparency List 2018_04'!$D:$D,0),FALSE)),\"On the 2018_04 List\",\"-\")","v":"-"},{"$f":"IF(OR(IFERROR(MATCH($D1081,'Transparency List 2017'!$L:$L,0),FALSE),IFERROR(MATCH(TRIM($G1081),'Transparency List 2017'!$C:$C,0),FALSE)),\"On the 2017 List\",\"-\")","v":"-"},{"$f":"IF(OR(IFERROR(MATCH($D1081,'Transparency List 2015'!$H:$H,0),FALSE),IFERROR(MATCH(TRIM($G1081),'Transparency List 2015'!$C:$C,0),FALSE)),\"On the 2015 List\",\"-\")","v":"-"}]
[null,null,4,"",null,null,null,"-",{"$f":"IF(OR(IFERROR(MATCH($D1082,'Transparency List 2018_10'!$L:$L,0),FALSE),IFERROR(MATCH(TRIM($G1082),'Transparency List 2018_10'!$D:$D,0),FALSE)),\"On the 2018_10 List\",\"-\")","v":"-"},{"$f":"IF(OR(IFERROR(MATCH($D1082,'Transparency List 2018_04'!$L:$L,0),FALSE),IFERROR(MATCH(TRIM($G1082),'Transparency List 2018_04'!$D:$D,0),FALSE)),\"On the 2018_04 List\",\"-\")","v":"-"},{"$f":"IF(OR(IFERROR(MATCH($D1082,'Transparency List 2017'!$L:$L,0),FALSE),IFERROR(MATCH(TRIM($G1082),'Transparency List 2017'!$C:$C,0),FALSE)),\"On the 2017 List\",\"-\")","v":"-"},{"$f":"IF(OR(IFERROR(MATCH($D1082,'Transparency List 2015'!$H:$H,0),FALSE),IFERROR(MATCH(TRIM($G1082),'Transparency List 2015'!$C:$C,0),FALSE)),\"On the 2015 List\",\"-\")","v":"-"}]
[null,null,4,"",null,null,null,"-",{"$f":"IF(OR(IFERROR(MATCH($D1083,'Transparency List 2018_10'!$L:$L,0),FALSE),IFERROR(MATCH(TRIM($G1083),'Transparency List 2018_10'!$D:$D,0),FALSE)),\"On the 2018_10 List\",\"-\")","v":"-"},{"$f":"IF(OR(IFERROR(MATCH($D1083,'Transparency List 2018_04'!$L:$L,0),FALSE),IFERROR(MATCH(TRIM($G1083),'Transparency List 2018_04'!$D:$D,0),FALSE)),\"On the 2018_04 List\",\"-\")","v":"-"},{"$f":"IF(OR(IFERROR(MATCH($D1083,'Transparency List 2017'!$L:$L,0),FALSE),IFERROR(MATCH(TRIM($G1083),'Transparency List 2017'!$C:$C,0),FALSE)),\"On the 2017 List\",\"-\")","v":"-"},{"$f":"IF(OR(IFERROR(MATCH($D1083,'Transparency List 2015'!$H:$H,0),FALSE),IFERROR(MATCH(TRIM($G1083),'Transparency List 2015'!$C:$C,0),FALSE)),\"On the 2015 List\",\"-\")","v":"-"}]
[null,null,4,"",null,null,null,"-",{"$f":"IF(OR(IFERROR(MATCH($D1084,'Transparency List 2018_10'!$L:$L,0),FALSE),IFERROR(MATCH(TRIM($G1084),'Transparency List 2018_10'!$D:$D,0),FALSE)),\"On the 2018_10 List\",\"-\")","v":"-"},{"$f":"IF(OR(IFERROR(MATCH($D1084,'Transparency List 2018_04'!$L:$L,0),FALSE),IFERROR(MATCH(TRIM($G1084),'Transparency List 2018_04'!$D:$D,0),FALSE)),\"On the 2018_04 List\",\"-\")","v":"-"},{"$f":"IF(OR(IFERROR(MATCH($D1084,'Transparency List 2017'!$L:$L,0),FALSE),IFERROR(MATCH(TRIM($G1084),'Transparency List 2017'!$C:$C,0),FALSE)),\"On the 2017 List\",\"-\")","v":"-"},{"$f":"IF(OR(IFERROR(MATCH($D1084,'Transparency List 2015'!$H:$H,0),FALSE),IFERROR(MATCH(TRIM($G1084),'Transparency List 2015'!$C:$C,0),FALSE)),\"On the 2015 List\",\"-\")","v":"-"}]
[null,null,4,"",null,null,null,"-",{"$f":"IF(OR(IFERROR(MATCH($D1085,'Transparency List 2018_10'!$L:$L,0),FALSE),IFERROR(MATCH(TRIM($G1085),'Transparency List 2018_10'!$D:$D,0),FALSE)),\"On the 2018_10 List\",\"-\")","v":"-"},{"$f":"IF(OR(IFERROR(MATCH($D1085,'Transparency List 2018_04'!$L:$L,0),FALSE),IFERROR(MATCH(TRIM($G1085),'Transparency List 2018_04'!$D:$D,0),FALSE)),\"On the 2018_04 List\",\"-\")","v":"-"},{"$f":"IF(OR(IFERROR(MATCH($D1085,'Transparency List 2017'!$L:$L,0),FALSE),IFERROR(MATCH(TRIM($G1085),'Transparency List 2017'!$C:$C,0),FALSE)),\"On the 2017 List\",\"-\")","v":"-"},{"$f":"IF(OR(IFERROR(MATCH($D1085,'Transparency List 2015'!$H:$H,0),FALSE),IFERROR(MATCH(TRIM($G1085),'Transparency List 2015'!$C:$C,0),FALSE)),\"On the 2015 List\",\"-\")","v":"-"}]
[null,null,4,"",null,null,null,"-",{"$f":"IF(OR(IFERROR(MATCH($D1086,'Transparency List 2018_10'!$L:$L,0),FALSE),IFERROR(MATCH(TRIM($G1086),'Transparency List 2018_10'!$D:$D,0),FALSE)),\"On the 2018_10 List\",\"-\")","v":"-"},{"$f":"IF(OR(IFERROR(MATCH($D1086,'Transparency List 2018_04'!$L:$L,0),FALSE),IFERROR(MATCH(TRIM($G1086),'Transparency List 2018_04'!$D:$D,0),FALSE)),\"On the 2018_04 List\",\"-\")","v":"-"},{"$f":"IF(OR(IFERROR(MATCH($D1086,'Transparency List 2017'!$L:$L,0),FALSE),IFERROR(MATCH(TRIM($G1086),'Transparency List 2017'!$C:$C,0),FALSE)),\"On the 2017 List\",\"-\")","v":"-"},{"$f":"IF(OR(IFERROR(MATCH($D1086,'Transparency List 2015'!$H:$H,0),FALSE),IFERROR(MATCH(TRIM($G1086),'Transparency List 2015'!$C:$C,0),FALSE)),\"On the 2015 List\",\"-\")","v":"-"}]
[null,null,4,"",null,null,null,"-",{"$f":"IF(OR(IFERROR(MATCH($D1087,'Transparency List 2018_10'!$L:$L,0),FALSE),IFERROR(MATCH(TRIM($G1087),'Transparency List 2018_10'!$D:$D,0),FALSE)),\"On the 2018_10 List\",\"-\")","v":"-"},{"$f":"IF(OR(IFERROR(MATCH($D1087,'Transparency List 2018_04'!$L:$L,0),FALSE),IFERROR(MATCH(TRIM($G1087),'Transparency List 2018_04'!$D:$D,0),FALSE)),\"On the 2018_04 List\",\"-\")","v":"-"},{"$f":"IF(OR(IFERROR(MATCH($D1087,'Transparency List 2017'!$L:$L,0),FALSE),IFERROR(MATCH(TRIM($G1087),'Transparency List 2017'!$C:$C,0),FALSE)),\"On the 2017 List\",\"-\")","v":"-"},{"$f":"IF(OR(IFERROR(MATCH($D1087,'Transparency List 2015'!$H:$H,0),FALSE),IFERROR(MATCH(TRIM($G1087),'Transparency List 2015'!$C:$C,0),FALSE)),\"On the 2015 List\",\"-\")","v":"-"}]
[null,null,4,"",null,null,null,"-",{"$f":"IF(OR(IFERROR(MATCH($D1088,'Transparency List 2018_10'!$L:$L,0),FALSE),IFERROR(MATCH(TRIM($G1088),'Transparency List 2018_10'!$D:$D,0),FALSE)),\"On the 2018_10 List\",\"-\")","v":"-"},{"$f":"IF(OR(IFERROR(MATCH($D1088,'Transparency List 2018_04'!$L:$L,0),FALSE),IFERROR(MATCH(TRIM($G1088),'Transparency List 2018_04'!$D:$D,0),FALSE)),\"On the 2018_04 List\",\"-\")","v":"-"},{"$f":"IF(OR(IFERROR(MATCH($D1088,'Transparency List 2017'!$L:$L,0),FALSE),IFERROR(MATCH(TRIM($G1088),'Transparency List 2017'!$C:$C,0),FALSE)),\"On the 2017 List\",\"-\")","v":"-"},{"$f":"IF(OR(IFERROR(MATCH($D1088,'Transparency List 2015'!$H:$H,0),FALSE),IFERROR(MATCH(TRIM($G1088),'Transparency List 2015'!$C:$C,0),FALSE)),\"On the 2015 List\",\"-\")","v":"-"}]
[null,null,4,"",null,null,null,"-",{"$f":"IF(OR(IFERROR(MATCH($D1089,'Transparency List 2018_10'!$L:$L,0),FALSE),IFERROR(MATCH(TRIM($G1089),'Transparency List 2018_10'!$D:$D,0),FALSE)),\"On the 2018_10 List\",\"-\")","v":"-"},{"$f":"IF(OR(IFERROR(MATCH($D1089,'Transparency List 2018_04'!$L:$L,0),FALSE),IFERROR(MATCH(TRIM($G1089),'Transparency List 2018_04'!$D:$D,0),FALSE)),\"On the 2018_04 List\",\"-\")","v":"-"},{"$f":"IF(OR(IFERROR(MATCH($D1089,'Transparency List 2017'!$L:$L,0),FALSE),IFERROR(MATCH(TRIM($G1089),'Transparency List 2017'!$C:$C,0),FALSE)),\"On the 2017 List\",\"-\")","v":"-"},{"$f":"IF(OR(IFERROR(MATCH($D1089,'Transparency List 2015'!$H:$H,0),FALSE),IFERROR(MATCH(TRIM($G1089),'Transparency List 2015'!$C:$C,0),FALSE)),\"On the 2015 List\",\"-\")","v":"-"}]
[null,null,4,"",null,null,null,"-",{"$f":"IF(OR(IFERROR(MATCH($D1090,'Transparency List 2018_10'!$L:$L,0),FALSE),IFERROR(MATCH(TRIM($G1090),'Transparency List 2018_10'!$D:$D,0),FALSE)),\"On the 2018_10 List\",\"-\")","v":"-"},{"$f":"IF(OR(IFERROR(MATCH($D1090,'Transparency List 2018_04'!$L:$L,0),FALSE),IFERROR(MATCH(TRIM($G1090),'Transparency List 2018_04'!$D:$D,0),FALSE)),\"On the 2018_04 List\",\"-\")","v":"-"},{"$f":"IF(OR(IFERROR(MATCH($D1090,'Transparency List 2017'!$L:$L,0),FALSE),IFERROR(MATCH(TRIM($G1090),'Transparency List 2017'!$C:$C,0),FALSE)),\"On the 2017 List\",\"-\")","v":"-"},{"$f":"IF(OR(IFERROR(MATCH($D1090,'Transparency List 2015'!$H:$H,0),FALSE),IFERROR(MATCH(TRIM($G1090),'Transparency List 2015'!$C:$C,0),FALSE)),\"On the 2015 List\",\"-\")","v":"-"}]
[null,null,4,"",null,null,null,"-",{"$f":"IF(OR(IFERROR(MATCH($D1091,'Transparency List 2018_10'!$L:$L,0),FALSE),IFERROR(MATCH(TRIM($G1091),'Transparency List 2018_10'!$D:$D,0),FALSE)),\"On the 2018_10 List\",\"-\")","v":"-"},{"$f":"IF(OR(IFERROR(MATCH($D1091,'Transparency List 2018_04'!$L:$L,0),FALSE),IFERROR(MATCH(TRIM($G1091),'Transparency List 2018_04'!$D:$D,0),FALSE)),\"On the 2018_04 List\",\"-\")","v":"-"},{"$f":"IF(OR(IFERROR(MATCH($D1091,'Transparency List 2017'!$L:$L,0),FALSE),IFERROR(MATCH(TRIM($G1091),'Transparency List 2017'!$C:$C,0),FALSE)),\"On the 2017 List\",\"-\")","v":"-"},{"$f":"IF(OR(IFERROR(MATCH($D1091,'Transparency List 2015'!$H:$H,0),FALSE),IFERROR(MATCH(TRIM($G1091),'Transparency List 2015'!$C:$C,0),FALSE)),\"On the 2015 List\",\"-\")","v":"-"}]
[null,null,4,"",null,null,null,"-",{"$f":"IF(OR(IFERROR(MATCH($D1092,'Transparency List 2018_10'!$L:$L,0),FALSE),IFERROR(MATCH(TRIM($G1092),'Transparency List 2018_10'!$D:$D,0),FALSE)),\"On the 2018_10 List\",\"-\")","v":"-"},{"$f":"IF(OR(IFERROR(MATCH($D1092,'Transparency List 2018_04'!$L:$L,0),FALSE),IFERROR(MATCH(TRIM($G1092),'Transparency List 2018_04'!$D:$D,0),FALSE)),\"On the 2018_04 List\",\"-\")","v":"-"},{"$f":"IF(OR(IFERROR(MATCH($D1092,'Transparency List 2017'!$L:$L,0),FALSE),IFERROR(MATCH(TRIM($G1092),'Transparency List 2017'!$C:$C,0),FALSE)),\"On the 2017 List\",\"-\")","v":"-"},{"$f":"IF(OR(IFERROR(MATCH($D1092,'Transparency List 2015'!$H:$H,0),FALSE),IFERROR(MATCH(TRIM($G1092),'Transparency List 2015'!$C:$C,0),FALSE)),\"On the 2015 List\",\"-\")","v":"-"}]
[null,null,4,"",null,null,null,"-",{"$f":"IF(OR(IFERROR(MATCH($D1093,'Transparency List 2018_10'!$L:$L,0),FALSE),IFERROR(MATCH(TRIM($G1093),'Transparency List 2018_10'!$D:$D,0),FALSE)),\"On the 2018_10 List\",\"-\")","v":"-"},{"$f":"IF(OR(IFERROR(MATCH($D1093,'Transparency List 2018_04'!$L:$L,0),FALSE),IFERROR(MATCH(TRIM($G1093),'Transparency List 2018_04'!$D:$D,0),FALSE)),\"On the 2018_04 List\",\"-\")","v":"-"},{"$f":"IF(OR(IFERROR(MATCH($D1093,'Transparency List 2017'!$L:$L,0),FALSE),IFERROR(MATCH(TRIM($G1093),'Transparency List 2017'!$C:$C,0),FALSE)),\"On the 2017 List\",\"-\")","v":"-"},{"$f":"IF(OR(IFERROR(MATCH($D1093,'Transparency List 2015'!$H:$H,0),FALSE),IFERROR(MATCH(TRIM($G1093),'Transparency List 2015'!$C:$C,0),FALSE)),\"On the 2015 List\",\"-\")","v":"-"}]
[null,null,4,"",null,null,null,"-",{"$f":"IF(OR(IFERROR(MATCH($D1094,'Transparency List 2018_10'!$L:$L,0),FALSE),IFERROR(MATCH(TRIM($G1094),'Transparency List 2018_10'!$D:$D,0),FALSE)),\"On the 2018_10 List\",\"-\")","v":"-"},{"$f":"IF(OR(IFERROR(MATCH($D1094,'Transparency List 2018_04'!$L:$L,0),FALSE),IFERROR(MATCH(TRIM($G1094),'Transparency List 2018_04'!$D:$D,0),FALSE)),\"On the 2018_04 List\",\"-\")","v":"-"},{"$f":"IF(OR(IFERROR(MATCH($D1094,'Transparency List 2017'!$L:$L,0),FALSE),IFERROR(MATCH(TRIM($G1094),'Transparency List 2017'!$C:$C,0),FALSE)),\"On the 2017 List\",\"-\")","v":"-"},{"$f":"IF(OR(IFERROR(MATCH($D1094,'Transparency List 2015'!$H:$H,0),FALSE),IFERROR(MATCH(TRIM($G1094),'Transparency List 2015'!$C:$C,0),FALSE)),\"On the 2015 List\",\"-\")","v":"-"}]
[null,null,4,"",null,null,null,"-",{"$f":"IF(OR(IFERROR(MATCH($D1095,'Transparency List 2018_10'!$L:$L,0),FALSE),IFERROR(MATCH(TRIM($G1095),'Transparency List 2018_10'!$D:$D,0),FALSE)),\"On the 2018_10 List\",\"-\")","v":"-"},{"$f":"IF(OR(IFERROR(MATCH($D1095,'Transparency List 2018_04'!$L:$L,0),FALSE),IFERROR(MATCH(TRIM($G1095),'Transparency List 2018_04'!$D:$D,0),FALSE)),\"On the 2018_04 List\",\"-\")","v":"-"},{"$f":"IF(OR(IFERROR(MATCH($D1095,'Transparency List 2017'!$L:$L,0),FALSE),IFERROR(MATCH(TRIM($G1095),'Transparency List 2017'!$C:$C,0),FALSE)),\"On the 2017 List\",\"-\")","v":"-"},{"$f":"IF(OR(IFERROR(MATCH($D1095,'Transparency List 2015'!$H:$H,0),FALSE),IFERROR(MATCH(TRIM($G1095),'Transparency List 2015'!$C:$C,0),FALSE)),\"On the 2015 List\",\"-\")","v":"-"}]
[null,null,4,"",null,null,null,"-",{"$f":"IF(OR(IFERROR(MATCH($D1096,'Transparency List 2018_10'!$L:$L,0),FALSE),IFERROR(MATCH(TRIM($G1096),'Transparency List 2018_10'!$D:$D,0),FALSE)),\"On the 2018_10 List\",\"-\")","v":"-"},{"$f":"IF(OR(IFERROR(MATCH($D1096,'Transparency List 2018_04'!$L:$L,0),FALSE),IFERROR(MATCH(TRIM($G1096),'Transparency List 2018_04'!$D:$D,0),FALSE)),\"On the 2018_04 List\",\"-\")","v":"-"},{"$f":"IF(OR(IFERROR(MATCH($D1096,'Transparency List 2017'!$L:$L,0),FALSE),IFERROR(MATCH(TRIM($G1096),'Transparency List 2017'!$C:$C,0),FALSE)),\"On the 2017 List\",\"-\")","v":"-"},{"$f":"IF(OR(IFERROR(MATCH($D1096,'Transparency List 2015'!$H:$H,0),FALSE),IFERROR(MATCH(TRIM($G1096),'Transparency List 2015'!$C:$C,0),FALSE)),\"On the 2015 List\",\"-\")","v":"-"}]
[null,null,4,"",null,null,null,"-",{"$f":"IF(OR(IFERROR(MATCH($D1097,'Transparency List 2018_10'!$L:$L,0),FALSE),IFERROR(MATCH(TRIM($G1097),'Transparency List 2018_10'!$D:$D,0),FALSE)),\"On the 2018_10 List\",\"-\")","v":"-"},{"$f":"IF(OR(IFERROR(MATCH($D1097,'Transparency List 2018_04'!$L:$L,0),FALSE),IFERROR(MATCH(TRIM($G1097),'Transparency List 2018_04'!$D:$D,0),FALSE)),\"On the 2018_04 List\",\"-\")","v":"-"},{"$f":"IF(OR(IFERROR(MATCH($D1097,'Transparency List 2017'!$L:$L,0),FALSE),IFERROR(MATCH(TRIM($G1097),'Transparency List 2017'!$C:$C,0),FALSE)),\"On the 2017 List\",\"-\")","v":"-"},{"$f":"IF(OR(IFERROR(MATCH($D1097,'Transparency List 2015'!$H:$H,0),FALSE),IFERROR(MATCH(TRIM($G1097),'Transparency List 2015'!$C:$C,0),FALSE)),\"On the 2015 List\",\"-\")","v":"-"}]
[null,null,4,"",null,null,null,"-",{"$f":"IF(OR(IFERROR(MATCH($D1098,'Transparency List 2018_10'!$L:$L,0),FALSE),IFERROR(MATCH(TRIM($G1098),'Transparency List 2018_10'!$D:$D,0),FALSE)),\"On the 2018_10 List\",\"-\")","v":"-"},{"$f":"IF(OR(IFERROR(MATCH($D1098,'Transparency List 2018_04'!$L:$L,0),FALSE),IFERROR(MATCH(TRIM($G1098),'Transparency List 2018_04'!$D:$D,0),FALSE)),\"On the 2018_04 List\",\"-\")","v":"-"},{"$f":"IF(OR(IFERROR(MATCH($D1098,'Transparency List 2017'!$L:$L,0),FALSE),IFERROR(MATCH(TRIM($G1098),'Transparency List 2017'!$C:$C,0),FALSE)),\"On the 2017 List\",\"-\")","v":"-"},{"$f":"IF(OR(IFERROR(MATCH($D1098,'Transparency List 2015'!$H:$H,0),FALSE),IFERROR(MATCH(TRIM($G1098),'Transparency List 2015'!$C:$C,0),FALSE)),\"On the 2015 List\",\"-\")","v":"-"}]
[null,null,4,"",null,null,null,"-",{"$f":"IF(OR(IFERROR(MATCH($D1099,'Transparency List 2018_10'!$L:$L,0),FALSE),IFERROR(MATCH(TRIM($G1099),'Transparency List 2018_10'!$D:$D,0),FALSE)),\"On the 2018_10 List\",\"-\")","v":"-"},{"$f":"IF(OR(IFERROR(MATCH($D1099,'Transparency List 2018_04'!$L:$L,0),FALSE),IFERROR(MATCH(TRIM($G1099),'Transparency List 2018_04'!$D:$D,0),FALSE)),\"On the 2018_04 List\",\"-\")","v":"-"},{"$f":"IF(OR(IFERROR(MATCH($D1099,'Transparency List 2017'!$L:$L,0),FALSE),IFERROR(MATCH(TRIM($G1099),'Transparency List 2017'!$C:$C,0),FALSE)),\"On the 2017 List\",\"-\")","v":"-"},{"$f":"IF(OR(IFERROR(MATCH($D1099,'Transparency List 2015'!$H:$H,0),FALSE),IFERROR(MATCH(TRIM($G1099),'Transparency List 2015'!$C:$C,0),FALSE)),\"On the 2015 List\",\"-\")","v":"-"}]
[null,null,4,"",null,null,null,"-",{"$f":"IF(OR(IFERROR(MATCH($D1100,'Transparency List 2018_10'!$L:$L,0),FALSE),IFERROR(MATCH(TRIM($G1100),'Transparency List 2018_10'!$D:$D,0),FALSE)),\"On the 2018_10 List\",\"-\")","v":"-"},{"$f":"IF(OR(IFERROR(MATCH($D1100,'Transparency List 2018_04'!$L:$L,0),FALSE),IFERROR(MATCH(TRIM($G1100),'Transparency List 2018_04'!$D:$D,0),FALSE)),\"On the 2018_04 List\",\"-\")","v":"-"},{"$f":"IF(OR(IFERROR(MATCH($D1100,'Transparency List 2017'!$L:$L,0),FALSE),IFERROR(MATCH(TRIM($G1100),'Transparency List 2017'!$C:$C,0),FALSE)),\"On the 2017 List\",\"-\")","v":"-"},{"$f":"IF(OR(IFERROR(MATCH($D1100,'Transparency List 2015'!$H:$H,0),FALSE),IFERROR(MATCH(TRIM($G1100),'Transparency List 2015'!$C:$C,0),FALSE)),\"On the 2015 List\",\"-\")","v":"-"}]
[null,null,4,"",null,null,null,"-",{"$f":"IF(OR(IFERROR(MATCH($D1101,'Transparency List 2018_10'!$L:$L,0),FALSE),IFERROR(MATCH(TRIM($G1101),'Transparency List 2018_10'!$D:$D,0),FALSE)),\"On the 2018_10 List\",\"-\")","v":"-"},{"$f":"IF(OR(IFERROR(MATCH($D1101,'Transparency List 2018_04'!$L:$L,0),FALSE),IFERROR(MATCH(TRIM($G1101),'Transparency List 2018_04'!$D:$D,0),FALSE)),\"On the 2018_04 List\",\"-\")","v":"-"},{"$f":"IF(OR(IFERROR(MATCH($D1101,'Transparency List 2017'!$L:$L,0),FALSE),IFERROR(MATCH(TRIM($G1101),'Transparency List 2017'!$C:$C,0),FALSE)),\"On the 2017 List\",\"-\")","v":"-"},{"$f":"IF(OR(IFERROR(MATCH($D1101,'Transparency List 2015'!$H:$H,0),FALSE),IFERROR(MATCH(TRIM($G1101),'Transparency List 2015'!$C:$C,0),FALSE)),\"On the 2015 List\",\"-\")","v":"-"}]
[null,null,4,"",null,null,null,"-",{"$f":"IF(OR(IFERROR(MATCH($D1102,'Transparency List 2018_10'!$L:$L,0),FALSE),IFERROR(MATCH(TRIM($G1102),'Transparency List 2018_10'!$D:$D,0),FALSE)),\"On the 2018_10 List\",\"-\")","v":"-"},{"$f":"IF(OR(IFERROR(MATCH($D1102,'Transparency List 2018_04'!$L:$L,0),FALSE),IFERROR(MATCH(TRIM($G1102),'Transparency List 2018_04'!$D:$D,0),FALSE)),\"On the 2018_04 List\",\"-\")","v":"-"},{"$f":"IF(OR(IFERROR(MATCH($D1102,'Transparency List 2017'!$L:$L,0),FALSE),IFERROR(MATCH(TRIM($G1102),'Transparency List 2017'!$C:$C,0),FALSE)),\"On the 2017 List\",\"-\")","v":"-"},{"$f":"IF(OR(IFERROR(MATCH($D1102,'Transparency List 2015'!$H:$H,0),FALSE),IFERROR(MATCH(TRIM($G1102),'Transparency List 2015'!$C:$C,0),FALSE)),\"On the 2015 List\",\"-\")","v":"-"}]
[null,null,4,"",null,null,null,"-",{"$f":"IF(OR(IFERROR(MATCH($D1103,'Transparency List 2018_10'!$L:$L,0),FALSE),IFERROR(MATCH(TRIM($G1103),'Transparency List 2018_10'!$D:$D,0),FALSE)),\"On the 2018_10 List\",\"-\")","v":"-"},{"$f":"IF(OR(IFERROR(MATCH($D1103,'Transparency List 2018_04'!$L:$L,0),FALSE),IFERROR(MATCH(TRIM($G1103),'Transparency List 2018_04'!$D:$D,0),FALSE)),\"On the 2018_04 List\",\"-\")","v":"-"},{"$f":"IF(OR(IFERROR(MATCH($D1103,'Transparency List 2017'!$L:$L,0),FALSE),IFERROR(MATCH(TRIM($G1103),'Transparency List 2017'!$C:$C,0),FALSE)),\"On the 2017 List\",\"-\")","v":"-"},{"$f":"IF(OR(IFERROR(MATCH($D1103,'Transparency List 2015'!$H:$H,0),FALSE),IFERROR(MATCH(TRIM($G1103),'Transparency List 2015'!$C:$C,0),FALSE)),\"On the 2015 List\",\"-\")","v":"-"}]
[null,null,4,"",null,null,null,"-",{"$f":"IF(OR(IFERROR(MATCH($D1104,'Transparency List 2018_10'!$L:$L,0),FALSE),IFERROR(MATCH(TRIM($G1104),'Transparency List 2018_10'!$D:$D,0),FALSE)),\"On the 2018_10 List\",\"-\")","v":"-"},{"$f":"IF(OR(IFERROR(MATCH($D1104,'Transparency List 2018_04'!$L:$L,0),FALSE),IFERROR(MATCH(TRIM($G1104),'Transparency List 2018_04'!$D:$D,0),FALSE)),\"On the 2018_04 List\",\"-\")","v":"-"},{"$f":"IF(OR(IFERROR(MATCH($D1104,'Transparency List 2017'!$L:$L,0),FALSE),IFERROR(MATCH(TRIM($G1104),'Transparency List 2017'!$C:$C,0),FALSE)),\"On the 2017 List\",\"-\")","v":"-"},{"$f":"IF(OR(IFERROR(MATCH($D1104,'Transparency List 2015'!$H:$H,0),FALSE),IFERROR(MATCH(TRIM($G1104),'Transparency List 2015'!$C:$C,0),FALSE)),\"On the 2015 List\",\"-\")","v":"-"}]
[null,null,4,"",null,null,null,"-",{"$f":"IF(OR(IFERROR(MATCH($D1105,'Transparency List 2018_10'!$L:$L,0),FALSE),IFERROR(MATCH(TRIM($G1105),'Transparency List 2018_10'!$D:$D,0),FALSE)),\"On the 2018_10 List\",\"-\")","v":"-"},{"$f":"IF(OR(IFERROR(MATCH($D1105,'Transparency List 2018_04'!$L:$L,0),FALSE),IFERROR(MATCH(TRIM($G1105),'Transparency List 2018_04'!$D:$D,0),FALSE)),\"On the 2018_04 List\",\"-\")","v":"-"},{"$f":"IF(OR(IFERROR(MATCH($D1105,'Transparency List 2017'!$L:$L,0),FALSE),IFERROR(MATCH(TRIM($G1105),'Transparency List 2017'!$C:$C,0),FALSE)),\"On the 2017 List\",\"-\")","v":"-"},{"$f":"IF(OR(IFERROR(MATCH($D1105,'Transparency List 2015'!$H:$H,0),FALSE),IFERROR(MATCH(TRIM($G1105),'Transparency List 2015'!$C:$C,0),FALSE)),\"On the 2015 List\",\"-\")","v":"-"}]
[null,null,4,"",null,null,null,"-",{"$f":"IF(OR(IFERROR(MATCH($D1106,'Transparency List 2018_10'!$L:$L,0),FALSE),IFERROR(MATCH(TRIM($G1106),'Transparency List 2018_10'!$D:$D,0),FALSE)),\"On the 2018_10 List\",\"-\")","v":"-"},{"$f":"IF(OR(IFERROR(MATCH($D1106,'Transparency List 2018_04'!$L:$L,0),FALSE),IFERROR(MATCH(TRIM($G1106),'Transparency List 2018_04'!$D:$D,0),FALSE)),\"On the 2018_04 List\",\"-\")","v":"-"},{"$f":"IF(OR(IFERROR(MATCH($D1106,'Transparency List 2017'!$L:$L,0),FALSE),IFERROR(MATCH(TRIM($G1106),'Transparency List 2017'!$C:$C,0),FALSE)),\"On the 2017 List\",\"-\")","v":"-"},{"$f":"IF(OR(IFERROR(MATCH($D1106,'Transparency List 2015'!$H:$H,0),FALSE),IFERROR(MATCH(TRIM($G1106),'Transparency List 2015'!$C:$C,0),FALSE)),\"On the 2015 List\",\"-\")","v":"-"}]
[null,null,4,"",null,null,null,"-",{"$f":"IF(OR(IFERROR(MATCH($D1107,'Transparency List 2018_10'!$L:$L,0),FALSE),IFERROR(MATCH(TRIM($G1107),'Transparency List 2018_10'!$D:$D,0),FALSE)),\"On the 2018_10 List\",\"-\")","v":"-"},{"$f":"IF(OR(IFERROR(MATCH($D1107,'Transparency List 2018_04'!$L:$L,0),FALSE),IFERROR(MATCH(TRIM($G1107),'Transparency List 2018_04'!$D:$D,0),FALSE)),\"On the 2018_04 List\",\"-\")","v":"-"},{"$f":"IF(OR(IFERROR(MATCH($D1107,'Transparency List 2017'!$L:$L,0),FALSE),IFERROR(MATCH(TRIM($G1107),'Transparency List 2017'!$C:$C,0),FALSE)),\"On the 2017 List\",\"-\")","v":"-"},{"$f":"IF(OR(IFERROR(MATCH($D1107,'Transparency List 2015'!$H:$H,0),FALSE),IFERROR(MATCH(TRIM($G1107),'Transparency List 2015'!$C:$C,0),FALSE)),\"On the 2015 List\",\"-\")","v":"-"}]
[null,null,4,"",null,null,null,"-",{"$f":"IF(OR(IFERROR(MATCH($D1108,'Transparency List 2018_10'!$L:$L,0),FALSE),IFERROR(MATCH(TRIM($G1108),'Transparency List 2018_10'!$D:$D,0),FALSE)),\"On the 2018_10 List\",\"-\")","v":"-"},{"$f":"IF(OR(IFERROR(MATCH($D1108,'Transparency List 2018_04'!$L:$L,0),FALSE),IFERROR(MATCH(TRIM($G1108),'Transparency List 2018_04'!$D:$D,0),FALSE)),\"On the 2018_04 List\",\"-\")","v":"-"},{"$f":"IF(OR(IFERROR(MATCH($D1108,'Transparency List 2017'!$L:$L,0),FALSE),IFERROR(MATCH(TRIM($G1108),'Transparency List 2017'!$C:$C,0),FALSE)),\"On the 2017 List\",\"-\")","v":"-"},{"$f":"IF(OR(IFERROR(MATCH($D1108,'Transparency List 2015'!$H:$H,0),FALSE),IFERROR(MATCH(TRIM($G1108),'Transparency List 2015'!$C:$C,0),FALSE)),\"On the 2015 List\",\"-\")","v":"-"}]
[null,null,4,"",null,null,null,"-",{"$f":"IF(OR(IFERROR(MATCH($D1109,'Transparency List 2018_10'!$L:$L,0),FALSE),IFERROR(MATCH(TRIM($G1109),'Transparency List 2018_10'!$D:$D,0),FALSE)),\"On the 2018_10 List\",\"-\")","v":"-"},{"$f":"IF(OR(IFERROR(MATCH($D1109,'Transparency List 2018_04'!$L:$L,0),FALSE),IFERROR(MATCH(TRIM($G1109),'Transparency List 2018_04'!$D:$D,0),FALSE)),\"On the 2018_04 List\",\"-\")","v":"-"},{"$f":"IF(OR(IFERROR(MATCH($D1109,'Transparency List 2017'!$L:$L,0),FALSE),IFERROR(MATCH(TRIM($G1109),'Transparency List 2017'!$C:$C,0),FALSE)),\"On the 2017 List\",\"-\")","v":"-"},{"$f":"IF(OR(IFERROR(MATCH($D1109,'Transparency List 2015'!$H:$H,0),FALSE),IFERROR(MATCH(TRIM($G1109),'Transparency List 2015'!$C:$C,0),FALSE)),\"On the 2015 List\",\"-\")","v":"-"}]
[null,null,4,"",null,null,null,"-",{"$f":"IF(OR(IFERROR(MATCH($D1110,'Transparency List 2018_10'!$L:$L,0),FALSE),IFERROR(MATCH(TRIM($G1110),'Transparency List 2018_10'!$D:$D,0),FALSE)),\"On the 2018_10 List\",\"-\")","v":"-"},{"$f":"IF(OR(IFERROR(MATCH($D1110,'Transparency List 2018_04'!$L:$L,0),FALSE),IFERROR(MATCH(TRIM($G1110),'Transparency List 2018_04'!$D:$D,0),FALSE)),\"On the 2018_04 List\",\"-\")","v":"-"},{"$f":"IF(OR(IFERROR(MATCH($D1110,'Transparency List 2017'!$L:$L,0),FALSE),IFERROR(MATCH(TRIM($G1110),'Transparency List 2017'!$C:$C,0),FALSE)),\"On the 2017 List\",\"-\")","v":"-"},{"$f":"IF(OR(IFERROR(MATCH($D1110,'Transparency List 2015'!$H:$H,0),FALSE),IFERROR(MATCH(TRIM($G1110),'Transparency List 2015'!$C:$C,0),FALSE)),\"On the 2015 List\",\"-\")","v":"-"}]
[null,null,4,"",null,null,null,"-",{"$f":"IF(OR(IFERROR(MATCH($D1111,'Transparency List 2018_10'!$L:$L,0),FALSE),IFERROR(MATCH(TRIM($G1111),'Transparency List 2018_10'!$D:$D,0),FALSE)),\"On the 2018_10 List\",\"-\")","v":"-"},{"$f":"IF(OR(IFERROR(MATCH($D1111,'Transparency List 2018_04'!$L:$L,0),FALSE),IFERROR(MATCH(TRIM($G1111),'Transparency List 2018_04'!$D:$D,0),FALSE)),\"On the 2018_04 List\",\"-\")","v":"-"},{"$f":"IF(OR(IFERROR(MATCH($D1111,'Transparency List 2017'!$L:$L,0),FALSE),IFERROR(MATCH(TRIM($G1111),'Transparency List 2017'!$C:$C,0),FALSE)),\"On the 2017 List\",\"-\")","v":"-"},{"$f":"IF(OR(IFERROR(MATCH($D1111,'Transparency List 2015'!$H:$H,0),FALSE),IFERROR(MATCH(TRIM($G1111),'Transparency List 2015'!$C:$C,0),FALSE)),\"On the 2015 List\",\"-\")","v":"-"}]
[null,null,4,"",null,null,null,"-",{"$f":"IF(OR(IFERROR(MATCH($D1112,'Transparency List 2018_10'!$L:$L,0),FALSE),IFERROR(MATCH(TRIM($G1112),'Transparency List 2018_10'!$D:$D,0),FALSE)),\"On the 2018_10 List\",\"-\")","v":"-"},{"$f":"IF(OR(IFERROR(MATCH($D1112,'Transparency List 2018_04'!$L:$L,0),FALSE),IFERROR(MATCH(TRIM($G1112),'Transparency List 2018_04'!$D:$D,0),FALSE)),\"On the 2018_04 List\",\"-\")","v":"-"},{"$f":"IF(OR(IFERROR(MATCH($D1112,'Transparency List 2017'!$L:$L,0),FALSE),IFERROR(MATCH(TRIM($G1112),'Transparency List 2017'!$C:$C,0),FALSE)),\"On the 2017 List\",\"-\")","v":"-"},{"$f":"IF(OR(IFERROR(MATCH($D1112,'Transparency List 2015'!$H:$H,0),FALSE),IFERROR(MATCH(TRIM($G1112),'Transparency List 2015'!$C:$C,0),FALSE)),\"On the 2015 List\",\"-\")","v":"-"}]
[null,null,4,"",null,null,null,"-",{"$f":"IF(OR(IFERROR(MATCH($D1113,'Transparency List 2018_10'!$L:$L,0),FALSE),IFERROR(MATCH(TRIM($G1113),'Transparency List 2018_10'!$D:$D,0),FALSE)),\"On the 2018_10 List\",\"-\")","v":"-"},{"$f":"IF(OR(IFERROR(MATCH($D1113,'Transparency List 2018_04'!$L:$L,0),FALSE),IFERROR(MATCH(TRIM($G1113),'Transparency List 2018_04'!$D:$D,0),FALSE)),\"On the 2018_04 List\",\"-\")","v":"-"},{"$f":"IF(OR(IFERROR(MATCH($D1113,'Transparency List 2017'!$L:$L,0),FALSE),IFERROR(MATCH(TRIM($G1113),'Transparency List 2017'!$C:$C,0),FALSE)),\"On the 2017 List\",\"-\")","v":"-"},{"$f":"IF(OR(IFERROR(MATCH($D1113,'Transparency List 2015'!$H:$H,0),FALSE),IFERROR(MATCH(TRIM($G1113),'Transparency List 2015'!$C:$C,0),FALSE)),\"On the 2015 List\",\"-\")","v":"-"}]
[null,null,4,"",null,null,null,"-",{"$f":"IF(OR(IFERROR(MATCH($D1114,'Transparency List 2018_10'!$L:$L,0),FALSE),IFERROR(MATCH(TRIM($G1114),'Transparency List 2018_10'!$D:$D,0),FALSE)),\"On the 2018_10 List\",\"-\")","v":"-"},{"$f":"IF(OR(IFERROR(MATCH($D1114,'Transparency List 2018_04'!$L:$L,0),FALSE),IFERROR(MATCH(TRIM($G1114),'Transparency List 2018_04'!$D:$D,0),FALSE)),\"On the 2018_04 List\",\"-\")","v":"-"},{"$f":"IF(OR(IFERROR(MATCH($D1114,'Transparency List 2017'!$L:$L,0),FALSE),IFERROR(MATCH(TRIM($G1114),'Transparency List 2017'!$C:$C,0),FALSE)),\"On the 2017 List\",\"-\")","v":"-"},{"$f":"IF(OR(IFERROR(MATCH($D1114,'Transparency List 2015'!$H:$H,0),FALSE),IFERROR(MATCH(TRIM($G1114),'Transparency List 2015'!$C:$C,0),FALSE)),\"On the 2015 List\",\"-\")","v":"-"}]
[null,null,4,"",null,null,null,"-",{"$f":"IF(OR(IFERROR(MATCH($D1115,'Transparency List 2018_10'!$L:$L,0),FALSE),IFERROR(MATCH(TRIM($G1115),'Transparency List 2018_10'!$D:$D,0),FALSE)),\"On the 2018_10 List\",\"-\")","v":"-"},{"$f":"IF(OR(IFERROR(MATCH($D1115,'Transparency List 2018_04'!$L:$L,0),FALSE),IFERROR(MATCH(TRIM($G1115),'Transparency List 2018_04'!$D:$D,0),FALSE)),\"On the 2018_04 List\",\"-\")","v":"-"},{"$f":"IF(OR(IFERROR(MATCH($D1115,'Transparency List 2017'!$L:$L,0),FALSE),IFERROR(MATCH(TRIM($G1115),'Transparency List 2017'!$C:$C,0),FALSE)),\"On the 2017 List\",\"-\")","v":"-"},{"$f":"IF(OR(IFERROR(MATCH($D1115,'Transparency List 2015'!$H:$H,0),FALSE),IFERROR(MATCH(TRIM($G1115),'Transparency List 2015'!$C:$C,0),FALSE)),\"On the 2015 List\",\"-\")","v":"-"}]
[null,null,4,"",null,null,null,"-",{"$f":"IF(OR(IFERROR(MATCH($D1116,'Transparency List 2018_10'!$L:$L,0),FALSE),IFERROR(MATCH(TRIM($G1116),'Transparency List 2018_10'!$D:$D,0),FALSE)),\"On the 2018_10 List\",\"-\")","v":"-"},{"$f":"IF(OR(IFERROR(MATCH($D1116,'Transparency List 2018_04'!$L:$L,0),FALSE),IFERROR(MATCH(TRIM($G1116),'Transparency List 2018_04'!$D:$D,0),FALSE)),\"On the 2018_04 List\",\"-\")","v":"-"},{"$f":"IF(OR(IFERROR(MATCH($D1116,'Transparency List 2017'!$L:$L,0),FALSE),IFERROR(MATCH(TRIM($G1116),'Transparency List 2017'!$C:$C,0),FALSE)),\"On the 2017 List\",\"-\")","v":"-"},{"$f":"IF(OR(IFERROR(MATCH($D1116,'Transparency List 2015'!$H:$H,0),FALSE),IFERROR(MATCH(TRIM($G1116),'Transparency List 2015'!$C:$C,0),FALSE)),\"On the 2015 List\",\"-\")","v":"-"}]
[null,null,4,"",null,null,null,"-",{"$f":"IF(OR(IFERROR(MATCH($D1117,'Transparency List 2018_10'!$L:$L,0),FALSE),IFERROR(MATCH(TRIM($G1117),'Transparency List 2018_10'!$D:$D,0),FALSE)),\"On the 2018_10 List\",\"-\")","v":"-"},{"$f":"IF(OR(IFERROR(MATCH($D1117,'Transparency List 2018_04'!$L:$L,0),FALSE),IFERROR(MATCH(TRIM($G1117),'Transparency List 2018_04'!$D:$D,0),FALSE)),\"On the 2018_04 List\",\"-\")","v":"-"},{"$f":"IF(OR(IFERROR(MATCH($D1117,'Transparency List 2017'!$L:$L,0),FALSE),IFERROR(MATCH(TRIM($G1117),'Transparency List 2017'!$C:$C,0),FALSE)),\"On the 2017 List\",\"-\")","v":"-"},{"$f":"IF(OR(IFERROR(MATCH($D1117,'Transparency List 2015'!$H:$H,0),FALSE),IFERROR(MATCH(TRIM($G1117),'Transparency List 2015'!$C:$C,0),FALSE)),\"On the 2015 List\",\"-\")","v":"-"}]
[null,null,4,"",null,null,null,"-",{"$f":"IF(OR(IFERROR(MATCH($D1118,'Transparency List 2018_10'!$L:$L,0),FALSE),IFERROR(MATCH(TRIM($G1118),'Transparency List 2018_10'!$D:$D,0),FALSE)),\"On the 2018_10 List\",\"-\")","v":"-"},{"$f":"IF(OR(IFERROR(MATCH($D1118,'Transparency List 2018_04'!$L:$L,0),FALSE),IFERROR(MATCH(TRIM($G1118),'Transparency List 2018_04'!$D:$D,0),FALSE)),\"On the 2018_04 List\",\"-\")","v":"-"},{"$f":"IF(OR(IFERROR(MATCH($D1118,'Transparency List 2017'!$L:$L,0),FALSE),IFERROR(MATCH(TRIM($G1118),'Transparency List 2017'!$C:$C,0),FALSE)),\"On the 2017 List\",\"-\")","v":"-"},{"$f":"IF(OR(IFERROR(MATCH($D1118,'Transparency List 2015'!$H:$H,0),FALSE),IFERROR(MATCH(TRIM($G1118),'Transparency List 2015'!$C:$C,0),FALSE)),\"On the 2015 List\",\"-\")","v":"-"}]
[null,null,{"$f":"COUNTIF($I1119:$L1119,\"-\")","v":4},{"$f":"SUBSTITUTE(SUBSTITUTE(SUBSTITUTE(SUBSTITUTE($G1119,\" \",\"\"),\".\",\"\"),\"-\",\"\"),\"/\",\"\")","v":""},null,null,null,{"$f":"IFERROR(IF($C1119=4,\"-\",\"Risk Farmer - Please conduct further steps\"),)","v":"-"},{"$f":"IF(OR(IFERROR(MATCH($D1119,'Transparency List 2018_10'!$L:$L,0),FALSE),IFERROR(MATCH(TRIM($G1119),'Transparency List 2018_10'!$D:$D,0),FALSE)),\"On the 2018_10 List\",\"-\")","v":"-"},{"$f":"IF(OR(IFERROR(MATCH($D1119,'Transparency List 2018_04'!$L:$L,0),FALSE),IFERROR(MATCH(TRIM($G1119),'Transparency List 2018_04'!$D:$D,0),FALSE)),\"On the 2018_04 List\",\"-\")","v":"-"},{"$f":"IF(OR(IFERROR(MATCH($D1119,'Transparency List 2017'!$L:$L,0),FALSE),IFERROR(MATCH(TRIM($G1119),'Transparency List 2017'!$C:$C,0),FALSE)),\"On the 2017 List\",\"-\")","v":"-"},{"$f":"IF(OR(IFERROR(MATCH($D1119,'Transparency List 2015'!$H:$H,0),FALSE),IFERROR(MATCH(TRIM($G1119),'Transparency List 2015'!$C:$C,0),FALSE)),\"On the 2015 List\",\"-\")","v":"-"}]
[null,null,4,"",null,null,null,"-",{"$f":"IF(OR(IFERROR(MATCH($D1120,'Transparency List 2018_10'!$L:$L,0),FALSE),IFERROR(MATCH(TRIM($G1120),'Transparency List 2018_10'!$D:$D,0),FALSE)),\"On the 2018_10 List\",\"-\")","v":"-"},{"$f":"IF(OR(IFERROR(MATCH($D1120,'Transparency List 2018_04'!$L:$L,0),FALSE),IFERROR(MATCH(TRIM($G1120),'Transparency List 2018_04'!$D:$D,0),FALSE)),\"On the 2018_04 List\",\"-\")","v":"-"},{"$f":"IF(OR(IFERROR(MATCH($D1120,'Transparency List 2017'!$L:$L,0),FALSE),IFERROR(MATCH(TRIM($G1120),'Transparency List 2017'!$C:$C,0),FALSE)),\"On the 2017 List\",\"-\")","v":"-"},{"$f":"IF(OR(IFERROR(MATCH($D1120,'Transparency List 2015'!$H:$H,0),FALSE),IFERROR(MATCH(TRIM($G1120),'Transparency List 2015'!$C:$C,0),FALSE)),\"On the 2015 List\",\"-\")","v":"-"}]
[null,null,4,"",null,null,null,"-",{"$f":"IF(OR(IFERROR(MATCH($D1121,'Transparency List 2018_10'!$L:$L,0),FALSE),IFERROR(MATCH(TRIM($G1121),'Transparency List 2018_10'!$D:$D,0),FALSE)),\"On the 2018_10 List\",\"-\")","v":"-"},{"$f":"IF(OR(IFERROR(MATCH($D1121,'Transparency List 2018_04'!$L:$L,0),FALSE),IFERROR(MATCH(TRIM($G1121),'Transparency List 2018_04'!$D:$D,0),FALSE)),\"On the 2018_04 List\",\"-\")","v":"-"},{"$f":"IF(OR(IFERROR(MATCH($D1121,'Transparency List 2017'!$L:$L,0),FALSE),IFERROR(MATCH(TRIM($G1121),'Transparency List 2017'!$C:$C,0),FALSE)),\"On the 2017 List\",\"-\")","v":"-"},{"$f":"IF(OR(IFERROR(MATCH($D1121,'Transparency List 2015'!$H:$H,0),FALSE),IFERROR(MATCH(TRIM($G1121),'Transparency List 2015'!$C:$C,0),FALSE)),\"On the 2015 List\",\"-\")","v":"-"}]
[null,null,4,"",null,null,null,"-",{"$f":"IF(OR(IFERROR(MATCH($D1122,'Transparency List 2018_10'!$L:$L,0),FALSE),IFERROR(MATCH(TRIM($G1122),'Transparency List 2018_10'!$D:$D,0),FALSE)),\"On the 2018_10 List\",\"-\")","v":"-"},{"$f":"IF(OR(IFERROR(MATCH($D1122,'Transparency List 2018_04'!$L:$L,0),FALSE),IFERROR(MATCH(TRIM($G1122),'Transparency List 2018_04'!$D:$D,0),FALSE)),\"On the 2018_04 List\",\"-\")","v":"-"},{"$f":"IF(OR(IFERROR(MATCH($D1122,'Transparency List 2017'!$L:$L,0),FALSE),IFERROR(MATCH(TRIM($G1122),'Transparency List 2017'!$C:$C,0),FALSE)),\"On the 2017 List\",\"-\")","v":"-"},{"$f":"IF(OR(IFERROR(MATCH($D1122,'Transparency List 2015'!$H:$H,0),FALSE),IFERROR(MATCH(TRIM($G1122),'Transparency List 2015'!$C:$C,0),FALSE)),\"On the 2015 List\",\"-\")","v":"-"}]
[null,null,4,"",null,null,null,"-",{"$f":"IF(OR(IFERROR(MATCH($D1123,'Transparency List 2018_10'!$L:$L,0),FALSE),IFERROR(MATCH(TRIM($G1123),'Transparency List 2018_10'!$D:$D,0),FALSE)),\"On the 2018_10 List\",\"-\")","v":"-"},{"$f":"IF(OR(IFERROR(MATCH($D1123,'Transparency List 2018_04'!$L:$L,0),FALSE),IFERROR(MATCH(TRIM($G1123),'Transparency List 2018_04'!$D:$D,0),FALSE)),\"On the 2018_04 List\",\"-\")","v":"-"},{"$f":"IF(OR(IFERROR(MATCH($D1123,'Transparency List 2017'!$L:$L,0),FALSE),IFERROR(MATCH(TRIM($G1123),'Transparency List 2017'!$C:$C,0),FALSE)),\"On the 2017 List\",\"-\")","v":"-"},{"$f":"IF(OR(IFERROR(MATCH($D1123,'Transparency List 2015'!$H:$H,0),FALSE),IFERROR(MATCH(TRIM($G1123),'Transparency List 2015'!$C:$C,0),FALSE)),\"On the 2015 List\",\"-\")","v":"-"}]
[null,null,4,"",null,null,null,"-",{"$f":"IF(OR(IFERROR(MATCH($D1124,'Transparency List 2018_10'!$L:$L,0),FALSE),IFERROR(MATCH(TRIM($G1124),'Transparency List 2018_10'!$D:$D,0),FALSE)),\"On the 2018_10 List\",\"-\")","v":"-"},{"$f":"IF(OR(IFERROR(MATCH($D1124,'Transparency List 2018_04'!$L:$L,0),FALSE),IFERROR(MATCH(TRIM($G1124),'Transparency List 2018_04'!$D:$D,0),FALSE)),\"On the 2018_04 List\",\"-\")","v":"-"},{"$f":"IF(OR(IFERROR(MATCH($D1124,'Transparency List 2017'!$L:$L,0),FALSE),IFERROR(MATCH(TRIM($G1124),'Transparency List 2017'!$C:$C,0),FALSE)),\"On the 2017 List\",\"-\")","v":"-"},{"$f":"IF(OR(IFERROR(MATCH($D1124,'Transparency List 2015'!$H:$H,0),FALSE),IFERROR(MATCH(TRIM($G1124),'Transparency List 2015'!$C:$C,0),FALSE)),\"On the 2015 List\",\"-\")","v":"-"}]
[null,null,4,"",null,null,null,"-",{"$f":"IF(OR(IFERROR(MATCH($D1125,'Transparency List 2018_10'!$L:$L,0),FALSE),IFERROR(MATCH(TRIM($G1125),'Transparency List 2018_10'!$D:$D,0),FALSE)),\"On the 2018_10 List\",\"-\")","v":"-"},{"$f":"IF(OR(IFERROR(MATCH($D1125,'Transparency List 2018_04'!$L:$L,0),FALSE),IFERROR(MATCH(TRIM($G1125),'Transparency List 2018_04'!$D:$D,0),FALSE)),\"On the 2018_04 List\",\"-\")","v":"-"},{"$f":"IF(OR(IFERROR(MATCH($D1125,'Transparency List 2017'!$L:$L,0),FALSE),IFERROR(MATCH(TRIM($G1125),'Transparency List 2017'!$C:$C,0),FALSE)),\"On the 2017 List\",\"-\")","v":"-"},{"$f":"IF(OR(IFERROR(MATCH($D1125,'Transparency List 2015'!$H:$H,0),FALSE),IFERROR(MATCH(TRIM($G1125),'Transparency List 2015'!$C:$C,0),FALSE)),\"On the 2015 List\",\"-\")","v":"-"}]
[null,null,4,"",null,null,null,"-",{"$f":"IF(OR(IFERROR(MATCH($D1126,'Transparency List 2018_10'!$L:$L,0),FALSE),IFERROR(MATCH(TRIM($G1126),'Transparency List 2018_10'!$D:$D,0),FALSE)),\"On the 2018_10 List\",\"-\")","v":"-"},{"$f":"IF(OR(IFERROR(MATCH($D1126,'Transparency List 2018_04'!$L:$L,0),FALSE),IFERROR(MATCH(TRIM($G1126),'Transparency List 2018_04'!$D:$D,0),FALSE)),\"On the 2018_04 List\",\"-\")","v":"-"},{"$f":"IF(OR(IFERROR(MATCH($D1126,'Transparency List 2017'!$L:$L,0),FALSE),IFERROR(MATCH(TRIM($G1126),'Transparency List 2017'!$C:$C,0),FALSE)),\"On the 2017 List\",\"-\")","v":"-"},{"$f":"IF(OR(IFERROR(MATCH($D1126,'Transparency List 2015'!$H:$H,0),FALSE),IFERROR(MATCH(TRIM($G1126),'Transparency List 2015'!$C:$C,0),FALSE)),\"On the 2015 List\",\"-\")","v":"-"}]
[null,null,4,"",null,null,null,"-",{"$f":"IF(OR(IFERROR(MATCH($D1127,'Transparency List 2018_10'!$L:$L,0),FALSE),IFERROR(MATCH(TRIM($G1127),'Transparency List 2018_10'!$D:$D,0),FALSE)),\"On the 2018_10 List\",\"-\")","v":"-"},{"$f":"IF(OR(IFERROR(MATCH($D1127,'Transparency List 2018_04'!$L:$L,0),FALSE),IFERROR(MATCH(TRIM($G1127),'Transparency List 2018_04'!$D:$D,0),FALSE)),\"On the 2018_04 List\",\"-\")","v":"-"},{"$f":"IF(OR(IFERROR(MATCH($D1127,'Transparency List 2017'!$L:$L,0),FALSE),IFERROR(MATCH(TRIM($G1127),'Transparency List 2017'!$C:$C,0),FALSE)),\"On the 2017 List\",\"-\")","v":"-"},{"$f":"IF(OR(IFERROR(MATCH($D1127,'Transparency List 2015'!$H:$H,0),FALSE),IFERROR(MATCH(TRIM($G1127),'Transparency List 2015'!$C:$C,0),FALSE)),\"On the 2015 List\",\"-\")","v":"-"}]
[null,null,4,"",null,null,null,"-",{"$f":"IF(OR(IFERROR(MATCH($D1128,'Transparency List 2018_10'!$L:$L,0),FALSE),IFERROR(MATCH(TRIM($G1128),'Transparency List 2018_10'!$D:$D,0),FALSE)),\"On the 2018_10 List\",\"-\")","v":"-"},{"$f":"IF(OR(IFERROR(MATCH($D1128,'Transparency List 2018_04'!$L:$L,0),FALSE),IFERROR(MATCH(TRIM($G1128),'Transparency List 2018_04'!$D:$D,0),FALSE)),\"On the 2018_04 List\",\"-\")","v":"-"},{"$f":"IF(OR(IFERROR(MATCH($D1128,'Transparency List 2017'!$L:$L,0),FALSE),IFERROR(MATCH(TRIM($G1128),'Transparency List 2017'!$C:$C,0),FALSE)),\"On the 2017 List\",\"-\")","v":"-"},{"$f":"IF(OR(IFERROR(MATCH($D1128,'Transparency List 2015'!$H:$H,0),FALSE),IFERROR(MATCH(TRIM($G1128),'Transparency List 2015'!$C:$C,0),FALSE)),\"On the 2015 List\",\"-\")","v":"-"}]
[null,null,4,"",null,null,null,"-",{"$f":"IF(OR(IFERROR(MATCH($D1129,'Transparency List 2018_10'!$L:$L,0),FALSE),IFERROR(MATCH(TRIM($G1129),'Transparency List 2018_10'!$D:$D,0),FALSE)),\"On the 2018_10 List\",\"-\")","v":"-"},{"$f":"IF(OR(IFERROR(MATCH($D1129,'Transparency List 2018_04'!$L:$L,0),FALSE),IFERROR(MATCH(TRIM($G1129),'Transparency List 2018_04'!$D:$D,0),FALSE)),\"On the 2018_04 List\",\"-\")","v":"-"},{"$f":"IF(OR(IFERROR(MATCH($D1129,'Transparency List 2017'!$L:$L,0),FALSE),IFERROR(MATCH(TRIM($G1129),'Transparency List 2017'!$C:$C,0),FALSE)),\"On the 2017 List\",\"-\")","v":"-"},{"$f":"IF(OR(IFERROR(MATCH($D1129,'Transparency List 2015'!$H:$H,0),FALSE),IFERROR(MATCH(TRIM($G1129),'Transparency List 2015'!$C:$C,0),FALSE)),\"On the 2015 List\",\"-\")","v":"-"}]
[null,null,4,"",null,null,null,"-",{"$f":"IF(OR(IFERROR(MATCH($D1130,'Transparency List 2018_10'!$L:$L,0),FALSE),IFERROR(MATCH(TRIM($G1130),'Transparency List 2018_10'!$D:$D,0),FALSE)),\"On the 2018_10 List\",\"-\")","v":"-"},{"$f":"IF(OR(IFERROR(MATCH($D1130,'Transparency List 2018_04'!$L:$L,0),FALSE),IFERROR(MATCH(TRIM($G1130),'Transparency List 2018_04'!$D:$D,0),FALSE)),\"On the 2018_04 List\",\"-\")","v":"-"},{"$f":"IF(OR(IFERROR(MATCH($D1130,'Transparency List 2017'!$L:$L,0),FALSE),IFERROR(MATCH(TRIM($G1130),'Transparency List 2017'!$C:$C,0),FALSE)),\"On the 2017 List\",\"-\")","v":"-"},{"$f":"IF(OR(IFERROR(MATCH($D1130,'Transparency List 2015'!$H:$H,0),FALSE),IFERROR(MATCH(TRIM($G1130),'Transparency List 2015'!$C:$C,0),FALSE)),\"On the 2015 List\",\"-\")","v":"-"}]
[null,null,4,"",null,null,null,"-",{"$f":"IF(OR(IFERROR(MATCH($D1131,'Transparency List 2018_10'!$L:$L,0),FALSE),IFERROR(MATCH(TRIM($G1131),'Transparency List 2018_10'!$D:$D,0),FALSE)),\"On the 2018_10 List\",\"-\")","v":"-"},{"$f":"IF(OR(IFERROR(MATCH($D1131,'Transparency List 2018_04'!$L:$L,0),FALSE),IFERROR(MATCH(TRIM($G1131),'Transparency List 2018_04'!$D:$D,0),FALSE)),\"On the 2018_04 List\",\"-\")","v":"-"},{"$f":"IF(OR(IFERROR(MATCH($D1131,'Transparency List 2017'!$L:$L,0),FALSE),IFERROR(MATCH(TRIM($G1131),'Transparency List 2017'!$C:$C,0),FALSE)),\"On the 2017 List\",\"-\")","v":"-"},{"$f":"IF(OR(IFERROR(MATCH($D1131,'Transparency List 2015'!$H:$H,0),FALSE),IFERROR(MATCH(TRIM($G1131),'Transparency List 2015'!$C:$C,0),FALSE)),\"On the 2015 List\",\"-\")","v":"-"}]
[null,null,4,"",null,null,null,"-",{"$f":"IF(OR(IFERROR(MATCH($D1132,'Transparency List 2018_10'!$L:$L,0),FALSE),IFERROR(MATCH(TRIM($G1132),'Transparency List 2018_10'!$D:$D,0),FALSE)),\"On the 2018_10 List\",\"-\")","v":"-"},{"$f":"IF(OR(IFERROR(MATCH($D1132,'Transparency List 2018_04'!$L:$L,0),FALSE),IFERROR(MATCH(TRIM($G1132),'Transparency List 2018_04'!$D:$D,0),FALSE)),\"On the 2018_04 List\",\"-\")","v":"-"},{"$f":"IF(OR(IFERROR(MATCH($D1132,'Transparency List 2017'!$L:$L,0),FALSE),IFERROR(MATCH(TRIM($G1132),'Transparency List 2017'!$C:$C,0),FALSE)),\"On the 2017 List\",\"-\")","v":"-"},{"$f":"IF(OR(IFERROR(MATCH($D1132,'Transparency List 2015'!$H:$H,0),FALSE),IFERROR(MATCH(TRIM($G1132),'Transparency List 2015'!$C:$C,0),FALSE)),\"On the 2015 List\",\"-\")","v":"-"}]
[null,null,4,"",null,null,null,"-",{"$f":"IF(OR(IFERROR(MATCH($D1133,'Transparency List 2018_10'!$L:$L,0),FALSE),IFERROR(MATCH(TRIM($G1133),'Transparency List 2018_10'!$D:$D,0),FALSE)),\"On the 2018_10 List\",\"-\")","v":"-"},{"$f":"IF(OR(IFERROR(MATCH($D1133,'Transparency List 2018_04'!$L:$L,0),FALSE),IFERROR(MATCH(TRIM($G1133),'Transparency List 2018_04'!$D:$D,0),FALSE)),\"On the 2018_04 List\",\"-\")","v":"-"},{"$f":"IF(OR(IFERROR(MATCH($D1133,'Transparency List 2017'!$L:$L,0),FALSE),IFERROR(MATCH(TRIM($G1133),'Transparency List 2017'!$C:$C,0),FALSE)),\"On the 2017 List\",\"-\")","v":"-"},{"$f":"IF(OR(IFERROR(MATCH($D1133,'Transparency List 2015'!$H:$H,0),FALSE),IFERROR(MATCH(TRIM($G1133),'Transparency List 2015'!$C:$C,0),FALSE)),\"On the 2015 List\",\"-\")","v":"-"}]
[null,null,4,"",null,null,null,"-",{"$f":"IF(OR(IFERROR(MATCH($D1134,'Transparency List 2018_10'!$L:$L,0),FALSE),IFERROR(MATCH(TRIM($G1134),'Transparency List 2018_10'!$D:$D,0),FALSE)),\"On the 2018_10 List\",\"-\")","v":"-"},{"$f":"IF(OR(IFERROR(MATCH($D1134,'Transparency List 2018_04'!$L:$L,0),FALSE),IFERROR(MATCH(TRIM($G1134),'Transparency List 2018_04'!$D:$D,0),FALSE)),\"On the 2018_04 List\",\"-\")","v":"-"},{"$f":"IF(OR(IFERROR(MATCH($D1134,'Transparency List 2017'!$L:$L,0),FALSE),IFERROR(MATCH(TRIM($G1134),'Transparency List 2017'!$C:$C,0),FALSE)),\"On the 2017 List\",\"-\")","v":"-"},{"$f":"IF(OR(IFERROR(MATCH($D1134,'Transparency List 2015'!$H:$H,0),FALSE),IFERROR(MATCH(TRIM($G1134),'Transparency List 2015'!$C:$C,0),FALSE)),\"On the 2015 List\",\"-\")","v":"-"}]
[null,null,4,"",null,null,null,"-",{"$f":"IF(OR(IFERROR(MATCH($D1135,'Transparency List 2018_10'!$L:$L,0),FALSE),IFERROR(MATCH(TRIM($G1135),'Transparency List 2018_10'!$D:$D,0),FALSE)),\"On the 2018_10 List\",\"-\")","v":"-"},{"$f":"IF(OR(IFERROR(MATCH($D1135,'Transparency List 2018_04'!$L:$L,0),FALSE),IFERROR(MATCH(TRIM($G1135),'Transparency List 2018_04'!$D:$D,0),FALSE)),\"On the 2018_04 List\",\"-\")","v":"-"},{"$f":"IF(OR(IFERROR(MATCH($D1135,'Transparency List 2017'!$L:$L,0),FALSE),IFERROR(MATCH(TRIM($G1135),'Transparency List 2017'!$C:$C,0),FALSE)),\"On the 2017 List\",\"-\")","v":"-"},{"$f":"IF(OR(IFERROR(MATCH($D1135,'Transparency List 2015'!$H:$H,0),FALSE),IFERROR(MATCH(TRIM($G1135),'Transparency List 2015'!$C:$C,0),FALSE)),\"On the 2015 List\",\"-\")","v":"-"}]
[null,null,4,"",null,null,null,"-",{"$f":"IF(OR(IFERROR(MATCH($D1136,'Transparency List 2018_10'!$L:$L,0),FALSE),IFERROR(MATCH(TRIM($G1136),'Transparency List 2018_10'!$D:$D,0),FALSE)),\"On the 2018_10 List\",\"-\")","v":"-"},{"$f":"IF(OR(IFERROR(MATCH($D1136,'Transparency List 2018_04'!$L:$L,0),FALSE),IFERROR(MATCH(TRIM($G1136),'Transparency List 2018_04'!$D:$D,0),FALSE)),\"On the 2018_04 List\",\"-\")","v":"-"},{"$f":"IF(OR(IFERROR(MATCH($D1136,'Transparency List 2017'!$L:$L,0),FALSE),IFERROR(MATCH(TRIM($G1136),'Transparency List 2017'!$C:$C,0),FALSE)),\"On the 2017 List\",\"-\")","v":"-"},{"$f":"IF(OR(IFERROR(MATCH($D1136,'Transparency List 2015'!$H:$H,0),FALSE),IFERROR(MATCH(TRIM($G1136),'Transparency List 2015'!$C:$C,0),FALSE)),\"On the 2015 List\",\"-\")","v":"-"}]
[null,null,4,"",null,null,null,"-",{"$f":"IF(OR(IFERROR(MATCH($D1137,'Transparency List 2018_10'!$L:$L,0),FALSE),IFERROR(MATCH(TRIM($G1137),'Transparency List 2018_10'!$D:$D,0),FALSE)),\"On the 2018_10 List\",\"-\")","v":"-"},{"$f":"IF(OR(IFERROR(MATCH($D1137,'Transparency List 2018_04'!$L:$L,0),FALSE),IFERROR(MATCH(TRIM($G1137),'Transparency List 2018_04'!$D:$D,0),FALSE)),\"On the 2018_04 List\",\"-\")","v":"-"},{"$f":"IF(OR(IFERROR(MATCH($D1137,'Transparency List 2017'!$L:$L,0),FALSE),IFERROR(MATCH(TRIM($G1137),'Transparency List 2017'!$C:$C,0),FALSE)),\"On the 2017 List\",\"-\")","v":"-"},{"$f":"IF(OR(IFERROR(MATCH($D1137,'Transparency List 2015'!$H:$H,0),FALSE),IFERROR(MATCH(TRIM($G1137),'Transparency List 2015'!$C:$C,0),FALSE)),\"On the 2015 List\",\"-\")","v":"-"}]
[null,null,4,"",null,null,null,"-",{"$f":"IF(OR(IFERROR(MATCH($D1138,'Transparency List 2018_10'!$L:$L,0),FALSE),IFERROR(MATCH(TRIM($G1138),'Transparency List 2018_10'!$D:$D,0),FALSE)),\"On the 2018_10 List\",\"-\")","v":"-"},{"$f":"IF(OR(IFERROR(MATCH($D1138,'Transparency List 2018_04'!$L:$L,0),FALSE),IFERROR(MATCH(TRIM($G1138),'Transparency List 2018_04'!$D:$D,0),FALSE)),\"On the 2018_04 List\",\"-\")","v":"-"},{"$f":"IF(OR(IFERROR(MATCH($D1138,'Transparency List 2017'!$L:$L,0),FALSE),IFERROR(MATCH(TRIM($G1138),'Transparency List 2017'!$C:$C,0),FALSE)),\"On the 2017 List\",\"-\")","v":"-"},{"$f":"IF(OR(IFERROR(MATCH($D1138,'Transparency List 2015'!$H:$H,0),FALSE),IFERROR(MATCH(TRIM($G1138),'Transparency List 2015'!$C:$C,0),FALSE)),\"On the 2015 List\",\"-\")","v":"-"}]
[null,null,4,"",null,null,null,"-",{"$f":"IF(OR(IFERROR(MATCH($D1139,'Transparency List 2018_10'!$L:$L,0),FALSE),IFERROR(MATCH(TRIM($G1139),'Transparency List 2018_10'!$D:$D,0),FALSE)),\"On the 2018_10 List\",\"-\")","v":"-"},{"$f":"IF(OR(IFERROR(MATCH($D1139,'Transparency List 2018_04'!$L:$L,0),FALSE),IFERROR(MATCH(TRIM($G1139),'Transparency List 2018_04'!$D:$D,0),FALSE)),\"On the 2018_04 List\",\"-\")","v":"-"},{"$f":"IF(OR(IFERROR(MATCH($D1139,'Transparency List 2017'!$L:$L,0),FALSE),IFERROR(MATCH(TRIM($G1139),'Transparency List 2017'!$C:$C,0),FALSE)),\"On the 2017 List\",\"-\")","v":"-"},{"$f":"IF(OR(IFERROR(MATCH($D1139,'Transparency List 2015'!$H:$H,0),FALSE),IFERROR(MATCH(TRIM($G1139),'Transparency List 2015'!$C:$C,0),FALSE)),\"On the 2015 List\",\"-\")","v":"-"}]
[null,null,4,"",null,null,null,"-",{"$f":"IF(OR(IFERROR(MATCH($D1140,'Transparency List 2018_10'!$L:$L,0),FALSE),IFERROR(MATCH(TRIM($G1140),'Transparency List 2018_10'!$D:$D,0),FALSE)),\"On the 2018_10 List\",\"-\")","v":"-"},{"$f":"IF(OR(IFERROR(MATCH($D1140,'Transparency List 2018_04'!$L:$L,0),FALSE),IFERROR(MATCH(TRIM($G1140),'Transparency List 2018_04'!$D:$D,0),FALSE)),\"On the 2018_04 List\",\"-\")","v":"-"},{"$f":"IF(OR(IFERROR(MATCH($D1140,'Transparency List 2017'!$L:$L,0),FALSE),IFERROR(MATCH(TRIM($G1140),'Transparency List 2017'!$C:$C,0),FALSE)),\"On the 2017 List\",\"-\")","v":"-"},{"$f":"IF(OR(IFERROR(MATCH($D1140,'Transparency List 2015'!$H:$H,0),FALSE),IFERROR(MATCH(TRIM($G1140),'Transparency List 2015'!$C:$C,0),FALSE)),\"On the 2015 List\",\"-\")","v":"-"}]
[null,null,4,"",null,null,null,"-",{"$f":"IF(OR(IFERROR(MATCH($D1141,'Transparency List 2018_10'!$L:$L,0),FALSE),IFERROR(MATCH(TRIM($G1141),'Transparency List 2018_10'!$D:$D,0),FALSE)),\"On the 2018_10 List\",\"-\")","v":"-"},{"$f":"IF(OR(IFERROR(MATCH($D1141,'Transparency List 2018_04'!$L:$L,0),FALSE),IFERROR(MATCH(TRIM($G1141),'Transparency List 2018_04'!$D:$D,0),FALSE)),\"On the 2018_04 List\",\"-\")","v":"-"},{"$f":"IF(OR(IFERROR(MATCH($D1141,'Transparency List 2017'!$L:$L,0),FALSE),IFERROR(MATCH(TRIM($G1141),'Transparency List 2017'!$C:$C,0),FALSE)),\"On the 2017 List\",\"-\")","v":"-"},{"$f":"IF(OR(IFERROR(MATCH($D1141,'Transparency List 2015'!$H:$H,0),FALSE),IFERROR(MATCH(TRIM($G1141),'Transparency List 2015'!$C:$C,0),FALSE)),\"On the 2015 List\",\"-\")","v":"-"}]
[null,null,4,"",null,null,null,"-",{"$f":"IF(OR(IFERROR(MATCH($D1142,'Transparency List 2018_10'!$L:$L,0),FALSE),IFERROR(MATCH(TRIM($G1142),'Transparency List 2018_10'!$D:$D,0),FALSE)),\"On the 2018_10 List\",\"-\")","v":"-"},{"$f":"IF(OR(IFERROR(MATCH($D1142,'Transparency List 2018_04'!$L:$L,0),FALSE),IFERROR(MATCH(TRIM($G1142),'Transparency List 2018_04'!$D:$D,0),FALSE)),\"On the 2018_04 List\",\"-\")","v":"-"},{"$f":"IF(OR(IFERROR(MATCH($D1142,'Transparency List 2017'!$L:$L,0),FALSE),IFERROR(MATCH(TRIM($G1142),'Transparency List 2017'!$C:$C,0),FALSE)),\"On the 2017 List\",\"-\")","v":"-"},{"$f":"IF(OR(IFERROR(MATCH($D1142,'Transparency List 2015'!$H:$H,0),FALSE),IFERROR(MATCH(TRIM($G1142),'Transparency List 2015'!$C:$C,0),FALSE)),\"On the 2015 List\",\"-\")","v":"-"}]
[null,null,4,"",null,null,null,"-",{"$f":"IF(OR(IFERROR(MATCH($D1143,'Transparency List 2018_10'!$L:$L,0),FALSE),IFERROR(MATCH(TRIM($G1143),'Transparency List 2018_10'!$D:$D,0),FALSE)),\"On the 2018_10 List\",\"-\")","v":"-"},{"$f":"IF(OR(IFERROR(MATCH($D1143,'Transparency List 2018_04'!$L:$L,0),FALSE),IFERROR(MATCH(TRIM($G1143),'Transparency List 2018_04'!$D:$D,0),FALSE)),\"On the 2018_04 List\",\"-\")","v":"-"},{"$f":"IF(OR(IFERROR(MATCH($D1143,'Transparency List 2017'!$L:$L,0),FALSE),IFERROR(MATCH(TRIM($G1143),'Transparency List 2017'!$C:$C,0),FALSE)),\"On the 2017 List\",\"-\")","v":"-"},{"$f":"IF(OR(IFERROR(MATCH($D1143,'Transparency List 2015'!$H:$H,0),FALSE),IFERROR(MATCH(TRIM($G1143),'Transparency List 2015'!$C:$C,0),FALSE)),\"On the 2015 List\",\"-\")","v":"-"}]
[null,null,4,"",null,null,null,"-",{"$f":"IF(OR(IFERROR(MATCH($D1144,'Transparency List 2018_10'!$L:$L,0),FALSE),IFERROR(MATCH(TRIM($G1144),'Transparency List 2018_10'!$D:$D,0),FALSE)),\"On the 2018_10 List\",\"-\")","v":"-"},{"$f":"IF(OR(IFERROR(MATCH($D1144,'Transparency List 2018_04'!$L:$L,0),FALSE),IFERROR(MATCH(TRIM($G1144),'Transparency List 2018_04'!$D:$D,0),FALSE)),\"On the 2018_04 List\",\"-\")","v":"-"},{"$f":"IF(OR(IFERROR(MATCH($D1144,'Transparency List 2017'!$L:$L,0),FALSE),IFERROR(MATCH(TRIM($G1144),'Transparency List 2017'!$C:$C,0),FALSE)),\"On the 2017 List\",\"-\")","v":"-"},{"$f":"IF(OR(IFERROR(MATCH($D1144,'Transparency List 2015'!$H:$H,0),FALSE),IFERROR(MATCH(TRIM($G1144),'Transparency List 2015'!$C:$C,0),FALSE)),\"On the 2015 List\",\"-\")","v":"-"}]
[null,null,4,"",null,null,null,"-",{"$f":"IF(OR(IFERROR(MATCH($D1145,'Transparency List 2018_10'!$L:$L,0),FALSE),IFERROR(MATCH(TRIM($G1145),'Transparency List 2018_10'!$D:$D,0),FALSE)),\"On the 2018_10 List\",\"-\")","v":"-"},{"$f":"IF(OR(IFERROR(MATCH($D1145,'Transparency List 2018_04'!$L:$L,0),FALSE),IFERROR(MATCH(TRIM($G1145),'Transparency List 2018_04'!$D:$D,0),FALSE)),\"On the 2018_04 List\",\"-\")","v":"-"},{"$f":"IF(OR(IFERROR(MATCH($D1145,'Transparency List 2017'!$L:$L,0),FALSE),IFERROR(MATCH(TRIM($G1145),'Transparency List 2017'!$C:$C,0),FALSE)),\"On the 2017 List\",\"-\")","v":"-"},{"$f":"IF(OR(IFERROR(MATCH($D1145,'Transparency List 2015'!$H:$H,0),FALSE),IFERROR(MATCH(TRIM($G1145),'Transparency List 2015'!$C:$C,0),FALSE)),\"On the 2015 List\",\"-\")","v":"-"}]
[null,null,4,"",null,null,null,"-",{"$f":"IF(OR(IFERROR(MATCH($D1146,'Transparency List 2018_10'!$L:$L,0),FALSE),IFERROR(MATCH(TRIM($G1146),'Transparency List 2018_10'!$D:$D,0),FALSE)),\"On the 2018_10 List\",\"-\")","v":"-"},{"$f":"IF(OR(IFERROR(MATCH($D1146,'Transparency List 2018_04'!$L:$L,0),FALSE),IFERROR(MATCH(TRIM($G1146),'Transparency List 2018_04'!$D:$D,0),FALSE)),\"On the 2018_04 List\",\"-\")","v":"-"},{"$f":"IF(OR(IFERROR(MATCH($D1146,'Transparency List 2017'!$L:$L,0),FALSE),IFERROR(MATCH(TRIM($G1146),'Transparency List 2017'!$C:$C,0),FALSE)),\"On the 2017 List\",\"-\")","v":"-"},{"$f":"IF(OR(IFERROR(MATCH($D1146,'Transparency List 2015'!$H:$H,0),FALSE),IFERROR(MATCH(TRIM($G1146),'Transparency List 2015'!$C:$C,0),FALSE)),\"On the 2015 List\",\"-\")","v":"-"}]
[null,null,4,"",null,null,null,"-",{"$f":"IF(OR(IFERROR(MATCH($D1147,'Transparency List 2018_10'!$L:$L,0),FALSE),IFERROR(MATCH(TRIM($G1147),'Transparency List 2018_10'!$D:$D,0),FALSE)),\"On the 2018_10 List\",\"-\")","v":"-"},{"$f":"IF(OR(IFERROR(MATCH($D1147,'Transparency List 2018_04'!$L:$L,0),FALSE),IFERROR(MATCH(TRIM($G1147),'Transparency List 2018_04'!$D:$D,0),FALSE)),\"On the 2018_04 List\",\"-\")","v":"-"},{"$f":"IF(OR(IFERROR(MATCH($D1147,'Transparency List 2017'!$L:$L,0),FALSE),IFERROR(MATCH(TRIM($G1147),'Transparency List 2017'!$C:$C,0),FALSE)),\"On the 2017 List\",\"-\")","v":"-"},{"$f":"IF(OR(IFERROR(MATCH($D1147,'Transparency List 2015'!$H:$H,0),FALSE),IFERROR(MATCH(TRIM($G1147),'Transparency List 2015'!$C:$C,0),FALSE)),\"On the 2015 List\",\"-\")","v":"-"}]
[null,null,4,"",null,null,null,"-",{"$f":"IF(OR(IFERROR(MATCH($D1148,'Transparency List 2018_10'!$L:$L,0),FALSE),IFERROR(MATCH(TRIM($G1148),'Transparency List 2018_10'!$D:$D,0),FALSE)),\"On the 2018_10 List\",\"-\")","v":"-"},{"$f":"IF(OR(IFERROR(MATCH($D1148,'Transparency List 2018_04'!$L:$L,0),FALSE),IFERROR(MATCH(TRIM($G1148),'Transparency List 2018_04'!$D:$D,0),FALSE)),\"On the 2018_04 List\",\"-\")","v":"-"},{"$f":"IF(OR(IFERROR(MATCH($D1148,'Transparency List 2017'!$L:$L,0),FALSE),IFERROR(MATCH(TRIM($G1148),'Transparency List 2017'!$C:$C,0),FALSE)),\"On the 2017 List\",\"-\")","v":"-"},{"$f":"IF(OR(IFERROR(MATCH($D1148,'Transparency List 2015'!$H:$H,0),FALSE),IFERROR(MATCH(TRIM($G1148),'Transparency List 2015'!$C:$C,0),FALSE)),\"On the 2015 List\",\"-\")","v":"-"}]
[null,null,4,"",null,null,null,"-",{"$f":"IF(OR(IFERROR(MATCH($D1149,'Transparency List 2018_10'!$L:$L,0),FALSE),IFERROR(MATCH(TRIM($G1149),'Transparency List 2018_10'!$D:$D,0),FALSE)),\"On the 2018_10 List\",\"-\")","v":"-"},{"$f":"IF(OR(IFERROR(MATCH($D1149,'Transparency List 2018_04'!$L:$L,0),FALSE),IFERROR(MATCH(TRIM($G1149),'Transparency List 2018_04'!$D:$D,0),FALSE)),\"On the 2018_04 List\",\"-\")","v":"-"},{"$f":"IF(OR(IFERROR(MATCH($D1149,'Transparency List 2017'!$L:$L,0),FALSE),IFERROR(MATCH(TRIM($G1149),'Transparency List 2017'!$C:$C,0),FALSE)),\"On the 2017 List\",\"-\")","v":"-"},{"$f":"IF(OR(IFERROR(MATCH($D1149,'Transparency List 2015'!$H:$H,0),FALSE),IFERROR(MATCH(TRIM($G1149),'Transparency List 2015'!$C:$C,0),FALSE)),\"On the 2015 List\",\"-\")","v":"-"}]
[null,null,4,"",null,null,null,"-",{"$f":"IF(OR(IFERROR(MATCH($D1150,'Transparency List 2018_10'!$L:$L,0),FALSE),IFERROR(MATCH(TRIM($G1150),'Transparency List 2018_10'!$D:$D,0),FALSE)),\"On the 2018_10 List\",\"-\")","v":"-"},{"$f":"IF(OR(IFERROR(MATCH($D1150,'Transparency List 2018_04'!$L:$L,0),FALSE),IFERROR(MATCH(TRIM($G1150),'Transparency List 2018_04'!$D:$D,0),FALSE)),\"On the 2018_04 List\",\"-\")","v":"-"},{"$f":"IF(OR(IFERROR(MATCH($D1150,'Transparency List 2017'!$L:$L,0),FALSE),IFERROR(MATCH(TRIM($G1150),'Transparency List 2017'!$C:$C,0),FALSE)),\"On the 2017 List\",\"-\")","v":"-"},{"$f":"IF(OR(IFERROR(MATCH($D1150,'Transparency List 2015'!$H:$H,0),FALSE),IFERROR(MATCH(TRIM($G1150),'Transparency List 2015'!$C:$C,0),FALSE)),\"On the 2015 List\",\"-\")","v":"-"}]
[null,null,4,"",null,null,null,"-",{"$f":"IF(OR(IFERROR(MATCH($D1151,'Transparency List 2018_10'!$L:$L,0),FALSE),IFERROR(MATCH(TRIM($G1151),'Transparency List 2018_10'!$D:$D,0),FALSE)),\"On the 2018_10 List\",\"-\")","v":"-"},{"$f":"IF(OR(IFERROR(MATCH($D1151,'Transparency List 2018_04'!$L:$L,0),FALSE),IFERROR(MATCH(TRIM($G1151),'Transparency List 2018_04'!$D:$D,0),FALSE)),\"On the 2018_04 List\",\"-\")","v":"-"},{"$f":"IF(OR(IFERROR(MATCH($D1151,'Transparency List 2017'!$L:$L,0),FALSE),IFERROR(MATCH(TRIM($G1151),'Transparency List 2017'!$C:$C,0),FALSE)),\"On the 2017 List\",\"-\")","v":"-"},{"$f":"IF(OR(IFERROR(MATCH($D1151,'Transparency List 2015'!$H:$H,0),FALSE),IFERROR(MATCH(TRIM($G1151),'Transparency List 2015'!$C:$C,0),FALSE)),\"On the 2015 List\",\"-\")","v":"-"}]
[null,null,4,"",null,null,null,"-",{"$f":"IF(OR(IFERROR(MATCH($D1152,'Transparency List 2018_10'!$L:$L,0),FALSE),IFERROR(MATCH(TRIM($G1152),'Transparency List 2018_10'!$D:$D,0),FALSE)),\"On the 2018_10 List\",\"-\")","v":"-"},{"$f":"IF(OR(IFERROR(MATCH($D1152,'Transparency List 2018_04'!$L:$L,0),FALSE),IFERROR(MATCH(TRIM($G1152),'Transparency List 2018_04'!$D:$D,0),FALSE)),\"On the 2018_04 List\",\"-\")","v":"-"},{"$f":"IF(OR(IFERROR(MATCH($D1152,'Transparency List 2017'!$L:$L,0),FALSE),IFERROR(MATCH(TRIM($G1152),'Transparency List 2017'!$C:$C,0),FALSE)),\"On the 2017 List\",\"-\")","v":"-"},{"$f":"IF(OR(IFERROR(MATCH($D1152,'Transparency List 2015'!$H:$H,0),FALSE),IFERROR(MATCH(TRIM($G1152),'Transparency List 2015'!$C:$C,0),FALSE)),\"On the 2015 List\",\"-\")","v":"-"}]
[null,null,4,"",null,null,null,"-",{"$f":"IF(OR(IFERROR(MATCH($D1153,'Transparency List 2018_10'!$L:$L,0),FALSE),IFERROR(MATCH(TRIM($G1153),'Transparency List 2018_10'!$D:$D,0),FALSE)),\"On the 2018_10 List\",\"-\")","v":"-"},{"$f":"IF(OR(IFERROR(MATCH($D1153,'Transparency List 2018_04'!$L:$L,0),FALSE),IFERROR(MATCH(TRIM($G1153),'Transparency List 2018_04'!$D:$D,0),FALSE)),\"On the 2018_04 List\",\"-\")","v":"-"},{"$f":"IF(OR(IFERROR(MATCH($D1153,'Transparency List 2017'!$L:$L,0),FALSE),IFERROR(MATCH(TRIM($G1153),'Transparency List 2017'!$C:$C,0),FALSE)),\"On the 2017 List\",\"-\")","v":"-"},{"$f":"IF(OR(IFERROR(MATCH($D1153,'Transparency List 2015'!$H:$H,0),FALSE),IFERROR(MATCH(TRIM($G1153),'Transparency List 2015'!$C:$C,0),FALSE)),\"On the 2015 List\",\"-\")","v":"-"}]
[null,null,4,"",null,null,null,"-",{"$f":"IF(OR(IFERROR(MATCH($D1154,'Transparency List 2018_10'!$L:$L,0),FALSE),IFERROR(MATCH(TRIM($G1154),'Transparency List 2018_10'!$D:$D,0),FALSE)),\"On the 2018_10 List\",\"-\")","v":"-"},{"$f":"IF(OR(IFERROR(MATCH($D1154,'Transparency List 2018_04'!$L:$L,0),FALSE),IFERROR(MATCH(TRIM($G1154),'Transparency List 2018_04'!$D:$D,0),FALSE)),\"On the 2018_04 List\",\"-\")","v":"-"},{"$f":"IF(OR(IFERROR(MATCH($D1154,'Transparency List 2017'!$L:$L,0),FALSE),IFERROR(MATCH(TRIM($G1154),'Transparency List 2017'!$C:$C,0),FALSE)),\"On the 2017 List\",\"-\")","v":"-"},{"$f":"IF(OR(IFERROR(MATCH($D1154,'Transparency List 2015'!$H:$H,0),FALSE),IFERROR(MATCH(TRIM($G1154),'Transparency List 2015'!$C:$C,0),FALSE)),\"On the 2015 List\",\"-\")","v":"-"}]
[null,null,4,"",null,null,null,"-",{"$f":"IF(OR(IFERROR(MATCH($D1155,'Transparency List 2018_10'!$L:$L,0),FALSE),IFERROR(MATCH(TRIM($G1155),'Transparency List 2018_10'!$D:$D,0),FALSE)),\"On the 2018_10 List\",\"-\")","v":"-"},{"$f":"IF(OR(IFERROR(MATCH($D1155,'Transparency List 2018_04'!$L:$L,0),FALSE),IFERROR(MATCH(TRIM($G1155),'Transparency List 2018_04'!$D:$D,0),FALSE)),\"On the 2018_04 List\",\"-\")","v":"-"},{"$f":"IF(OR(IFERROR(MATCH($D1155,'Transparency List 2017'!$L:$L,0),FALSE),IFERROR(MATCH(TRIM($G1155),'Transparency List 2017'!$C:$C,0),FALSE)),\"On the 2017 List\",\"-\")","v":"-"},{"$f":"IF(OR(IFERROR(MATCH($D1155,'Transparency List 2015'!$H:$H,0),FALSE),IFERROR(MATCH(TRIM($G1155),'Transparency List 2015'!$C:$C,0),FALSE)),\"On the 2015 List\",\"-\")","v":"-"}]
[null,null,4,"",null,null,null,"-",{"$f":"IF(OR(IFERROR(MATCH($D1156,'Transparency List 2018_10'!$L:$L,0),FALSE),IFERROR(MATCH(TRIM($G1156),'Transparency List 2018_10'!$D:$D,0),FALSE)),\"On the 2018_10 List\",\"-\")","v":"-"},{"$f":"IF(OR(IFERROR(MATCH($D1156,'Transparency List 2018_04'!$L:$L,0),FALSE),IFERROR(MATCH(TRIM($G1156),'Transparency List 2018_04'!$D:$D,0),FALSE)),\"On the 2018_04 List\",\"-\")","v":"-"},{"$f":"IF(OR(IFERROR(MATCH($D1156,'Transparency List 2017'!$L:$L,0),FALSE),IFERROR(MATCH(TRIM($G1156),'Transparency List 2017'!$C:$C,0),FALSE)),\"On the 2017 List\",\"-\")","v":"-"},{"$f":"IF(OR(IFERROR(MATCH($D1156,'Transparency List 2015'!$H:$H,0),FALSE),IFERROR(MATCH(TRIM($G1156),'Transparency List 2015'!$C:$C,0),FALSE)),\"On the 2015 List\",\"-\")","v":"-"}]
[null,null,4,"",null,null,null,"-",{"$f":"IF(OR(IFERROR(MATCH($D1157,'Transparency List 2018_10'!$L:$L,0),FALSE),IFERROR(MATCH(TRIM($G1157),'Transparency List 2018_10'!$D:$D,0),FALSE)),\"On the 2018_10 List\",\"-\")","v":"-"},{"$f":"IF(OR(IFERROR(MATCH($D1157,'Transparency List 2018_04'!$L:$L,0),FALSE),IFERROR(MATCH(TRIM($G1157),'Transparency List 2018_04'!$D:$D,0),FALSE)),\"On the 2018_04 List\",\"-\")","v":"-"},{"$f":"IF(OR(IFERROR(MATCH($D1157,'Transparency List 2017'!$L:$L,0),FALSE),IFERROR(MATCH(TRIM($G1157),'Transparency List 2017'!$C:$C,0),FALSE)),\"On the 2017 List\",\"-\")","v":"-"},{"$f":"IF(OR(IFERROR(MATCH($D1157,'Transparency List 2015'!$H:$H,0),FALSE),IFERROR(MATCH(TRIM($G1157),'Transparency List 2015'!$C:$C,0),FALSE)),\"On the 2015 List\",\"-\")","v":"-"}]
[null,null,4,"",null,null,null,"-",{"$f":"IF(OR(IFERROR(MATCH($D1158,'Transparency List 2018_10'!$L:$L,0),FALSE),IFERROR(MATCH(TRIM($G1158),'Transparency List 2018_10'!$D:$D,0),FALSE)),\"On the 2018_10 List\",\"-\")","v":"-"},{"$f":"IF(OR(IFERROR(MATCH($D1158,'Transparency List 2018_04'!$L:$L,0),FALSE),IFERROR(MATCH(TRIM($G1158),'Transparency List 2018_04'!$D:$D,0),FALSE)),\"On the 2018_04 List\",\"-\")","v":"-"},{"$f":"IF(OR(IFERROR(MATCH($D1158,'Transparency List 2017'!$L:$L,0),FALSE),IFERROR(MATCH(TRIM($G1158),'Transparency List 2017'!$C:$C,0),FALSE)),\"On the 2017 List\",\"-\")","v":"-"},{"$f":"IF(OR(IFERROR(MATCH($D1158,'Transparency List 2015'!$H:$H,0),FALSE),IFERROR(MATCH(TRIM($G1158),'Transparency List 2015'!$C:$C,0),FALSE)),\"On the 2015 List\",\"-\")","v":"-"}]
[null,null,4,"",null,null,null,"-",{"$f":"IF(OR(IFERROR(MATCH($D1159,'Transparency List 2018_10'!$L:$L,0),FALSE),IFERROR(MATCH(TRIM($G1159),'Transparency List 2018_10'!$D:$D,0),FALSE)),\"On the 2018_10 List\",\"-\")","v":"-"},{"$f":"IF(OR(IFERROR(MATCH($D1159,'Transparency List 2018_04'!$L:$L,0),FALSE),IFERROR(MATCH(TRIM($G1159),'Transparency List 2018_04'!$D:$D,0),FALSE)),\"On the 2018_04 List\",\"-\")","v":"-"},{"$f":"IF(OR(IFERROR(MATCH($D1159,'Transparency List 2017'!$L:$L,0),FALSE),IFERROR(MATCH(TRIM($G1159),'Transparency List 2017'!$C:$C,0),FALSE)),\"On the 2017 List\",\"-\")","v":"-"},{"$f":"IF(OR(IFERROR(MATCH($D1159,'Transparency List 2015'!$H:$H,0),FALSE),IFERROR(MATCH(TRIM($G1159),'Transparency List 2015'!$C:$C,0),FALSE)),\"On the 2015 List\",\"-\")","v":"-"}]
[null,null,4,"",null,null,null,"-",{"$f":"IF(OR(IFERROR(MATCH($D1160,'Transparency List 2018_10'!$L:$L,0),FALSE),IFERROR(MATCH(TRIM($G1160),'Transparency List 2018_10'!$D:$D,0),FALSE)),\"On the 2018_10 List\",\"-\")","v":"-"},{"$f":"IF(OR(IFERROR(MATCH($D1160,'Transparency List 2018_04'!$L:$L,0),FALSE),IFERROR(MATCH(TRIM($G1160),'Transparency List 2018_04'!$D:$D,0),FALSE)),\"On the 2018_04 List\",\"-\")","v":"-"},{"$f":"IF(OR(IFERROR(MATCH($D1160,'Transparency List 2017'!$L:$L,0),FALSE),IFERROR(MATCH(TRIM($G1160),'Transparency List 2017'!$C:$C,0),FALSE)),\"On the 2017 List\",\"-\")","v":"-"},{"$f":"IF(OR(IFERROR(MATCH($D1160,'Transparency List 2015'!$H:$H,0),FALSE),IFERROR(MATCH(TRIM($G1160),'Transparency List 2015'!$C:$C,0),FALSE)),\"On the 2015 List\",\"-\")","v":"-"}]
[null,null,4,"",null,null,null,"-",{"$f":"IF(OR(IFERROR(MATCH($D1161,'Transparency List 2018_10'!$L:$L,0),FALSE),IFERROR(MATCH(TRIM($G1161),'Transparency List 2018_10'!$D:$D,0),FALSE)),\"On the 2018_10 List\",\"-\")","v":"-"},{"$f":"IF(OR(IFERROR(MATCH($D1161,'Transparency List 2018_04'!$L:$L,0),FALSE),IFERROR(MATCH(TRIM($G1161),'Transparency List 2018_04'!$D:$D,0),FALSE)),\"On the 2018_04 List\",\"-\")","v":"-"},{"$f":"IF(OR(IFERROR(MATCH($D1161,'Transparency List 2017'!$L:$L,0),FALSE),IFERROR(MATCH(TRIM($G1161),'Transparency List 2017'!$C:$C,0),FALSE)),\"On the 2017 List\",\"-\")","v":"-"},{"$f":"IF(OR(IFERROR(MATCH($D1161,'Transparency List 2015'!$H:$H,0),FALSE),IFERROR(MATCH(TRIM($G1161),'Transparency List 2015'!$C:$C,0),FALSE)),\"On the 2015 List\",\"-\")","v":"-"}]
[null,null,4,"",null,null,null,"-",{"$f":"IF(OR(IFERROR(MATCH($D1162,'Transparency List 2018_10'!$L:$L,0),FALSE),IFERROR(MATCH(TRIM($G1162),'Transparency List 2018_10'!$D:$D,0),FALSE)),\"On the 2018_10 List\",\"-\")","v":"-"},{"$f":"IF(OR(IFERROR(MATCH($D1162,'Transparency List 2018_04'!$L:$L,0),FALSE),IFERROR(MATCH(TRIM($G1162),'Transparency List 2018_04'!$D:$D,0),FALSE)),\"On the 2018_04 List\",\"-\")","v":"-"},{"$f":"IF(OR(IFERROR(MATCH($D1162,'Transparency List 2017'!$L:$L,0),FALSE),IFERROR(MATCH(TRIM($G1162),'Transparency List 2017'!$C:$C,0),FALSE)),\"On the 2017 List\",\"-\")","v":"-"},{"$f":"IF(OR(IFERROR(MATCH($D1162,'Transparency List 2015'!$H:$H,0),FALSE),IFERROR(MATCH(TRIM($G1162),'Transparency List 2015'!$C:$C,0),FALSE)),\"On the 2015 List\",\"-\")","v":"-"}]
[null,null,4,"",null,null,null,"-",{"$f":"IF(OR(IFERROR(MATCH($D1163,'Transparency List 2018_10'!$L:$L,0),FALSE),IFERROR(MATCH(TRIM($G1163),'Transparency List 2018_10'!$D:$D,0),FALSE)),\"On the 2018_10 List\",\"-\")","v":"-"},{"$f":"IF(OR(IFERROR(MATCH($D1163,'Transparency List 2018_04'!$L:$L,0),FALSE),IFERROR(MATCH(TRIM($G1163),'Transparency List 2018_04'!$D:$D,0),FALSE)),\"On the 2018_04 List\",\"-\")","v":"-"},{"$f":"IF(OR(IFERROR(MATCH($D1163,'Transparency List 2017'!$L:$L,0),FALSE),IFERROR(MATCH(TRIM($G1163),'Transparency List 2017'!$C:$C,0),FALSE)),\"On the 2017 List\",\"-\")","v":"-"},{"$f":"IF(OR(IFERROR(MATCH($D1163,'Transparency List 2015'!$H:$H,0),FALSE),IFERROR(MATCH(TRIM($G1163),'Transparency List 2015'!$C:$C,0),FALSE)),\"On the 2015 List\",\"-\")","v":"-"}]
[null,null,4,"",null,null,null,"-",{"$f":"IF(OR(IFERROR(MATCH($D1164,'Transparency List 2018_10'!$L:$L,0),FALSE),IFERROR(MATCH(TRIM($G1164),'Transparency List 2018_10'!$D:$D,0),FALSE)),\"On the 2018_10 List\",\"-\")","v":"-"},{"$f":"IF(OR(IFERROR(MATCH($D1164,'Transparency List 2018_04'!$L:$L,0),FALSE),IFERROR(MATCH(TRIM($G1164),'Transparency List 2018_04'!$D:$D,0),FALSE)),\"On the 2018_04 List\",\"-\")","v":"-"},{"$f":"IF(OR(IFERROR(MATCH($D1164,'Transparency List 2017'!$L:$L,0),FALSE),IFERROR(MATCH(TRIM($G1164),'Transparency List 2017'!$C:$C,0),FALSE)),\"On the 2017 List\",\"-\")","v":"-"},{"$f":"IF(OR(IFERROR(MATCH($D1164,'Transparency List 2015'!$H:$H,0),FALSE),IFERROR(MATCH(TRIM($G1164),'Transparency List 2015'!$C:$C,0),FALSE)),\"On the 2015 List\",\"-\")","v":"-"}]
[null,null,4,"",null,null,null,"-",{"$f":"IF(OR(IFERROR(MATCH($D1165,'Transparency List 2018_10'!$L:$L,0),FALSE),IFERROR(MATCH(TRIM($G1165),'Transparency List 2018_10'!$D:$D,0),FALSE)),\"On the 2018_10 List\",\"-\")","v":"-"},{"$f":"IF(OR(IFERROR(MATCH($D1165,'Transparency List 2018_04'!$L:$L,0),FALSE),IFERROR(MATCH(TRIM($G1165),'Transparency List 2018_04'!$D:$D,0),FALSE)),\"On the 2018_04 List\",\"-\")","v":"-"},{"$f":"IF(OR(IFERROR(MATCH($D1165,'Transparency List 2017'!$L:$L,0),FALSE),IFERROR(MATCH(TRIM($G1165),'Transparency List 2017'!$C:$C,0),FALSE)),\"On the 2017 List\",\"-\")","v":"-"},{"$f":"IF(OR(IFERROR(MATCH($D1165,'Transparency List 2015'!$H:$H,0),FALSE),IFERROR(MATCH(TRIM($G1165),'Transparency List 2015'!$C:$C,0),FALSE)),\"On the 2015 List\",\"-\")","v":"-"}]
[null,null,4,"",null,null,null,"-",{"$f":"IF(OR(IFERROR(MATCH($D1166,'Transparency List 2018_10'!$L:$L,0),FALSE),IFERROR(MATCH(TRIM($G1166),'Transparency List 2018_10'!$D:$D,0),FALSE)),\"On the 2018_10 List\",\"-\")","v":"-"},{"$f":"IF(OR(IFERROR(MATCH($D1166,'Transparency List 2018_04'!$L:$L,0),FALSE),IFERROR(MATCH(TRIM($G1166),'Transparency List 2018_04'!$D:$D,0),FALSE)),\"On the 2018_04 List\",\"-\")","v":"-"},{"$f":"IF(OR(IFERROR(MATCH($D1166,'Transparency List 2017'!$L:$L,0),FALSE),IFERROR(MATCH(TRIM($G1166),'Transparency List 2017'!$C:$C,0),FALSE)),\"On the 2017 List\",\"-\")","v":"-"},{"$f":"IF(OR(IFERROR(MATCH($D1166,'Transparency List 2015'!$H:$H,0),FALSE),IFERROR(MATCH(TRIM($G1166),'Transparency List 2015'!$C:$C,0),FALSE)),\"On the 2015 List\",\"-\")","v":"-"}]
[null,null,4,"",null,null,null,"-",{"$f":"IF(OR(IFERROR(MATCH($D1167,'Transparency List 2018_10'!$L:$L,0),FALSE),IFERROR(MATCH(TRIM($G1167),'Transparency List 2018_10'!$D:$D,0),FALSE)),\"On the 2018_10 List\",\"-\")","v":"-"},{"$f":"IF(OR(IFERROR(MATCH($D1167,'Transparency List 2018_04'!$L:$L,0),FALSE),IFERROR(MATCH(TRIM($G1167),'Transparency List 2018_04'!$D:$D,0),FALSE)),\"On the 2018_04 List\",\"-\")","v":"-"},{"$f":"IF(OR(IFERROR(MATCH($D1167,'Transparency List 2017'!$L:$L,0),FALSE),IFERROR(MATCH(TRIM($G1167),'Transparency List 2017'!$C:$C,0),FALSE)),\"On the 2017 List\",\"-\")","v":"-"},{"$f":"IF(OR(IFERROR(MATCH($D1167,'Transparency List 2015'!$H:$H,0),FALSE),IFERROR(MATCH(TRIM($G1167),'Transparency List 2015'!$C:$C,0),FALSE)),\"On the 2015 List\",\"-\")","v":"-"}]
[null,null,4,"",null,null,null,"-",{"$f":"IF(OR(IFERROR(MATCH($D1168,'Transparency List 2018_10'!$L:$L,0),FALSE),IFERROR(MATCH(TRIM($G1168),'Transparency List 2018_10'!$D:$D,0),FALSE)),\"On the 2018_10 List\",\"-\")","v":"-"},{"$f":"IF(OR(IFERROR(MATCH($D1168,'Transparency List 2018_04'!$L:$L,0),FALSE),IFERROR(MATCH(TRIM($G1168),'Transparency List 2018_04'!$D:$D,0),FALSE)),\"On the 2018_04 List\",\"-\")","v":"-"},{"$f":"IF(OR(IFERROR(MATCH($D1168,'Transparency List 2017'!$L:$L,0),FALSE),IFERROR(MATCH(TRIM($G1168),'Transparency List 2017'!$C:$C,0),FALSE)),\"On the 2017 List\",\"-\")","v":"-"},{"$f":"IF(OR(IFERROR(MATCH($D1168,'Transparency List 2015'!$H:$H,0),FALSE),IFERROR(MATCH(TRIM($G1168),'Transparency List 2015'!$C:$C,0),FALSE)),\"On the 2015 List\",\"-\")","v":"-"}]
[null,null,4,"",null,null,null,"-",{"$f":"IF(OR(IFERROR(MATCH($D1169,'Transparency List 2018_10'!$L:$L,0),FALSE),IFERROR(MATCH(TRIM($G1169),'Transparency List 2018_10'!$D:$D,0),FALSE)),\"On the 2018_10 List\",\"-\")","v":"-"},{"$f":"IF(OR(IFERROR(MATCH($D1169,'Transparency List 2018_04'!$L:$L,0),FALSE),IFERROR(MATCH(TRIM($G1169),'Transparency List 2018_04'!$D:$D,0),FALSE)),\"On the 2018_04 List\",\"-\")","v":"-"},{"$f":"IF(OR(IFERROR(MATCH($D1169,'Transparency List 2017'!$L:$L,0),FALSE),IFERROR(MATCH(TRIM($G1169),'Transparency List 2017'!$C:$C,0),FALSE)),\"On the 2017 List\",\"-\")","v":"-"},{"$f":"IF(OR(IFERROR(MATCH($D1169,'Transparency List 2015'!$H:$H,0),FALSE),IFERROR(MATCH(TRIM($G1169),'Transparency List 2015'!$C:$C,0),FALSE)),\"On the 2015 List\",\"-\")","v":"-"}]
[null,null,4,"",null,null,null,"-",{"$f":"IF(OR(IFERROR(MATCH($D1170,'Transparency List 2018_10'!$L:$L,0),FALSE),IFERROR(MATCH(TRIM($G1170),'Transparency List 2018_10'!$D:$D,0),FALSE)),\"On the 2018_10 List\",\"-\")","v":"-"},{"$f":"IF(OR(IFERROR(MATCH($D1170,'Transparency List 2018_04'!$L:$L,0),FALSE),IFERROR(MATCH(TRIM($G1170),'Transparency List 2018_04'!$D:$D,0),FALSE)),\"On the 2018_04 List\",\"-\")","v":"-"},{"$f":"IF(OR(IFERROR(MATCH($D1170,'Transparency List 2017'!$L:$L,0),FALSE),IFERROR(MATCH(TRIM($G1170),'Transparency List 2017'!$C:$C,0),FALSE)),\"On the 2017 List\",\"-\")","v":"-"},{"$f":"IF(OR(IFERROR(MATCH($D1170,'Transparency List 2015'!$H:$H,0),FALSE),IFERROR(MATCH(TRIM($G1170),'Transparency List 2015'!$C:$C,0),FALSE)),\"On the 2015 List\",\"-\")","v":"-"}]
[null,null,4,"",null,null,null,"-",{"$f":"IF(OR(IFERROR(MATCH($D1171,'Transparency List 2018_10'!$L:$L,0),FALSE),IFERROR(MATCH(TRIM($G1171),'Transparency List 2018_10'!$D:$D,0),FALSE)),\"On the 2018_10 List\",\"-\")","v":"-"},{"$f":"IF(OR(IFERROR(MATCH($D1171,'Transparency List 2018_04'!$L:$L,0),FALSE),IFERROR(MATCH(TRIM($G1171),'Transparency List 2018_04'!$D:$D,0),FALSE)),\"On the 2018_04 List\",\"-\")","v":"-"},{"$f":"IF(OR(IFERROR(MATCH($D1171,'Transparency List 2017'!$L:$L,0),FALSE),IFERROR(MATCH(TRIM($G1171),'Transparency List 2017'!$C:$C,0),FALSE)),\"On the 2017 List\",\"-\")","v":"-"},{"$f":"IF(OR(IFERROR(MATCH($D1171,'Transparency List 2015'!$H:$H,0),FALSE),IFERROR(MATCH(TRIM($G1171),'Transparency List 2015'!$C:$C,0),FALSE)),\"On the 2015 List\",\"-\")","v":"-"}]
[null,null,4,"",null,null,null,"-",{"$f":"IF(OR(IFERROR(MATCH($D1172,'Transparency List 2018_10'!$L:$L,0),FALSE),IFERROR(MATCH(TRIM($G1172),'Transparency List 2018_10'!$D:$D,0),FALSE)),\"On the 2018_10 List\",\"-\")","v":"-"},{"$f":"IF(OR(IFERROR(MATCH($D1172,'Transparency List 2018_04'!$L:$L,0),FALSE),IFERROR(MATCH(TRIM($G1172),'Transparency List 2018_04'!$D:$D,0),FALSE)),\"On the 2018_04 List\",\"-\")","v":"-"},{"$f":"IF(OR(IFERROR(MATCH($D1172,'Transparency List 2017'!$L:$L,0),FALSE),IFERROR(MATCH(TRIM($G1172),'Transparency List 2017'!$C:$C,0),FALSE)),\"On the 2017 List\",\"-\")","v":"-"},{"$f":"IF(OR(IFERROR(MATCH($D1172,'Transparency List 2015'!$H:$H,0),FALSE),IFERROR(MATCH(TRIM($G1172),'Transparency List 2015'!$C:$C,0),FALSE)),\"On the 2015 List\",\"-\")","v":"-"}]
[null,null,4,"",null,null,null,"-",{"$f":"IF(OR(IFERROR(MATCH($D1173,'Transparency List 2018_10'!$L:$L,0),FALSE),IFERROR(MATCH(TRIM($G1173),'Transparency List 2018_10'!$D:$D,0),FALSE)),\"On the 2018_10 List\",\"-\")","v":"-"},{"$f":"IF(OR(IFERROR(MATCH($D1173,'Transparency List 2018_04'!$L:$L,0),FALSE),IFERROR(MATCH(TRIM($G1173),'Transparency List 2018_04'!$D:$D,0),FALSE)),\"On the 2018_04 List\",\"-\")","v":"-"},{"$f":"IF(OR(IFERROR(MATCH($D1173,'Transparency List 2017'!$L:$L,0),FALSE),IFERROR(MATCH(TRIM($G1173),'Transparency List 2017'!$C:$C,0),FALSE)),\"On the 2017 List\",\"-\")","v":"-"},{"$f":"IF(OR(IFERROR(MATCH($D1173,'Transparency List 2015'!$H:$H,0),FALSE),IFERROR(MATCH(TRIM($G1173),'Transparency List 2015'!$C:$C,0),FALSE)),\"On the 2015 List\",\"-\")","v":"-"}]
[null,null,4,"",null,null,null,"-",{"$f":"IF(OR(IFERROR(MATCH($D1174,'Transparency List 2018_10'!$L:$L,0),FALSE),IFERROR(MATCH(TRIM($G1174),'Transparency List 2018_10'!$D:$D,0),FALSE)),\"On the 2018_10 List\",\"-\")","v":"-"},{"$f":"IF(OR(IFERROR(MATCH($D1174,'Transparency List 2018_04'!$L:$L,0),FALSE),IFERROR(MATCH(TRIM($G1174),'Transparency List 2018_04'!$D:$D,0),FALSE)),\"On the 2018_04 List\",\"-\")","v":"-"},{"$f":"IF(OR(IFERROR(MATCH($D1174,'Transparency List 2017'!$L:$L,0),FALSE),IFERROR(MATCH(TRIM($G1174),'Transparency List 2017'!$C:$C,0),FALSE)),\"On the 2017 List\",\"-\")","v":"-"},{"$f":"IF(OR(IFERROR(MATCH($D1174,'Transparency List 2015'!$H:$H,0),FALSE),IFERROR(MATCH(TRIM($G1174),'Transparency List 2015'!$C:$C,0),FALSE)),\"On the 2015 List\",\"-\")","v":"-"}]
[null,null,4,"",null,null,null,"-",{"$f":"IF(OR(IFERROR(MATCH($D1175,'Transparency List 2018_10'!$L:$L,0),FALSE),IFERROR(MATCH(TRIM($G1175),'Transparency List 2018_10'!$D:$D,0),FALSE)),\"On the 2018_10 List\",\"-\")","v":"-"},{"$f":"IF(OR(IFERROR(MATCH($D1175,'Transparency List 2018_04'!$L:$L,0),FALSE),IFERROR(MATCH(TRIM($G1175),'Transparency List 2018_04'!$D:$D,0),FALSE)),\"On the 2018_04 List\",\"-\")","v":"-"},{"$f":"IF(OR(IFERROR(MATCH($D1175,'Transparency List 2017'!$L:$L,0),FALSE),IFERROR(MATCH(TRIM($G1175),'Transparency List 2017'!$C:$C,0),FALSE)),\"On the 2017 List\",\"-\")","v":"-"},{"$f":"IF(OR(IFERROR(MATCH($D1175,'Transparency List 2015'!$H:$H,0),FALSE),IFERROR(MATCH(TRIM($G1175),'Transparency List 2015'!$C:$C,0),FALSE)),\"On the 2015 List\",\"-\")","v":"-"}]
[null,null,4,"",null,null,null,"-",{"$f":"IF(OR(IFERROR(MATCH($D1176,'Transparency List 2018_10'!$L:$L,0),FALSE),IFERROR(MATCH(TRIM($G1176),'Transparency List 2018_10'!$D:$D,0),FALSE)),\"On the 2018_10 List\",\"-\")","v":"-"},{"$f":"IF(OR(IFERROR(MATCH($D1176,'Transparency List 2018_04'!$L:$L,0),FALSE),IFERROR(MATCH(TRIM($G1176),'Transparency List 2018_04'!$D:$D,0),FALSE)),\"On the 2018_04 List\",\"-\")","v":"-"},{"$f":"IF(OR(IFERROR(MATCH($D1176,'Transparency List 2017'!$L:$L,0),FALSE),IFERROR(MATCH(TRIM($G1176),'Transparency List 2017'!$C:$C,0),FALSE)),\"On the 2017 List\",\"-\")","v":"-"},{"$f":"IF(OR(IFERROR(MATCH($D1176,'Transparency List 2015'!$H:$H,0),FALSE),IFERROR(MATCH(TRIM($G1176),'Transparency List 2015'!$C:$C,0),FALSE)),\"On the 2015 List\",\"-\")","v":"-"}]
[null,null,4,"",null,null,null,"-",{"$f":"IF(OR(IFERROR(MATCH($D1177,'Transparency List 2018_10'!$L:$L,0),FALSE),IFERROR(MATCH(TRIM($G1177),'Transparency List 2018_10'!$D:$D,0),FALSE)),\"On the 2018_10 List\",\"-\")","v":"-"},{"$f":"IF(OR(IFERROR(MATCH($D1177,'Transparency List 2018_04'!$L:$L,0),FALSE),IFERROR(MATCH(TRIM($G1177),'Transparency List 2018_04'!$D:$D,0),FALSE)),\"On the 2018_04 List\",\"-\")","v":"-"},{"$f":"IF(OR(IFERROR(MATCH($D1177,'Transparency List 2017'!$L:$L,0),FALSE),IFERROR(MATCH(TRIM($G1177),'Transparency List 2017'!$C:$C,0),FALSE)),\"On the 2017 List\",\"-\")","v":"-"},{"$f":"IF(OR(IFERROR(MATCH($D1177,'Transparency List 2015'!$H:$H,0),FALSE),IFERROR(MATCH(TRIM($G1177),'Transparency List 2015'!$C:$C,0),FALSE)),\"On the 2015 List\",\"-\")","v":"-"}]
[null,null,4,"",null,null,null,"-",{"$f":"IF(OR(IFERROR(MATCH($D1178,'Transparency List 2018_10'!$L:$L,0),FALSE),IFERROR(MATCH(TRIM($G1178),'Transparency List 2018_10'!$D:$D,0),FALSE)),\"On the 2018_10 List\",\"-\")","v":"-"},{"$f":"IF(OR(IFERROR(MATCH($D1178,'Transparency List 2018_04'!$L:$L,0),FALSE),IFERROR(MATCH(TRIM($G1178),'Transparency List 2018_04'!$D:$D,0),FALSE)),\"On the 2018_04 List\",\"-\")","v":"-"},{"$f":"IF(OR(IFERROR(MATCH($D1178,'Transparency List 2017'!$L:$L,0),FALSE),IFERROR(MATCH(TRIM($G1178),'Transparency List 2017'!$C:$C,0),FALSE)),\"On the 2017 List\",\"-\")","v":"-"},{"$f":"IF(OR(IFERROR(MATCH($D1178,'Transparency List 2015'!$H:$H,0),FALSE),IFERROR(MATCH(TRIM($G1178),'Transparency List 2015'!$C:$C,0),FALSE)),\"On the 2015 List\",\"-\")","v":"-"}]
[null,null,4,"",null,null,null,"-",{"$f":"IF(OR(IFERROR(MATCH($D1179,'Transparency List 2018_10'!$L:$L,0),FALSE),IFERROR(MATCH(TRIM($G1179),'Transparency List 2018_10'!$D:$D,0),FALSE)),\"On the 2018_10 List\",\"-\")","v":"-"},{"$f":"IF(OR(IFERROR(MATCH($D1179,'Transparency List 2018_04'!$L:$L,0),FALSE),IFERROR(MATCH(TRIM($G1179),'Transparency List 2018_04'!$D:$D,0),FALSE)),\"On the 2018_04 List\",\"-\")","v":"-"},{"$f":"IF(OR(IFERROR(MATCH($D1179,'Transparency List 2017'!$L:$L,0),FALSE),IFERROR(MATCH(TRIM($G1179),'Transparency List 2017'!$C:$C,0),FALSE)),\"On the 2017 List\",\"-\")","v":"-"},{"$f":"IF(OR(IFERROR(MATCH($D1179,'Transparency List 2015'!$H:$H,0),FALSE),IFERROR(MATCH(TRIM($G1179),'Transparency List 2015'!$C:$C,0),FALSE)),\"On the 2015 List\",\"-\")","v":"-"}]
[null,null,4,"",null,null,null,"-",{"$f":"IF(OR(IFERROR(MATCH($D1180,'Transparency List 2018_10'!$L:$L,0),FALSE),IFERROR(MATCH(TRIM($G1180),'Transparency List 2018_10'!$D:$D,0),FALSE)),\"On the 2018_10 List\",\"-\")","v":"-"},{"$f":"IF(OR(IFERROR(MATCH($D1180,'Transparency List 2018_04'!$L:$L,0),FALSE),IFERROR(MATCH(TRIM($G1180),'Transparency List 2018_04'!$D:$D,0),FALSE)),\"On the 2018_04 List\",\"-\")","v":"-"},{"$f":"IF(OR(IFERROR(MATCH($D1180,'Transparency List 2017'!$L:$L,0),FALSE),IFERROR(MATCH(TRIM($G1180),'Transparency List 2017'!$C:$C,0),FALSE)),\"On the 2017 List\",\"-\")","v":"-"},{"$f":"IF(OR(IFERROR(MATCH($D1180,'Transparency List 2015'!$H:$H,0),FALSE),IFERROR(MATCH(TRIM($G1180),'Transparency List 2015'!$C:$C,0),FALSE)),\"On the 2015 List\",\"-\")","v":"-"}]
[null,null,4,"",null,null,null,"-",{"$f":"IF(OR(IFERROR(MATCH($D1181,'Transparency List 2018_10'!$L:$L,0),FALSE),IFERROR(MATCH(TRIM($G1181),'Transparency List 2018_10'!$D:$D,0),FALSE)),\"On the 2018_10 List\",\"-\")","v":"-"},{"$f":"IF(OR(IFERROR(MATCH($D1181,'Transparency List 2018_04'!$L:$L,0),FALSE),IFERROR(MATCH(TRIM($G1181),'Transparency List 2018_04'!$D:$D,0),FALSE)),\"On the 2018_04 List\",\"-\")","v":"-"},{"$f":"IF(OR(IFERROR(MATCH($D1181,'Transparency List 2017'!$L:$L,0),FALSE),IFERROR(MATCH(TRIM($G1181),'Transparency List 2017'!$C:$C,0),FALSE)),\"On the 2017 List\",\"-\")","v":"-"},{"$f":"IF(OR(IFERROR(MATCH($D1181,'Transparency List 2015'!$H:$H,0),FALSE),IFERROR(MATCH(TRIM($G1181),'Transparency List 2015'!$C:$C,0),FALSE)),\"On the 2015 List\",\"-\")","v":"-"}]
[null,null,4,"",null,null,null,"-",{"$f":"IF(OR(IFERROR(MATCH($D1182,'Transparency List 2018_10'!$L:$L,0),FALSE),IFERROR(MATCH(TRIM($G1182),'Transparency List 2018_10'!$D:$D,0),FALSE)),\"On the 2018_10 List\",\"-\")","v":"-"},{"$f":"IF(OR(IFERROR(MATCH($D1182,'Transparency List 2018_04'!$L:$L,0),FALSE),IFERROR(MATCH(TRIM($G1182),'Transparency List 2018_04'!$D:$D,0),FALSE)),\"On the 2018_04 List\",\"-\")","v":"-"},{"$f":"IF(OR(IFERROR(MATCH($D1182,'Transparency List 2017'!$L:$L,0),FALSE),IFERROR(MATCH(TRIM($G1182),'Transparency List 2017'!$C:$C,0),FALSE)),\"On the 2017 List\",\"-\")","v":"-"},{"$f":"IF(OR(IFERROR(MATCH($D1182,'Transparency List 2015'!$H:$H,0),FALSE),IFERROR(MATCH(TRIM($G1182),'Transparency List 2015'!$C:$C,0),FALSE)),\"On the 2015 List\",\"-\")","v":"-"}]
[null,null,{"$f":"COUNTIF($I1183:$L1183,\"-\")","v":4},{"$f":"SUBSTITUTE(SUBSTITUTE(SUBSTITUTE(SUBSTITUTE($G1183,\" \",\"\"),\".\",\"\"),\"-\",\"\"),\"/\",\"\")","v":""},null,null,null,{"$f":"IFERROR(IF($C1183=4,\"-\",\"Risk Farmer - Please conduct further steps\"),)","v":"-"},{"$f":"IF(OR(IFERROR(MATCH($D1183,'Transparency List 2018_10'!$L:$L,0),FALSE),IFERROR(MATCH(TRIM($G1183),'Transparency List 2018_10'!$D:$D,0),FALSE)),\"On the 2018_10 List\",\"-\")","v":"-"},{"$f":"IF(OR(IFERROR(MATCH($D1183,'Transparency List 2018_04'!$L:$L,0),FALSE),IFERROR(MATCH(TRIM($G1183),'Transparency List 2018_04'!$D:$D,0),FALSE)),\"On the 2018_04 List\",\"-\")","v":"-"},{"$f":"IF(OR(IFERROR(MATCH($D1183,'Transparency List 2017'!$L:$L,0),FALSE),IFERROR(MATCH(TRIM($G1183),'Transparency List 2017'!$C:$C,0),FALSE)),\"On the 2017 List\",\"-\")","v":"-"},{"$f":"IF(OR(IFERROR(MATCH($D1183,'Transparency List 2015'!$H:$H,0),FALSE),IFERROR(MATCH(TRIM($G1183),'Transparency List 2015'!$C:$C,0),FALSE)),\"On the 2015 List\",\"-\")","v":"-"}]
[null,null,4,"",null,null,null,"-",{"$f":"IF(OR(IFERROR(MATCH($D1184,'Transparency List 2018_10'!$L:$L,0),FALSE),IFERROR(MATCH(TRIM($G1184),'Transparency List 2018_10'!$D:$D,0),FALSE)),\"On the 2018_10 List\",\"-\")","v":"-"},{"$f":"IF(OR(IFERROR(MATCH($D1184,'Transparency List 2018_04'!$L:$L,0),FALSE),IFERROR(MATCH(TRIM($G1184),'Transparency List 2018_04'!$D:$D,0),FALSE)),\"On the 2018_04 List\",\"-\")","v":"-"},{"$f":"IF(OR(IFERROR(MATCH($D1184,'Transparency List 2017'!$L:$L,0),FALSE),IFERROR(MATCH(TRIM($G1184),'Transparency List 2017'!$C:$C,0),FALSE)),\"On the 2017 List\",\"-\")","v":"-"},{"$f":"IF(OR(IFERROR(MATCH($D1184,'Transparency List 2015'!$H:$H,0),FALSE),IFERROR(MATCH(TRIM($G1184),'Transparency List 2015'!$C:$C,0),FALSE)),\"On the 2015 List\",\"-\")","v":"-"}]
[null,null,4,"",null,null,null,"-",{"$f":"IF(OR(IFERROR(MATCH($D1185,'Transparency List 2018_10'!$L:$L,0),FALSE),IFERROR(MATCH(TRIM($G1185),'Transparency List 2018_10'!$D:$D,0),FALSE)),\"On the 2018_10 List\",\"-\")","v":"-"},{"$f":"IF(OR(IFERROR(MATCH($D1185,'Transparency List 2018_04'!$L:$L,0),FALSE),IFERROR(MATCH(TRIM($G1185),'Transparency List 2018_04'!$D:$D,0),FALSE)),\"On the 2018_04 List\",\"-\")","v":"-"},{"$f":"IF(OR(IFERROR(MATCH($D1185,'Transparency List 2017'!$L:$L,0),FALSE),IFERROR(MATCH(TRIM($G1185),'Transparency List 2017'!$C:$C,0),FALSE)),\"On the 2017 List\",\"-\")","v":"-"},{"$f":"IF(OR(IFERROR(MATCH($D1185,'Transparency List 2015'!$H:$H,0),FALSE),IFERROR(MATCH(TRIM($G1185),'Transparency List 2015'!$C:$C,0),FALSE)),\"On the 2015 List\",\"-\")","v":"-"}]
[null,null,4,"",null,null,null,"-",{"$f":"IF(OR(IFERROR(MATCH($D1186,'Transparency List 2018_10'!$L:$L,0),FALSE),IFERROR(MATCH(TRIM($G1186),'Transparency List 2018_10'!$D:$D,0),FALSE)),\"On the 2018_10 List\",\"-\")","v":"-"},{"$f":"IF(OR(IFERROR(MATCH($D1186,'Transparency List 2018_04'!$L:$L,0),FALSE),IFERROR(MATCH(TRIM($G1186),'Transparency List 2018_04'!$D:$D,0),FALSE)),\"On the 2018_04 List\",\"-\")","v":"-"},{"$f":"IF(OR(IFERROR(MATCH($D1186,'Transparency List 2017'!$L:$L,0),FALSE),IFERROR(MATCH(TRIM($G1186),'Transparency List 2017'!$C:$C,0),FALSE)),\"On the 2017 List\",\"-\")","v":"-"},{"$f":"IF(OR(IFERROR(MATCH($D1186,'Transparency List 2015'!$H:$H,0),FALSE),IFERROR(MATCH(TRIM($G1186),'Transparency List 2015'!$C:$C,0),FALSE)),\"On the 2015 List\",\"-\")","v":"-"}]
[null,null,4,"",null,null,null,"-",{"$f":"IF(OR(IFERROR(MATCH($D1187,'Transparency List 2018_10'!$L:$L,0),FALSE),IFERROR(MATCH(TRIM($G1187),'Transparency List 2018_10'!$D:$D,0),FALSE)),\"On the 2018_10 List\",\"-\")","v":"-"},{"$f":"IF(OR(IFERROR(MATCH($D1187,'Transparency List 2018_04'!$L:$L,0),FALSE),IFERROR(MATCH(TRIM($G1187),'Transparency List 2018_04'!$D:$D,0),FALSE)),\"On the 2018_04 List\",\"-\")","v":"-"},{"$f":"IF(OR(IFERROR(MATCH($D1187,'Transparency List 2017'!$L:$L,0),FALSE),IFERROR(MATCH(TRIM($G1187),'Transparency List 2017'!$C:$C,0),FALSE)),\"On the 2017 List\",\"-\")","v":"-"},{"$f":"IF(OR(IFERROR(MATCH($D1187,'Transparency List 2015'!$H:$H,0),FALSE),IFERROR(MATCH(TRIM($G1187),'Transparency List 2015'!$C:$C,0),FALSE)),\"On the 2015 List\",\"-\")","v":"-"}]
[null,null,4,"",null,null,null,"-",{"$f":"IF(OR(IFERROR(MATCH($D1188,'Transparency List 2018_10'!$L:$L,0),FALSE),IFERROR(MATCH(TRIM($G1188),'Transparency List 2018_10'!$D:$D,0),FALSE)),\"On the 2018_10 List\",\"-\")","v":"-"},{"$f":"IF(OR(IFERROR(MATCH($D1188,'Transparency List 2018_04'!$L:$L,0),FALSE),IFERROR(MATCH(TRIM($G1188),'Transparency List 2018_04'!$D:$D,0),FALSE)),\"On the 2018_04 List\",\"-\")","v":"-"},{"$f":"IF(OR(IFERROR(MATCH($D1188,'Transparency List 2017'!$L:$L,0),FALSE),IFERROR(MATCH(TRIM($G1188),'Transparency List 2017'!$C:$C,0),FALSE)),\"On the 2017 List\",\"-\")","v":"-"},{"$f":"IF(OR(IFERROR(MATCH($D1188,'Transparency List 2015'!$H:$H,0),FALSE),IFERROR(MATCH(TRIM($G1188),'Transparency List 2015'!$C:$C,0),FALSE)),\"On the 2015 List\",\"-\")","v":"-"}]
[null,null,4,"",null,null,null,"-",{"$f":"IF(OR(IFERROR(MATCH($D1189,'Transparency List 2018_10'!$L:$L,0),FALSE),IFERROR(MATCH(TRIM($G1189),'Transparency List 2018_10'!$D:$D,0),FALSE)),\"On the 2018_10 List\",\"-\")","v":"-"},{"$f":"IF(OR(IFERROR(MATCH($D1189,'Transparency List 2018_04'!$L:$L,0),FALSE),IFERROR(MATCH(TRIM($G1189),'Transparency List 2018_04'!$D:$D,0),FALSE)),\"On the 2018_04 List\",\"-\")","v":"-"},{"$f":"IF(OR(IFERROR(MATCH($D1189,'Transparency List 2017'!$L:$L,0),FALSE),IFERROR(MATCH(TRIM($G1189),'Transparency List 2017'!$C:$C,0),FALSE)),\"On the 2017 List\",\"-\")","v":"-"},{"$f":"IF(OR(IFERROR(MATCH($D1189,'Transparency List 2015'!$H:$H,0),FALSE),IFERROR(MATCH(TRIM($G1189),'Transparency List 2015'!$C:$C,0),FALSE)),\"On the 2015 List\",\"-\")","v":"-"}]
[null,null,4,"",null,null,null,"-",{"$f":"IF(OR(IFERROR(MATCH($D1190,'Transparency List 2018_10'!$L:$L,0),FALSE),IFERROR(MATCH(TRIM($G1190),'Transparency List 2018_10'!$D:$D,0),FALSE)),\"On the 2018_10 List\",\"-\")","v":"-"},{"$f":"IF(OR(IFERROR(MATCH($D1190,'Transparency List 2018_04'!$L:$L,0),FALSE),IFERROR(MATCH(TRIM($G1190),'Transparency List 2018_04'!$D:$D,0),FALSE)),\"On the 2018_04 List\",\"-\")","v":"-"},{"$f":"IF(OR(IFERROR(MATCH($D1190,'Transparency List 2017'!$L:$L,0),FALSE),IFERROR(MATCH(TRIM($G1190),'Transparency List 2017'!$C:$C,0),FALSE)),\"On the 2017 List\",\"-\")","v":"-"},{"$f":"IF(OR(IFERROR(MATCH($D1190,'Transparency List 2015'!$H:$H,0),FALSE),IFERROR(MATCH(TRIM($G1190),'Transparency List 2015'!$C:$C,0),FALSE)),\"On the 2015 List\",\"-\")","v":"-"}]
[null,null,4,"",null,null,null,"-",{"$f":"IF(OR(IFERROR(MATCH($D1191,'Transparency List 2018_10'!$L:$L,0),FALSE),IFERROR(MATCH(TRIM($G1191),'Transparency List 2018_10'!$D:$D,0),FALSE)),\"On the 2018_10 List\",\"-\")","v":"-"},{"$f":"IF(OR(IFERROR(MATCH($D1191,'Transparency List 2018_04'!$L:$L,0),FALSE),IFERROR(MATCH(TRIM($G1191),'Transparency List 2018_04'!$D:$D,0),FALSE)),\"On the 2018_04 List\",\"-\")","v":"-"},{"$f":"IF(OR(IFERROR(MATCH($D1191,'Transparency List 2017'!$L:$L,0),FALSE),IFERROR(MATCH(TRIM($G1191),'Transparency List 2017'!$C:$C,0),FALSE)),\"On the 2017 List\",\"-\")","v":"-"},{"$f":"IF(OR(IFERROR(MATCH($D1191,'Transparency List 2015'!$H:$H,0),FALSE),IFERROR(MATCH(TRIM($G1191),'Transparency List 2015'!$C:$C,0),FALSE)),\"On the 2015 List\",\"-\")","v":"-"}]
[null,null,4,"",null,null,null,"-",{"$f":"IF(OR(IFERROR(MATCH($D1192,'Transparency List 2018_10'!$L:$L,0),FALSE),IFERROR(MATCH(TRIM($G1192),'Transparency List 2018_10'!$D:$D,0),FALSE)),\"On the 2018_10 List\",\"-\")","v":"-"},{"$f":"IF(OR(IFERROR(MATCH($D1192,'Transparency List 2018_04'!$L:$L,0),FALSE),IFERROR(MATCH(TRIM($G1192),'Transparency List 2018_04'!$D:$D,0),FALSE)),\"On the 2018_04 List\",\"-\")","v":"-"},{"$f":"IF(OR(IFERROR(MATCH($D1192,'Transparency List 2017'!$L:$L,0),FALSE),IFERROR(MATCH(TRIM($G1192),'Transparency List 2017'!$C:$C,0),FALSE)),\"On the 2017 List\",\"-\")","v":"-"},{"$f":"IF(OR(IFERROR(MATCH($D1192,'Transparency List 2015'!$H:$H,0),FALSE),IFERROR(MATCH(TRIM($G1192),'Transparency List 2015'!$C:$C,0),FALSE)),\"On the 2015 List\",\"-\")","v":"-"}]
[null,null,4,"",null,null,null,"-",{"$f":"IF(OR(IFERROR(MATCH($D1193,'Transparency List 2018_10'!$L:$L,0),FALSE),IFERROR(MATCH(TRIM($G1193),'Transparency List 2018_10'!$D:$D,0),FALSE)),\"On the 2018_10 List\",\"-\")","v":"-"},{"$f":"IF(OR(IFERROR(MATCH($D1193,'Transparency List 2018_04'!$L:$L,0),FALSE),IFERROR(MATCH(TRIM($G1193),'Transparency List 2018_04'!$D:$D,0),FALSE)),\"On the 2018_04 List\",\"-\")","v":"-"},{"$f":"IF(OR(IFERROR(MATCH($D1193,'Transparency List 2017'!$L:$L,0),FALSE),IFERROR(MATCH(TRIM($G1193),'Transparency List 2017'!$C:$C,0),FALSE)),\"On the 2017 List\",\"-\")","v":"-"},{"$f":"IF(OR(IFERROR(MATCH($D1193,'Transparency List 2015'!$H:$H,0),FALSE),IFERROR(MATCH(TRIM($G1193),'Transparency List 2015'!$C:$C,0),FALSE)),\"On the 2015 List\",\"-\")","v":"-"}]
[null,null,4,"",null,null,null,"-",{"$f":"IF(OR(IFERROR(MATCH($D1194,'Transparency List 2018_10'!$L:$L,0),FALSE),IFERROR(MATCH(TRIM($G1194),'Transparency List 2018_10'!$D:$D,0),FALSE)),\"On the 2018_10 List\",\"-\")","v":"-"},{"$f":"IF(OR(IFERROR(MATCH($D1194,'Transparency List 2018_04'!$L:$L,0),FALSE),IFERROR(MATCH(TRIM($G1194),'Transparency List 2018_04'!$D:$D,0),FALSE)),\"On the 2018_04 List\",\"-\")","v":"-"},{"$f":"IF(OR(IFERROR(MATCH($D1194,'Transparency List 2017'!$L:$L,0),FALSE),IFERROR(MATCH(TRIM($G1194),'Transparency List 2017'!$C:$C,0),FALSE)),\"On the 2017 List\",\"-\")","v":"-"},{"$f":"IF(OR(IFERROR(MATCH($D1194,'Transparency List 2015'!$H:$H,0),FALSE),IFERROR(MATCH(TRIM($G1194),'Transparency List 2015'!$C:$C,0),FALSE)),\"On the 2015 List\",\"-\")","v":"-"}]
[null,null,4,"",null,null,null,"-",{"$f":"IF(OR(IFERROR(MATCH($D1195,'Transparency List 2018_10'!$L:$L,0),FALSE),IFERROR(MATCH(TRIM($G1195),'Transparency List 2018_10'!$D:$D,0),FALSE)),\"On the 2018_10 List\",\"-\")","v":"-"},{"$f":"IF(OR(IFERROR(MATCH($D1195,'Transparency List 2018_04'!$L:$L,0),FALSE),IFERROR(MATCH(TRIM($G1195),'Transparency List 2018_04'!$D:$D,0),FALSE)),\"On the 2018_04 List\",\"-\")","v":"-"},{"$f":"IF(OR(IFERROR(MATCH($D1195,'Transparency List 2017'!$L:$L,0),FALSE),IFERROR(MATCH(TRIM($G1195),'Transparency List 2017'!$C:$C,0),FALSE)),\"On the 2017 List\",\"-\")","v":"-"},{"$f":"IF(OR(IFERROR(MATCH($D1195,'Transparency List 2015'!$H:$H,0),FALSE),IFERROR(MATCH(TRIM($G1195),'Transparency List 2015'!$C:$C,0),FALSE)),\"On the 2015 List\",\"-\")","v":"-"}]
[null,null,4,"",null,null,null,"-",{"$f":"IF(OR(IFERROR(MATCH($D1196,'Transparency List 2018_10'!$L:$L,0),FALSE),IFERROR(MATCH(TRIM($G1196),'Transparency List 2018_10'!$D:$D,0),FALSE)),\"On the 2018_10 List\",\"-\")","v":"-"},{"$f":"IF(OR(IFERROR(MATCH($D1196,'Transparency List 2018_04'!$L:$L,0),FALSE),IFERROR(MATCH(TRIM($G1196),'Transparency List 2018_04'!$D:$D,0),FALSE)),\"On the 2018_04 List\",\"-\")","v":"-"},{"$f":"IF(OR(IFERROR(MATCH($D1196,'Transparency List 2017'!$L:$L,0),FALSE),IFERROR(MATCH(TRIM($G1196),'Transparency List 2017'!$C:$C,0),FALSE)),\"On the 2017 List\",\"-\")","v":"-"},{"$f":"IF(OR(IFERROR(MATCH($D1196,'Transparency List 2015'!$H:$H,0),FALSE),IFERROR(MATCH(TRIM($G1196),'Transparency List 2015'!$C:$C,0),FALSE)),\"On the 2015 List\",\"-\")","v":"-"}]
[null,null,4,"",null,null,null,"-",{"$f":"IF(OR(IFERROR(MATCH($D1197,'Transparency List 2018_10'!$L:$L,0),FALSE),IFERROR(MATCH(TRIM($G1197),'Transparency List 2018_10'!$D:$D,0),FALSE)),\"On the 2018_10 List\",\"-\")","v":"-"},{"$f":"IF(OR(IFERROR(MATCH($D1197,'Transparency List 2018_04'!$L:$L,0),FALSE),IFERROR(MATCH(TRIM($G1197),'Transparency List 2018_04'!$D:$D,0),FALSE)),\"On the 2018_04 List\",\"-\")","v":"-"},{"$f":"IF(OR(IFERROR(MATCH($D1197,'Transparency List 2017'!$L:$L,0),FALSE),IFERROR(MATCH(TRIM($G1197),'Transparency List 2017'!$C:$C,0),FALSE)),\"On the 2017 List\",\"-\")","v":"-"},{"$f":"IF(OR(IFERROR(MATCH($D1197,'Transparency List 2015'!$H:$H,0),FALSE),IFERROR(MATCH(TRIM($G1197),'Transparency List 2015'!$C:$C,0),FALSE)),\"On the 2015 List\",\"-\")","v":"-"}]
[null,null,4,"",null,null,null,"-",{"$f":"IF(OR(IFERROR(MATCH($D1198,'Transparency List 2018_10'!$L:$L,0),FALSE),IFERROR(MATCH(TRIM($G1198),'Transparency List 2018_10'!$D:$D,0),FALSE)),\"On the 2018_10 List\",\"-\")","v":"-"},{"$f":"IF(OR(IFERROR(MATCH($D1198,'Transparency List 2018_04'!$L:$L,0),FALSE),IFERROR(MATCH(TRIM($G1198),'Transparency List 2018_04'!$D:$D,0),FALSE)),\"On the 2018_04 List\",\"-\")","v":"-"},{"$f":"IF(OR(IFERROR(MATCH($D1198,'Transparency List 2017'!$L:$L,0),FALSE),IFERROR(MATCH(TRIM($G1198),'Transparency List 2017'!$C:$C,0),FALSE)),\"On the 2017 List\",\"-\")","v":"-"},{"$f":"IF(OR(IFERROR(MATCH($D1198,'Transparency List 2015'!$H:$H,0),FALSE),IFERROR(MATCH(TRIM($G1198),'Transparency List 2015'!$C:$C,0),FALSE)),\"On the 2015 List\",\"-\")","v":"-"}]
[null,null,4,"",null,null,null,"-",{"$f":"IF(OR(IFERROR(MATCH($D1199,'Transparency List 2018_10'!$L:$L,0),FALSE),IFERROR(MATCH(TRIM($G1199),'Transparency List 2018_10'!$D:$D,0),FALSE)),\"On the 2018_10 List\",\"-\")","v":"-"},{"$f":"IF(OR(IFERROR(MATCH($D1199,'Transparency List 2018_04'!$L:$L,0),FALSE),IFERROR(MATCH(TRIM($G1199),'Transparency List 2018_04'!$D:$D,0),FALSE)),\"On the 2018_04 List\",\"-\")","v":"-"},{"$f":"IF(OR(IFERROR(MATCH($D1199,'Transparency List 2017'!$L:$L,0),FALSE),IFERROR(MATCH(TRIM($G1199),'Transparency List 2017'!$C:$C,0),FALSE)),\"On the 2017 List\",\"-\")","v":"-"},{"$f":"IF(OR(IFERROR(MATCH($D1199,'Transparency List 2015'!$H:$H,0),FALSE),IFERROR(MATCH(TRIM($G1199),'Transparency List 2015'!$C:$C,0),FALSE)),\"On the 2015 List\",\"-\")","v":"-"}]
[null,null,4,"",null,null,null,"-",{"$f":"IF(OR(IFERROR(MATCH($D1200,'Transparency List 2018_10'!$L:$L,0),FALSE),IFERROR(MATCH(TRIM($G1200),'Transparency List 2018_10'!$D:$D,0),FALSE)),\"On the 2018_10 List\",\"-\")","v":"-"},{"$f":"IF(OR(IFERROR(MATCH($D1200,'Transparency List 2018_04'!$L:$L,0),FALSE),IFERROR(MATCH(TRIM($G1200),'Transparency List 2018_04'!$D:$D,0),FALSE)),\"On the 2018_04 List\",\"-\")","v":"-"},{"$f":"IF(OR(IFERROR(MATCH($D1200,'Transparency List 2017'!$L:$L,0),FALSE),IFERROR(MATCH(TRIM($G1200),'Transparency List 2017'!$C:$C,0),FALSE)),\"On the 2017 List\",\"-\")","v":"-"},{"$f":"IF(OR(IFERROR(MATCH($D1200,'Transparency List 2015'!$H:$H,0),FALSE),IFERROR(MATCH(TRIM($G1200),'Transparency List 2015'!$C:$C,0),FALSE)),\"On the 2015 List\",\"-\")","v":"-"}]
[null,null,4,"",null,null,null,"-",{"$f":"IF(OR(IFERROR(MATCH($D1201,'Transparency List 2018_10'!$L:$L,0),FALSE),IFERROR(MATCH(TRIM($G1201),'Transparency List 2018_10'!$D:$D,0),FALSE)),\"On the 2018_10 List\",\"-\")","v":"-"},{"$f":"IF(OR(IFERROR(MATCH($D1201,'Transparency List 2018_04'!$L:$L,0),FALSE),IFERROR(MATCH(TRIM($G1201),'Transparency List 2018_04'!$D:$D,0),FALSE)),\"On the 2018_04 List\",\"-\")","v":"-"},{"$f":"IF(OR(IFERROR(MATCH($D1201,'Transparency List 2017'!$L:$L,0),FALSE),IFERROR(MATCH(TRIM($G1201),'Transparency List 2017'!$C:$C,0),FALSE)),\"On the 2017 List\",\"-\")","v":"-"},{"$f":"IF(OR(IFERROR(MATCH($D1201,'Transparency List 2015'!$H:$H,0),FALSE),IFERROR(MATCH(TRIM($G1201),'Transparency List 2015'!$C:$C,0),FALSE)),\"On the 2015 List\",\"-\")","v":"-"}]
[null,null,4,"",null,null,null,"-",{"$f":"IF(OR(IFERROR(MATCH($D1202,'Transparency List 2018_10'!$L:$L,0),FALSE),IFERROR(MATCH(TRIM($G1202),'Transparency List 2018_10'!$D:$D,0),FALSE)),\"On the 2018_10 List\",\"-\")","v":"-"},{"$f":"IF(OR(IFERROR(MATCH($D1202,'Transparency List 2018_04'!$L:$L,0),FALSE),IFERROR(MATCH(TRIM($G1202),'Transparency List 2018_04'!$D:$D,0),FALSE)),\"On the 2018_04 List\",\"-\")","v":"-"},{"$f":"IF(OR(IFERROR(MATCH($D1202,'Transparency List 2017'!$L:$L,0),FALSE),IFERROR(MATCH(TRIM($G1202),'Transparency List 2017'!$C:$C,0),FALSE)),\"On the 2017 List\",\"-\")","v":"-"},{"$f":"IF(OR(IFERROR(MATCH($D1202,'Transparency List 2015'!$H:$H,0),FALSE),IFERROR(MATCH(TRIM($G1202),'Transparency List 2015'!$C:$C,0),FALSE)),\"On the 2015 List\",\"-\")","v":"-"}]
[null,null,4,"",null,null,null,"-",{"$f":"IF(OR(IFERROR(MATCH($D1203,'Transparency List 2018_10'!$L:$L,0),FALSE),IFERROR(MATCH(TRIM($G1203),'Transparency List 2018_10'!$D:$D,0),FALSE)),\"On the 2018_10 List\",\"-\")","v":"-"},{"$f":"IF(OR(IFERROR(MATCH($D1203,'Transparency List 2018_04'!$L:$L,0),FALSE),IFERROR(MATCH(TRIM($G1203),'Transparency List 2018_04'!$D:$D,0),FALSE)),\"On the 2018_04 List\",\"-\")","v":"-"},{"$f":"IF(OR(IFERROR(MATCH($D1203,'Transparency List 2017'!$L:$L,0),FALSE),IFERROR(MATCH(TRIM($G1203),'Transparency List 2017'!$C:$C,0),FALSE)),\"On the 2017 List\",\"-\")","v":"-"},{"$f":"IF(OR(IFERROR(MATCH($D1203,'Transparency List 2015'!$H:$H,0),FALSE),IFERROR(MATCH(TRIM($G1203),'Transparency List 2015'!$C:$C,0),FALSE)),\"On the 2015 List\",\"-\")","v":"-"}]
[null,null,4,"",null,null,null,"-",{"$f":"IF(OR(IFERROR(MATCH($D1204,'Transparency List 2018_10'!$L:$L,0),FALSE),IFERROR(MATCH(TRIM($G1204),'Transparency List 2018_10'!$D:$D,0),FALSE)),\"On the 2018_10 List\",\"-\")","v":"-"},{"$f":"IF(OR(IFERROR(MATCH($D1204,'Transparency List 2018_04'!$L:$L,0),FALSE),IFERROR(MATCH(TRIM($G1204),'Transparency List 2018_04'!$D:$D,0),FALSE)),\"On the 2018_04 List\",\"-\")","v":"-"},{"$f":"IF(OR(IFERROR(MATCH($D1204,'Transparency List 2017'!$L:$L,0),FALSE),IFERROR(MATCH(TRIM($G1204),'Transparency List 2017'!$C:$C,0),FALSE)),\"On the 2017 List\",\"-\")","v":"-"},{"$f":"IF(OR(IFERROR(MATCH($D1204,'Transparency List 2015'!$H:$H,0),FALSE),IFERROR(MATCH(TRIM($G1204),'Transparency List 2015'!$C:$C,0),FALSE)),\"On the 2015 List\",\"-\")","v":"-"}]
[null,null,4,"",null,null,null,"-",{"$f":"IF(OR(IFERROR(MATCH($D1205,'Transparency List 2018_10'!$L:$L,0),FALSE),IFERROR(MATCH(TRIM($G1205),'Transparency List 2018_10'!$D:$D,0),FALSE)),\"On the 2018_10 List\",\"-\")","v":"-"},{"$f":"IF(OR(IFERROR(MATCH($D1205,'Transparency List 2018_04'!$L:$L,0),FALSE),IFERROR(MATCH(TRIM($G1205),'Transparency List 2018_04'!$D:$D,0),FALSE)),\"On the 2018_04 List\",\"-\")","v":"-"},{"$f":"IF(OR(IFERROR(MATCH($D1205,'Transparency List 2017'!$L:$L,0),FALSE),IFERROR(MATCH(TRIM($G1205),'Transparency List 2017'!$C:$C,0),FALSE)),\"On the 2017 List\",\"-\")","v":"-"},{"$f":"IF(OR(IFERROR(MATCH($D1205,'Transparency List 2015'!$H:$H,0),FALSE),IFERROR(MATCH(TRIM($G1205),'Transparency List 2015'!$C:$C,0),FALSE)),\"On the 2015 List\",\"-\")","v":"-"}]
[null,null,4,"",null,null,null,"-",{"$f":"IF(OR(IFERROR(MATCH($D1206,'Transparency List 2018_10'!$L:$L,0),FALSE),IFERROR(MATCH(TRIM($G1206),'Transparency List 2018_10'!$D:$D,0),FALSE)),\"On the 2018_10 List\",\"-\")","v":"-"},{"$f":"IF(OR(IFERROR(MATCH($D1206,'Transparency List 2018_04'!$L:$L,0),FALSE),IFERROR(MATCH(TRIM($G1206),'Transparency List 2018_04'!$D:$D,0),FALSE)),\"On the 2018_04 List\",\"-\")","v":"-"},{"$f":"IF(OR(IFERROR(MATCH($D1206,'Transparency List 2017'!$L:$L,0),FALSE),IFERROR(MATCH(TRIM($G1206),'Transparency List 2017'!$C:$C,0),FALSE)),\"On the 2017 List\",\"-\")","v":"-"},{"$f":"IF(OR(IFERROR(MATCH($D1206,'Transparency List 2015'!$H:$H,0),FALSE),IFERROR(MATCH(TRIM($G1206),'Transparency List 2015'!$C:$C,0),FALSE)),\"On the 2015 List\",\"-\")","v":"-"}]
[null,null,4,"",null,null,null,"-",{"$f":"IF(OR(IFERROR(MATCH($D1207,'Transparency List 2018_10'!$L:$L,0),FALSE),IFERROR(MATCH(TRIM($G1207),'Transparency List 2018_10'!$D:$D,0),FALSE)),\"On the 2018_10 List\",\"-\")","v":"-"},{"$f":"IF(OR(IFERROR(MATCH($D1207,'Transparency List 2018_04'!$L:$L,0),FALSE),IFERROR(MATCH(TRIM($G1207),'Transparency List 2018_04'!$D:$D,0),FALSE)),\"On the 2018_04 List\",\"-\")","v":"-"},{"$f":"IF(OR(IFERROR(MATCH($D1207,'Transparency List 2017'!$L:$L,0),FALSE),IFERROR(MATCH(TRIM($G1207),'Transparency List 2017'!$C:$C,0),FALSE)),\"On the 2017 List\",\"-\")","v":"-"},{"$f":"IF(OR(IFERROR(MATCH($D1207,'Transparency List 2015'!$H:$H,0),FALSE),IFERROR(MATCH(TRIM($G1207),'Transparency List 2015'!$C:$C,0),FALSE)),\"On the 2015 List\",\"-\")","v":"-"}]
[null,null,4,"",null,null,null,"-",{"$f":"IF(OR(IFERROR(MATCH($D1208,'Transparency List 2018_10'!$L:$L,0),FALSE),IFERROR(MATCH(TRIM($G1208),'Transparency List 2018_10'!$D:$D,0),FALSE)),\"On the 2018_10 List\",\"-\")","v":"-"},{"$f":"IF(OR(IFERROR(MATCH($D1208,'Transparency List 2018_04'!$L:$L,0),FALSE),IFERROR(MATCH(TRIM($G1208),'Transparency List 2018_04'!$D:$D,0),FALSE)),\"On the 2018_04 List\",\"-\")","v":"-"},{"$f":"IF(OR(IFERROR(MATCH($D1208,'Transparency List 2017'!$L:$L,0),FALSE),IFERROR(MATCH(TRIM($G1208),'Transparency List 2017'!$C:$C,0),FALSE)),\"On the 2017 List\",\"-\")","v":"-"},{"$f":"IF(OR(IFERROR(MATCH($D1208,'Transparency List 2015'!$H:$H,0),FALSE),IFERROR(MATCH(TRIM($G1208),'Transparency List 2015'!$C:$C,0),FALSE)),\"On the 2015 List\",\"-\")","v":"-"}]
[null,null,4,"",null,null,null,"-",{"$f":"IF(OR(IFERROR(MATCH($D1209,'Transparency List 2018_10'!$L:$L,0),FALSE),IFERROR(MATCH(TRIM($G1209),'Transparency List 2018_10'!$D:$D,0),FALSE)),\"On the 2018_10 List\",\"-\")","v":"-"},{"$f":"IF(OR(IFERROR(MATCH($D1209,'Transparency List 2018_04'!$L:$L,0),FALSE),IFERROR(MATCH(TRIM($G1209),'Transparency List 2018_04'!$D:$D,0),FALSE)),\"On the 2018_04 List\",\"-\")","v":"-"},{"$f":"IF(OR(IFERROR(MATCH($D1209,'Transparency List 2017'!$L:$L,0),FALSE),IFERROR(MATCH(TRIM($G1209),'Transparency List 2017'!$C:$C,0),FALSE)),\"On the 2017 List\",\"-\")","v":"-"},{"$f":"IF(OR(IFERROR(MATCH($D1209,'Transparency List 2015'!$H:$H,0),FALSE),IFERROR(MATCH(TRIM($G1209),'Transparency List 2015'!$C:$C,0),FALSE)),\"On the 2015 List\",\"-\")","v":"-"}]
[null,null,4,"",null,null,null,"-",{"$f":"IF(OR(IFERROR(MATCH($D1210,'Transparency List 2018_10'!$L:$L,0),FALSE),IFERROR(MATCH(TRIM($G1210),'Transparency List 2018_10'!$D:$D,0),FALSE)),\"On the 2018_10 List\",\"-\")","v":"-"},{"$f":"IF(OR(IFERROR(MATCH($D1210,'Transparency List 2018_04'!$L:$L,0),FALSE),IFERROR(MATCH(TRIM($G1210),'Transparency List 2018_04'!$D:$D,0),FALSE)),\"On the 2018_04 List\",\"-\")","v":"-"},{"$f":"IF(OR(IFERROR(MATCH($D1210,'Transparency List 2017'!$L:$L,0),FALSE),IFERROR(MATCH(TRIM($G1210),'Transparency List 2017'!$C:$C,0),FALSE)),\"On the 2017 List\",\"-\")","v":"-"},{"$f":"IF(OR(IFERROR(MATCH($D1210,'Transparency List 2015'!$H:$H,0),FALSE),IFERROR(MATCH(TRIM($G1210),'Transparency List 2015'!$C:$C,0),FALSE)),\"On the 2015 List\",\"-\")","v":"-"}]
[null,null,4,"",null,null,null,"-",{"$f":"IF(OR(IFERROR(MATCH($D1211,'Transparency List 2018_10'!$L:$L,0),FALSE),IFERROR(MATCH(TRIM($G1211),'Transparency List 2018_10'!$D:$D,0),FALSE)),\"On the 2018_10 List\",\"-\")","v":"-"},{"$f":"IF(OR(IFERROR(MATCH($D1211,'Transparency List 2018_04'!$L:$L,0),FALSE),IFERROR(MATCH(TRIM($G1211),'Transparency List 2018_04'!$D:$D,0),FALSE)),\"On the 2018_04 List\",\"-\")","v":"-"},{"$f":"IF(OR(IFERROR(MATCH($D1211,'Transparency List 2017'!$L:$L,0),FALSE),IFERROR(MATCH(TRIM($G1211),'Transparency List 2017'!$C:$C,0),FALSE)),\"On the 2017 List\",\"-\")","v":"-"},{"$f":"IF(OR(IFERROR(MATCH($D1211,'Transparency List 2015'!$H:$H,0),FALSE),IFERROR(MATCH(TRIM($G1211),'Transparency List 2015'!$C:$C,0),FALSE)),\"On the 2015 List\",\"-\")","v":"-"}]
[null,null,4,"",null,null,null,"-",{"$f":"IF(OR(IFERROR(MATCH($D1212,'Transparency List 2018_10'!$L:$L,0),FALSE),IFERROR(MATCH(TRIM($G1212),'Transparency List 2018_10'!$D:$D,0),FALSE)),\"On the 2018_10 List\",\"-\")","v":"-"},{"$f":"IF(OR(IFERROR(MATCH($D1212,'Transparency List 2018_04'!$L:$L,0),FALSE),IFERROR(MATCH(TRIM($G1212),'Transparency List 2018_04'!$D:$D,0),FALSE)),\"On the 2018_04 List\",\"-\")","v":"-"},{"$f":"IF(OR(IFERROR(MATCH($D1212,'Transparency List 2017'!$L:$L,0),FALSE),IFERROR(MATCH(TRIM($G1212),'Transparency List 2017'!$C:$C,0),FALSE)),\"On the 2017 List\",\"-\")","v":"-"},{"$f":"IF(OR(IFERROR(MATCH($D1212,'Transparency List 2015'!$H:$H,0),FALSE),IFERROR(MATCH(TRIM($G1212),'Transparency List 2015'!$C:$C,0),FALSE)),\"On the 2015 List\",\"-\")","v":"-"}]
[null,null,4,"",null,null,null,"-",{"$f":"IF(OR(IFERROR(MATCH($D1213,'Transparency List 2018_10'!$L:$L,0),FALSE),IFERROR(MATCH(TRIM($G1213),'Transparency List 2018_10'!$D:$D,0),FALSE)),\"On the 2018_10 List\",\"-\")","v":"-"},{"$f":"IF(OR(IFERROR(MATCH($D1213,'Transparency List 2018_04'!$L:$L,0),FALSE),IFERROR(MATCH(TRIM($G1213),'Transparency List 2018_04'!$D:$D,0),FALSE)),\"On the 2018_04 List\",\"-\")","v":"-"},{"$f":"IF(OR(IFERROR(MATCH($D1213,'Transparency List 2017'!$L:$L,0),FALSE),IFERROR(MATCH(TRIM($G1213),'Transparency List 2017'!$C:$C,0),FALSE)),\"On the 2017 List\",\"-\")","v":"-"},{"$f":"IF(OR(IFERROR(MATCH($D1213,'Transparency List 2015'!$H:$H,0),FALSE),IFERROR(MATCH(TRIM($G1213),'Transparency List 2015'!$C:$C,0),FALSE)),\"On the 2015 List\",\"-\")","v":"-"}]
[null,null,4,"",null,null,null,"-",{"$f":"IF(OR(IFERROR(MATCH($D1214,'Transparency List 2018_10'!$L:$L,0),FALSE),IFERROR(MATCH(TRIM($G1214),'Transparency List 2018_10'!$D:$D,0),FALSE)),\"On the 2018_10 List\",\"-\")","v":"-"},{"$f":"IF(OR(IFERROR(MATCH($D1214,'Transparency List 2018_04'!$L:$L,0),FALSE),IFERROR(MATCH(TRIM($G1214),'Transparency List 2018_04'!$D:$D,0),FALSE)),\"On the 2018_04 List\",\"-\")","v":"-"},{"$f":"IF(OR(IFERROR(MATCH($D1214,'Transparency List 2017'!$L:$L,0),FALSE),IFERROR(MATCH(TRIM($G1214),'Transparency List 2017'!$C:$C,0),FALSE)),\"On the 2017 List\",\"-\")","v":"-"},{"$f":"IF(OR(IFERROR(MATCH($D1214,'Transparency List 2015'!$H:$H,0),FALSE),IFERROR(MATCH(TRIM($G1214),'Transparency List 2015'!$C:$C,0),FALSE)),\"On the 2015 List\",\"-\")","v":"-"}]
[null,null,4,"",null,null,null,"-",{"$f":"IF(OR(IFERROR(MATCH($D1215,'Transparency List 2018_10'!$L:$L,0),FALSE),IFERROR(MATCH(TRIM($G1215),'Transparency List 2018_10'!$D:$D,0),FALSE)),\"On the 2018_10 List\",\"-\")","v":"-"},{"$f":"IF(OR(IFERROR(MATCH($D1215,'Transparency List 2018_04'!$L:$L,0),FALSE),IFERROR(MATCH(TRIM($G1215),'Transparency List 2018_04'!$D:$D,0),FALSE)),\"On the 2018_04 List\",\"-\")","v":"-"},{"$f":"IF(OR(IFERROR(MATCH($D1215,'Transparency List 2017'!$L:$L,0),FALSE),IFERROR(MATCH(TRIM($G1215),'Transparency List 2017'!$C:$C,0),FALSE)),\"On the 2017 List\",\"-\")","v":"-"},{"$f":"IF(OR(IFERROR(MATCH($D1215,'Transparency List 2015'!$H:$H,0),FALSE),IFERROR(MATCH(TRIM($G1215),'Transparency List 2015'!$C:$C,0),FALSE)),\"On the 2015 List\",\"-\")","v":"-"}]
[null,null,4,"",null,null,null,"-",{"$f":"IF(OR(IFERROR(MATCH($D1216,'Transparency List 2018_10'!$L:$L,0),FALSE),IFERROR(MATCH(TRIM($G1216),'Transparency List 2018_10'!$D:$D,0),FALSE)),\"On the 2018_10 List\",\"-\")","v":"-"},{"$f":"IF(OR(IFERROR(MATCH($D1216,'Transparency List 2018_04'!$L:$L,0),FALSE),IFERROR(MATCH(TRIM($G1216),'Transparency List 2018_04'!$D:$D,0),FALSE)),\"On the 2018_04 List\",\"-\")","v":"-"},{"$f":"IF(OR(IFERROR(MATCH($D1216,'Transparency List 2017'!$L:$L,0),FALSE),IFERROR(MATCH(TRIM($G1216),'Transparency List 2017'!$C:$C,0),FALSE)),\"On the 2017 List\",\"-\")","v":"-"},{"$f":"IF(OR(IFERROR(MATCH($D1216,'Transparency List 2015'!$H:$H,0),FALSE),IFERROR(MATCH(TRIM($G1216),'Transparency List 2015'!$C:$C,0),FALSE)),\"On the 2015 List\",\"-\")","v":"-"}]
[null,null,4,"",null,null,null,"-",{"$f":"IF(OR(IFERROR(MATCH($D1217,'Transparency List 2018_10'!$L:$L,0),FALSE),IFERROR(MATCH(TRIM($G1217),'Transparency List 2018_10'!$D:$D,0),FALSE)),\"On the 2018_10 List\",\"-\")","v":"-"},{"$f":"IF(OR(IFERROR(MATCH($D1217,'Transparency List 2018_04'!$L:$L,0),FALSE),IFERROR(MATCH(TRIM($G1217),'Transparency List 2018_04'!$D:$D,0),FALSE)),\"On the 2018_04 List\",\"-\")","v":"-"},{"$f":"IF(OR(IFERROR(MATCH($D1217,'Transparency List 2017'!$L:$L,0),FALSE),IFERROR(MATCH(TRIM($G1217),'Transparency List 2017'!$C:$C,0),FALSE)),\"On the 2017 List\",\"-\")","v":"-"},{"$f":"IF(OR(IFERROR(MATCH($D1217,'Transparency List 2015'!$H:$H,0),FALSE),IFERROR(MATCH(TRIM($G1217),'Transparency List 2015'!$C:$C,0),FALSE)),\"On the 2015 List\",\"-\")","v":"-"}]
[null,null,4,"",null,null,null,"-",{"$f":"IF(OR(IFERROR(MATCH($D1218,'Transparency List 2018_10'!$L:$L,0),FALSE),IFERROR(MATCH(TRIM($G1218),'Transparency List 2018_10'!$D:$D,0),FALSE)),\"On the 2018_10 List\",\"-\")","v":"-"},{"$f":"IF(OR(IFERROR(MATCH($D1218,'Transparency List 2018_04'!$L:$L,0),FALSE),IFERROR(MATCH(TRIM($G1218),'Transparency List 2018_04'!$D:$D,0),FALSE)),\"On the 2018_04 List\",\"-\")","v":"-"},{"$f":"IF(OR(IFERROR(MATCH($D1218,'Transparency List 2017'!$L:$L,0),FALSE),IFERROR(MATCH(TRIM($G1218),'Transparency List 2017'!$C:$C,0),FALSE)),\"On the 2017 List\",\"-\")","v":"-"},{"$f":"IF(OR(IFERROR(MATCH($D1218,'Transparency List 2015'!$H:$H,0),FALSE),IFERROR(MATCH(TRIM($G1218),'Transparency List 2015'!$C:$C,0),FALSE)),\"On the 2015 List\",\"-\")","v":"-"}]
[null,null,4,"",null,null,null,"-",{"$f":"IF(OR(IFERROR(MATCH($D1219,'Transparency List 2018_10'!$L:$L,0),FALSE),IFERROR(MATCH(TRIM($G1219),'Transparency List 2018_10'!$D:$D,0),FALSE)),\"On the 2018_10 List\",\"-\")","v":"-"},{"$f":"IF(OR(IFERROR(MATCH($D1219,'Transparency List 2018_04'!$L:$L,0),FALSE),IFERROR(MATCH(TRIM($G1219),'Transparency List 2018_04'!$D:$D,0),FALSE)),\"On the 2018_04 List\",\"-\")","v":"-"},{"$f":"IF(OR(IFERROR(MATCH($D1219,'Transparency List 2017'!$L:$L,0),FALSE),IFERROR(MATCH(TRIM($G1219),'Transparency List 2017'!$C:$C,0),FALSE)),\"On the 2017 List\",\"-\")","v":"-"},{"$f":"IF(OR(IFERROR(MATCH($D1219,'Transparency List 2015'!$H:$H,0),FALSE),IFERROR(MATCH(TRIM($G1219),'Transparency List 2015'!$C:$C,0),FALSE)),\"On the 2015 List\",\"-\")","v":"-"}]
[null,null,4,"",null,null,null,"-",{"$f":"IF(OR(IFERROR(MATCH($D1220,'Transparency List 2018_10'!$L:$L,0),FALSE),IFERROR(MATCH(TRIM($G1220),'Transparency List 2018_10'!$D:$D,0),FALSE)),\"On the 2018_10 List\",\"-\")","v":"-"},{"$f":"IF(OR(IFERROR(MATCH($D1220,'Transparency List 2018_04'!$L:$L,0),FALSE),IFERROR(MATCH(TRIM($G1220),'Transparency List 2018_04'!$D:$D,0),FALSE)),\"On the 2018_04 List\",\"-\")","v":"-"},{"$f":"IF(OR(IFERROR(MATCH($D1220,'Transparency List 2017'!$L:$L,0),FALSE),IFERROR(MATCH(TRIM($G1220),'Transparency List 2017'!$C:$C,0),FALSE)),\"On the 2017 List\",\"-\")","v":"-"},{"$f":"IF(OR(IFERROR(MATCH($D1220,'Transparency List 2015'!$H:$H,0),FALSE),IFERROR(MATCH(TRIM($G1220),'Transparency List 2015'!$C:$C,0),FALSE)),\"On the 2015 List\",\"-\")","v":"-"}]
[null,null,4,"",null,null,null,"-",{"$f":"IF(OR(IFERROR(MATCH($D1221,'Transparency List 2018_10'!$L:$L,0),FALSE),IFERROR(MATCH(TRIM($G1221),'Transparency List 2018_10'!$D:$D,0),FALSE)),\"On the 2018_10 List\",\"-\")","v":"-"},{"$f":"IF(OR(IFERROR(MATCH($D1221,'Transparency List 2018_04'!$L:$L,0),FALSE),IFERROR(MATCH(TRIM($G1221),'Transparency List 2018_04'!$D:$D,0),FALSE)),\"On the 2018_04 List\",\"-\")","v":"-"},{"$f":"IF(OR(IFERROR(MATCH($D1221,'Transparency List 2017'!$L:$L,0),FALSE),IFERROR(MATCH(TRIM($G1221),'Transparency List 2017'!$C:$C,0),FALSE)),\"On the 2017 List\",\"-\")","v":"-"},{"$f":"IF(OR(IFERROR(MATCH($D1221,'Transparency List 2015'!$H:$H,0),FALSE),IFERROR(MATCH(TRIM($G1221),'Transparency List 2015'!$C:$C,0),FALSE)),\"On the 2015 List\",\"-\")","v":"-"}]
[null,null,4,"",null,null,null,"-",{"$f":"IF(OR(IFERROR(MATCH($D1222,'Transparency List 2018_10'!$L:$L,0),FALSE),IFERROR(MATCH(TRIM($G1222),'Transparency List 2018_10'!$D:$D,0),FALSE)),\"On the 2018_10 List\",\"-\")","v":"-"},{"$f":"IF(OR(IFERROR(MATCH($D1222,'Transparency List 2018_04'!$L:$L,0),FALSE),IFERROR(MATCH(TRIM($G1222),'Transparency List 2018_04'!$D:$D,0),FALSE)),\"On the 2018_04 List\",\"-\")","v":"-"},{"$f":"IF(OR(IFERROR(MATCH($D1222,'Transparency List 2017'!$L:$L,0),FALSE),IFERROR(MATCH(TRIM($G1222),'Transparency List 2017'!$C:$C,0),FALSE)),\"On the 2017 List\",\"-\")","v":"-"},{"$f":"IF(OR(IFERROR(MATCH($D1222,'Transparency List 2015'!$H:$H,0),FALSE),IFERROR(MATCH(TRIM($G1222),'Transparency List 2015'!$C:$C,0),FALSE)),\"On the 2015 List\",\"-\")","v":"-"}]
[null,null,4,"",null,null,null,"-",{"$f":"IF(OR(IFERROR(MATCH($D1223,'Transparency List 2018_10'!$L:$L,0),FALSE),IFERROR(MATCH(TRIM($G1223),'Transparency List 2018_10'!$D:$D,0),FALSE)),\"On the 2018_10 List\",\"-\")","v":"-"},{"$f":"IF(OR(IFERROR(MATCH($D1223,'Transparency List 2018_04'!$L:$L,0),FALSE),IFERROR(MATCH(TRIM($G1223),'Transparency List 2018_04'!$D:$D,0),FALSE)),\"On the 2018_04 List\",\"-\")","v":"-"},{"$f":"IF(OR(IFERROR(MATCH($D1223,'Transparency List 2017'!$L:$L,0),FALSE),IFERROR(MATCH(TRIM($G1223),'Transparency List 2017'!$C:$C,0),FALSE)),\"On the 2017 List\",\"-\")","v":"-"},{"$f":"IF(OR(IFERROR(MATCH($D1223,'Transparency List 2015'!$H:$H,0),FALSE),IFERROR(MATCH(TRIM($G1223),'Transparency List 2015'!$C:$C,0),FALSE)),\"On the 2015 List\",\"-\")","v":"-"}]
[null,null,4,"",null,null,null,"-",{"$f":"IF(OR(IFERROR(MATCH($D1224,'Transparency List 2018_10'!$L:$L,0),FALSE),IFERROR(MATCH(TRIM($G1224),'Transparency List 2018_10'!$D:$D,0),FALSE)),\"On the 2018_10 List\",\"-\")","v":"-"},{"$f":"IF(OR(IFERROR(MATCH($D1224,'Transparency List 2018_04'!$L:$L,0),FALSE),IFERROR(MATCH(TRIM($G1224),'Transparency List 2018_04'!$D:$D,0),FALSE)),\"On the 2018_04 List\",\"-\")","v":"-"},{"$f":"IF(OR(IFERROR(MATCH($D1224,'Transparency List 2017'!$L:$L,0),FALSE),IFERROR(MATCH(TRIM($G1224),'Transparency List 2017'!$C:$C,0),FALSE)),\"On the 2017 List\",\"-\")","v":"-"},{"$f":"IF(OR(IFERROR(MATCH($D1224,'Transparency List 2015'!$H:$H,0),FALSE),IFERROR(MATCH(TRIM($G1224),'Transparency List 2015'!$C:$C,0),FALSE)),\"On the 2015 List\",\"-\")","v":"-"}]
[null,null,4,"",null,null,null,"-",{"$f":"IF(OR(IFERROR(MATCH($D1225,'Transparency List 2018_10'!$L:$L,0),FALSE),IFERROR(MATCH(TRIM($G1225),'Transparency List 2018_10'!$D:$D,0),FALSE)),\"On the 2018_10 List\",\"-\")","v":"-"},{"$f":"IF(OR(IFERROR(MATCH($D1225,'Transparency List 2018_04'!$L:$L,0),FALSE),IFERROR(MATCH(TRIM($G1225),'Transparency List 2018_04'!$D:$D,0),FALSE)),\"On the 2018_04 List\",\"-\")","v":"-"},{"$f":"IF(OR(IFERROR(MATCH($D1225,'Transparency List 2017'!$L:$L,0),FALSE),IFERROR(MATCH(TRIM($G1225),'Transparency List 2017'!$C:$C,0),FALSE)),\"On the 2017 List\",\"-\")","v":"-"},{"$f":"IF(OR(IFERROR(MATCH($D1225,'Transparency List 2015'!$H:$H,0),FALSE),IFERROR(MATCH(TRIM($G1225),'Transparency List 2015'!$C:$C,0),FALSE)),\"On the 2015 List\",\"-\")","v":"-"}]
[null,null,4,"",null,null,null,"-",{"$f":"IF(OR(IFERROR(MATCH($D1226,'Transparency List 2018_10'!$L:$L,0),FALSE),IFERROR(MATCH(TRIM($G1226),'Transparency List 2018_10'!$D:$D,0),FALSE)),\"On the 2018_10 List\",\"-\")","v":"-"},{"$f":"IF(OR(IFERROR(MATCH($D1226,'Transparency List 2018_04'!$L:$L,0),FALSE),IFERROR(MATCH(TRIM($G1226),'Transparency List 2018_04'!$D:$D,0),FALSE)),\"On the 2018_04 List\",\"-\")","v":"-"},{"$f":"IF(OR(IFERROR(MATCH($D1226,'Transparency List 2017'!$L:$L,0),FALSE),IFERROR(MATCH(TRIM($G1226),'Transparency List 2017'!$C:$C,0),FALSE)),\"On the 2017 List\",\"-\")","v":"-"},{"$f":"IF(OR(IFERROR(MATCH($D1226,'Transparency List 2015'!$H:$H,0),FALSE),IFERROR(MATCH(TRIM($G1226),'Transparency List 2015'!$C:$C,0),FALSE)),\"On the 2015 List\",\"-\")","v":"-"}]
[null,null,4,"",null,null,null,"-",{"$f":"IF(OR(IFERROR(MATCH($D1227,'Transparency List 2018_10'!$L:$L,0),FALSE),IFERROR(MATCH(TRIM($G1227),'Transparency List 2018_10'!$D:$D,0),FALSE)),\"On the 2018_10 List\",\"-\")","v":"-"},{"$f":"IF(OR(IFERROR(MATCH($D1227,'Transparency List 2018_04'!$L:$L,0),FALSE),IFERROR(MATCH(TRIM($G1227),'Transparency List 2018_04'!$D:$D,0),FALSE)),\"On the 2018_04 List\",\"-\")","v":"-"},{"$f":"IF(OR(IFERROR(MATCH($D1227,'Transparency List 2017'!$L:$L,0),FALSE),IFERROR(MATCH(TRIM($G1227),'Transparency List 2017'!$C:$C,0),FALSE)),\"On the 2017 List\",\"-\")","v":"-"},{"$f":"IF(OR(IFERROR(MATCH($D1227,'Transparency List 2015'!$H:$H,0),FALSE),IFERROR(MATCH(TRIM($G1227),'Transparency List 2015'!$C:$C,0),FALSE)),\"On the 2015 List\",\"-\")","v":"-"}]
[null,null,4,"",null,null,null,"-",{"$f":"IF(OR(IFERROR(MATCH($D1228,'Transparency List 2018_10'!$L:$L,0),FALSE),IFERROR(MATCH(TRIM($G1228),'Transparency List 2018_10'!$D:$D,0),FALSE)),\"On the 2018_10 List\",\"-\")","v":"-"},{"$f":"IF(OR(IFERROR(MATCH($D1228,'Transparency List 2018_04'!$L:$L,0),FALSE),IFERROR(MATCH(TRIM($G1228),'Transparency List 2018_04'!$D:$D,0),FALSE)),\"On the 2018_04 List\",\"-\")","v":"-"},{"$f":"IF(OR(IFERROR(MATCH($D1228,'Transparency List 2017'!$L:$L,0),FALSE),IFERROR(MATCH(TRIM($G1228),'Transparency List 2017'!$C:$C,0),FALSE)),\"On the 2017 List\",\"-\")","v":"-"},{"$f":"IF(OR(IFERROR(MATCH($D1228,'Transparency List 2015'!$H:$H,0),FALSE),IFERROR(MATCH(TRIM($G1228),'Transparency List 2015'!$C:$C,0),FALSE)),\"On the 2015 List\",\"-\")","v":"-"}]
[null,null,4,"",null,null,null,"-",{"$f":"IF(OR(IFERROR(MATCH($D1229,'Transparency List 2018_10'!$L:$L,0),FALSE),IFERROR(MATCH(TRIM($G1229),'Transparency List 2018_10'!$D:$D,0),FALSE)),\"On the 2018_10 List\",\"-\")","v":"-"},{"$f":"IF(OR(IFERROR(MATCH($D1229,'Transparency List 2018_04'!$L:$L,0),FALSE),IFERROR(MATCH(TRIM($G1229),'Transparency List 2018_04'!$D:$D,0),FALSE)),\"On the 2018_04 List\",\"-\")","v":"-"},{"$f":"IF(OR(IFERROR(MATCH($D1229,'Transparency List 2017'!$L:$L,0),FALSE),IFERROR(MATCH(TRIM($G1229),'Transparency List 2017'!$C:$C,0),FALSE)),\"On the 2017 List\",\"-\")","v":"-"},{"$f":"IF(OR(IFERROR(MATCH($D1229,'Transparency List 2015'!$H:$H,0),FALSE),IFERROR(MATCH(TRIM($G1229),'Transparency List 2015'!$C:$C,0),FALSE)),\"On the 2015 List\",\"-\")","v":"-"}]
[null,null,4,"",null,null,null,"-",{"$f":"IF(OR(IFERROR(MATCH($D1230,'Transparency List 2018_10'!$L:$L,0),FALSE),IFERROR(MATCH(TRIM($G1230),'Transparency List 2018_10'!$D:$D,0),FALSE)),\"On the 2018_10 List\",\"-\")","v":"-"},{"$f":"IF(OR(IFERROR(MATCH($D1230,'Transparency List 2018_04'!$L:$L,0),FALSE),IFERROR(MATCH(TRIM($G1230),'Transparency List 2018_04'!$D:$D,0),FALSE)),\"On the 2018_04 List\",\"-\")","v":"-"},{"$f":"IF(OR(IFERROR(MATCH($D1230,'Transparency List 2017'!$L:$L,0),FALSE),IFERROR(MATCH(TRIM($G1230),'Transparency List 2017'!$C:$C,0),FALSE)),\"On the 2017 List\",\"-\")","v":"-"},{"$f":"IF(OR(IFERROR(MATCH($D1230,'Transparency List 2015'!$H:$H,0),FALSE),IFERROR(MATCH(TRIM($G1230),'Transparency List 2015'!$C:$C,0),FALSE)),\"On the 2015 List\",\"-\")","v":"-"}]
[null,null,4,"",null,null,null,"-",{"$f":"IF(OR(IFERROR(MATCH($D1231,'Transparency List 2018_10'!$L:$L,0),FALSE),IFERROR(MATCH(TRIM($G1231),'Transparency List 2018_10'!$D:$D,0),FALSE)),\"On the 2018_10 List\",\"-\")","v":"-"},{"$f":"IF(OR(IFERROR(MATCH($D1231,'Transparency List 2018_04'!$L:$L,0),FALSE),IFERROR(MATCH(TRIM($G1231),'Transparency List 2018_04'!$D:$D,0),FALSE)),\"On the 2018_04 List\",\"-\")","v":"-"},{"$f":"IF(OR(IFERROR(MATCH($D1231,'Transparency List 2017'!$L:$L,0),FALSE),IFERROR(MATCH(TRIM($G1231),'Transparency List 2017'!$C:$C,0),FALSE)),\"On the 2017 List\",\"-\")","v":"-"},{"$f":"IF(OR(IFERROR(MATCH($D1231,'Transparency List 2015'!$H:$H,0),FALSE),IFERROR(MATCH(TRIM($G1231),'Transparency List 2015'!$C:$C,0),FALSE)),\"On the 2015 List\",\"-\")","v":"-"}]
[null,null,4,"",null,null,null,"-",{"$f":"IF(OR(IFERROR(MATCH($D1232,'Transparency List 2018_10'!$L:$L,0),FALSE),IFERROR(MATCH(TRIM($G1232),'Transparency List 2018_10'!$D:$D,0),FALSE)),\"On the 2018_10 List\",\"-\")","v":"-"},{"$f":"IF(OR(IFERROR(MATCH($D1232,'Transparency List 2018_04'!$L:$L,0),FALSE),IFERROR(MATCH(TRIM($G1232),'Transparency List 2018_04'!$D:$D,0),FALSE)),\"On the 2018_04 List\",\"-\")","v":"-"},{"$f":"IF(OR(IFERROR(MATCH($D1232,'Transparency List 2017'!$L:$L,0),FALSE),IFERROR(MATCH(TRIM($G1232),'Transparency List 2017'!$C:$C,0),FALSE)),\"On the 2017 List\",\"-\")","v":"-"},{"$f":"IF(OR(IFERROR(MATCH($D1232,'Transparency List 2015'!$H:$H,0),FALSE),IFERROR(MATCH(TRIM($G1232),'Transparency List 2015'!$C:$C,0),FALSE)),\"On the 2015 List\",\"-\")","v":"-"}]
[null,null,4,"",null,null,null,"-",{"$f":"IF(OR(IFERROR(MATCH($D1233,'Transparency List 2018_10'!$L:$L,0),FALSE),IFERROR(MATCH(TRIM($G1233),'Transparency List 2018_10'!$D:$D,0),FALSE)),\"On the 2018_10 List\",\"-\")","v":"-"},{"$f":"IF(OR(IFERROR(MATCH($D1233,'Transparency List 2018_04'!$L:$L,0),FALSE),IFERROR(MATCH(TRIM($G1233),'Transparency List 2018_04'!$D:$D,0),FALSE)),\"On the 2018_04 List\",\"-\")","v":"-"},{"$f":"IF(OR(IFERROR(MATCH($D1233,'Transparency List 2017'!$L:$L,0),FALSE),IFERROR(MATCH(TRIM($G1233),'Transparency List 2017'!$C:$C,0),FALSE)),\"On the 2017 List\",\"-\")","v":"-"},{"$f":"IF(OR(IFERROR(MATCH($D1233,'Transparency List 2015'!$H:$H,0),FALSE),IFERROR(MATCH(TRIM($G1233),'Transparency List 2015'!$C:$C,0),FALSE)),\"On the 2015 List\",\"-\")","v":"-"}]
[null,null,4,"",null,null,null,"-",{"$f":"IF(OR(IFERROR(MATCH($D1234,'Transparency List 2018_10'!$L:$L,0),FALSE),IFERROR(MATCH(TRIM($G1234),'Transparency List 2018_10'!$D:$D,0),FALSE)),\"On the 2018_10 List\",\"-\")","v":"-"},{"$f":"IF(OR(IFERROR(MATCH($D1234,'Transparency List 2018_04'!$L:$L,0),FALSE),IFERROR(MATCH(TRIM($G1234),'Transparency List 2018_04'!$D:$D,0),FALSE)),\"On the 2018_04 List\",\"-\")","v":"-"},{"$f":"IF(OR(IFERROR(MATCH($D1234,'Transparency List 2017'!$L:$L,0),FALSE),IFERROR(MATCH(TRIM($G1234),'Transparency List 2017'!$C:$C,0),FALSE)),\"On the 2017 List\",\"-\")","v":"-"},{"$f":"IF(OR(IFERROR(MATCH($D1234,'Transparency List 2015'!$H:$H,0),FALSE),IFERROR(MATCH(TRIM($G1234),'Transparency List 2015'!$C:$C,0),FALSE)),\"On the 2015 List\",\"-\")","v":"-"}]
[null,null,4,"",null,null,null,"-",{"$f":"IF(OR(IFERROR(MATCH($D1235,'Transparency List 2018_10'!$L:$L,0),FALSE),IFERROR(MATCH(TRIM($G1235),'Transparency List 2018_10'!$D:$D,0),FALSE)),\"On the 2018_10 List\",\"-\")","v":"-"},{"$f":"IF(OR(IFERROR(MATCH($D1235,'Transparency List 2018_04'!$L:$L,0),FALSE),IFERROR(MATCH(TRIM($G1235),'Transparency List 2018_04'!$D:$D,0),FALSE)),\"On the 2018_04 List\",\"-\")","v":"-"},{"$f":"IF(OR(IFERROR(MATCH($D1235,'Transparency List 2017'!$L:$L,0),FALSE),IFERROR(MATCH(TRIM($G1235),'Transparency List 2017'!$C:$C,0),FALSE)),\"On the 2017 List\",\"-\")","v":"-"},{"$f":"IF(OR(IFERROR(MATCH($D1235,'Transparency List 2015'!$H:$H,0),FALSE),IFERROR(MATCH(TRIM($G1235),'Transparency List 2015'!$C:$C,0),FALSE)),\"On the 2015 List\",\"-\")","v":"-"}]
[null,null,4,"",null,null,null,"-",{"$f":"IF(OR(IFERROR(MATCH($D1236,'Transparency List 2018_10'!$L:$L,0),FALSE),IFERROR(MATCH(TRIM($G1236),'Transparency List 2018_10'!$D:$D,0),FALSE)),\"On the 2018_10 List\",\"-\")","v":"-"},{"$f":"IF(OR(IFERROR(MATCH($D1236,'Transparency List 2018_04'!$L:$L,0),FALSE),IFERROR(MATCH(TRIM($G1236),'Transparency List 2018_04'!$D:$D,0),FALSE)),\"On the 2018_04 List\",\"-\")","v":"-"},{"$f":"IF(OR(IFERROR(MATCH($D1236,'Transparency List 2017'!$L:$L,0),FALSE),IFERROR(MATCH(TRIM($G1236),'Transparency List 2017'!$C:$C,0),FALSE)),\"On the 2017 List\",\"-\")","v":"-"},{"$f":"IF(OR(IFERROR(MATCH($D1236,'Transparency List 2015'!$H:$H,0),FALSE),IFERROR(MATCH(TRIM($G1236),'Transparency List 2015'!$C:$C,0),FALSE)),\"On the 2015 List\",\"-\")","v":"-"}]
[null,null,4,"",null,null,null,"-",{"$f":"IF(OR(IFERROR(MATCH($D1237,'Transparency List 2018_10'!$L:$L,0),FALSE),IFERROR(MATCH(TRIM($G1237),'Transparency List 2018_10'!$D:$D,0),FALSE)),\"On the 2018_10 List\",\"-\")","v":"-"},{"$f":"IF(OR(IFERROR(MATCH($D1237,'Transparency List 2018_04'!$L:$L,0),FALSE),IFERROR(MATCH(TRIM($G1237),'Transparency List 2018_04'!$D:$D,0),FALSE)),\"On the 2018_04 List\",\"-\")","v":"-"},{"$f":"IF(OR(IFERROR(MATCH($D1237,'Transparency List 2017'!$L:$L,0),FALSE),IFERROR(MATCH(TRIM($G1237),'Transparency List 2017'!$C:$C,0),FALSE)),\"On the 2017 List\",\"-\")","v":"-"},{"$f":"IF(OR(IFERROR(MATCH($D1237,'Transparency List 2015'!$H:$H,0),FALSE),IFERROR(MATCH(TRIM($G1237),'Transparency List 2015'!$C:$C,0),FALSE)),\"On the 2015 List\",\"-\")","v":"-"}]
[null,null,4,"",null,null,null,"-",{"$f":"IF(OR(IFERROR(MATCH($D1238,'Transparency List 2018_10'!$L:$L,0),FALSE),IFERROR(MATCH(TRIM($G1238),'Transparency List 2018_10'!$D:$D,0),FALSE)),\"On the 2018_10 List\",\"-\")","v":"-"},{"$f":"IF(OR(IFERROR(MATCH($D1238,'Transparency List 2018_04'!$L:$L,0),FALSE),IFERROR(MATCH(TRIM($G1238),'Transparency List 2018_04'!$D:$D,0),FALSE)),\"On the 2018_04 List\",\"-\")","v":"-"},{"$f":"IF(OR(IFERROR(MATCH($D1238,'Transparency List 2017'!$L:$L,0),FALSE),IFERROR(MATCH(TRIM($G1238),'Transparency List 2017'!$C:$C,0),FALSE)),\"On the 2017 List\",\"-\")","v":"-"},{"$f":"IF(OR(IFERROR(MATCH($D1238,'Transparency List 2015'!$H:$H,0),FALSE),IFERROR(MATCH(TRIM($G1238),'Transparency List 2015'!$C:$C,0),FALSE)),\"On the 2015 List\",\"-\")","v":"-"}]
[null,null,4,"",null,null,null,"-",{"$f":"IF(OR(IFERROR(MATCH($D1239,'Transparency List 2018_10'!$L:$L,0),FALSE),IFERROR(MATCH(TRIM($G1239),'Transparency List 2018_10'!$D:$D,0),FALSE)),\"On the 2018_10 List\",\"-\")","v":"-"},{"$f":"IF(OR(IFERROR(MATCH($D1239,'Transparency List 2018_04'!$L:$L,0),FALSE),IFERROR(MATCH(TRIM($G1239),'Transparency List 2018_04'!$D:$D,0),FALSE)),\"On the 2018_04 List\",\"-\")","v":"-"},{"$f":"IF(OR(IFERROR(MATCH($D1239,'Transparency List 2017'!$L:$L,0),FALSE),IFERROR(MATCH(TRIM($G1239),'Transparency List 2017'!$C:$C,0),FALSE)),\"On the 2017 List\",\"-\")","v":"-"},{"$f":"IF(OR(IFERROR(MATCH($D1239,'Transparency List 2015'!$H:$H,0),FALSE),IFERROR(MATCH(TRIM($G1239),'Transparency List 2015'!$C:$C,0),FALSE)),\"On the 2015 List\",\"-\")","v":"-"}]
[null,null,4,"",null,null,null,"-",{"$f":"IF(OR(IFERROR(MATCH($D1240,'Transparency List 2018_10'!$L:$L,0),FALSE),IFERROR(MATCH(TRIM($G1240),'Transparency List 2018_10'!$D:$D,0),FALSE)),\"On the 2018_10 List\",\"-\")","v":"-"},{"$f":"IF(OR(IFERROR(MATCH($D1240,'Transparency List 2018_04'!$L:$L,0),FALSE),IFERROR(MATCH(TRIM($G1240),'Transparency List 2018_04'!$D:$D,0),FALSE)),\"On the 2018_04 List\",\"-\")","v":"-"},{"$f":"IF(OR(IFERROR(MATCH($D1240,'Transparency List 2017'!$L:$L,0),FALSE),IFERROR(MATCH(TRIM($G1240),'Transparency List 2017'!$C:$C,0),FALSE)),\"On the 2017 List\",\"-\")","v":"-"},{"$f":"IF(OR(IFERROR(MATCH($D1240,'Transparency List 2015'!$H:$H,0),FALSE),IFERROR(MATCH(TRIM($G1240),'Transparency List 2015'!$C:$C,0),FALSE)),\"On the 2015 List\",\"-\")","v":"-"}]
[null,null,4,"",null,null,null,"-",{"$f":"IF(OR(IFERROR(MATCH($D1241,'Transparency List 2018_10'!$L:$L,0),FALSE),IFERROR(MATCH(TRIM($G1241),'Transparency List 2018_10'!$D:$D,0),FALSE)),\"On the 2018_10 List\",\"-\")","v":"-"},{"$f":"IF(OR(IFERROR(MATCH($D1241,'Transparency List 2018_04'!$L:$L,0),FALSE),IFERROR(MATCH(TRIM($G1241),'Transparency List 2018_04'!$D:$D,0),FALSE)),\"On the 2018_04 List\",\"-\")","v":"-"},{"$f":"IF(OR(IFERROR(MATCH($D1241,'Transparency List 2017'!$L:$L,0),FALSE),IFERROR(MATCH(TRIM($G1241),'Transparency List 2017'!$C:$C,0),FALSE)),\"On the 2017 List\",\"-\")","v":"-"},{"$f":"IF(OR(IFERROR(MATCH($D1241,'Transparency List 2015'!$H:$H,0),FALSE),IFERROR(MATCH(TRIM($G1241),'Transparency List 2015'!$C:$C,0),FALSE)),\"On the 2015 List\",\"-\")","v":"-"}]
[null,null,4,"",null,null,null,"-",{"$f":"IF(OR(IFERROR(MATCH($D1242,'Transparency List 2018_10'!$L:$L,0),FALSE),IFERROR(MATCH(TRIM($G1242),'Transparency List 2018_10'!$D:$D,0),FALSE)),\"On the 2018_10 List\",\"-\")","v":"-"},{"$f":"IF(OR(IFERROR(MATCH($D1242,'Transparency List 2018_04'!$L:$L,0),FALSE),IFERROR(MATCH(TRIM($G1242),'Transparency List 2018_04'!$D:$D,0),FALSE)),\"On the 2018_04 List\",\"-\")","v":"-"},{"$f":"IF(OR(IFERROR(MATCH($D1242,'Transparency List 2017'!$L:$L,0),FALSE),IFERROR(MATCH(TRIM($G1242),'Transparency List 2017'!$C:$C,0),FALSE)),\"On the 2017 List\",\"-\")","v":"-"},{"$f":"IF(OR(IFERROR(MATCH($D1242,'Transparency List 2015'!$H:$H,0),FALSE),IFERROR(MATCH(TRIM($G1242),'Transparency List 2015'!$C:$C,0),FALSE)),\"On the 2015 List\",\"-\")","v":"-"}]
[null,null,4,"",null,null,null,"-",{"$f":"IF(OR(IFERROR(MATCH($D1243,'Transparency List 2018_10'!$L:$L,0),FALSE),IFERROR(MATCH(TRIM($G1243),'Transparency List 2018_10'!$D:$D,0),FALSE)),\"On the 2018_10 List\",\"-\")","v":"-"},{"$f":"IF(OR(IFERROR(MATCH($D1243,'Transparency List 2018_04'!$L:$L,0),FALSE),IFERROR(MATCH(TRIM($G1243),'Transparency List 2018_04'!$D:$D,0),FALSE)),\"On the 2018_04 List\",\"-\")","v":"-"},{"$f":"IF(OR(IFERROR(MATCH($D1243,'Transparency List 2017'!$L:$L,0),FALSE),IFERROR(MATCH(TRIM($G1243),'Transparency List 2017'!$C:$C,0),FALSE)),\"On the 2017 List\",\"-\")","v":"-"},{"$f":"IF(OR(IFERROR(MATCH($D1243,'Transparency List 2015'!$H:$H,0),FALSE),IFERROR(MATCH(TRIM($G1243),'Transparency List 2015'!$C:$C,0),FALSE)),\"On the 2015 List\",\"-\")","v":"-"}]
[null,null,4,"",null,null,null,"-",{"$f":"IF(OR(IFERROR(MATCH($D1244,'Transparency List 2018_10'!$L:$L,0),FALSE),IFERROR(MATCH(TRIM($G1244),'Transparency List 2018_10'!$D:$D,0),FALSE)),\"On the 2018_10 List\",\"-\")","v":"-"},{"$f":"IF(OR(IFERROR(MATCH($D1244,'Transparency List 2018_04'!$L:$L,0),FALSE),IFERROR(MATCH(TRIM($G1244),'Transparency List 2018_04'!$D:$D,0),FALSE)),\"On the 2018_04 List\",\"-\")","v":"-"},{"$f":"IF(OR(IFERROR(MATCH($D1244,'Transparency List 2017'!$L:$L,0),FALSE),IFERROR(MATCH(TRIM($G1244),'Transparency List 2017'!$C:$C,0),FALSE)),\"On the 2017 List\",\"-\")","v":"-"},{"$f":"IF(OR(IFERROR(MATCH($D1244,'Transparency List 2015'!$H:$H,0),FALSE),IFERROR(MATCH(TRIM($G1244),'Transparency List 2015'!$C:$C,0),FALSE)),\"On the 2015 List\",\"-\")","v":"-"}]
[null,null,4,"",null,null,null,"-",{"$f":"IF(OR(IFERROR(MATCH($D1245,'Transparency List 2018_10'!$L:$L,0),FALSE),IFERROR(MATCH(TRIM($G1245),'Transparency List 2018_10'!$D:$D,0),FALSE)),\"On the 2018_10 List\",\"-\")","v":"-"},{"$f":"IF(OR(IFERROR(MATCH($D1245,'Transparency List 2018_04'!$L:$L,0),FALSE),IFERROR(MATCH(TRIM($G1245),'Transparency List 2018_04'!$D:$D,0),FALSE)),\"On the 2018_04 List\",\"-\")","v":"-"},{"$f":"IF(OR(IFERROR(MATCH($D1245,'Transparency List 2017'!$L:$L,0),FALSE),IFERROR(MATCH(TRIM($G1245),'Transparency List 2017'!$C:$C,0),FALSE)),\"On the 2017 List\",\"-\")","v":"-"},{"$f":"IF(OR(IFERROR(MATCH($D1245,'Transparency List 2015'!$H:$H,0),FALSE),IFERROR(MATCH(TRIM($G1245),'Transparency List 2015'!$C:$C,0),FALSE)),\"On the 2015 List\",\"-\")","v":"-"}]
[null,null,4,"",null,null,null,"-",{"$f":"IF(OR(IFERROR(MATCH($D1246,'Transparency List 2018_10'!$L:$L,0),FALSE),IFERROR(MATCH(TRIM($G1246),'Transparency List 2018_10'!$D:$D,0),FALSE)),\"On the 2018_10 List\",\"-\")","v":"-"},{"$f":"IF(OR(IFERROR(MATCH($D1246,'Transparency List 2018_04'!$L:$L,0),FALSE),IFERROR(MATCH(TRIM($G1246),'Transparency List 2018_04'!$D:$D,0),FALSE)),\"On the 2018_04 List\",\"-\")","v":"-"},{"$f":"IF(OR(IFERROR(MATCH($D1246,'Transparency List 2017'!$L:$L,0),FALSE),IFERROR(MATCH(TRIM($G1246),'Transparency List 2017'!$C:$C,0),FALSE)),\"On the 2017 List\",\"-\")","v":"-"},{"$f":"IF(OR(IFERROR(MATCH($D1246,'Transparency List 2015'!$H:$H,0),FALSE),IFERROR(MATCH(TRIM($G1246),'Transparency List 2015'!$C:$C,0),FALSE)),\"On the 2015 List\",\"-\")","v":"-"}]
[null,null,{"$f":"COUNTIF($I1247:$L1247,\"-\")","v":4},{"$f":"SUBSTITUTE(SUBSTITUTE(SUBSTITUTE(SUBSTITUTE($G1247,\" \",\"\"),\".\",\"\"),\"-\",\"\"),\"/\",\"\")","v":""},null,null,null,{"$f":"IFERROR(IF($C1247=4,\"-\",\"Risk Farmer - Please conduct further steps\"),)","v":"-"},{"$f":"IF(OR(IFERROR(MATCH($D1247,'Transparency List 2018_10'!$L:$L,0),FALSE),IFERROR(MATCH(TRIM($G1247),'Transparency List 2018_10'!$D:$D,0),FALSE)),\"On the 2018_10 List\",\"-\")","v":"-"},{"$f":"IF(OR(IFERROR(MATCH($D1247,'Transparency List 2018_04'!$L:$L,0),FALSE),IFERROR(MATCH(TRIM($G1247),'Transparency List 2018_04'!$D:$D,0),FALSE)),\"On the 2018_04 List\",\"-\")","v":"-"},{"$f":"IF(OR(IFERROR(MATCH($D1247,'Transparency List 2017'!$L:$L,0),FALSE),IFERROR(MATCH(TRIM($G1247),'Transparency List 2017'!$C:$C,0),FALSE)),\"On the 2017 List\",\"-\")","v":"-"},{"$f":"IF(OR(IFERROR(MATCH($D1247,'Transparency List 2015'!$H:$H,0),FALSE),IFERROR(MATCH(TRIM($G1247),'Transparency List 2015'!$C:$C,0),FALSE)),\"On the 2015 List\",\"-\")","v":"-"}]
[null,null,4,"",null,null,null,"-",{"$f":"IF(OR(IFERROR(MATCH($D1248,'Transparency List 2018_10'!$L:$L,0),FALSE),IFERROR(MATCH(TRIM($G1248),'Transparency List 2018_10'!$D:$D,0),FALSE)),\"On the 2018_10 List\",\"-\")","v":"-"},{"$f":"IF(OR(IFERROR(MATCH($D1248,'Transparency List 2018_04'!$L:$L,0),FALSE),IFERROR(MATCH(TRIM($G1248),'Transparency List 2018_04'!$D:$D,0),FALSE)),\"On the 2018_04 List\",\"-\")","v":"-"},{"$f":"IF(OR(IFERROR(MATCH($D1248,'Transparency List 2017'!$L:$L,0),FALSE),IFERROR(MATCH(TRIM($G1248),'Transparency List 2017'!$C:$C,0),FALSE)),\"On the 2017 List\",\"-\")","v":"-"},{"$f":"IF(OR(IFERROR(MATCH($D1248,'Transparency List 2015'!$H:$H,0),FALSE),IFERROR(MATCH(TRIM($G1248),'Transparency List 2015'!$C:$C,0),FALSE)),\"On the 2015 List\",\"-\")","v":"-"}]
[null,null,4,"",null,null,null,"-",{"$f":"IF(OR(IFERROR(MATCH($D1249,'Transparency List 2018_10'!$L:$L,0),FALSE),IFERROR(MATCH(TRIM($G1249),'Transparency List 2018_10'!$D:$D,0),FALSE)),\"On the 2018_10 List\",\"-\")","v":"-"},{"$f":"IF(OR(IFERROR(MATCH($D1249,'Transparency List 2018_04'!$L:$L,0),FALSE),IFERROR(MATCH(TRIM($G1249),'Transparency List 2018_04'!$D:$D,0),FALSE)),\"On the 2018_04 List\",\"-\")","v":"-"},{"$f":"IF(OR(IFERROR(MATCH($D1249,'Transparency List 2017'!$L:$L,0),FALSE),IFERROR(MATCH(TRIM($G1249),'Transparency List 2017'!$C:$C,0),FALSE)),\"On the 2017 List\",\"-\")","v":"-"},{"$f":"IF(OR(IFERROR(MATCH($D1249,'Transparency List 2015'!$H:$H,0),FALSE),IFERROR(MATCH(TRIM($G1249),'Transparency List 2015'!$C:$C,0),FALSE)),\"On the 2015 List\",\"-\")","v":"-"}]
[null,null,4,"",null,null,null,"-",{"$f":"IF(OR(IFERROR(MATCH($D1250,'Transparency List 2018_10'!$L:$L,0),FALSE),IFERROR(MATCH(TRIM($G1250),'Transparency List 2018_10'!$D:$D,0),FALSE)),\"On the 2018_10 List\",\"-\")","v":"-"},{"$f":"IF(OR(IFERROR(MATCH($D1250,'Transparency List 2018_04'!$L:$L,0),FALSE),IFERROR(MATCH(TRIM($G1250),'Transparency List 2018_04'!$D:$D,0),FALSE)),\"On the 2018_04 List\",\"-\")","v":"-"},{"$f":"IF(OR(IFERROR(MATCH($D1250,'Transparency List 2017'!$L:$L,0),FALSE),IFERROR(MATCH(TRIM($G1250),'Transparency List 2017'!$C:$C,0),FALSE)),\"On the 2017 List\",\"-\")","v":"-"},{"$f":"IF(OR(IFERROR(MATCH($D1250,'Transparency List 2015'!$H:$H,0),FALSE),IFERROR(MATCH(TRIM($G1250),'Transparency List 2015'!$C:$C,0),FALSE)),\"On the 2015 List\",\"-\")","v":"-"}]
[null,null,4,"",null,null,null,"-",{"$f":"IF(OR(IFERROR(MATCH($D1251,'Transparency List 2018_10'!$L:$L,0),FALSE),IFERROR(MATCH(TRIM($G1251),'Transparency List 2018_10'!$D:$D,0),FALSE)),\"On the 2018_10 List\",\"-\")","v":"-"},{"$f":"IF(OR(IFERROR(MATCH($D1251,'Transparency List 2018_04'!$L:$L,0),FALSE),IFERROR(MATCH(TRIM($G1251),'Transparency List 2018_04'!$D:$D,0),FALSE)),\"On the 2018_04 List\",\"-\")","v":"-"},{"$f":"IF(OR(IFERROR(MATCH($D1251,'Transparency List 2017'!$L:$L,0),FALSE),IFERROR(MATCH(TRIM($G1251),'Transparency List 2017'!$C:$C,0),FALSE)),\"On the 2017 List\",\"-\")","v":"-"},{"$f":"IF(OR(IFERROR(MATCH($D1251,'Transparency List 2015'!$H:$H,0),FALSE),IFERROR(MATCH(TRIM($G1251),'Transparency List 2015'!$C:$C,0),FALSE)),\"On the 2015 List\",\"-\")","v":"-"}]
[null,null,4,"",null,null,null,"-",{"$f":"IF(OR(IFERROR(MATCH($D1252,'Transparency List 2018_10'!$L:$L,0),FALSE),IFERROR(MATCH(TRIM($G1252),'Transparency List 2018_10'!$D:$D,0),FALSE)),\"On the 2018_10 List\",\"-\")","v":"-"},{"$f":"IF(OR(IFERROR(MATCH($D1252,'Transparency List 2018_04'!$L:$L,0),FALSE),IFERROR(MATCH(TRIM($G1252),'Transparency List 2018_04'!$D:$D,0),FALSE)),\"On the 2018_04 List\",\"-\")","v":"-"},{"$f":"IF(OR(IFERROR(MATCH($D1252,'Transparency List 2017'!$L:$L,0),FALSE),IFERROR(MATCH(TRIM($G1252),'Transparency List 2017'!$C:$C,0),FALSE)),\"On the 2017 List\",\"-\")","v":"-"},{"$f":"IF(OR(IFERROR(MATCH($D1252,'Transparency List 2015'!$H:$H,0),FALSE),IFERROR(MATCH(TRIM($G1252),'Transparency List 2015'!$C:$C,0),FALSE)),\"On the 2015 List\",\"-\")","v":"-"}]
[null,null,4,"",null,null,null,"-",{"$f":"IF(OR(IFERROR(MATCH($D1253,'Transparency List 2018_10'!$L:$L,0),FALSE),IFERROR(MATCH(TRIM($G1253),'Transparency List 2018_10'!$D:$D,0),FALSE)),\"On the 2018_10 List\",\"-\")","v":"-"},{"$f":"IF(OR(IFERROR(MATCH($D1253,'Transparency List 2018_04'!$L:$L,0),FALSE),IFERROR(MATCH(TRIM($G1253),'Transparency List 2018_04'!$D:$D,0),FALSE)),\"On the 2018_04 List\",\"-\")","v":"-"},{"$f":"IF(OR(IFERROR(MATCH($D1253,'Transparency List 2017'!$L:$L,0),FALSE),IFERROR(MATCH(TRIM($G1253),'Transparency List 2017'!$C:$C,0),FALSE)),\"On the 2017 List\",\"-\")","v":"-"},{"$f":"IF(OR(IFERROR(MATCH($D1253,'Transparency List 2015'!$H:$H,0),FALSE),IFERROR(MATCH(TRIM($G1253),'Transparency List 2015'!$C:$C,0),FALSE)),\"On the 2015 List\",\"-\")","v":"-"}]
[null,null,4,"",null,null,null,"-",{"$f":"IF(OR(IFERROR(MATCH($D1254,'Transparency List 2018_10'!$L:$L,0),FALSE),IFERROR(MATCH(TRIM($G1254),'Transparency List 2018_10'!$D:$D,0),FALSE)),\"On the 2018_10 List\",\"-\")","v":"-"},{"$f":"IF(OR(IFERROR(MATCH($D1254,'Transparency List 2018_04'!$L:$L,0),FALSE),IFERROR(MATCH(TRIM($G1254),'Transparency List 2018_04'!$D:$D,0),FALSE)),\"On the 2018_04 List\",\"-\")","v":"-"},{"$f":"IF(OR(IFERROR(MATCH($D1254,'Transparency List 2017'!$L:$L,0),FALSE),IFERROR(MATCH(TRIM($G1254),'Transparency List 2017'!$C:$C,0),FALSE)),\"On the 2017 List\",\"-\")","v":"-"},{"$f":"IF(OR(IFERROR(MATCH($D1254,'Transparency List 2015'!$H:$H,0),FALSE),IFERROR(MATCH(TRIM($G1254),'Transparency List 2015'!$C:$C,0),FALSE)),\"On the 2015 List\",\"-\")","v":"-"}]
[null,null,4,"",null,null,null,"-",{"$f":"IF(OR(IFERROR(MATCH($D1255,'Transparency List 2018_10'!$L:$L,0),FALSE),IFERROR(MATCH(TRIM($G1255),'Transparency List 2018_10'!$D:$D,0),FALSE)),\"On the 2018_10 List\",\"-\")","v":"-"},{"$f":"IF(OR(IFERROR(MATCH($D1255,'Transparency List 2018_04'!$L:$L,0),FALSE),IFERROR(MATCH(TRIM($G1255),'Transparency List 2018_04'!$D:$D,0),FALSE)),\"On the 2018_04 List\",\"-\")","v":"-"},{"$f":"IF(OR(IFERROR(MATCH($D1255,'Transparency List 2017'!$L:$L,0),FALSE),IFERROR(MATCH(TRIM($G1255),'Transparency List 2017'!$C:$C,0),FALSE)),\"On the 2017 List\",\"-\")","v":"-"},{"$f":"IF(OR(IFERROR(MATCH($D1255,'Transparency List 2015'!$H:$H,0),FALSE),IFERROR(MATCH(TRIM($G1255),'Transparency List 2015'!$C:$C,0),FALSE)),\"On the 2015 List\",\"-\")","v":"-"}]
[null,null,4,"",null,null,null,"-",{"$f":"IF(OR(IFERROR(MATCH($D1256,'Transparency List 2018_10'!$L:$L,0),FALSE),IFERROR(MATCH(TRIM($G1256),'Transparency List 2018_10'!$D:$D,0),FALSE)),\"On the 2018_10 List\",\"-\")","v":"-"},{"$f":"IF(OR(IFERROR(MATCH($D1256,'Transparency List 2018_04'!$L:$L,0),FALSE),IFERROR(MATCH(TRIM($G1256),'Transparency List 2018_04'!$D:$D,0),FALSE)),\"On the 2018_04 List\",\"-\")","v":"-"},{"$f":"IF(OR(IFERROR(MATCH($D1256,'Transparency List 2017'!$L:$L,0),FALSE),IFERROR(MATCH(TRIM($G1256),'Transparency List 2017'!$C:$C,0),FALSE)),\"On the 2017 List\",\"-\")","v":"-"},{"$f":"IF(OR(IFERROR(MATCH($D1256,'Transparency List 2015'!$H:$H,0),FALSE),IFERROR(MATCH(TRIM($G1256),'Transparency List 2015'!$C:$C,0),FALSE)),\"On the 2015 List\",\"-\")","v":"-"}]
[null,null,4,"",null,null,null,"-",{"$f":"IF(OR(IFERROR(MATCH($D1257,'Transparency List 2018_10'!$L:$L,0),FALSE),IFERROR(MATCH(TRIM($G1257),'Transparency List 2018_10'!$D:$D,0),FALSE)),\"On the 2018_10 List\",\"-\")","v":"-"},{"$f":"IF(OR(IFERROR(MATCH($D1257,'Transparency List 2018_04'!$L:$L,0),FALSE),IFERROR(MATCH(TRIM($G1257),'Transparency List 2018_04'!$D:$D,0),FALSE)),\"On the 2018_04 List\",\"-\")","v":"-"},{"$f":"IF(OR(IFERROR(MATCH($D1257,'Transparency List 2017'!$L:$L,0),FALSE),IFERROR(MATCH(TRIM($G1257),'Transparency List 2017'!$C:$C,0),FALSE)),\"On the 2017 List\",\"-\")","v":"-"},{"$f":"IF(OR(IFERROR(MATCH($D1257,'Transparency List 2015'!$H:$H,0),FALSE),IFERROR(MATCH(TRIM($G1257),'Transparency List 2015'!$C:$C,0),FALSE)),\"On the 2015 List\",\"-\")","v":"-"}]
[null,null,4,"",null,null,null,"-",{"$f":"IF(OR(IFERROR(MATCH($D1258,'Transparency List 2018_10'!$L:$L,0),FALSE),IFERROR(MATCH(TRIM($G1258),'Transparency List 2018_10'!$D:$D,0),FALSE)),\"On the 2018_10 List\",\"-\")","v":"-"},{"$f":"IF(OR(IFERROR(MATCH($D1258,'Transparency List 2018_04'!$L:$L,0),FALSE),IFERROR(MATCH(TRIM($G1258),'Transparency List 2018_04'!$D:$D,0),FALSE)),\"On the 2018_04 List\",\"-\")","v":"-"},{"$f":"IF(OR(IFERROR(MATCH($D1258,'Transparency List 2017'!$L:$L,0),FALSE),IFERROR(MATCH(TRIM($G1258),'Transparency List 2017'!$C:$C,0),FALSE)),\"On the 2017 List\",\"-\")","v":"-"},{"$f":"IF(OR(IFERROR(MATCH($D1258,'Transparency List 2015'!$H:$H,0),FALSE),IFERROR(MATCH(TRIM($G1258),'Transparency List 2015'!$C:$C,0),FALSE)),\"On the 2015 List\",\"-\")","v":"-"}]
[null,null,4,"",null,null,null,"-",{"$f":"IF(OR(IFERROR(MATCH($D1259,'Transparency List 2018_10'!$L:$L,0),FALSE),IFERROR(MATCH(TRIM($G1259),'Transparency List 2018_10'!$D:$D,0),FALSE)),\"On the 2018_10 List\",\"-\")","v":"-"},{"$f":"IF(OR(IFERROR(MATCH($D1259,'Transparency List 2018_04'!$L:$L,0),FALSE),IFERROR(MATCH(TRIM($G1259),'Transparency List 2018_04'!$D:$D,0),FALSE)),\"On the 2018_04 List\",\"-\")","v":"-"},{"$f":"IF(OR(IFERROR(MATCH($D1259,'Transparency List 2017'!$L:$L,0),FALSE),IFERROR(MATCH(TRIM($G1259),'Transparency List 2017'!$C:$C,0),FALSE)),\"On the 2017 List\",\"-\")","v":"-"},{"$f":"IF(OR(IFERROR(MATCH($D1259,'Transparency List 2015'!$H:$H,0),FALSE),IFERROR(MATCH(TRIM($G1259),'Transparency List 2015'!$C:$C,0),FALSE)),\"On the 2015 List\",\"-\")","v":"-"}]
[null,null,4,"",null,null,null,"-",{"$f":"IF(OR(IFERROR(MATCH($D1260,'Transparency List 2018_10'!$L:$L,0),FALSE),IFERROR(MATCH(TRIM($G1260),'Transparency List 2018_10'!$D:$D,0),FALSE)),\"On the 2018_10 List\",\"-\")","v":"-"},{"$f":"IF(OR(IFERROR(MATCH($D1260,'Transparency List 2018_04'!$L:$L,0),FALSE),IFERROR(MATCH(TRIM($G1260),'Transparency List 2018_04'!$D:$D,0),FALSE)),\"On the 2018_04 List\",\"-\")","v":"-"},{"$f":"IF(OR(IFERROR(MATCH($D1260,'Transparency List 2017'!$L:$L,0),FALSE),IFERROR(MATCH(TRIM($G1260),'Transparency List 2017'!$C:$C,0),FALSE)),\"On the 2017 List\",\"-\")","v":"-"},{"$f":"IF(OR(IFERROR(MATCH($D1260,'Transparency List 2015'!$H:$H,0),FALSE),IFERROR(MATCH(TRIM($G1260),'Transparency List 2015'!$C:$C,0),FALSE)),\"On the 2015 List\",\"-\")","v":"-"}]
[null,null,4,"",null,null,null,"-",{"$f":"IF(OR(IFERROR(MATCH($D1261,'Transparency List 2018_10'!$L:$L,0),FALSE),IFERROR(MATCH(TRIM($G1261),'Transparency List 2018_10'!$D:$D,0),FALSE)),\"On the 2018_10 List\",\"-\")","v":"-"},{"$f":"IF(OR(IFERROR(MATCH($D1261,'Transparency List 2018_04'!$L:$L,0),FALSE),IFERROR(MATCH(TRIM($G1261),'Transparency List 2018_04'!$D:$D,0),FALSE)),\"On the 2018_04 List\",\"-\")","v":"-"},{"$f":"IF(OR(IFERROR(MATCH($D1261,'Transparency List 2017'!$L:$L,0),FALSE),IFERROR(MATCH(TRIM($G1261),'Transparency List 2017'!$C:$C,0),FALSE)),\"On the 2017 List\",\"-\")","v":"-"},{"$f":"IF(OR(IFERROR(MATCH($D1261,'Transparency List 2015'!$H:$H,0),FALSE),IFERROR(MATCH(TRIM($G1261),'Transparency List 2015'!$C:$C,0),FALSE)),\"On the 2015 List\",\"-\")","v":"-"}]
[null,null,4,"",null,null,null,"-",{"$f":"IF(OR(IFERROR(MATCH($D1262,'Transparency List 2018_10'!$L:$L,0),FALSE),IFERROR(MATCH(TRIM($G1262),'Transparency List 2018_10'!$D:$D,0),FALSE)),\"On the 2018_10 List\",\"-\")","v":"-"},{"$f":"IF(OR(IFERROR(MATCH($D1262,'Transparency List 2018_04'!$L:$L,0),FALSE),IFERROR(MATCH(TRIM($G1262),'Transparency List 2018_04'!$D:$D,0),FALSE)),\"On the 2018_04 List\",\"-\")","v":"-"},{"$f":"IF(OR(IFERROR(MATCH($D1262,'Transparency List 2017'!$L:$L,0),FALSE),IFERROR(MATCH(TRIM($G1262),'Transparency List 2017'!$C:$C,0),FALSE)),\"On the 2017 List\",\"-\")","v":"-"},{"$f":"IF(OR(IFERROR(MATCH($D1262,'Transparency List 2015'!$H:$H,0),FALSE),IFERROR(MATCH(TRIM($G1262),'Transparency List 2015'!$C:$C,0),FALSE)),\"On the 2015 List\",\"-\")","v":"-"}]
[null,null,4,"",null,null,null,"-",{"$f":"IF(OR(IFERROR(MATCH($D1263,'Transparency List 2018_10'!$L:$L,0),FALSE),IFERROR(MATCH(TRIM($G1263),'Transparency List 2018_10'!$D:$D,0),FALSE)),\"On the 2018_10 List\",\"-\")","v":"-"},{"$f":"IF(OR(IFERROR(MATCH($D1263,'Transparency List 2018_04'!$L:$L,0),FALSE),IFERROR(MATCH(TRIM($G1263),'Transparency List 2018_04'!$D:$D,0),FALSE)),\"On the 2018_04 List\",\"-\")","v":"-"},{"$f":"IF(OR(IFERROR(MATCH($D1263,'Transparency List 2017'!$L:$L,0),FALSE),IFERROR(MATCH(TRIM($G1263),'Transparency List 2017'!$C:$C,0),FALSE)),\"On the 2017 List\",\"-\")","v":"-"},{"$f":"IF(OR(IFERROR(MATCH($D1263,'Transparency List 2015'!$H:$H,0),FALSE),IFERROR(MATCH(TRIM($G1263),'Transparency List 2015'!$C:$C,0),FALSE)),\"On the 2015 List\",\"-\")","v":"-"}]
[null,null,4,"",null,null,null,"-",{"$f":"IF(OR(IFERROR(MATCH($D1264,'Transparency List 2018_10'!$L:$L,0),FALSE),IFERROR(MATCH(TRIM($G1264),'Transparency List 2018_10'!$D:$D,0),FALSE)),\"On the 2018_10 List\",\"-\")","v":"-"},{"$f":"IF(OR(IFERROR(MATCH($D1264,'Transparency List 2018_04'!$L:$L,0),FALSE),IFERROR(MATCH(TRIM($G1264),'Transparency List 2018_04'!$D:$D,0),FALSE)),\"On the 2018_04 List\",\"-\")","v":"-"},{"$f":"IF(OR(IFERROR(MATCH($D1264,'Transparency List 2017'!$L:$L,0),FALSE),IFERROR(MATCH(TRIM($G1264),'Transparency List 2017'!$C:$C,0),FALSE)),\"On the 2017 List\",\"-\")","v":"-"},{"$f":"IF(OR(IFERROR(MATCH($D1264,'Transparency List 2015'!$H:$H,0),FALSE),IFERROR(MATCH(TRIM($G1264),'Transparency List 2015'!$C:$C,0),FALSE)),\"On the 2015 List\",\"-\")","v":"-"}]
[null,null,4,"",null,null,null,"-",{"$f":"IF(OR(IFERROR(MATCH($D1265,'Transparency List 2018_10'!$L:$L,0),FALSE),IFERROR(MATCH(TRIM($G1265),'Transparency List 2018_10'!$D:$D,0),FALSE)),\"On the 2018_10 List\",\"-\")","v":"-"},{"$f":"IF(OR(IFERROR(MATCH($D1265,'Transparency List 2018_04'!$L:$L,0),FALSE),IFERROR(MATCH(TRIM($G1265),'Transparency List 2018_04'!$D:$D,0),FALSE)),\"On the 2018_04 List\",\"-\")","v":"-"},{"$f":"IF(OR(IFERROR(MATCH($D1265,'Transparency List 2017'!$L:$L,0),FALSE),IFERROR(MATCH(TRIM($G1265),'Transparency List 2017'!$C:$C,0),FALSE)),\"On the 2017 List\",\"-\")","v":"-"},{"$f":"IF(OR(IFERROR(MATCH($D1265,'Transparency List 2015'!$H:$H,0),FALSE),IFERROR(MATCH(TRIM($G1265),'Transparency List 2015'!$C:$C,0),FALSE)),\"On the 2015 List\",\"-\")","v":"-"}]
[null,null,4,"",null,null,null,"-",{"$f":"IF(OR(IFERROR(MATCH($D1266,'Transparency List 2018_10'!$L:$L,0),FALSE),IFERROR(MATCH(TRIM($G1266),'Transparency List 2018_10'!$D:$D,0),FALSE)),\"On the 2018_10 List\",\"-\")","v":"-"},{"$f":"IF(OR(IFERROR(MATCH($D1266,'Transparency List 2018_04'!$L:$L,0),FALSE),IFERROR(MATCH(TRIM($G1266),'Transparency List 2018_04'!$D:$D,0),FALSE)),\"On the 2018_04 List\",\"-\")","v":"-"},{"$f":"IF(OR(IFERROR(MATCH($D1266,'Transparency List 2017'!$L:$L,0),FALSE),IFERROR(MATCH(TRIM($G1266),'Transparency List 2017'!$C:$C,0),FALSE)),\"On the 2017 List\",\"-\")","v":"-"},{"$f":"IF(OR(IFERROR(MATCH($D1266,'Transparency List 2015'!$H:$H,0),FALSE),IFERROR(MATCH(TRIM($G1266),'Transparency List 2015'!$C:$C,0),FALSE)),\"On the 2015 List\",\"-\")","v":"-"}]
[null,null,4,"",null,null,null,"-",{"$f":"IF(OR(IFERROR(MATCH($D1267,'Transparency List 2018_10'!$L:$L,0),FALSE),IFERROR(MATCH(TRIM($G1267),'Transparency List 2018_10'!$D:$D,0),FALSE)),\"On the 2018_10 List\",\"-\")","v":"-"},{"$f":"IF(OR(IFERROR(MATCH($D1267,'Transparency List 2018_04'!$L:$L,0),FALSE),IFERROR(MATCH(TRIM($G1267),'Transparency List 2018_04'!$D:$D,0),FALSE)),\"On the 2018_04 List\",\"-\")","v":"-"},{"$f":"IF(OR(IFERROR(MATCH($D1267,'Transparency List 2017'!$L:$L,0),FALSE),IFERROR(MATCH(TRIM($G1267),'Transparency List 2017'!$C:$C,0),FALSE)),\"On the 2017 List\",\"-\")","v":"-"},{"$f":"IF(OR(IFERROR(MATCH($D1267,'Transparency List 2015'!$H:$H,0),FALSE),IFERROR(MATCH(TRIM($G1267),'Transparency List 2015'!$C:$C,0),FALSE)),\"On the 2015 List\",\"-\")","v":"-"}]
[null,null,4,"",null,null,null,"-",{"$f":"IF(OR(IFERROR(MATCH($D1268,'Transparency List 2018_10'!$L:$L,0),FALSE),IFERROR(MATCH(TRIM($G1268),'Transparency List 2018_10'!$D:$D,0),FALSE)),\"On the 2018_10 List\",\"-\")","v":"-"},{"$f":"IF(OR(IFERROR(MATCH($D1268,'Transparency List 2018_04'!$L:$L,0),FALSE),IFERROR(MATCH(TRIM($G1268),'Transparency List 2018_04'!$D:$D,0),FALSE)),\"On the 2018_04 List\",\"-\")","v":"-"},{"$f":"IF(OR(IFERROR(MATCH($D1268,'Transparency List 2017'!$L:$L,0),FALSE),IFERROR(MATCH(TRIM($G1268),'Transparency List 2017'!$C:$C,0),FALSE)),\"On the 2017 List\",\"-\")","v":"-"},{"$f":"IF(OR(IFERROR(MATCH($D1268,'Transparency List 2015'!$H:$H,0),FALSE),IFERROR(MATCH(TRIM($G1268),'Transparency List 2015'!$C:$C,0),FALSE)),\"On the 2015 List\",\"-\")","v":"-"}]
[null,null,4,"",null,null,null,"-",{"$f":"IF(OR(IFERROR(MATCH($D1269,'Transparency List 2018_10'!$L:$L,0),FALSE),IFERROR(MATCH(TRIM($G1269),'Transparency List 2018_10'!$D:$D,0),FALSE)),\"On the 2018_10 List\",\"-\")","v":"-"},{"$f":"IF(OR(IFERROR(MATCH($D1269,'Transparency List 2018_04'!$L:$L,0),FALSE),IFERROR(MATCH(TRIM($G1269),'Transparency List 2018_04'!$D:$D,0),FALSE)),\"On the 2018_04 List\",\"-\")","v":"-"},{"$f":"IF(OR(IFERROR(MATCH($D1269,'Transparency List 2017'!$L:$L,0),FALSE),IFERROR(MATCH(TRIM($G1269),'Transparency List 2017'!$C:$C,0),FALSE)),\"On the 2017 List\",\"-\")","v":"-"},{"$f":"IF(OR(IFERROR(MATCH($D1269,'Transparency List 2015'!$H:$H,0),FALSE),IFERROR(MATCH(TRIM($G1269),'Transparency List 2015'!$C:$C,0),FALSE)),\"On the 2015 List\",\"-\")","v":"-"}]
[null,null,4,"",null,null,null,"-",{"$f":"IF(OR(IFERROR(MATCH($D1270,'Transparency List 2018_10'!$L:$L,0),FALSE),IFERROR(MATCH(TRIM($G1270),'Transparency List 2018_10'!$D:$D,0),FALSE)),\"On the 2018_10 List\",\"-\")","v":"-"},{"$f":"IF(OR(IFERROR(MATCH($D1270,'Transparency List 2018_04'!$L:$L,0),FALSE),IFERROR(MATCH(TRIM($G1270),'Transparency List 2018_04'!$D:$D,0),FALSE)),\"On the 2018_04 List\",\"-\")","v":"-"},{"$f":"IF(OR(IFERROR(MATCH($D1270,'Transparency List 2017'!$L:$L,0),FALSE),IFERROR(MATCH(TRIM($G1270),'Transparency List 2017'!$C:$C,0),FALSE)),\"On the 2017 List\",\"-\")","v":"-"},{"$f":"IF(OR(IFERROR(MATCH($D1270,'Transparency List 2015'!$H:$H,0),FALSE),IFERROR(MATCH(TRIM($G1270),'Transparency List 2015'!$C:$C,0),FALSE)),\"On the 2015 List\",\"-\")","v":"-"}]
[null,null,4,"",null,null,null,"-",{"$f":"IF(OR(IFERROR(MATCH($D1271,'Transparency List 2018_10'!$L:$L,0),FALSE),IFERROR(MATCH(TRIM($G1271),'Transparency List 2018_10'!$D:$D,0),FALSE)),\"On the 2018_10 List\",\"-\")","v":"-"},{"$f":"IF(OR(IFERROR(MATCH($D1271,'Transparency List 2018_04'!$L:$L,0),FALSE),IFERROR(MATCH(TRIM($G1271),'Transparency List 2018_04'!$D:$D,0),FALSE)),\"On the 2018_04 List\",\"-\")","v":"-"},{"$f":"IF(OR(IFERROR(MATCH($D1271,'Transparency List 2017'!$L:$L,0),FALSE),IFERROR(MATCH(TRIM($G1271),'Transparency List 2017'!$C:$C,0),FALSE)),\"On the 2017 List\",\"-\")","v":"-"},{"$f":"IF(OR(IFERROR(MATCH($D1271,'Transparency List 2015'!$H:$H,0),FALSE),IFERROR(MATCH(TRIM($G1271),'Transparency List 2015'!$C:$C,0),FALSE)),\"On the 2015 List\",\"-\")","v":"-"}]
[null,null,4,"",null,null,null,"-",{"$f":"IF(OR(IFERROR(MATCH($D1272,'Transparency List 2018_10'!$L:$L,0),FALSE),IFERROR(MATCH(TRIM($G1272),'Transparency List 2018_10'!$D:$D,0),FALSE)),\"On the 2018_10 List\",\"-\")","v":"-"},{"$f":"IF(OR(IFERROR(MATCH($D1272,'Transparency List 2018_04'!$L:$L,0),FALSE),IFERROR(MATCH(TRIM($G1272),'Transparency List 2018_04'!$D:$D,0),FALSE)),\"On the 2018_04 List\",\"-\")","v":"-"},{"$f":"IF(OR(IFERROR(MATCH($D1272,'Transparency List 2017'!$L:$L,0),FALSE),IFERROR(MATCH(TRIM($G1272),'Transparency List 2017'!$C:$C,0),FALSE)),\"On the 2017 List\",\"-\")","v":"-"},{"$f":"IF(OR(IFERROR(MATCH($D1272,'Transparency List 2015'!$H:$H,0),FALSE),IFERROR(MATCH(TRIM($G1272),'Transparency List 2015'!$C:$C,0),FALSE)),\"On the 2015 List\",\"-\")","v":"-"}]
[null,null,4,"",null,null,null,"-",{"$f":"IF(OR(IFERROR(MATCH($D1273,'Transparency List 2018_10'!$L:$L,0),FALSE),IFERROR(MATCH(TRIM($G1273),'Transparency List 2018_10'!$D:$D,0),FALSE)),\"On the 2018_10 List\",\"-\")","v":"-"},{"$f":"IF(OR(IFERROR(MATCH($D1273,'Transparency List 2018_04'!$L:$L,0),FALSE),IFERROR(MATCH(TRIM($G1273),'Transparency List 2018_04'!$D:$D,0),FALSE)),\"On the 2018_04 List\",\"-\")","v":"-"},{"$f":"IF(OR(IFERROR(MATCH($D1273,'Transparency List 2017'!$L:$L,0),FALSE),IFERROR(MATCH(TRIM($G1273),'Transparency List 2017'!$C:$C,0),FALSE)),\"On the 2017 List\",\"-\")","v":"-"},{"$f":"IF(OR(IFERROR(MATCH($D1273,'Transparency List 2015'!$H:$H,0),FALSE),IFERROR(MATCH(TRIM($G1273),'Transparency List 2015'!$C:$C,0),FALSE)),\"On the 2015 List\",\"-\")","v":"-"}]
[null,null,4,"",null,null,null,"-",{"$f":"IF(OR(IFERROR(MATCH($D1274,'Transparency List 2018_10'!$L:$L,0),FALSE),IFERROR(MATCH(TRIM($G1274),'Transparency List 2018_10'!$D:$D,0),FALSE)),\"On the 2018_10 List\",\"-\")","v":"-"},{"$f":"IF(OR(IFERROR(MATCH($D1274,'Transparency List 2018_04'!$L:$L,0),FALSE),IFERROR(MATCH(TRIM($G1274),'Transparency List 2018_04'!$D:$D,0),FALSE)),\"On the 2018_04 List\",\"-\")","v":"-"},{"$f":"IF(OR(IFERROR(MATCH($D1274,'Transparency List 2017'!$L:$L,0),FALSE),IFERROR(MATCH(TRIM($G1274),'Transparency List 2017'!$C:$C,0),FALSE)),\"On the 2017 List\",\"-\")","v":"-"},{"$f":"IF(OR(IFERROR(MATCH($D1274,'Transparency List 2015'!$H:$H,0),FALSE),IFERROR(MATCH(TRIM($G1274),'Transparency List 2015'!$C:$C,0),FALSE)),\"On the 2015 List\",\"-\")","v":"-"}]
[null,null,4,"",null,null,null,"-",{"$f":"IF(OR(IFERROR(MATCH($D1275,'Transparency List 2018_10'!$L:$L,0),FALSE),IFERROR(MATCH(TRIM($G1275),'Transparency List 2018_10'!$D:$D,0),FALSE)),\"On the 2018_10 List\",\"-\")","v":"-"},{"$f":"IF(OR(IFERROR(MATCH($D1275,'Transparency List 2018_04'!$L:$L,0),FALSE),IFERROR(MATCH(TRIM($G1275),'Transparency List 2018_04'!$D:$D,0),FALSE)),\"On the 2018_04 List\",\"-\")","v":"-"},{"$f":"IF(OR(IFERROR(MATCH($D1275,'Transparency List 2017'!$L:$L,0),FALSE),IFERROR(MATCH(TRIM($G1275),'Transparency List 2017'!$C:$C,0),FALSE)),\"On the 2017 List\",\"-\")","v":"-"},{"$f":"IF(OR(IFERROR(MATCH($D1275,'Transparency List 2015'!$H:$H,0),FALSE),IFERROR(MATCH(TRIM($G1275),'Transparency List 2015'!$C:$C,0),FALSE)),\"On the 2015 List\",\"-\")","v":"-"}]
[null,null,4,"",null,null,null,"-",{"$f":"IF(OR(IFERROR(MATCH($D1276,'Transparency List 2018_10'!$L:$L,0),FALSE),IFERROR(MATCH(TRIM($G1276),'Transparency List 2018_10'!$D:$D,0),FALSE)),\"On the 2018_10 List\",\"-\")","v":"-"},{"$f":"IF(OR(IFERROR(MATCH($D1276,'Transparency List 2018_04'!$L:$L,0),FALSE),IFERROR(MATCH(TRIM($G1276),'Transparency List 2018_04'!$D:$D,0),FALSE)),\"On the 2018_04 List\",\"-\")","v":"-"},{"$f":"IF(OR(IFERROR(MATCH($D1276,'Transparency List 2017'!$L:$L,0),FALSE),IFERROR(MATCH(TRIM($G1276),'Transparency List 2017'!$C:$C,0),FALSE)),\"On the 2017 List\",\"-\")","v":"-"},{"$f":"IF(OR(IFERROR(MATCH($D1276,'Transparency List 2015'!$H:$H,0),FALSE),IFERROR(MATCH(TRIM($G1276),'Transparency List 2015'!$C:$C,0),FALSE)),\"On the 2015 List\",\"-\")","v":"-"}]
[null,null,4,"",null,null,null,"-",{"$f":"IF(OR(IFERROR(MATCH($D1277,'Transparency List 2018_10'!$L:$L,0),FALSE),IFERROR(MATCH(TRIM($G1277),'Transparency List 2018_10'!$D:$D,0),FALSE)),\"On the 2018_10 List\",\"-\")","v":"-"},{"$f":"IF(OR(IFERROR(MATCH($D1277,'Transparency List 2018_04'!$L:$L,0),FALSE),IFERROR(MATCH(TRIM($G1277),'Transparency List 2018_04'!$D:$D,0),FALSE)),\"On the 2018_04 List\",\"-\")","v":"-"},{"$f":"IF(OR(IFERROR(MATCH($D1277,'Transparency List 2017'!$L:$L,0),FALSE),IFERROR(MATCH(TRIM($G1277),'Transparency List 2017'!$C:$C,0),FALSE)),\"On the 2017 List\",\"-\")","v":"-"},{"$f":"IF(OR(IFERROR(MATCH($D1277,'Transparency List 2015'!$H:$H,0),FALSE),IFERROR(MATCH(TRIM($G1277),'Transparency List 2015'!$C:$C,0),FALSE)),\"On the 2015 List\",\"-\")","v":"-"}]
[null,null,4,"",null,null,null,"-",{"$f":"IF(OR(IFERROR(MATCH($D1278,'Transparency List 2018_10'!$L:$L,0),FALSE),IFERROR(MATCH(TRIM($G1278),'Transparency List 2018_10'!$D:$D,0),FALSE)),\"On the 2018_10 List\",\"-\")","v":"-"},{"$f":"IF(OR(IFERROR(MATCH($D1278,'Transparency List 2018_04'!$L:$L,0),FALSE),IFERROR(MATCH(TRIM($G1278),'Transparency List 2018_04'!$D:$D,0),FALSE)),\"On the 2018_04 List\",\"-\")","v":"-"},{"$f":"IF(OR(IFERROR(MATCH($D1278,'Transparency List 2017'!$L:$L,0),FALSE),IFERROR(MATCH(TRIM($G1278),'Transparency List 2017'!$C:$C,0),FALSE)),\"On the 2017 List\",\"-\")","v":"-"},{"$f":"IF(OR(IFERROR(MATCH($D1278,'Transparency List 2015'!$H:$H,0),FALSE),IFERROR(MATCH(TRIM($G1278),'Transparency List 2015'!$C:$C,0),FALSE)),\"On the 2015 List\",\"-\")","v":"-"}]
[null,null,4,"",null,null,null,"-",{"$f":"IF(OR(IFERROR(MATCH($D1279,'Transparency List 2018_10'!$L:$L,0),FALSE),IFERROR(MATCH(TRIM($G1279),'Transparency List 2018_10'!$D:$D,0),FALSE)),\"On the 2018_10 List\",\"-\")","v":"-"},{"$f":"IF(OR(IFERROR(MATCH($D1279,'Transparency List 2018_04'!$L:$L,0),FALSE),IFERROR(MATCH(TRIM($G1279),'Transparency List 2018_04'!$D:$D,0),FALSE)),\"On the 2018_04 List\",\"-\")","v":"-"},{"$f":"IF(OR(IFERROR(MATCH($D1279,'Transparency List 2017'!$L:$L,0),FALSE),IFERROR(MATCH(TRIM($G1279),'Transparency List 2017'!$C:$C,0),FALSE)),\"On the 2017 List\",\"-\")","v":"-"},{"$f":"IF(OR(IFERROR(MATCH($D1279,'Transparency List 2015'!$H:$H,0),FALSE),IFERROR(MATCH(TRIM($G1279),'Transparency List 2015'!$C:$C,0),FALSE)),\"On the 2015 List\",\"-\")","v":"-"}]
[null,null,4,"",null,null,null,"-",{"$f":"IF(OR(IFERROR(MATCH($D1280,'Transparency List 2018_10'!$L:$L,0),FALSE),IFERROR(MATCH(TRIM($G1280),'Transparency List 2018_10'!$D:$D,0),FALSE)),\"On the 2018_10 List\",\"-\")","v":"-"},{"$f":"IF(OR(IFERROR(MATCH($D1280,'Transparency List 2018_04'!$L:$L,0),FALSE),IFERROR(MATCH(TRIM($G1280),'Transparency List 2018_04'!$D:$D,0),FALSE)),\"On the 2018_04 List\",\"-\")","v":"-"},{"$f":"IF(OR(IFERROR(MATCH($D1280,'Transparency List 2017'!$L:$L,0),FALSE),IFERROR(MATCH(TRIM($G1280),'Transparency List 2017'!$C:$C,0),FALSE)),\"On the 2017 List\",\"-\")","v":"-"},{"$f":"IF(OR(IFERROR(MATCH($D1280,'Transparency List 2015'!$H:$H,0),FALSE),IFERROR(MATCH(TRIM($G1280),'Transparency List 2015'!$C:$C,0),FALSE)),\"On the 2015 List\",\"-\")","v":"-"}]
[null,null,4,"",null,null,null,"-",{"$f":"IF(OR(IFERROR(MATCH($D1281,'Transparency List 2018_10'!$L:$L,0),FALSE),IFERROR(MATCH(TRIM($G1281),'Transparency List 2018_10'!$D:$D,0),FALSE)),\"On the 2018_10 List\",\"-\")","v":"-"},{"$f":"IF(OR(IFERROR(MATCH($D1281,'Transparency List 2018_04'!$L:$L,0),FALSE),IFERROR(MATCH(TRIM($G1281),'Transparency List 2018_04'!$D:$D,0),FALSE)),\"On the 2018_04 List\",\"-\")","v":"-"},{"$f":"IF(OR(IFERROR(MATCH($D1281,'Transparency List 2017'!$L:$L,0),FALSE),IFERROR(MATCH(TRIM($G1281),'Transparency List 2017'!$C:$C,0),FALSE)),\"On the 2017 List\",\"-\")","v":"-"},{"$f":"IF(OR(IFERROR(MATCH($D1281,'Transparency List 2015'!$H:$H,0),FALSE),IFERROR(MATCH(TRIM($G1281),'Transparency List 2015'!$C:$C,0),FALSE)),\"On the 2015 List\",\"-\")","v":"-"}]
[null,null,4,"",null,null,null,"-",{"$f":"IF(OR(IFERROR(MATCH($D1282,'Transparency List 2018_10'!$L:$L,0),FALSE),IFERROR(MATCH(TRIM($G1282),'Transparency List 2018_10'!$D:$D,0),FALSE)),\"On the 2018_10 List\",\"-\")","v":"-"},{"$f":"IF(OR(IFERROR(MATCH($D1282,'Transparency List 2018_04'!$L:$L,0),FALSE),IFERROR(MATCH(TRIM($G1282),'Transparency List 2018_04'!$D:$D,0),FALSE)),\"On the 2018_04 List\",\"-\")","v":"-"},{"$f":"IF(OR(IFERROR(MATCH($D1282,'Transparency List 2017'!$L:$L,0),FALSE),IFERROR(MATCH(TRIM($G1282),'Transparency List 2017'!$C:$C,0),FALSE)),\"On the 2017 List\",\"-\")","v":"-"},{"$f":"IF(OR(IFERROR(MATCH($D1282,'Transparency List 2015'!$H:$H,0),FALSE),IFERROR(MATCH(TRIM($G1282),'Transparency List 2015'!$C:$C,0),FALSE)),\"On the 2015 List\",\"-\")","v":"-"}]
[null,null,4,"",null,null,null,"-",{"$f":"IF(OR(IFERROR(MATCH($D1283,'Transparency List 2018_10'!$L:$L,0),FALSE),IFERROR(MATCH(TRIM($G1283),'Transparency List 2018_10'!$D:$D,0),FALSE)),\"On the 2018_10 List\",\"-\")","v":"-"},{"$f":"IF(OR(IFERROR(MATCH($D1283,'Transparency List 2018_04'!$L:$L,0),FALSE),IFERROR(MATCH(TRIM($G1283),'Transparency List 2018_04'!$D:$D,0),FALSE)),\"On the 2018_04 List\",\"-\")","v":"-"},{"$f":"IF(OR(IFERROR(MATCH($D1283,'Transparency List 2017'!$L:$L,0),FALSE),IFERROR(MATCH(TRIM($G1283),'Transparency List 2017'!$C:$C,0),FALSE)),\"On the 2017 List\",\"-\")","v":"-"},{"$f":"IF(OR(IFERROR(MATCH($D1283,'Transparency List 2015'!$H:$H,0),FALSE),IFERROR(MATCH(TRIM($G1283),'Transparency List 2015'!$C:$C,0),FALSE)),\"On the 2015 List\",\"-\")","v":"-"}]
[null,null,4,"",null,null,null,"-",{"$f":"IF(OR(IFERROR(MATCH($D1284,'Transparency List 2018_10'!$L:$L,0),FALSE),IFERROR(MATCH(TRIM($G1284),'Transparency List 2018_10'!$D:$D,0),FALSE)),\"On the 2018_10 List\",\"-\")","v":"-"},{"$f":"IF(OR(IFERROR(MATCH($D1284,'Transparency List 2018_04'!$L:$L,0),FALSE),IFERROR(MATCH(TRIM($G1284),'Transparency List 2018_04'!$D:$D,0),FALSE)),\"On the 2018_04 List\",\"-\")","v":"-"},{"$f":"IF(OR(IFERROR(MATCH($D1284,'Transparency List 2017'!$L:$L,0),FALSE),IFERROR(MATCH(TRIM($G1284),'Transparency List 2017'!$C:$C,0),FALSE)),\"On the 2017 List\",\"-\")","v":"-"},{"$f":"IF(OR(IFERROR(MATCH($D1284,'Transparency List 2015'!$H:$H,0),FALSE),IFERROR(MATCH(TRIM($G1284),'Transparency List 2015'!$C:$C,0),FALSE)),\"On the 2015 List\",\"-\")","v":"-"}]
[null,null,4,"",null,null,null,"-",{"$f":"IF(OR(IFERROR(MATCH($D1285,'Transparency List 2018_10'!$L:$L,0),FALSE),IFERROR(MATCH(TRIM($G1285),'Transparency List 2018_10'!$D:$D,0),FALSE)),\"On the 2018_10 List\",\"-\")","v":"-"},{"$f":"IF(OR(IFERROR(MATCH($D1285,'Transparency List 2018_04'!$L:$L,0),FALSE),IFERROR(MATCH(TRIM($G1285),'Transparency List 2018_04'!$D:$D,0),FALSE)),\"On the 2018_04 List\",\"-\")","v":"-"},{"$f":"IF(OR(IFERROR(MATCH($D1285,'Transparency List 2017'!$L:$L,0),FALSE),IFERROR(MATCH(TRIM($G1285),'Transparency List 2017'!$C:$C,0),FALSE)),\"On the 2017 List\",\"-\")","v":"-"},{"$f":"IF(OR(IFERROR(MATCH($D1285,'Transparency List 2015'!$H:$H,0),FALSE),IFERROR(MATCH(TRIM($G1285),'Transparency List 2015'!$C:$C,0),FALSE)),\"On the 2015 List\",\"-\")","v":"-"}]
[null,null,4,"",null,null,null,"-",{"$f":"IF(OR(IFERROR(MATCH($D1286,'Transparency List 2018_10'!$L:$L,0),FALSE),IFERROR(MATCH(TRIM($G1286),'Transparency List 2018_10'!$D:$D,0),FALSE)),\"On the 2018_10 List\",\"-\")","v":"-"},{"$f":"IF(OR(IFERROR(MATCH($D1286,'Transparency List 2018_04'!$L:$L,0),FALSE),IFERROR(MATCH(TRIM($G1286),'Transparency List 2018_04'!$D:$D,0),FALSE)),\"On the 2018_04 List\",\"-\")","v":"-"},{"$f":"IF(OR(IFERROR(MATCH($D1286,'Transparency List 2017'!$L:$L,0),FALSE),IFERROR(MATCH(TRIM($G1286),'Transparency List 2017'!$C:$C,0),FALSE)),\"On the 2017 List\",\"-\")","v":"-"},{"$f":"IF(OR(IFERROR(MATCH($D1286,'Transparency List 2015'!$H:$H,0),FALSE),IFERROR(MATCH(TRIM($G1286),'Transparency List 2015'!$C:$C,0),FALSE)),\"On the 2015 List\",\"-\")","v":"-"}]
[null,null,4,"",null,null,null,"-",{"$f":"IF(OR(IFERROR(MATCH($D1287,'Transparency List 2018_10'!$L:$L,0),FALSE),IFERROR(MATCH(TRIM($G1287),'Transparency List 2018_10'!$D:$D,0),FALSE)),\"On the 2018_10 List\",\"-\")","v":"-"},{"$f":"IF(OR(IFERROR(MATCH($D1287,'Transparency List 2018_04'!$L:$L,0),FALSE),IFERROR(MATCH(TRIM($G1287),'Transparency List 2018_04'!$D:$D,0),FALSE)),\"On the 2018_04 List\",\"-\")","v":"-"},{"$f":"IF(OR(IFERROR(MATCH($D1287,'Transparency List 2017'!$L:$L,0),FALSE),IFERROR(MATCH(TRIM($G1287),'Transparency List 2017'!$C:$C,0),FALSE)),\"On the 2017 List\",\"-\")","v":"-"},{"$f":"IF(OR(IFERROR(MATCH($D1287,'Transparency List 2015'!$H:$H,0),FALSE),IFERROR(MATCH(TRIM($G1287),'Transparency List 2015'!$C:$C,0),FALSE)),\"On the 2015 List\",\"-\")","v":"-"}]
[null,null,4,"",null,null,null,"-",{"$f":"IF(OR(IFERROR(MATCH($D1288,'Transparency List 2018_10'!$L:$L,0),FALSE),IFERROR(MATCH(TRIM($G1288),'Transparency List 2018_10'!$D:$D,0),FALSE)),\"On the 2018_10 List\",\"-\")","v":"-"},{"$f":"IF(OR(IFERROR(MATCH($D1288,'Transparency List 2018_04'!$L:$L,0),FALSE),IFERROR(MATCH(TRIM($G1288),'Transparency List 2018_04'!$D:$D,0),FALSE)),\"On the 2018_04 List\",\"-\")","v":"-"},{"$f":"IF(OR(IFERROR(MATCH($D1288,'Transparency List 2017'!$L:$L,0),FALSE),IFERROR(MATCH(TRIM($G1288),'Transparency List 2017'!$C:$C,0),FALSE)),\"On the 2017 List\",\"-\")","v":"-"},{"$f":"IF(OR(IFERROR(MATCH($D1288,'Transparency List 2015'!$H:$H,0),FALSE),IFERROR(MATCH(TRIM($G1288),'Transparency List 2015'!$C:$C,0),FALSE)),\"On the 2015 List\",\"-\")","v":"-"}]
[null,null,4,"",null,null,null,"-",{"$f":"IF(OR(IFERROR(MATCH($D1289,'Transparency List 2018_10'!$L:$L,0),FALSE),IFERROR(MATCH(TRIM($G1289),'Transparency List 2018_10'!$D:$D,0),FALSE)),\"On the 2018_10 List\",\"-\")","v":"-"},{"$f":"IF(OR(IFERROR(MATCH($D1289,'Transparency List 2018_04'!$L:$L,0),FALSE),IFERROR(MATCH(TRIM($G1289),'Transparency List 2018_04'!$D:$D,0),FALSE)),\"On the 2018_04 List\",\"-\")","v":"-"},{"$f":"IF(OR(IFERROR(MATCH($D1289,'Transparency List 2017'!$L:$L,0),FALSE),IFERROR(MATCH(TRIM($G1289),'Transparency List 2017'!$C:$C,0),FALSE)),\"On the 2017 List\",\"-\")","v":"-"},{"$f":"IF(OR(IFERROR(MATCH($D1289,'Transparency List 2015'!$H:$H,0),FALSE),IFERROR(MATCH(TRIM($G1289),'Transparency List 2015'!$C:$C,0),FALSE)),\"On the 2015 List\",\"-\")","v":"-"}]
[null,null,4,"",null,null,null,"-",{"$f":"IF(OR(IFERROR(MATCH($D1290,'Transparency List 2018_10'!$L:$L,0),FALSE),IFERROR(MATCH(TRIM($G1290),'Transparency List 2018_10'!$D:$D,0),FALSE)),\"On the 2018_10 List\",\"-\")","v":"-"},{"$f":"IF(OR(IFERROR(MATCH($D1290,'Transparency List 2018_04'!$L:$L,0),FALSE),IFERROR(MATCH(TRIM($G1290),'Transparency List 2018_04'!$D:$D,0),FALSE)),\"On the 2018_04 List\",\"-\")","v":"-"},{"$f":"IF(OR(IFERROR(MATCH($D1290,'Transparency List 2017'!$L:$L,0),FALSE),IFERROR(MATCH(TRIM($G1290),'Transparency List 2017'!$C:$C,0),FALSE)),\"On the 2017 List\",\"-\")","v":"-"},{"$f":"IF(OR(IFERROR(MATCH($D1290,'Transparency List 2015'!$H:$H,0),FALSE),IFERROR(MATCH(TRIM($G1290),'Transparency List 2015'!$C:$C,0),FALSE)),\"On the 2015 List\",\"-\")","v":"-"}]
[null,null,4,"",null,null,null,"-",{"$f":"IF(OR(IFERROR(MATCH($D1291,'Transparency List 2018_10'!$L:$L,0),FALSE),IFERROR(MATCH(TRIM($G1291),'Transparency List 2018_10'!$D:$D,0),FALSE)),\"On the 2018_10 List\",\"-\")","v":"-"},{"$f":"IF(OR(IFERROR(MATCH($D1291,'Transparency List 2018_04'!$L:$L,0),FALSE),IFERROR(MATCH(TRIM($G1291),'Transparency List 2018_04'!$D:$D,0),FALSE)),\"On the 2018_04 List\",\"-\")","v":"-"},{"$f":"IF(OR(IFERROR(MATCH($D1291,'Transparency List 2017'!$L:$L,0),FALSE),IFERROR(MATCH(TRIM($G1291),'Transparency List 2017'!$C:$C,0),FALSE)),\"On the 2017 List\",\"-\")","v":"-"},{"$f":"IF(OR(IFERROR(MATCH($D1291,'Transparency List 2015'!$H:$H,0),FALSE),IFERROR(MATCH(TRIM($G1291),'Transparency List 2015'!$C:$C,0),FALSE)),\"On the 2015 List\",\"-\")","v":"-"}]
[null,null,4,"",null,null,null,"-",{"$f":"IF(OR(IFERROR(MATCH($D1292,'Transparency List 2018_10'!$L:$L,0),FALSE),IFERROR(MATCH(TRIM($G1292),'Transparency List 2018_10'!$D:$D,0),FALSE)),\"On the 2018_10 List\",\"-\")","v":"-"},{"$f":"IF(OR(IFERROR(MATCH($D1292,'Transparency List 2018_04'!$L:$L,0),FALSE),IFERROR(MATCH(TRIM($G1292),'Transparency List 2018_04'!$D:$D,0),FALSE)),\"On the 2018_04 List\",\"-\")","v":"-"},{"$f":"IF(OR(IFERROR(MATCH($D1292,'Transparency List 2017'!$L:$L,0),FALSE),IFERROR(MATCH(TRIM($G1292),'Transparency List 2017'!$C:$C,0),FALSE)),\"On the 2017 List\",\"-\")","v":"-"},{"$f":"IF(OR(IFERROR(MATCH($D1292,'Transparency List 2015'!$H:$H,0),FALSE),IFERROR(MATCH(TRIM($G1292),'Transparency List 2015'!$C:$C,0),FALSE)),\"On the 2015 List\",\"-\")","v":"-"}]
[null,null,4,"",null,null,null,"-",{"$f":"IF(OR(IFERROR(MATCH($D1293,'Transparency List 2018_10'!$L:$L,0),FALSE),IFERROR(MATCH(TRIM($G1293),'Transparency List 2018_10'!$D:$D,0),FALSE)),\"On the 2018_10 List\",\"-\")","v":"-"},{"$f":"IF(OR(IFERROR(MATCH($D1293,'Transparency List 2018_04'!$L:$L,0),FALSE),IFERROR(MATCH(TRIM($G1293),'Transparency List 2018_04'!$D:$D,0),FALSE)),\"On the 2018_04 List\",\"-\")","v":"-"},{"$f":"IF(OR(IFERROR(MATCH($D1293,'Transparency List 2017'!$L:$L,0),FALSE),IFERROR(MATCH(TRIM($G1293),'Transparency List 2017'!$C:$C,0),FALSE)),\"On the 2017 List\",\"-\")","v":"-"},{"$f":"IF(OR(IFERROR(MATCH($D1293,'Transparency List 2015'!$H:$H,0),FALSE),IFERROR(MATCH(TRIM($G1293),'Transparency List 2015'!$C:$C,0),FALSE)),\"On the 2015 List\",\"-\")","v":"-"}]
[null,null,4,"",null,null,null,"-",{"$f":"IF(OR(IFERROR(MATCH($D1294,'Transparency List 2018_10'!$L:$L,0),FALSE),IFERROR(MATCH(TRIM($G1294),'Transparency List 2018_10'!$D:$D,0),FALSE)),\"On the 2018_10 List\",\"-\")","v":"-"},{"$f":"IF(OR(IFERROR(MATCH($D1294,'Transparency List 2018_04'!$L:$L,0),FALSE),IFERROR(MATCH(TRIM($G1294),'Transparency List 2018_04'!$D:$D,0),FALSE)),\"On the 2018_04 List\",\"-\")","v":"-"},{"$f":"IF(OR(IFERROR(MATCH($D1294,'Transparency List 2017'!$L:$L,0),FALSE),IFERROR(MATCH(TRIM($G1294),'Transparency List 2017'!$C:$C,0),FALSE)),\"On the 2017 List\",\"-\")","v":"-"},{"$f":"IF(OR(IFERROR(MATCH($D1294,'Transparency List 2015'!$H:$H,0),FALSE),IFERROR(MATCH(TRIM($G1294),'Transparency List 2015'!$C:$C,0),FALSE)),\"On the 2015 List\",\"-\")","v":"-"}]
[null,null,4,"",null,null,null,"-",{"$f":"IF(OR(IFERROR(MATCH($D1295,'Transparency List 2018_10'!$L:$L,0),FALSE),IFERROR(MATCH(TRIM($G1295),'Transparency List 2018_10'!$D:$D,0),FALSE)),\"On the 2018_10 List\",\"-\")","v":"-"},{"$f":"IF(OR(IFERROR(MATCH($D1295,'Transparency List 2018_04'!$L:$L,0),FALSE),IFERROR(MATCH(TRIM($G1295),'Transparency List 2018_04'!$D:$D,0),FALSE)),\"On the 2018_04 List\",\"-\")","v":"-"},{"$f":"IF(OR(IFERROR(MATCH($D1295,'Transparency List 2017'!$L:$L,0),FALSE),IFERROR(MATCH(TRIM($G1295),'Transparency List 2017'!$C:$C,0),FALSE)),\"On the 2017 List\",\"-\")","v":"-"},{"$f":"IF(OR(IFERROR(MATCH($D1295,'Transparency List 2015'!$H:$H,0),FALSE),IFERROR(MATCH(TRIM($G1295),'Transparency List 2015'!$C:$C,0),FALSE)),\"On the 2015 List\",\"-\")","v":"-"}]
[null,null,4,"",null,null,null,"-",{"$f":"IF(OR(IFERROR(MATCH($D1296,'Transparency List 2018_10'!$L:$L,0),FALSE),IFERROR(MATCH(TRIM($G1296),'Transparency List 2018_10'!$D:$D,0),FALSE)),\"On the 2018_10 List\",\"-\")","v":"-"},{"$f":"IF(OR(IFERROR(MATCH($D1296,'Transparency List 2018_04'!$L:$L,0),FALSE),IFERROR(MATCH(TRIM($G1296),'Transparency List 2018_04'!$D:$D,0),FALSE)),\"On the 2018_04 List\",\"-\")","v":"-"},{"$f":"IF(OR(IFERROR(MATCH($D1296,'Transparency List 2017'!$L:$L,0),FALSE),IFERROR(MATCH(TRIM($G1296),'Transparency List 2017'!$C:$C,0),FALSE)),\"On the 2017 List\",\"-\")","v":"-"},{"$f":"IF(OR(IFERROR(MATCH($D1296,'Transparency List 2015'!$H:$H,0),FALSE),IFERROR(MATCH(TRIM($G1296),'Transparency List 2015'!$C:$C,0),FALSE)),\"On the 2015 List\",\"-\")","v":"-"}]
[null,null,4,"",null,null,null,"-",{"$f":"IF(OR(IFERROR(MATCH($D1297,'Transparency List 2018_10'!$L:$L,0),FALSE),IFERROR(MATCH(TRIM($G1297),'Transparency List 2018_10'!$D:$D,0),FALSE)),\"On the 2018_10 List\",\"-\")","v":"-"},{"$f":"IF(OR(IFERROR(MATCH($D1297,'Transparency List 2018_04'!$L:$L,0),FALSE),IFERROR(MATCH(TRIM($G1297),'Transparency List 2018_04'!$D:$D,0),FALSE)),\"On the 2018_04 List\",\"-\")","v":"-"},{"$f":"IF(OR(IFERROR(MATCH($D1297,'Transparency List 2017'!$L:$L,0),FALSE),IFERROR(MATCH(TRIM($G1297),'Transparency List 2017'!$C:$C,0),FALSE)),\"On the 2017 List\",\"-\")","v":"-"},{"$f":"IF(OR(IFERROR(MATCH($D1297,'Transparency List 2015'!$H:$H,0),FALSE),IFERROR(MATCH(TRIM($G1297),'Transparency List 2015'!$C:$C,0),FALSE)),\"On the 2015 List\",\"-\")","v":"-"}]
[null,null,4,"",null,null,null,"-",{"$f":"IF(OR(IFERROR(MATCH($D1298,'Transparency List 2018_10'!$L:$L,0),FALSE),IFERROR(MATCH(TRIM($G1298),'Transparency List 2018_10'!$D:$D,0),FALSE)),\"On the 2018_10 List\",\"-\")","v":"-"},{"$f":"IF(OR(IFERROR(MATCH($D1298,'Transparency List 2018_04'!$L:$L,0),FALSE),IFERROR(MATCH(TRIM($G1298),'Transparency List 2018_04'!$D:$D,0),FALSE)),\"On the 2018_04 List\",\"-\")","v":"-"},{"$f":"IF(OR(IFERROR(MATCH($D1298,'Transparency List 2017'!$L:$L,0),FALSE),IFERROR(MATCH(TRIM($G1298),'Transparency List 2017'!$C:$C,0),FALSE)),\"On the 2017 List\",\"-\")","v":"-"},{"$f":"IF(OR(IFERROR(MATCH($D1298,'Transparency List 2015'!$H:$H,0),FALSE),IFERROR(MATCH(TRIM($G1298),'Transparency List 2015'!$C:$C,0),FALSE)),\"On the 2015 List\",\"-\")","v":"-"}]
[null,null,4,"",null,null,null,"-",{"$f":"IF(OR(IFERROR(MATCH($D1299,'Transparency List 2018_10'!$L:$L,0),FALSE),IFERROR(MATCH(TRIM($G1299),'Transparency List 2018_10'!$D:$D,0),FALSE)),\"On the 2018_10 List\",\"-\")","v":"-"},{"$f":"IF(OR(IFERROR(MATCH($D1299,'Transparency List 2018_04'!$L:$L,0),FALSE),IFERROR(MATCH(TRIM($G1299),'Transparency List 2018_04'!$D:$D,0),FALSE)),\"On the 2018_04 List\",\"-\")","v":"-"},{"$f":"IF(OR(IFERROR(MATCH($D1299,'Transparency List 2017'!$L:$L,0),FALSE),IFERROR(MATCH(TRIM($G1299),'Transparency List 2017'!$C:$C,0),FALSE)),\"On the 2017 List\",\"-\")","v":"-"},{"$f":"IF(OR(IFERROR(MATCH($D1299,'Transparency List 2015'!$H:$H,0),FALSE),IFERROR(MATCH(TRIM($G1299),'Transparency List 2015'!$C:$C,0),FALSE)),\"On the 2015 List\",\"-\")","v":"-"}]
[null,null,4,"",null,null,null,"-",{"$f":"IF(OR(IFERROR(MATCH($D1300,'Transparency List 2018_10'!$L:$L,0),FALSE),IFERROR(MATCH(TRIM($G1300),'Transparency List 2018_10'!$D:$D,0),FALSE)),\"On the 2018_10 List\",\"-\")","v":"-"},{"$f":"IF(OR(IFERROR(MATCH($D1300,'Transparency List 2018_04'!$L:$L,0),FALSE),IFERROR(MATCH(TRIM($G1300),'Transparency List 2018_04'!$D:$D,0),FALSE)),\"On the 2018_04 List\",\"-\")","v":"-"},{"$f":"IF(OR(IFERROR(MATCH($D1300,'Transparency List 2017'!$L:$L,0),FALSE),IFERROR(MATCH(TRIM($G1300),'Transparency List 2017'!$C:$C,0),FALSE)),\"On the 2017 List\",\"-\")","v":"-"},{"$f":"IF(OR(IFERROR(MATCH($D1300,'Transparency List 2015'!$H:$H,0),FALSE),IFERROR(MATCH(TRIM($G1300),'Transparency List 2015'!$C:$C,0),FALSE)),\"On the 2015 List\",\"-\")","v":"-"}]
[null,null,4,"",null,null,null,"-",{"$f":"IF(OR(IFERROR(MATCH($D1301,'Transparency List 2018_10'!$L:$L,0),FALSE),IFERROR(MATCH(TRIM($G1301),'Transparency List 2018_10'!$D:$D,0),FALSE)),\"On the 2018_10 List\",\"-\")","v":"-"},{"$f":"IF(OR(IFERROR(MATCH($D1301,'Transparency List 2018_04'!$L:$L,0),FALSE),IFERROR(MATCH(TRIM($G1301),'Transparency List 2018_04'!$D:$D,0),FALSE)),\"On the 2018_04 List\",\"-\")","v":"-"},{"$f":"IF(OR(IFERROR(MATCH($D1301,'Transparency List 2017'!$L:$L,0),FALSE),IFERROR(MATCH(TRIM($G1301),'Transparency List 2017'!$C:$C,0),FALSE)),\"On the 2017 List\",\"-\")","v":"-"},{"$f":"IF(OR(IFERROR(MATCH($D1301,'Transparency List 2015'!$H:$H,0),FALSE),IFERROR(MATCH(TRIM($G1301),'Transparency List 2015'!$C:$C,0),FALSE)),\"On the 2015 List\",\"-\")","v":"-"}]
[null,null,4,"",null,null,null,"-",{"$f":"IF(OR(IFERROR(MATCH($D1302,'Transparency List 2018_10'!$L:$L,0),FALSE),IFERROR(MATCH(TRIM($G1302),'Transparency List 2018_10'!$D:$D,0),FALSE)),\"On the 2018_10 List\",\"-\")","v":"-"},{"$f":"IF(OR(IFERROR(MATCH($D1302,'Transparency List 2018_04'!$L:$L,0),FALSE),IFERROR(MATCH(TRIM($G1302),'Transparency List 2018_04'!$D:$D,0),FALSE)),\"On the 2018_04 List\",\"-\")","v":"-"},{"$f":"IF(OR(IFERROR(MATCH($D1302,'Transparency List 2017'!$L:$L,0),FALSE),IFERROR(MATCH(TRIM($G1302),'Transparency List 2017'!$C:$C,0),FALSE)),\"On the 2017 List\",\"-\")","v":"-"},{"$f":"IF(OR(IFERROR(MATCH($D1302,'Transparency List 2015'!$H:$H,0),FALSE),IFERROR(MATCH(TRIM($G1302),'Transparency List 2015'!$C:$C,0),FALSE)),\"On the 2015 List\",\"-\")","v":"-"}]
[null,null,4,"",null,null,null,"-",{"$f":"IF(OR(IFERROR(MATCH($D1303,'Transparency List 2018_10'!$L:$L,0),FALSE),IFERROR(MATCH(TRIM($G1303),'Transparency List 2018_10'!$D:$D,0),FALSE)),\"On the 2018_10 List\",\"-\")","v":"-"},{"$f":"IF(OR(IFERROR(MATCH($D1303,'Transparency List 2018_04'!$L:$L,0),FALSE),IFERROR(MATCH(TRIM($G1303),'Transparency List 2018_04'!$D:$D,0),FALSE)),\"On the 2018_04 List\",\"-\")","v":"-"},{"$f":"IF(OR(IFERROR(MATCH($D1303,'Transparency List 2017'!$L:$L,0),FALSE),IFERROR(MATCH(TRIM($G1303),'Transparency List 2017'!$C:$C,0),FALSE)),\"On the 2017 List\",\"-\")","v":"-"},{"$f":"IF(OR(IFERROR(MATCH($D1303,'Transparency List 2015'!$H:$H,0),FALSE),IFERROR(MATCH(TRIM($G1303),'Transparency List 2015'!$C:$C,0),FALSE)),\"On the 2015 List\",\"-\")","v":"-"}]
[null,null,4,"",null,null,null,"-",{"$f":"IF(OR(IFERROR(MATCH($D1304,'Transparency List 2018_10'!$L:$L,0),FALSE),IFERROR(MATCH(TRIM($G1304),'Transparency List 2018_10'!$D:$D,0),FALSE)),\"On the 2018_10 List\",\"-\")","v":"-"},{"$f":"IF(OR(IFERROR(MATCH($D1304,'Transparency List 2018_04'!$L:$L,0),FALSE),IFERROR(MATCH(TRIM($G1304),'Transparency List 2018_04'!$D:$D,0),FALSE)),\"On the 2018_04 List\",\"-\")","v":"-"},{"$f":"IF(OR(IFERROR(MATCH($D1304,'Transparency List 2017'!$L:$L,0),FALSE),IFERROR(MATCH(TRIM($G1304),'Transparency List 2017'!$C:$C,0),FALSE)),\"On the 2017 List\",\"-\")","v":"-"},{"$f":"IF(OR(IFERROR(MATCH($D1304,'Transparency List 2015'!$H:$H,0),FALSE),IFERROR(MATCH(TRIM($G1304),'Transparency List 2015'!$C:$C,0),FALSE)),\"On the 2015 List\",\"-\")","v":"-"}]
[null,null,4,"",null,null,null,"-",{"$f":"IF(OR(IFERROR(MATCH($D1305,'Transparency List 2018_10'!$L:$L,0),FALSE),IFERROR(MATCH(TRIM($G1305),'Transparency List 2018_10'!$D:$D,0),FALSE)),\"On the 2018_10 List\",\"-\")","v":"-"},{"$f":"IF(OR(IFERROR(MATCH($D1305,'Transparency List 2018_04'!$L:$L,0),FALSE),IFERROR(MATCH(TRIM($G1305),'Transparency List 2018_04'!$D:$D,0),FALSE)),\"On the 2018_04 List\",\"-\")","v":"-"},{"$f":"IF(OR(IFERROR(MATCH($D1305,'Transparency List 2017'!$L:$L,0),FALSE),IFERROR(MATCH(TRIM($G1305),'Transparency List 2017'!$C:$C,0),FALSE)),\"On the 2017 List\",\"-\")","v":"-"},{"$f":"IF(OR(IFERROR(MATCH($D1305,'Transparency List 2015'!$H:$H,0),FALSE),IFERROR(MATCH(TRIM($G1305),'Transparency List 2015'!$C:$C,0),FALSE)),\"On the 2015 List\",\"-\")","v":"-"}]
[null,null,4,"",null,null,null,"-",{"$f":"IF(OR(IFERROR(MATCH($D1306,'Transparency List 2018_10'!$L:$L,0),FALSE),IFERROR(MATCH(TRIM($G1306),'Transparency List 2018_10'!$D:$D,0),FALSE)),\"On the 2018_10 List\",\"-\")","v":"-"},{"$f":"IF(OR(IFERROR(MATCH($D1306,'Transparency List 2018_04'!$L:$L,0),FALSE),IFERROR(MATCH(TRIM($G1306),'Transparency List 2018_04'!$D:$D,0),FALSE)),\"On the 2018_04 List\",\"-\")","v":"-"},{"$f":"IF(OR(IFERROR(MATCH($D1306,'Transparency List 2017'!$L:$L,0),FALSE),IFERROR(MATCH(TRIM($G1306),'Transparency List 2017'!$C:$C,0),FALSE)),\"On the 2017 List\",\"-\")","v":"-"},{"$f":"IF(OR(IFERROR(MATCH($D1306,'Transparency List 2015'!$H:$H,0),FALSE),IFERROR(MATCH(TRIM($G1306),'Transparency List 2015'!$C:$C,0),FALSE)),\"On the 2015 List\",\"-\")","v":"-"}]
[null,null,4,"",null,null,null,"-",{"$f":"IF(OR(IFERROR(MATCH($D1307,'Transparency List 2018_10'!$L:$L,0),FALSE),IFERROR(MATCH(TRIM($G1307),'Transparency List 2018_10'!$D:$D,0),FALSE)),\"On the 2018_10 List\",\"-\")","v":"-"},{"$f":"IF(OR(IFERROR(MATCH($D1307,'Transparency List 2018_04'!$L:$L,0),FALSE),IFERROR(MATCH(TRIM($G1307),'Transparency List 2018_04'!$D:$D,0),FALSE)),\"On the 2018_04 List\",\"-\")","v":"-"},{"$f":"IF(OR(IFERROR(MATCH($D1307,'Transparency List 2017'!$L:$L,0),FALSE),IFERROR(MATCH(TRIM($G1307),'Transparency List 2017'!$C:$C,0),FALSE)),\"On the 2017 List\",\"-\")","v":"-"},{"$f":"IF(OR(IFERROR(MATCH($D1307,'Transparency List 2015'!$H:$H,0),FALSE),IFERROR(MATCH(TRIM($G1307),'Transparency List 2015'!$C:$C,0),FALSE)),\"On the 2015 List\",\"-\")","v":"-"}]
[null,null,4,"",null,null,null,"-",{"$f":"IF(OR(IFERROR(MATCH($D1308,'Transparency List 2018_10'!$L:$L,0),FALSE),IFERROR(MATCH(TRIM($G1308),'Transparency List 2018_10'!$D:$D,0),FALSE)),\"On the 2018_10 List\",\"-\")","v":"-"},{"$f":"IF(OR(IFERROR(MATCH($D1308,'Transparency List 2018_04'!$L:$L,0),FALSE),IFERROR(MATCH(TRIM($G1308),'Transparency List 2018_04'!$D:$D,0),FALSE)),\"On the 2018_04 List\",\"-\")","v":"-"},{"$f":"IF(OR(IFERROR(MATCH($D1308,'Transparency List 2017'!$L:$L,0),FALSE),IFERROR(MATCH(TRIM($G1308),'Transparency List 2017'!$C:$C,0),FALSE)),\"On the 2017 List\",\"-\")","v":"-"},{"$f":"IF(OR(IFERROR(MATCH($D1308,'Transparency List 2015'!$H:$H,0),FALSE),IFERROR(MATCH(TRIM($G1308),'Transparency List 2015'!$C:$C,0),FALSE)),\"On the 2015 List\",\"-\")","v":"-"}]
[null,null,4,"",null,null,null,"-",{"$f":"IF(OR(IFERROR(MATCH($D1309,'Transparency List 2018_10'!$L:$L,0),FALSE),IFERROR(MATCH(TRIM($G1309),'Transparency List 2018_10'!$D:$D,0),FALSE)),\"On the 2018_10 List\",\"-\")","v":"-"},{"$f":"IF(OR(IFERROR(MATCH($D1309,'Transparency List 2018_04'!$L:$L,0),FALSE),IFERROR(MATCH(TRIM($G1309),'Transparency List 2018_04'!$D:$D,0),FALSE)),\"On the 2018_04 List\",\"-\")","v":"-"},{"$f":"IF(OR(IFERROR(MATCH($D1309,'Transparency List 2017'!$L:$L,0),FALSE),IFERROR(MATCH(TRIM($G1309),'Transparency List 2017'!$C:$C,0),FALSE)),\"On the 2017 List\",\"-\")","v":"-"},{"$f":"IF(OR(IFERROR(MATCH($D1309,'Transparency List 2015'!$H:$H,0),FALSE),IFERROR(MATCH(TRIM($G1309),'Transparency List 2015'!$C:$C,0),FALSE)),\"On the 2015 List\",\"-\")","v":"-"}]
[null,null,4,"",null,null,null,"-",{"$f":"IF(OR(IFERROR(MATCH($D1310,'Transparency List 2018_10'!$L:$L,0),FALSE),IFERROR(MATCH(TRIM($G1310),'Transparency List 2018_10'!$D:$D,0),FALSE)),\"On the 2018_10 List\",\"-\")","v":"-"},{"$f":"IF(OR(IFERROR(MATCH($D1310,'Transparency List 2018_04'!$L:$L,0),FALSE),IFERROR(MATCH(TRIM($G1310),'Transparency List 2018_04'!$D:$D,0),FALSE)),\"On the 2018_04 List\",\"-\")","v":"-"},{"$f":"IF(OR(IFERROR(MATCH($D1310,'Transparency List 2017'!$L:$L,0),FALSE),IFERROR(MATCH(TRIM($G1310),'Transparency List 2017'!$C:$C,0),FALSE)),\"On the 2017 List\",\"-\")","v":"-"},{"$f":"IF(OR(IFERROR(MATCH($D1310,'Transparency List 2015'!$H:$H,0),FALSE),IFERROR(MATCH(TRIM($G1310),'Transparency List 2015'!$C:$C,0),FALSE)),\"On the 2015 List\",\"-\")","v":"-"}]
[null,null,{"$f":"COUNTIF($I1311:$L1311,\"-\")","v":4},{"$f":"SUBSTITUTE(SUBSTITUTE(SUBSTITUTE(SUBSTITUTE($G1311,\" \",\"\"),\".\",\"\"),\"-\",\"\"),\"/\",\"\")","v":""},null,null,null,{"$f":"IFERROR(IF($C1311=4,\"-\",\"Risk Farmer - Please conduct further steps\"),)","v":"-"},{"$f":"IF(OR(IFERROR(MATCH($D1311,'Transparency List 2018_10'!$L:$L,0),FALSE),IFERROR(MATCH(TRIM($G1311),'Transparency List 2018_10'!$D:$D,0),FALSE)),\"On the 2018_10 List\",\"-\")","v":"-"},{"$f":"IF(OR(IFERROR(MATCH($D1311,'Transparency List 2018_04'!$L:$L,0),FALSE),IFERROR(MATCH(TRIM($G1311),'Transparency List 2018_04'!$D:$D,0),FALSE)),\"On the 2018_04 List\",\"-\")","v":"-"},{"$f":"IF(OR(IFERROR(MATCH($D1311,'Transparency List 2017'!$L:$L,0),FALSE),IFERROR(MATCH(TRIM($G1311),'Transparency List 2017'!$C:$C,0),FALSE)),\"On the 2017 List\",\"-\")","v":"-"},{"$f":"IF(OR(IFERROR(MATCH($D1311,'Transparency List 2015'!$H:$H,0),FALSE),IFERROR(MATCH(TRIM($G1311),'Transparency List 2015'!$C:$C,0),FALSE)),\"On the 2015 List\",\"-\")","v":"-"}]
[null,null,4,"",null,null,null,"-",{"$f":"IF(OR(IFERROR(MATCH($D1312,'Transparency List 2018_10'!$L:$L,0),FALSE),IFERROR(MATCH(TRIM($G1312),'Transparency List 2018_10'!$D:$D,0),FALSE)),\"On the 2018_10 List\",\"-\")","v":"-"},{"$f":"IF(OR(IFERROR(MATCH($D1312,'Transparency List 2018_04'!$L:$L,0),FALSE),IFERROR(MATCH(TRIM($G1312),'Transparency List 2018_04'!$D:$D,0),FALSE)),\"On the 2018_04 List\",\"-\")","v":"-"},{"$f":"IF(OR(IFERROR(MATCH($D1312,'Transparency List 2017'!$L:$L,0),FALSE),IFERROR(MATCH(TRIM($G1312),'Transparency List 2017'!$C:$C,0),FALSE)),\"On the 2017 List\",\"-\")","v":"-"},{"$f":"IF(OR(IFERROR(MATCH($D1312,'Transparency List 2015'!$H:$H,0),FALSE),IFERROR(MATCH(TRIM($G1312),'Transparency List 2015'!$C:$C,0),FALSE)),\"On the 2015 List\",\"-\")","v":"-"}]
[null,null,4,"",null,null,null,"-",{"$f":"IF(OR(IFERROR(MATCH($D1313,'Transparency List 2018_10'!$L:$L,0),FALSE),IFERROR(MATCH(TRIM($G1313),'Transparency List 2018_10'!$D:$D,0),FALSE)),\"On the 2018_10 List\",\"-\")","v":"-"},{"$f":"IF(OR(IFERROR(MATCH($D1313,'Transparency List 2018_04'!$L:$L,0),FALSE),IFERROR(MATCH(TRIM($G1313),'Transparency List 2018_04'!$D:$D,0),FALSE)),\"On the 2018_04 List\",\"-\")","v":"-"},{"$f":"IF(OR(IFERROR(MATCH($D1313,'Transparency List 2017'!$L:$L,0),FALSE),IFERROR(MATCH(TRIM($G1313),'Transparency List 2017'!$C:$C,0),FALSE)),\"On the 2017 List\",\"-\")","v":"-"},{"$f":"IF(OR(IFERROR(MATCH($D1313,'Transparency List 2015'!$H:$H,0),FALSE),IFERROR(MATCH(TRIM($G1313),'Transparency List 2015'!$C:$C,0),FALSE)),\"On the 2015 List\",\"-\")","v":"-"}]
[null,null,4,"",null,null,null,"-",{"$f":"IF(OR(IFERROR(MATCH($D1314,'Transparency List 2018_10'!$L:$L,0),FALSE),IFERROR(MATCH(TRIM($G1314),'Transparency List 2018_10'!$D:$D,0),FALSE)),\"On the 2018_10 List\",\"-\")","v":"-"},{"$f":"IF(OR(IFERROR(MATCH($D1314,'Transparency List 2018_04'!$L:$L,0),FALSE),IFERROR(MATCH(TRIM($G1314),'Transparency List 2018_04'!$D:$D,0),FALSE)),\"On the 2018_04 List\",\"-\")","v":"-"},{"$f":"IF(OR(IFERROR(MATCH($D1314,'Transparency List 2017'!$L:$L,0),FALSE),IFERROR(MATCH(TRIM($G1314),'Transparency List 2017'!$C:$C,0),FALSE)),\"On the 2017 List\",\"-\")","v":"-"},{"$f":"IF(OR(IFERROR(MATCH($D1314,'Transparency List 2015'!$H:$H,0),FALSE),IFERROR(MATCH(TRIM($G1314),'Transparency List 2015'!$C:$C,0),FALSE)),\"On the 2015 List\",\"-\")","v":"-"}]
[null,null,4,"",null,null,null,"-",{"$f":"IF(OR(IFERROR(MATCH($D1315,'Transparency List 2018_10'!$L:$L,0),FALSE),IFERROR(MATCH(TRIM($G1315),'Transparency List 2018_10'!$D:$D,0),FALSE)),\"On the 2018_10 List\",\"-\")","v":"-"},{"$f":"IF(OR(IFERROR(MATCH($D1315,'Transparency List 2018_04'!$L:$L,0),FALSE),IFERROR(MATCH(TRIM($G1315),'Transparency List 2018_04'!$D:$D,0),FALSE)),\"On the 2018_04 List\",\"-\")","v":"-"},{"$f":"IF(OR(IFERROR(MATCH($D1315,'Transparency List 2017'!$L:$L,0),FALSE),IFERROR(MATCH(TRIM($G1315),'Transparency List 2017'!$C:$C,0),FALSE)),\"On the 2017 List\",\"-\")","v":"-"},{"$f":"IF(OR(IFERROR(MATCH($D1315,'Transparency List 2015'!$H:$H,0),FALSE),IFERROR(MATCH(TRIM($G1315),'Transparency List 2015'!$C:$C,0),FALSE)),\"On the 2015 List\",\"-\")","v":"-"}]
[null,null,4,"",null,null,null,"-",{"$f":"IF(OR(IFERROR(MATCH($D1316,'Transparency List 2018_10'!$L:$L,0),FALSE),IFERROR(MATCH(TRIM($G1316),'Transparency List 2018_10'!$D:$D,0),FALSE)),\"On the 2018_10 List\",\"-\")","v":"-"},{"$f":"IF(OR(IFERROR(MATCH($D1316,'Transparency List 2018_04'!$L:$L,0),FALSE),IFERROR(MATCH(TRIM($G1316),'Transparency List 2018_04'!$D:$D,0),FALSE)),\"On the 2018_04 List\",\"-\")","v":"-"},{"$f":"IF(OR(IFERROR(MATCH($D1316,'Transparency List 2017'!$L:$L,0),FALSE),IFERROR(MATCH(TRIM($G1316),'Transparency List 2017'!$C:$C,0),FALSE)),\"On the 2017 List\",\"-\")","v":"-"},{"$f":"IF(OR(IFERROR(MATCH($D1316,'Transparency List 2015'!$H:$H,0),FALSE),IFERROR(MATCH(TRIM($G1316),'Transparency List 2015'!$C:$C,0),FALSE)),\"On the 2015 List\",\"-\")","v":"-"}]
[null,null,4,"",null,null,null,"-",{"$f":"IF(OR(IFERROR(MATCH($D1317,'Transparency List 2018_10'!$L:$L,0),FALSE),IFERROR(MATCH(TRIM($G1317),'Transparency List 2018_10'!$D:$D,0),FALSE)),\"On the 2018_10 List\",\"-\")","v":"-"},{"$f":"IF(OR(IFERROR(MATCH($D1317,'Transparency List 2018_04'!$L:$L,0),FALSE),IFERROR(MATCH(TRIM($G1317),'Transparency List 2018_04'!$D:$D,0),FALSE)),\"On the 2018_04 List\",\"-\")","v":"-"},{"$f":"IF(OR(IFERROR(MATCH($D1317,'Transparency List 2017'!$L:$L,0),FALSE),IFERROR(MATCH(TRIM($G1317),'Transparency List 2017'!$C:$C,0),FALSE)),\"On the 2017 List\",\"-\")","v":"-"},{"$f":"IF(OR(IFERROR(MATCH($D1317,'Transparency List 2015'!$H:$H,0),FALSE),IFERROR(MATCH(TRIM($G1317),'Transparency List 2015'!$C:$C,0),FALSE)),\"On the 2015 List\",\"-\")","v":"-"}]
[null,null,4,"",null,null,null,"-",{"$f":"IF(OR(IFERROR(MATCH($D1318,'Transparency List 2018_10'!$L:$L,0),FALSE),IFERROR(MATCH(TRIM($G1318),'Transparency List 2018_10'!$D:$D,0),FALSE)),\"On the 2018_10 List\",\"-\")","v":"-"},{"$f":"IF(OR(IFERROR(MATCH($D1318,'Transparency List 2018_04'!$L:$L,0),FALSE),IFERROR(MATCH(TRIM($G1318),'Transparency List 2018_04'!$D:$D,0),FALSE)),\"On the 2018_04 List\",\"-\")","v":"-"},{"$f":"IF(OR(IFERROR(MATCH($D1318,'Transparency List 2017'!$L:$L,0),FALSE),IFERROR(MATCH(TRIM($G1318),'Transparency List 2017'!$C:$C,0),FALSE)),\"On the 2017 List\",\"-\")","v":"-"},{"$f":"IF(OR(IFERROR(MATCH($D1318,'Transparency List 2015'!$H:$H,0),FALSE),IFERROR(MATCH(TRIM($G1318),'Transparency List 2015'!$C:$C,0),FALSE)),\"On the 2015 List\",\"-\")","v":"-"}]
[null,null,4,"",null,null,null,"-",{"$f":"IF(OR(IFERROR(MATCH($D1319,'Transparency List 2018_10'!$L:$L,0),FALSE),IFERROR(MATCH(TRIM($G1319),'Transparency List 2018_10'!$D:$D,0),FALSE)),\"On the 2018_10 List\",\"-\")","v":"-"},{"$f":"IF(OR(IFERROR(MATCH($D1319,'Transparency List 2018_04'!$L:$L,0),FALSE),IFERROR(MATCH(TRIM($G1319),'Transparency List 2018_04'!$D:$D,0),FALSE)),\"On the 2018_04 List\",\"-\")","v":"-"},{"$f":"IF(OR(IFERROR(MATCH($D1319,'Transparency List 2017'!$L:$L,0),FALSE),IFERROR(MATCH(TRIM($G1319),'Transparency List 2017'!$C:$C,0),FALSE)),\"On the 2017 List\",\"-\")","v":"-"},{"$f":"IF(OR(IFERROR(MATCH($D1319,'Transparency List 2015'!$H:$H,0),FALSE),IFERROR(MATCH(TRIM($G1319),'Transparency List 2015'!$C:$C,0),FALSE)),\"On the 2015 List\",\"-\")","v":"-"}]
[null,null,4,"",null,null,null,"-",{"$f":"IF(OR(IFERROR(MATCH($D1320,'Transparency List 2018_10'!$L:$L,0),FALSE),IFERROR(MATCH(TRIM($G1320),'Transparency List 2018_10'!$D:$D,0),FALSE)),\"On the 2018_10 List\",\"-\")","v":"-"},{"$f":"IF(OR(IFERROR(MATCH($D1320,'Transparency List 2018_04'!$L:$L,0),FALSE),IFERROR(MATCH(TRIM($G1320),'Transparency List 2018_04'!$D:$D,0),FALSE)),\"On the 2018_04 List\",\"-\")","v":"-"},{"$f":"IF(OR(IFERROR(MATCH($D1320,'Transparency List 2017'!$L:$L,0),FALSE),IFERROR(MATCH(TRIM($G1320),'Transparency List 2017'!$C:$C,0),FALSE)),\"On the 2017 List\",\"-\")","v":"-"},{"$f":"IF(OR(IFERROR(MATCH($D1320,'Transparency List 2015'!$H:$H,0),FALSE),IFERROR(MATCH(TRIM($G1320),'Transparency List 2015'!$C:$C,0),FALSE)),\"On the 2015 List\",\"-\")","v":"-"}]
[null,null,4,"",null,null,null,"-",{"$f":"IF(OR(IFERROR(MATCH($D1321,'Transparency List 2018_10'!$L:$L,0),FALSE),IFERROR(MATCH(TRIM($G1321),'Transparency List 2018_10'!$D:$D,0),FALSE)),\"On the 2018_10 List\",\"-\")","v":"-"},{"$f":"IF(OR(IFERROR(MATCH($D1321,'Transparency List 2018_04'!$L:$L,0),FALSE),IFERROR(MATCH(TRIM($G1321),'Transparency List 2018_04'!$D:$D,0),FALSE)),\"On the 2018_04 List\",\"-\")","v":"-"},{"$f":"IF(OR(IFERROR(MATCH($D1321,'Transparency List 2017'!$L:$L,0),FALSE),IFERROR(MATCH(TRIM($G1321),'Transparency List 2017'!$C:$C,0),FALSE)),\"On the 2017 List\",\"-\")","v":"-"},{"$f":"IF(OR(IFERROR(MATCH($D1321,'Transparency List 2015'!$H:$H,0),FALSE),IFERROR(MATCH(TRIM($G1321),'Transparency List 2015'!$C:$C,0),FALSE)),\"On the 2015 List\",\"-\")","v":"-"}]
[null,null,4,"",null,null,null,"-",{"$f":"IF(OR(IFERROR(MATCH($D1322,'Transparency List 2018_10'!$L:$L,0),FALSE),IFERROR(MATCH(TRIM($G1322),'Transparency List 2018_10'!$D:$D,0),FALSE)),\"On the 2018_10 List\",\"-\")","v":"-"},{"$f":"IF(OR(IFERROR(MATCH($D1322,'Transparency List 2018_04'!$L:$L,0),FALSE),IFERROR(MATCH(TRIM($G1322),'Transparency List 2018_04'!$D:$D,0),FALSE)),\"On the 2018_04 List\",\"-\")","v":"-"},{"$f":"IF(OR(IFERROR(MATCH($D1322,'Transparency List 2017'!$L:$L,0),FALSE),IFERROR(MATCH(TRIM($G1322),'Transparency List 2017'!$C:$C,0),FALSE)),\"On the 2017 List\",\"-\")","v":"-"},{"$f":"IF(OR(IFERROR(MATCH($D1322,'Transparency List 2015'!$H:$H,0),FALSE),IFERROR(MATCH(TRIM($G1322),'Transparency List 2015'!$C:$C,0),FALSE)),\"On the 2015 List\",\"-\")","v":"-"}]
[null,null,4,"",null,null,null,"-",{"$f":"IF(OR(IFERROR(MATCH($D1323,'Transparency List 2018_10'!$L:$L,0),FALSE),IFERROR(MATCH(TRIM($G1323),'Transparency List 2018_10'!$D:$D,0),FALSE)),\"On the 2018_10 List\",\"-\")","v":"-"},{"$f":"IF(OR(IFERROR(MATCH($D1323,'Transparency List 2018_04'!$L:$L,0),FALSE),IFERROR(MATCH(TRIM($G1323),'Transparency List 2018_04'!$D:$D,0),FALSE)),\"On the 2018_04 List\",\"-\")","v":"-"},{"$f":"IF(OR(IFERROR(MATCH($D1323,'Transparency List 2017'!$L:$L,0),FALSE),IFERROR(MATCH(TRIM($G1323),'Transparency List 2017'!$C:$C,0),FALSE)),\"On the 2017 List\",\"-\")","v":"-"},{"$f":"IF(OR(IFERROR(MATCH($D1323,'Transparency List 2015'!$H:$H,0),FALSE),IFERROR(MATCH(TRIM($G1323),'Transparency List 2015'!$C:$C,0),FALSE)),\"On the 2015 List\",\"-\")","v":"-"}]
[null,null,4,"",null,null,null,"-",{"$f":"IF(OR(IFERROR(MATCH($D1324,'Transparency List 2018_10'!$L:$L,0),FALSE),IFERROR(MATCH(TRIM($G1324),'Transparency List 2018_10'!$D:$D,0),FALSE)),\"On the 2018_10 List\",\"-\")","v":"-"},{"$f":"IF(OR(IFERROR(MATCH($D1324,'Transparency List 2018_04'!$L:$L,0),FALSE),IFERROR(MATCH(TRIM($G1324),'Transparency List 2018_04'!$D:$D,0),FALSE)),\"On the 2018_04 List\",\"-\")","v":"-"},{"$f":"IF(OR(IFERROR(MATCH($D1324,'Transparency List 2017'!$L:$L,0),FALSE),IFERROR(MATCH(TRIM($G1324),'Transparency List 2017'!$C:$C,0),FALSE)),\"On the 2017 List\",\"-\")","v":"-"},{"$f":"IF(OR(IFERROR(MATCH($D1324,'Transparency List 2015'!$H:$H,0),FALSE),IFERROR(MATCH(TRIM($G1324),'Transparency List 2015'!$C:$C,0),FALSE)),\"On the 2015 List\",\"-\")","v":"-"}]
[null,null,4,"",null,null,null,"-",{"$f":"IF(OR(IFERROR(MATCH($D1325,'Transparency List 2018_10'!$L:$L,0),FALSE),IFERROR(MATCH(TRIM($G1325),'Transparency List 2018_10'!$D:$D,0),FALSE)),\"On the 2018_10 List\",\"-\")","v":"-"},{"$f":"IF(OR(IFERROR(MATCH($D1325,'Transparency List 2018_04'!$L:$L,0),FALSE),IFERROR(MATCH(TRIM($G1325),'Transparency List 2018_04'!$D:$D,0),FALSE)),\"On the 2018_04 List\",\"-\")","v":"-"},{"$f":"IF(OR(IFERROR(MATCH($D1325,'Transparency List 2017'!$L:$L,0),FALSE),IFERROR(MATCH(TRIM($G1325),'Transparency List 2017'!$C:$C,0),FALSE)),\"On the 2017 List\",\"-\")","v":"-"},{"$f":"IF(OR(IFERROR(MATCH($D1325,'Transparency List 2015'!$H:$H,0),FALSE),IFERROR(MATCH(TRIM($G1325),'Transparency List 2015'!$C:$C,0),FALSE)),\"On the 2015 List\",\"-\")","v":"-"}]
[null,null,4,"",null,null,null,"-",{"$f":"IF(OR(IFERROR(MATCH($D1326,'Transparency List 2018_10'!$L:$L,0),FALSE),IFERROR(MATCH(TRIM($G1326),'Transparency List 2018_10'!$D:$D,0),FALSE)),\"On the 2018_10 List\",\"-\")","v":"-"},{"$f":"IF(OR(IFERROR(MATCH($D1326,'Transparency List 2018_04'!$L:$L,0),FALSE),IFERROR(MATCH(TRIM($G1326),'Transparency List 2018_04'!$D:$D,0),FALSE)),\"On the 2018_04 List\",\"-\")","v":"-"},{"$f":"IF(OR(IFERROR(MATCH($D1326,'Transparency List 2017'!$L:$L,0),FALSE),IFERROR(MATCH(TRIM($G1326),'Transparency List 2017'!$C:$C,0),FALSE)),\"On the 2017 List\",\"-\")","v":"-"},{"$f":"IF(OR(IFERROR(MATCH($D1326,'Transparency List 2015'!$H:$H,0),FALSE),IFERROR(MATCH(TRIM($G1326),'Transparency List 2015'!$C:$C,0),FALSE)),\"On the 2015 List\",\"-\")","v":"-"}]
[null,null,4,"",null,null,null,"-",{"$f":"IF(OR(IFERROR(MATCH($D1327,'Transparency List 2018_10'!$L:$L,0),FALSE),IFERROR(MATCH(TRIM($G1327),'Transparency List 2018_10'!$D:$D,0),FALSE)),\"On the 2018_10 List\",\"-\")","v":"-"},{"$f":"IF(OR(IFERROR(MATCH($D1327,'Transparency List 2018_04'!$L:$L,0),FALSE),IFERROR(MATCH(TRIM($G1327),'Transparency List 2018_04'!$D:$D,0),FALSE)),\"On the 2018_04 List\",\"-\")","v":"-"},{"$f":"IF(OR(IFERROR(MATCH($D1327,'Transparency List 2017'!$L:$L,0),FALSE),IFERROR(MATCH(TRIM($G1327),'Transparency List 2017'!$C:$C,0),FALSE)),\"On the 2017 List\",\"-\")","v":"-"},{"$f":"IF(OR(IFERROR(MATCH($D1327,'Transparency List 2015'!$H:$H,0),FALSE),IFERROR(MATCH(TRIM($G1327),'Transparency List 2015'!$C:$C,0),FALSE)),\"On the 2015 List\",\"-\")","v":"-"}]
[null,null,4,"",null,null,null,"-",{"$f":"IF(OR(IFERROR(MATCH($D1328,'Transparency List 2018_10'!$L:$L,0),FALSE),IFERROR(MATCH(TRIM($G1328),'Transparency List 2018_10'!$D:$D,0),FALSE)),\"On the 2018_10 List\",\"-\")","v":"-"},{"$f":"IF(OR(IFERROR(MATCH($D1328,'Transparency List 2018_04'!$L:$L,0),FALSE),IFERROR(MATCH(TRIM($G1328),'Transparency List 2018_04'!$D:$D,0),FALSE)),\"On the 2018_04 List\",\"-\")","v":"-"},{"$f":"IF(OR(IFERROR(MATCH($D1328,'Transparency List 2017'!$L:$L,0),FALSE),IFERROR(MATCH(TRIM($G1328),'Transparency List 2017'!$C:$C,0),FALSE)),\"On the 2017 List\",\"-\")","v":"-"},{"$f":"IF(OR(IFERROR(MATCH($D1328,'Transparency List 2015'!$H:$H,0),FALSE),IFERROR(MATCH(TRIM($G1328),'Transparency List 2015'!$C:$C,0),FALSE)),\"On the 2015 List\",\"-\")","v":"-"}]
[null,null,4,"",null,null,null,"-",{"$f":"IF(OR(IFERROR(MATCH($D1329,'Transparency List 2018_10'!$L:$L,0),FALSE),IFERROR(MATCH(TRIM($G1329),'Transparency List 2018_10'!$D:$D,0),FALSE)),\"On the 2018_10 List\",\"-\")","v":"-"},{"$f":"IF(OR(IFERROR(MATCH($D1329,'Transparency List 2018_04'!$L:$L,0),FALSE),IFERROR(MATCH(TRIM($G1329),'Transparency List 2018_04'!$D:$D,0),FALSE)),\"On the 2018_04 List\",\"-\")","v":"-"},{"$f":"IF(OR(IFERROR(MATCH($D1329,'Transparency List 2017'!$L:$L,0),FALSE),IFERROR(MATCH(TRIM($G1329),'Transparency List 2017'!$C:$C,0),FALSE)),\"On the 2017 List\",\"-\")","v":"-"},{"$f":"IF(OR(IFERROR(MATCH($D1329,'Transparency List 2015'!$H:$H,0),FALSE),IFERROR(MATCH(TRIM($G1329),'Transparency List 2015'!$C:$C,0),FALSE)),\"On the 2015 List\",\"-\")","v":"-"}]
[null,null,4,"",null,null,null,"-",{"$f":"IF(OR(IFERROR(MATCH($D1330,'Transparency List 2018_10'!$L:$L,0),FALSE),IFERROR(MATCH(TRIM($G1330),'Transparency List 2018_10'!$D:$D,0),FALSE)),\"On the 2018_10 List\",\"-\")","v":"-"},{"$f":"IF(OR(IFERROR(MATCH($D1330,'Transparency List 2018_04'!$L:$L,0),FALSE),IFERROR(MATCH(TRIM($G1330),'Transparency List 2018_04'!$D:$D,0),FALSE)),\"On the 2018_04 List\",\"-\")","v":"-"},{"$f":"IF(OR(IFERROR(MATCH($D1330,'Transparency List 2017'!$L:$L,0),FALSE),IFERROR(MATCH(TRIM($G1330),'Transparency List 2017'!$C:$C,0),FALSE)),\"On the 2017 List\",\"-\")","v":"-"},{"$f":"IF(OR(IFERROR(MATCH($D1330,'Transparency List 2015'!$H:$H,0),FALSE),IFERROR(MATCH(TRIM($G1330),'Transparency List 2015'!$C:$C,0),FALSE)),\"On the 2015 List\",\"-\")","v":"-"}]
[null,null,4,"",null,null,null,"-",{"$f":"IF(OR(IFERROR(MATCH($D1331,'Transparency List 2018_10'!$L:$L,0),FALSE),IFERROR(MATCH(TRIM($G1331),'Transparency List 2018_10'!$D:$D,0),FALSE)),\"On the 2018_10 List\",\"-\")","v":"-"},{"$f":"IF(OR(IFERROR(MATCH($D1331,'Transparency List 2018_04'!$L:$L,0),FALSE),IFERROR(MATCH(TRIM($G1331),'Transparency List 2018_04'!$D:$D,0),FALSE)),\"On the 2018_04 List\",\"-\")","v":"-"},{"$f":"IF(OR(IFERROR(MATCH($D1331,'Transparency List 2017'!$L:$L,0),FALSE),IFERROR(MATCH(TRIM($G1331),'Transparency List 2017'!$C:$C,0),FALSE)),\"On the 2017 List\",\"-\")","v":"-"},{"$f":"IF(OR(IFERROR(MATCH($D1331,'Transparency List 2015'!$H:$H,0),FALSE),IFERROR(MATCH(TRIM($G1331),'Transparency List 2015'!$C:$C,0),FALSE)),\"On the 2015 List\",\"-\")","v":"-"}]
[null,null,4,"",null,null,null,"-",{"$f":"IF(OR(IFERROR(MATCH($D1332,'Transparency List 2018_10'!$L:$L,0),FALSE),IFERROR(MATCH(TRIM($G1332),'Transparency List 2018_10'!$D:$D,0),FALSE)),\"On the 2018_10 List\",\"-\")","v":"-"},{"$f":"IF(OR(IFERROR(MATCH($D1332,'Transparency List 2018_04'!$L:$L,0),FALSE),IFERROR(MATCH(TRIM($G1332),'Transparency List 2018_04'!$D:$D,0),FALSE)),\"On the 2018_04 List\",\"-\")","v":"-"},{"$f":"IF(OR(IFERROR(MATCH($D1332,'Transparency List 2017'!$L:$L,0),FALSE),IFERROR(MATCH(TRIM($G1332),'Transparency List 2017'!$C:$C,0),FALSE)),\"On the 2017 List\",\"-\")","v":"-"},{"$f":"IF(OR(IFERROR(MATCH($D1332,'Transparency List 2015'!$H:$H,0),FALSE),IFERROR(MATCH(TRIM($G1332),'Transparency List 2015'!$C:$C,0),FALSE)),\"On the 2015 List\",\"-\")","v":"-"}]
[null,null,4,"",null,null,null,"-",{"$f":"IF(OR(IFERROR(MATCH($D1333,'Transparency List 2018_10'!$L:$L,0),FALSE),IFERROR(MATCH(TRIM($G1333),'Transparency List 2018_10'!$D:$D,0),FALSE)),\"On the 2018_10 List\",\"-\")","v":"-"},{"$f":"IF(OR(IFERROR(MATCH($D1333,'Transparency List 2018_04'!$L:$L,0),FALSE),IFERROR(MATCH(TRIM($G1333),'Transparency List 2018_04'!$D:$D,0),FALSE)),\"On the 2018_04 List\",\"-\")","v":"-"},{"$f":"IF(OR(IFERROR(MATCH($D1333,'Transparency List 2017'!$L:$L,0),FALSE),IFERROR(MATCH(TRIM($G1333),'Transparency List 2017'!$C:$C,0),FALSE)),\"On the 2017 List\",\"-\")","v":"-"},{"$f":"IF(OR(IFERROR(MATCH($D1333,'Transparency List 2015'!$H:$H,0),FALSE),IFERROR(MATCH(TRIM($G1333),'Transparency List 2015'!$C:$C,0),FALSE)),\"On the 2015 List\",\"-\")","v":"-"}]
[null,null,4,"",null,null,null,"-",{"$f":"IF(OR(IFERROR(MATCH($D1334,'Transparency List 2018_10'!$L:$L,0),FALSE),IFERROR(MATCH(TRIM($G1334),'Transparency List 2018_10'!$D:$D,0),FALSE)),\"On the 2018_10 List\",\"-\")","v":"-"},{"$f":"IF(OR(IFERROR(MATCH($D1334,'Transparency List 2018_04'!$L:$L,0),FALSE),IFERROR(MATCH(TRIM($G1334),'Transparency List 2018_04'!$D:$D,0),FALSE)),\"On the 2018_04 List\",\"-\")","v":"-"},{"$f":"IF(OR(IFERROR(MATCH($D1334,'Transparency List 2017'!$L:$L,0),FALSE),IFERROR(MATCH(TRIM($G1334),'Transparency List 2017'!$C:$C,0),FALSE)),\"On the 2017 List\",\"-\")","v":"-"},{"$f":"IF(OR(IFERROR(MATCH($D1334,'Transparency List 2015'!$H:$H,0),FALSE),IFERROR(MATCH(TRIM($G1334),'Transparency List 2015'!$C:$C,0),FALSE)),\"On the 2015 List\",\"-\")","v":"-"}]
[null,null,4,"",null,null,null,"-",{"$f":"IF(OR(IFERROR(MATCH($D1335,'Transparency List 2018_10'!$L:$L,0),FALSE),IFERROR(MATCH(TRIM($G1335),'Transparency List 2018_10'!$D:$D,0),FALSE)),\"On the 2018_10 List\",\"-\")","v":"-"},{"$f":"IF(OR(IFERROR(MATCH($D1335,'Transparency List 2018_04'!$L:$L,0),FALSE),IFERROR(MATCH(TRIM($G1335),'Transparency List 2018_04'!$D:$D,0),FALSE)),\"On the 2018_04 List\",\"-\")","v":"-"},{"$f":"IF(OR(IFERROR(MATCH($D1335,'Transparency List 2017'!$L:$L,0),FALSE),IFERROR(MATCH(TRIM($G1335),'Transparency List 2017'!$C:$C,0),FALSE)),\"On the 2017 List\",\"-\")","v":"-"},{"$f":"IF(OR(IFERROR(MATCH($D1335,'Transparency List 2015'!$H:$H,0),FALSE),IFERROR(MATCH(TRIM($G1335),'Transparency List 2015'!$C:$C,0),FALSE)),\"On the 2015 List\",\"-\")","v":"-"}]
[null,null,4,"",null,null,null,"-",{"$f":"IF(OR(IFERROR(MATCH($D1336,'Transparency List 2018_10'!$L:$L,0),FALSE),IFERROR(MATCH(TRIM($G1336),'Transparency List 2018_10'!$D:$D,0),FALSE)),\"On the 2018_10 List\",\"-\")","v":"-"},{"$f":"IF(OR(IFERROR(MATCH($D1336,'Transparency List 2018_04'!$L:$L,0),FALSE),IFERROR(MATCH(TRIM($G1336),'Transparency List 2018_04'!$D:$D,0),FALSE)),\"On the 2018_04 List\",\"-\")","v":"-"},{"$f":"IF(OR(IFERROR(MATCH($D1336,'Transparency List 2017'!$L:$L,0),FALSE),IFERROR(MATCH(TRIM($G1336),'Transparency List 2017'!$C:$C,0),FALSE)),\"On the 2017 List\",\"-\")","v":"-"},{"$f":"IF(OR(IFERROR(MATCH($D1336,'Transparency List 2015'!$H:$H,0),FALSE),IFERROR(MATCH(TRIM($G1336),'Transparency List 2015'!$C:$C,0),FALSE)),\"On the 2015 List\",\"-\")","v":"-"}]
[null,null,4,"",null,null,null,"-",{"$f":"IF(OR(IFERROR(MATCH($D1337,'Transparency List 2018_10'!$L:$L,0),FALSE),IFERROR(MATCH(TRIM($G1337),'Transparency List 2018_10'!$D:$D,0),FALSE)),\"On the 2018_10 List\",\"-\")","v":"-"},{"$f":"IF(OR(IFERROR(MATCH($D1337,'Transparency List 2018_04'!$L:$L,0),FALSE),IFERROR(MATCH(TRIM($G1337),'Transparency List 2018_04'!$D:$D,0),FALSE)),\"On the 2018_04 List\",\"-\")","v":"-"},{"$f":"IF(OR(IFERROR(MATCH($D1337,'Transparency List 2017'!$L:$L,0),FALSE),IFERROR(MATCH(TRIM($G1337),'Transparency List 2017'!$C:$C,0),FALSE)),\"On the 2017 List\",\"-\")","v":"-"},{"$f":"IF(OR(IFERROR(MATCH($D1337,'Transparency List 2015'!$H:$H,0),FALSE),IFERROR(MATCH(TRIM($G1337),'Transparency List 2015'!$C:$C,0),FALSE)),\"On the 2015 List\",\"-\")","v":"-"}]
[null,null,4,"",null,null,null,"-",{"$f":"IF(OR(IFERROR(MATCH($D1338,'Transparency List 2018_10'!$L:$L,0),FALSE),IFERROR(MATCH(TRIM($G1338),'Transparency List 2018_10'!$D:$D,0),FALSE)),\"On the 2018_10 List\",\"-\")","v":"-"},{"$f":"IF(OR(IFERROR(MATCH($D1338,'Transparency List 2018_04'!$L:$L,0),FALSE),IFERROR(MATCH(TRIM($G1338),'Transparency List 2018_04'!$D:$D,0),FALSE)),\"On the 2018_04 List\",\"-\")","v":"-"},{"$f":"IF(OR(IFERROR(MATCH($D1338,'Transparency List 2017'!$L:$L,0),FALSE),IFERROR(MATCH(TRIM($G1338),'Transparency List 2017'!$C:$C,0),FALSE)),\"On the 2017 List\",\"-\")","v":"-"},{"$f":"IF(OR(IFERROR(MATCH($D1338,'Transparency List 2015'!$H:$H,0),FALSE),IFERROR(MATCH(TRIM($G1338),'Transparency List 2015'!$C:$C,0),FALSE)),\"On the 2015 List\",\"-\")","v":"-"}]
[null,null,4,"",null,null,null,"-",{"$f":"IF(OR(IFERROR(MATCH($D1339,'Transparency List 2018_10'!$L:$L,0),FALSE),IFERROR(MATCH(TRIM($G1339),'Transparency List 2018_10'!$D:$D,0),FALSE)),\"On the 2018_10 List\",\"-\")","v":"-"},{"$f":"IF(OR(IFERROR(MATCH($D1339,'Transparency List 2018_04'!$L:$L,0),FALSE),IFERROR(MATCH(TRIM($G1339),'Transparency List 2018_04'!$D:$D,0),FALSE)),\"On the 2018_04 List\",\"-\")","v":"-"},{"$f":"IF(OR(IFERROR(MATCH($D1339,'Transparency List 2017'!$L:$L,0),FALSE),IFERROR(MATCH(TRIM($G1339),'Transparency List 2017'!$C:$C,0),FALSE)),\"On the 2017 List\",\"-\")","v":"-"},{"$f":"IF(OR(IFERROR(MATCH($D1339,'Transparency List 2015'!$H:$H,0),FALSE),IFERROR(MATCH(TRIM($G1339),'Transparency List 2015'!$C:$C,0),FALSE)),\"On the 2015 List\",\"-\")","v":"-"}]
[null,null,4,"",null,null,null,"-",{"$f":"IF(OR(IFERROR(MATCH($D1340,'Transparency List 2018_10'!$L:$L,0),FALSE),IFERROR(MATCH(TRIM($G1340),'Transparency List 2018_10'!$D:$D,0),FALSE)),\"On the 2018_10 List\",\"-\")","v":"-"},{"$f":"IF(OR(IFERROR(MATCH($D1340,'Transparency List 2018_04'!$L:$L,0),FALSE),IFERROR(MATCH(TRIM($G1340),'Transparency List 2018_04'!$D:$D,0),FALSE)),\"On the 2018_04 List\",\"-\")","v":"-"},{"$f":"IF(OR(IFERROR(MATCH($D1340,'Transparency List 2017'!$L:$L,0),FALSE),IFERROR(MATCH(TRIM($G1340),'Transparency List 2017'!$C:$C,0),FALSE)),\"On the 2017 List\",\"-\")","v":"-"},{"$f":"IF(OR(IFERROR(MATCH($D1340,'Transparency List 2015'!$H:$H,0),FALSE),IFERROR(MATCH(TRIM($G1340),'Transparency List 2015'!$C:$C,0),FALSE)),\"On the 2015 List\",\"-\")","v":"-"}]
[null,null,4,"",null,null,null,"-",{"$f":"IF(OR(IFERROR(MATCH($D1341,'Transparency List 2018_10'!$L:$L,0),FALSE),IFERROR(MATCH(TRIM($G1341),'Transparency List 2018_10'!$D:$D,0),FALSE)),\"On the 2018_10 List\",\"-\")","v":"-"},{"$f":"IF(OR(IFERROR(MATCH($D1341,'Transparency List 2018_04'!$L:$L,0),FALSE),IFERROR(MATCH(TRIM($G1341),'Transparency List 2018_04'!$D:$D,0),FALSE)),\"On the 2018_04 List\",\"-\")","v":"-"},{"$f":"IF(OR(IFERROR(MATCH($D1341,'Transparency List 2017'!$L:$L,0),FALSE),IFERROR(MATCH(TRIM($G1341),'Transparency List 2017'!$C:$C,0),FALSE)),\"On the 2017 List\",\"-\")","v":"-"},{"$f":"IF(OR(IFERROR(MATCH($D1341,'Transparency List 2015'!$H:$H,0),FALSE),IFERROR(MATCH(TRIM($G1341),'Transparency List 2015'!$C:$C,0),FALSE)),\"On the 2015 List\",\"-\")","v":"-"}]
[null,null,4,"",null,null,null,"-",{"$f":"IF(OR(IFERROR(MATCH($D1342,'Transparency List 2018_10'!$L:$L,0),FALSE),IFERROR(MATCH(TRIM($G1342),'Transparency List 2018_10'!$D:$D,0),FALSE)),\"On the 2018_10 List\",\"-\")","v":"-"},{"$f":"IF(OR(IFERROR(MATCH($D1342,'Transparency List 2018_04'!$L:$L,0),FALSE),IFERROR(MATCH(TRIM($G1342),'Transparency List 2018_04'!$D:$D,0),FALSE)),\"On the 2018_04 List\",\"-\")","v":"-"},{"$f":"IF(OR(IFERROR(MATCH($D1342,'Transparency List 2017'!$L:$L,0),FALSE),IFERROR(MATCH(TRIM($G1342),'Transparency List 2017'!$C:$C,0),FALSE)),\"On the 2017 List\",\"-\")","v":"-"},{"$f":"IF(OR(IFERROR(MATCH($D1342,'Transparency List 2015'!$H:$H,0),FALSE),IFERROR(MATCH(TRIM($G1342),'Transparency List 2015'!$C:$C,0),FALSE)),\"On the 2015 List\",\"-\")","v":"-"}]
[null,null,4,"",null,null,null,"-",{"$f":"IF(OR(IFERROR(MATCH($D1343,'Transparency List 2018_10'!$L:$L,0),FALSE),IFERROR(MATCH(TRIM($G1343),'Transparency List 2018_10'!$D:$D,0),FALSE)),\"On the 2018_10 List\",\"-\")","v":"-"},{"$f":"IF(OR(IFERROR(MATCH($D1343,'Transparency List 2018_04'!$L:$L,0),FALSE),IFERROR(MATCH(TRIM($G1343),'Transparency List 2018_04'!$D:$D,0),FALSE)),\"On the 2018_04 List\",\"-\")","v":"-"},{"$f":"IF(OR(IFERROR(MATCH($D1343,'Transparency List 2017'!$L:$L,0),FALSE),IFERROR(MATCH(TRIM($G1343),'Transparency List 2017'!$C:$C,0),FALSE)),\"On the 2017 List\",\"-\")","v":"-"},{"$f":"IF(OR(IFERROR(MATCH($D1343,'Transparency List 2015'!$H:$H,0),FALSE),IFERROR(MATCH(TRIM($G1343),'Transparency List 2015'!$C:$C,0),FALSE)),\"On the 2015 List\",\"-\")","v":"-"}]
[null,null,4,"",null,null,null,"-",{"$f":"IF(OR(IFERROR(MATCH($D1344,'Transparency List 2018_10'!$L:$L,0),FALSE),IFERROR(MATCH(TRIM($G1344),'Transparency List 2018_10'!$D:$D,0),FALSE)),\"On the 2018_10 List\",\"-\")","v":"-"},{"$f":"IF(OR(IFERROR(MATCH($D1344,'Transparency List 2018_04'!$L:$L,0),FALSE),IFERROR(MATCH(TRIM($G1344),'Transparency List 2018_04'!$D:$D,0),FALSE)),\"On the 2018_04 List\",\"-\")","v":"-"},{"$f":"IF(OR(IFERROR(MATCH($D1344,'Transparency List 2017'!$L:$L,0),FALSE),IFERROR(MATCH(TRIM($G1344),'Transparency List 2017'!$C:$C,0),FALSE)),\"On the 2017 List\",\"-\")","v":"-"},{"$f":"IF(OR(IFERROR(MATCH($D1344,'Transparency List 2015'!$H:$H,0),FALSE),IFERROR(MATCH(TRIM($G1344),'Transparency List 2015'!$C:$C,0),FALSE)),\"On the 2015 List\",\"-\")","v":"-"}]
[null,null,4,"",null,null,null,"-",{"$f":"IF(OR(IFERROR(MATCH($D1345,'Transparency List 2018_10'!$L:$L,0),FALSE),IFERROR(MATCH(TRIM($G1345),'Transparency List 2018_10'!$D:$D,0),FALSE)),\"On the 2018_10 List\",\"-\")","v":"-"},{"$f":"IF(OR(IFERROR(MATCH($D1345,'Transparency List 2018_04'!$L:$L,0),FALSE),IFERROR(MATCH(TRIM($G1345),'Transparency List 2018_04'!$D:$D,0),FALSE)),\"On the 2018_04 List\",\"-\")","v":"-"},{"$f":"IF(OR(IFERROR(MATCH($D1345,'Transparency List 2017'!$L:$L,0),FALSE),IFERROR(MATCH(TRIM($G1345),'Transparency List 2017'!$C:$C,0),FALSE)),\"On the 2017 List\",\"-\")","v":"-"},{"$f":"IF(OR(IFERROR(MATCH($D1345,'Transparency List 2015'!$H:$H,0),FALSE),IFERROR(MATCH(TRIM($G1345),'Transparency List 2015'!$C:$C,0),FALSE)),\"On the 2015 List\",\"-\")","v":"-"}]
[null,null,4,"",null,null,null,"-",{"$f":"IF(OR(IFERROR(MATCH($D1346,'Transparency List 2018_10'!$L:$L,0),FALSE),IFERROR(MATCH(TRIM($G1346),'Transparency List 2018_10'!$D:$D,0),FALSE)),\"On the 2018_10 List\",\"-\")","v":"-"},{"$f":"IF(OR(IFERROR(MATCH($D1346,'Transparency List 2018_04'!$L:$L,0),FALSE),IFERROR(MATCH(TRIM($G1346),'Transparency List 2018_04'!$D:$D,0),FALSE)),\"On the 2018_04 List\",\"-\")","v":"-"},{"$f":"IF(OR(IFERROR(MATCH($D1346,'Transparency List 2017'!$L:$L,0),FALSE),IFERROR(MATCH(TRIM($G1346),'Transparency List 2017'!$C:$C,0),FALSE)),\"On the 2017 List\",\"-\")","v":"-"},{"$f":"IF(OR(IFERROR(MATCH($D1346,'Transparency List 2015'!$H:$H,0),FALSE),IFERROR(MATCH(TRIM($G1346),'Transparency List 2015'!$C:$C,0),FALSE)),\"On the 2015 List\",\"-\")","v":"-"}]
[null,null,4,"",null,null,null,"-",{"$f":"IF(OR(IFERROR(MATCH($D1347,'Transparency List 2018_10'!$L:$L,0),FALSE),IFERROR(MATCH(TRIM($G1347),'Transparency List 2018_10'!$D:$D,0),FALSE)),\"On the 2018_10 List\",\"-\")","v":"-"},{"$f":"IF(OR(IFERROR(MATCH($D1347,'Transparency List 2018_04'!$L:$L,0),FALSE),IFERROR(MATCH(TRIM($G1347),'Transparency List 2018_04'!$D:$D,0),FALSE)),\"On the 2018_04 List\",\"-\")","v":"-"},{"$f":"IF(OR(IFERROR(MATCH($D1347,'Transparency List 2017'!$L:$L,0),FALSE),IFERROR(MATCH(TRIM($G1347),'Transparency List 2017'!$C:$C,0),FALSE)),\"On the 2017 List\",\"-\")","v":"-"},{"$f":"IF(OR(IFERROR(MATCH($D1347,'Transparency List 2015'!$H:$H,0),FALSE),IFERROR(MATCH(TRIM($G1347),'Transparency List 2015'!$C:$C,0),FALSE)),\"On the 2015 List\",\"-\")","v":"-"}]
[null,null,4,"",null,null,null,"-",{"$f":"IF(OR(IFERROR(MATCH($D1348,'Transparency List 2018_10'!$L:$L,0),FALSE),IFERROR(MATCH(TRIM($G1348),'Transparency List 2018_10'!$D:$D,0),FALSE)),\"On the 2018_10 List\",\"-\")","v":"-"},{"$f":"IF(OR(IFERROR(MATCH($D1348,'Transparency List 2018_04'!$L:$L,0),FALSE),IFERROR(MATCH(TRIM($G1348),'Transparency List 2018_04'!$D:$D,0),FALSE)),\"On the 2018_04 List\",\"-\")","v":"-"},{"$f":"IF(OR(IFERROR(MATCH($D1348,'Transparency List 2017'!$L:$L,0),FALSE),IFERROR(MATCH(TRIM($G1348),'Transparency List 2017'!$C:$C,0),FALSE)),\"On the 2017 List\",\"-\")","v":"-"},{"$f":"IF(OR(IFERROR(MATCH($D1348,'Transparency List 2015'!$H:$H,0),FALSE),IFERROR(MATCH(TRIM($G1348),'Transparency List 2015'!$C:$C,0),FALSE)),\"On the 2015 List\",\"-\")","v":"-"}]
[null,null,4,"",null,null,null,"-",{"$f":"IF(OR(IFERROR(MATCH($D1349,'Transparency List 2018_10'!$L:$L,0),FALSE),IFERROR(MATCH(TRIM($G1349),'Transparency List 2018_10'!$D:$D,0),FALSE)),\"On the 2018_10 List\",\"-\")","v":"-"},{"$f":"IF(OR(IFERROR(MATCH($D1349,'Transparency List 2018_04'!$L:$L,0),FALSE),IFERROR(MATCH(TRIM($G1349),'Transparency List 2018_04'!$D:$D,0),FALSE)),\"On the 2018_04 List\",\"-\")","v":"-"},{"$f":"IF(OR(IFERROR(MATCH($D1349,'Transparency List 2017'!$L:$L,0),FALSE),IFERROR(MATCH(TRIM($G1349),'Transparency List 2017'!$C:$C,0),FALSE)),\"On the 2017 List\",\"-\")","v":"-"},{"$f":"IF(OR(IFERROR(MATCH($D1349,'Transparency List 2015'!$H:$H,0),FALSE),IFERROR(MATCH(TRIM($G1349),'Transparency List 2015'!$C:$C,0),FALSE)),\"On the 2015 List\",\"-\")","v":"-"}]
[null,null,4,"",null,null,null,"-",{"$f":"IF(OR(IFERROR(MATCH($D1350,'Transparency List 2018_10'!$L:$L,0),FALSE),IFERROR(MATCH(TRIM($G1350),'Transparency List 2018_10'!$D:$D,0),FALSE)),\"On the 2018_10 List\",\"-\")","v":"-"},{"$f":"IF(OR(IFERROR(MATCH($D1350,'Transparency List 2018_04'!$L:$L,0),FALSE),IFERROR(MATCH(TRIM($G1350),'Transparency List 2018_04'!$D:$D,0),FALSE)),\"On the 2018_04 List\",\"-\")","v":"-"},{"$f":"IF(OR(IFERROR(MATCH($D1350,'Transparency List 2017'!$L:$L,0),FALSE),IFERROR(MATCH(TRIM($G1350),'Transparency List 2017'!$C:$C,0),FALSE)),\"On the 2017 List\",\"-\")","v":"-"},{"$f":"IF(OR(IFERROR(MATCH($D1350,'Transparency List 2015'!$H:$H,0),FALSE),IFERROR(MATCH(TRIM($G1350),'Transparency List 2015'!$C:$C,0),FALSE)),\"On the 2015 List\",\"-\")","v":"-"}]
[null,null,4,"",null,null,null,"-",{"$f":"IF(OR(IFERROR(MATCH($D1351,'Transparency List 2018_10'!$L:$L,0),FALSE),IFERROR(MATCH(TRIM($G1351),'Transparency List 2018_10'!$D:$D,0),FALSE)),\"On the 2018_10 List\",\"-\")","v":"-"},{"$f":"IF(OR(IFERROR(MATCH($D1351,'Transparency List 2018_04'!$L:$L,0),FALSE),IFERROR(MATCH(TRIM($G1351),'Transparency List 2018_04'!$D:$D,0),FALSE)),\"On the 2018_04 List\",\"-\")","v":"-"},{"$f":"IF(OR(IFERROR(MATCH($D1351,'Transparency List 2017'!$L:$L,0),FALSE),IFERROR(MATCH(TRIM($G1351),'Transparency List 2017'!$C:$C,0),FALSE)),\"On the 2017 List\",\"-\")","v":"-"},{"$f":"IF(OR(IFERROR(MATCH($D1351,'Transparency List 2015'!$H:$H,0),FALSE),IFERROR(MATCH(TRIM($G1351),'Transparency List 2015'!$C:$C,0),FALSE)),\"On the 2015 List\",\"-\")","v":"-"}]
[null,null,4,"",null,null,null,"-",{"$f":"IF(OR(IFERROR(MATCH($D1352,'Transparency List 2018_10'!$L:$L,0),FALSE),IFERROR(MATCH(TRIM($G1352),'Transparency List 2018_10'!$D:$D,0),FALSE)),\"On the 2018_10 List\",\"-\")","v":"-"},{"$f":"IF(OR(IFERROR(MATCH($D1352,'Transparency List 2018_04'!$L:$L,0),FALSE),IFERROR(MATCH(TRIM($G1352),'Transparency List 2018_04'!$D:$D,0),FALSE)),\"On the 2018_04 List\",\"-\")","v":"-"},{"$f":"IF(OR(IFERROR(MATCH($D1352,'Transparency List 2017'!$L:$L,0),FALSE),IFERROR(MATCH(TRIM($G1352),'Transparency List 2017'!$C:$C,0),FALSE)),\"On the 2017 List\",\"-\")","v":"-"},{"$f":"IF(OR(IFERROR(MATCH($D1352,'Transparency List 2015'!$H:$H,0),FALSE),IFERROR(MATCH(TRIM($G1352),'Transparency List 2015'!$C:$C,0),FALSE)),\"On the 2015 List\",\"-\")","v":"-"}]
[null,null,4,"",null,null,null,"-",{"$f":"IF(OR(IFERROR(MATCH($D1353,'Transparency List 2018_10'!$L:$L,0),FALSE),IFERROR(MATCH(TRIM($G1353),'Transparency List 2018_10'!$D:$D,0),FALSE)),\"On the 2018_10 List\",\"-\")","v":"-"},{"$f":"IF(OR(IFERROR(MATCH($D1353,'Transparency List 2018_04'!$L:$L,0),FALSE),IFERROR(MATCH(TRIM($G1353),'Transparency List 2018_04'!$D:$D,0),FALSE)),\"On the 2018_04 List\",\"-\")","v":"-"},{"$f":"IF(OR(IFERROR(MATCH($D1353,'Transparency List 2017'!$L:$L,0),FALSE),IFERROR(MATCH(TRIM($G1353),'Transparency List 2017'!$C:$C,0),FALSE)),\"On the 2017 List\",\"-\")","v":"-"},{"$f":"IF(OR(IFERROR(MATCH($D1353,'Transparency List 2015'!$H:$H,0),FALSE),IFERROR(MATCH(TRIM($G1353),'Transparency List 2015'!$C:$C,0),FALSE)),\"On the 2015 List\",\"-\")","v":"-"}]
[null,null,4,"",null,null,null,"-",{"$f":"IF(OR(IFERROR(MATCH($D1354,'Transparency List 2018_10'!$L:$L,0),FALSE),IFERROR(MATCH(TRIM($G1354),'Transparency List 2018_10'!$D:$D,0),FALSE)),\"On the 2018_10 List\",\"-\")","v":"-"},{"$f":"IF(OR(IFERROR(MATCH($D1354,'Transparency List 2018_04'!$L:$L,0),FALSE),IFERROR(MATCH(TRIM($G1354),'Transparency List 2018_04'!$D:$D,0),FALSE)),\"On the 2018_04 List\",\"-\")","v":"-"},{"$f":"IF(OR(IFERROR(MATCH($D1354,'Transparency List 2017'!$L:$L,0),FALSE),IFERROR(MATCH(TRIM($G1354),'Transparency List 2017'!$C:$C,0),FALSE)),\"On the 2017 List\",\"-\")","v":"-"},{"$f":"IF(OR(IFERROR(MATCH($D1354,'Transparency List 2015'!$H:$H,0),FALSE),IFERROR(MATCH(TRIM($G1354),'Transparency List 2015'!$C:$C,0),FALSE)),\"On the 2015 List\",\"-\")","v":"-"}]
[null,null,4,"",null,null,null,"-",{"$f":"IF(OR(IFERROR(MATCH($D1355,'Transparency List 2018_10'!$L:$L,0),FALSE),IFERROR(MATCH(TRIM($G1355),'Transparency List 2018_10'!$D:$D,0),FALSE)),\"On the 2018_10 List\",\"-\")","v":"-"},{"$f":"IF(OR(IFERROR(MATCH($D1355,'Transparency List 2018_04'!$L:$L,0),FALSE),IFERROR(MATCH(TRIM($G1355),'Transparency List 2018_04'!$D:$D,0),FALSE)),\"On the 2018_04 List\",\"-\")","v":"-"},{"$f":"IF(OR(IFERROR(MATCH($D1355,'Transparency List 2017'!$L:$L,0),FALSE),IFERROR(MATCH(TRIM($G1355),'Transparency List 2017'!$C:$C,0),FALSE)),\"On the 2017 List\",\"-\")","v":"-"},{"$f":"IF(OR(IFERROR(MATCH($D1355,'Transparency List 2015'!$H:$H,0),FALSE),IFERROR(MATCH(TRIM($G1355),'Transparency List 2015'!$C:$C,0),FALSE)),\"On the 2015 List\",\"-\")","v":"-"}]
[null,null,4,"",null,null,null,"-",{"$f":"IF(OR(IFERROR(MATCH($D1356,'Transparency List 2018_10'!$L:$L,0),FALSE),IFERROR(MATCH(TRIM($G1356),'Transparency List 2018_10'!$D:$D,0),FALSE)),\"On the 2018_10 List\",\"-\")","v":"-"},{"$f":"IF(OR(IFERROR(MATCH($D1356,'Transparency List 2018_04'!$L:$L,0),FALSE),IFERROR(MATCH(TRIM($G1356),'Transparency List 2018_04'!$D:$D,0),FALSE)),\"On the 2018_04 List\",\"-\")","v":"-"},{"$f":"IF(OR(IFERROR(MATCH($D1356,'Transparency List 2017'!$L:$L,0),FALSE),IFERROR(MATCH(TRIM($G1356),'Transparency List 2017'!$C:$C,0),FALSE)),\"On the 2017 List\",\"-\")","v":"-"},{"$f":"IF(OR(IFERROR(MATCH($D1356,'Transparency List 2015'!$H:$H,0),FALSE),IFERROR(MATCH(TRIM($G1356),'Transparency List 2015'!$C:$C,0),FALSE)),\"On the 2015 List\",\"-\")","v":"-"}]
[null,null,4,"",null,null,null,"-",{"$f":"IF(OR(IFERROR(MATCH($D1357,'Transparency List 2018_10'!$L:$L,0),FALSE),IFERROR(MATCH(TRIM($G1357),'Transparency List 2018_10'!$D:$D,0),FALSE)),\"On the 2018_10 List\",\"-\")","v":"-"},{"$f":"IF(OR(IFERROR(MATCH($D1357,'Transparency List 2018_04'!$L:$L,0),FALSE),IFERROR(MATCH(TRIM($G1357),'Transparency List 2018_04'!$D:$D,0),FALSE)),\"On the 2018_04 List\",\"-\")","v":"-"},{"$f":"IF(OR(IFERROR(MATCH($D1357,'Transparency List 2017'!$L:$L,0),FALSE),IFERROR(MATCH(TRIM($G1357),'Transparency List 2017'!$C:$C,0),FALSE)),\"On the 2017 List\",\"-\")","v":"-"},{"$f":"IF(OR(IFERROR(MATCH($D1357,'Transparency List 2015'!$H:$H,0),FALSE),IFERROR(MATCH(TRIM($G1357),'Transparency List 2015'!$C:$C,0),FALSE)),\"On the 2015 List\",\"-\")","v":"-"}]
[null,null,4,"",null,null,null,"-",{"$f":"IF(OR(IFERROR(MATCH($D1358,'Transparency List 2018_10'!$L:$L,0),FALSE),IFERROR(MATCH(TRIM($G1358),'Transparency List 2018_10'!$D:$D,0),FALSE)),\"On the 2018_10 List\",\"-\")","v":"-"},{"$f":"IF(OR(IFERROR(MATCH($D1358,'Transparency List 2018_04'!$L:$L,0),FALSE),IFERROR(MATCH(TRIM($G1358),'Transparency List 2018_04'!$D:$D,0),FALSE)),\"On the 2018_04 List\",\"-\")","v":"-"},{"$f":"IF(OR(IFERROR(MATCH($D1358,'Transparency List 2017'!$L:$L,0),FALSE),IFERROR(MATCH(TRIM($G1358),'Transparency List 2017'!$C:$C,0),FALSE)),\"On the 2017 List\",\"-\")","v":"-"},{"$f":"IF(OR(IFERROR(MATCH($D1358,'Transparency List 2015'!$H:$H,0),FALSE),IFERROR(MATCH(TRIM($G1358),'Transparency List 2015'!$C:$C,0),FALSE)),\"On the 2015 List\",\"-\")","v":"-"}]
[null,null,4,"",null,null,null,"-",{"$f":"IF(OR(IFERROR(MATCH($D1359,'Transparency List 2018_10'!$L:$L,0),FALSE),IFERROR(MATCH(TRIM($G1359),'Transparency List 2018_10'!$D:$D,0),FALSE)),\"On the 2018_10 List\",\"-\")","v":"-"},{"$f":"IF(OR(IFERROR(MATCH($D1359,'Transparency List 2018_04'!$L:$L,0),FALSE),IFERROR(MATCH(TRIM($G1359),'Transparency List 2018_04'!$D:$D,0),FALSE)),\"On the 2018_04 List\",\"-\")","v":"-"},{"$f":"IF(OR(IFERROR(MATCH($D1359,'Transparency List 2017'!$L:$L,0),FALSE),IFERROR(MATCH(TRIM($G1359),'Transparency List 2017'!$C:$C,0),FALSE)),\"On the 2017 List\",\"-\")","v":"-"},{"$f":"IF(OR(IFERROR(MATCH($D1359,'Transparency List 2015'!$H:$H,0),FALSE),IFERROR(MATCH(TRIM($G1359),'Transparency List 2015'!$C:$C,0),FALSE)),\"On the 2015 List\",\"-\")","v":"-"}]
[null,null,4,"",null,null,null,"-",{"$f":"IF(OR(IFERROR(MATCH($D1360,'Transparency List 2018_10'!$L:$L,0),FALSE),IFERROR(MATCH(TRIM($G1360),'Transparency List 2018_10'!$D:$D,0),FALSE)),\"On the 2018_10 List\",\"-\")","v":"-"},{"$f":"IF(OR(IFERROR(MATCH($D1360,'Transparency List 2018_04'!$L:$L,0),FALSE),IFERROR(MATCH(TRIM($G1360),'Transparency List 2018_04'!$D:$D,0),FALSE)),\"On the 2018_04 List\",\"-\")","v":"-"},{"$f":"IF(OR(IFERROR(MATCH($D1360,'Transparency List 2017'!$L:$L,0),FALSE),IFERROR(MATCH(TRIM($G1360),'Transparency List 2017'!$C:$C,0),FALSE)),\"On the 2017 List\",\"-\")","v":"-"},{"$f":"IF(OR(IFERROR(MATCH($D1360,'Transparency List 2015'!$H:$H,0),FALSE),IFERROR(MATCH(TRIM($G1360),'Transparency List 2015'!$C:$C,0),FALSE)),\"On the 2015 List\",\"-\")","v":"-"}]
[null,null,4,"",null,null,null,"-",{"$f":"IF(OR(IFERROR(MATCH($D1361,'Transparency List 2018_10'!$L:$L,0),FALSE),IFERROR(MATCH(TRIM($G1361),'Transparency List 2018_10'!$D:$D,0),FALSE)),\"On the 2018_10 List\",\"-\")","v":"-"},{"$f":"IF(OR(IFERROR(MATCH($D1361,'Transparency List 2018_04'!$L:$L,0),FALSE),IFERROR(MATCH(TRIM($G1361),'Transparency List 2018_04'!$D:$D,0),FALSE)),\"On the 2018_04 List\",\"-\")","v":"-"},{"$f":"IF(OR(IFERROR(MATCH($D1361,'Transparency List 2017'!$L:$L,0),FALSE),IFERROR(MATCH(TRIM($G1361),'Transparency List 2017'!$C:$C,0),FALSE)),\"On the 2017 List\",\"-\")","v":"-"},{"$f":"IF(OR(IFERROR(MATCH($D1361,'Transparency List 2015'!$H:$H,0),FALSE),IFERROR(MATCH(TRIM($G1361),'Transparency List 2015'!$C:$C,0),FALSE)),\"On the 2015 List\",\"-\")","v":"-"}]
[null,null,4,"",null,null,null,"-",{"$f":"IF(OR(IFERROR(MATCH($D1362,'Transparency List 2018_10'!$L:$L,0),FALSE),IFERROR(MATCH(TRIM($G1362),'Transparency List 2018_10'!$D:$D,0),FALSE)),\"On the 2018_10 List\",\"-\")","v":"-"},{"$f":"IF(OR(IFERROR(MATCH($D1362,'Transparency List 2018_04'!$L:$L,0),FALSE),IFERROR(MATCH(TRIM($G1362),'Transparency List 2018_04'!$D:$D,0),FALSE)),\"On the 2018_04 List\",\"-\")","v":"-"},{"$f":"IF(OR(IFERROR(MATCH($D1362,'Transparency List 2017'!$L:$L,0),FALSE),IFERROR(MATCH(TRIM($G1362),'Transparency List 2017'!$C:$C,0),FALSE)),\"On the 2017 List\",\"-\")","v":"-"},{"$f":"IF(OR(IFERROR(MATCH($D1362,'Transparency List 2015'!$H:$H,0),FALSE),IFERROR(MATCH(TRIM($G1362),'Transparency List 2015'!$C:$C,0),FALSE)),\"On the 2015 List\",\"-\")","v":"-"}]
[null,null,4,"",null,null,null,"-",{"$f":"IF(OR(IFERROR(MATCH($D1363,'Transparency List 2018_10'!$L:$L,0),FALSE),IFERROR(MATCH(TRIM($G1363),'Transparency List 2018_10'!$D:$D,0),FALSE)),\"On the 2018_10 List\",\"-\")","v":"-"},{"$f":"IF(OR(IFERROR(MATCH($D1363,'Transparency List 2018_04'!$L:$L,0),FALSE),IFERROR(MATCH(TRIM($G1363),'Transparency List 2018_04'!$D:$D,0),FALSE)),\"On the 2018_04 List\",\"-\")","v":"-"},{"$f":"IF(OR(IFERROR(MATCH($D1363,'Transparency List 2017'!$L:$L,0),FALSE),IFERROR(MATCH(TRIM($G1363),'Transparency List 2017'!$C:$C,0),FALSE)),\"On the 2017 List\",\"-\")","v":"-"},{"$f":"IF(OR(IFERROR(MATCH($D1363,'Transparency List 2015'!$H:$H,0),FALSE),IFERROR(MATCH(TRIM($G1363),'Transparency List 2015'!$C:$C,0),FALSE)),\"On the 2015 List\",\"-\")","v":"-"}]
[null,null,4,"",null,null,null,"-",{"$f":"IF(OR(IFERROR(MATCH($D1364,'Transparency List 2018_10'!$L:$L,0),FALSE),IFERROR(MATCH(TRIM($G1364),'Transparency List 2018_10'!$D:$D,0),FALSE)),\"On the 2018_10 List\",\"-\")","v":"-"},{"$f":"IF(OR(IFERROR(MATCH($D1364,'Transparency List 2018_04'!$L:$L,0),FALSE),IFERROR(MATCH(TRIM($G1364),'Transparency List 2018_04'!$D:$D,0),FALSE)),\"On the 2018_04 List\",\"-\")","v":"-"},{"$f":"IF(OR(IFERROR(MATCH($D1364,'Transparency List 2017'!$L:$L,0),FALSE),IFERROR(MATCH(TRIM($G1364),'Transparency List 2017'!$C:$C,0),FALSE)),\"On the 2017 List\",\"-\")","v":"-"},{"$f":"IF(OR(IFERROR(MATCH($D1364,'Transparency List 2015'!$H:$H,0),FALSE),IFERROR(MATCH(TRIM($G1364),'Transparency List 2015'!$C:$C,0),FALSE)),\"On the 2015 List\",\"-\")","v":"-"}]
[null,null,4,"",null,null,null,"-",{"$f":"IF(OR(IFERROR(MATCH($D1365,'Transparency List 2018_10'!$L:$L,0),FALSE),IFERROR(MATCH(TRIM($G1365),'Transparency List 2018_10'!$D:$D,0),FALSE)),\"On the 2018_10 List\",\"-\")","v":"-"},{"$f":"IF(OR(IFERROR(MATCH($D1365,'Transparency List 2018_04'!$L:$L,0),FALSE),IFERROR(MATCH(TRIM($G1365),'Transparency List 2018_04'!$D:$D,0),FALSE)),\"On the 2018_04 List\",\"-\")","v":"-"},{"$f":"IF(OR(IFERROR(MATCH($D1365,'Transparency List 2017'!$L:$L,0),FALSE),IFERROR(MATCH(TRIM($G1365),'Transparency List 2017'!$C:$C,0),FALSE)),\"On the 2017 List\",\"-\")","v":"-"},{"$f":"IF(OR(IFERROR(MATCH($D1365,'Transparency List 2015'!$H:$H,0),FALSE),IFERROR(MATCH(TRIM($G1365),'Transparency List 2015'!$C:$C,0),FALSE)),\"On the 2015 List\",\"-\")","v":"-"}]
[null,null,4,"",null,null,null,"-",{"$f":"IF(OR(IFERROR(MATCH($D1366,'Transparency List 2018_10'!$L:$L,0),FALSE),IFERROR(MATCH(TRIM($G1366),'Transparency List 2018_10'!$D:$D,0),FALSE)),\"On the 2018_10 List\",\"-\")","v":"-"},{"$f":"IF(OR(IFERROR(MATCH($D1366,'Transparency List 2018_04'!$L:$L,0),FALSE),IFERROR(MATCH(TRIM($G1366),'Transparency List 2018_04'!$D:$D,0),FALSE)),\"On the 2018_04 List\",\"-\")","v":"-"},{"$f":"IF(OR(IFERROR(MATCH($D1366,'Transparency List 2017'!$L:$L,0),FALSE),IFERROR(MATCH(TRIM($G1366),'Transparency List 2017'!$C:$C,0),FALSE)),\"On the 2017 List\",\"-\")","v":"-"},{"$f":"IF(OR(IFERROR(MATCH($D1366,'Transparency List 2015'!$H:$H,0),FALSE),IFERROR(MATCH(TRIM($G1366),'Transparency List 2015'!$C:$C,0),FALSE)),\"On the 2015 List\",\"-\")","v":"-"}]
[null,null,4,"",null,null,null,"-",{"$f":"IF(OR(IFERROR(MATCH($D1367,'Transparency List 2018_10'!$L:$L,0),FALSE),IFERROR(MATCH(TRIM($G1367),'Transparency List 2018_10'!$D:$D,0),FALSE)),\"On the 2018_10 List\",\"-\")","v":"-"},{"$f":"IF(OR(IFERROR(MATCH($D1367,'Transparency List 2018_04'!$L:$L,0),FALSE),IFERROR(MATCH(TRIM($G1367),'Transparency List 2018_04'!$D:$D,0),FALSE)),\"On the 2018_04 List\",\"-\")","v":"-"},{"$f":"IF(OR(IFERROR(MATCH($D1367,'Transparency List 2017'!$L:$L,0),FALSE),IFERROR(MATCH(TRIM($G1367),'Transparency List 2017'!$C:$C,0),FALSE)),\"On the 2017 List\",\"-\")","v":"-"},{"$f":"IF(OR(IFERROR(MATCH($D1367,'Transparency List 2015'!$H:$H,0),FALSE),IFERROR(MATCH(TRIM($G1367),'Transparency List 2015'!$C:$C,0),FALSE)),\"On the 2015 List\",\"-\")","v":"-"}]
[null,null,4,"",null,null,null,"-",{"$f":"IF(OR(IFERROR(MATCH($D1368,'Transparency List 2018_10'!$L:$L,0),FALSE),IFERROR(MATCH(TRIM($G1368),'Transparency List 2018_10'!$D:$D,0),FALSE)),\"On the 2018_10 List\",\"-\")","v":"-"},{"$f":"IF(OR(IFERROR(MATCH($D1368,'Transparency List 2018_04'!$L:$L,0),FALSE),IFERROR(MATCH(TRIM($G1368),'Transparency List 2018_04'!$D:$D,0),FALSE)),\"On the 2018_04 List\",\"-\")","v":"-"},{"$f":"IF(OR(IFERROR(MATCH($D1368,'Transparency List 2017'!$L:$L,0),FALSE),IFERROR(MATCH(TRIM($G1368),'Transparency List 2017'!$C:$C,0),FALSE)),\"On the 2017 List\",\"-\")","v":"-"},{"$f":"IF(OR(IFERROR(MATCH($D1368,'Transparency List 2015'!$H:$H,0),FALSE),IFERROR(MATCH(TRIM($G1368),'Transparency List 2015'!$C:$C,0),FALSE)),\"On the 2015 List\",\"-\")","v":"-"}]
[null,null,4,"",null,null,null,"-",{"$f":"IF(OR(IFERROR(MATCH($D1369,'Transparency List 2018_10'!$L:$L,0),FALSE),IFERROR(MATCH(TRIM($G1369),'Transparency List 2018_10'!$D:$D,0),FALSE)),\"On the 2018_10 List\",\"-\")","v":"-"},{"$f":"IF(OR(IFERROR(MATCH($D1369,'Transparency List 2018_04'!$L:$L,0),FALSE),IFERROR(MATCH(TRIM($G1369),'Transparency List 2018_04'!$D:$D,0),FALSE)),\"On the 2018_04 List\",\"-\")","v":"-"},{"$f":"IF(OR(IFERROR(MATCH($D1369,'Transparency List 2017'!$L:$L,0),FALSE),IFERROR(MATCH(TRIM($G1369),'Transparency List 2017'!$C:$C,0),FALSE)),\"On the 2017 List\",\"-\")","v":"-"},{"$f":"IF(OR(IFERROR(MATCH($D1369,'Transparency List 2015'!$H:$H,0),FALSE),IFERROR(MATCH(TRIM($G1369),'Transparency List 2015'!$C:$C,0),FALSE)),\"On the 2015 List\",\"-\")","v":"-"}]
[null,null,4,"",null,null,null,"-",{"$f":"IF(OR(IFERROR(MATCH($D1370,'Transparency List 2018_10'!$L:$L,0),FALSE),IFERROR(MATCH(TRIM($G1370),'Transparency List 2018_10'!$D:$D,0),FALSE)),\"On the 2018_10 List\",\"-\")","v":"-"},{"$f":"IF(OR(IFERROR(MATCH($D1370,'Transparency List 2018_04'!$L:$L,0),FALSE),IFERROR(MATCH(TRIM($G1370),'Transparency List 2018_04'!$D:$D,0),FALSE)),\"On the 2018_04 List\",\"-\")","v":"-"},{"$f":"IF(OR(IFERROR(MATCH($D1370,'Transparency List 2017'!$L:$L,0),FALSE),IFERROR(MATCH(TRIM($G1370),'Transparency List 2017'!$C:$C,0),FALSE)),\"On the 2017 List\",\"-\")","v":"-"},{"$f":"IF(OR(IFERROR(MATCH($D1370,'Transparency List 2015'!$H:$H,0),FALSE),IFERROR(MATCH(TRIM($G1370),'Transparency List 2015'!$C:$C,0),FALSE)),\"On the 2015 List\",\"-\")","v":"-"}]
[null,null,4,"",null,null,null,"-",{"$f":"IF(OR(IFERROR(MATCH($D1371,'Transparency List 2018_10'!$L:$L,0),FALSE),IFERROR(MATCH(TRIM($G1371),'Transparency List 2018_10'!$D:$D,0),FALSE)),\"On the 2018_10 List\",\"-\")","v":"-"},{"$f":"IF(OR(IFERROR(MATCH($D1371,'Transparency List 2018_04'!$L:$L,0),FALSE),IFERROR(MATCH(TRIM($G1371),'Transparency List 2018_04'!$D:$D,0),FALSE)),\"On the 2018_04 List\",\"-\")","v":"-"},{"$f":"IF(OR(IFERROR(MATCH($D1371,'Transparency List 2017'!$L:$L,0),FALSE),IFERROR(MATCH(TRIM($G1371),'Transparency List 2017'!$C:$C,0),FALSE)),\"On the 2017 List\",\"-\")","v":"-"},{"$f":"IF(OR(IFERROR(MATCH($D1371,'Transparency List 2015'!$H:$H,0),FALSE),IFERROR(MATCH(TRIM($G1371),'Transparency List 2015'!$C:$C,0),FALSE)),\"On the 2015 List\",\"-\")","v":"-"}]
[null,null,4,"",null,null,null,"-",{"$f":"IF(OR(IFERROR(MATCH($D1372,'Transparency List 2018_10'!$L:$L,0),FALSE),IFERROR(MATCH(TRIM($G1372),'Transparency List 2018_10'!$D:$D,0),FALSE)),\"On the 2018_10 List\",\"-\")","v":"-"},{"$f":"IF(OR(IFERROR(MATCH($D1372,'Transparency List 2018_04'!$L:$L,0),FALSE),IFERROR(MATCH(TRIM($G1372),'Transparency List 2018_04'!$D:$D,0),FALSE)),\"On the 2018_04 List\",\"-\")","v":"-"},{"$f":"IF(OR(IFERROR(MATCH($D1372,'Transparency List 2017'!$L:$L,0),FALSE),IFERROR(MATCH(TRIM($G1372),'Transparency List 2017'!$C:$C,0),FALSE)),\"On the 2017 List\",\"-\")","v":"-"},{"$f":"IF(OR(IFERROR(MATCH($D1372,'Transparency List 2015'!$H:$H,0),FALSE),IFERROR(MATCH(TRIM($G1372),'Transparency List 2015'!$C:$C,0),FALSE)),\"On the 2015 List\",\"-\")","v":"-"}]
[null,null,4,"",null,null,null,"-",{"$f":"IF(OR(IFERROR(MATCH($D1373,'Transparency List 2018_10'!$L:$L,0),FALSE),IFERROR(MATCH(TRIM($G1373),'Transparency List 2018_10'!$D:$D,0),FALSE)),\"On the 2018_10 List\",\"-\")","v":"-"},{"$f":"IF(OR(IFERROR(MATCH($D1373,'Transparency List 2018_04'!$L:$L,0),FALSE),IFERROR(MATCH(TRIM($G1373),'Transparency List 2018_04'!$D:$D,0),FALSE)),\"On the 2018_04 List\",\"-\")","v":"-"},{"$f":"IF(OR(IFERROR(MATCH($D1373,'Transparency List 2017'!$L:$L,0),FALSE),IFERROR(MATCH(TRIM($G1373),'Transparency List 2017'!$C:$C,0),FALSE)),\"On the 2017 List\",\"-\")","v":"-"},{"$f":"IF(OR(IFERROR(MATCH($D1373,'Transparency List 2015'!$H:$H,0),FALSE),IFERROR(MATCH(TRIM($G1373),'Transparency List 2015'!$C:$C,0),FALSE)),\"On the 2015 List\",\"-\")","v":"-"}]
[null,null,4,"",null,null,null,"-",{"$f":"IF(OR(IFERROR(MATCH($D1374,'Transparency List 2018_10'!$L:$L,0),FALSE),IFERROR(MATCH(TRIM($G1374),'Transparency List 2018_10'!$D:$D,0),FALSE)),\"On the 2018_10 List\",\"-\")","v":"-"},{"$f":"IF(OR(IFERROR(MATCH($D1374,'Transparency List 2018_04'!$L:$L,0),FALSE),IFERROR(MATCH(TRIM($G1374),'Transparency List 2018_04'!$D:$D,0),FALSE)),\"On the 2018_04 List\",\"-\")","v":"-"},{"$f":"IF(OR(IFERROR(MATCH($D1374,'Transparency List 2017'!$L:$L,0),FALSE),IFERROR(MATCH(TRIM($G1374),'Transparency List 2017'!$C:$C,0),FALSE)),\"On the 2017 List\",\"-\")","v":"-"},{"$f":"IF(OR(IFERROR(MATCH($D1374,'Transparency List 2015'!$H:$H,0),FALSE),IFERROR(MATCH(TRIM($G1374),'Transparency List 2015'!$C:$C,0),FALSE)),\"On the 2015 List\",\"-\")","v":"-"}]
[null,null,{"$f":"COUNTIF($I1375:$L1375,\"-\")","v":4},{"$f":"SUBSTITUTE(SUBSTITUTE(SUBSTITUTE(SUBSTITUTE($G1375,\" \",\"\"),\".\",\"\"),\"-\",\"\"),\"/\",\"\")","v":""},null,null,null,{"$f":"IFERROR(IF($C1375=4,\"-\",\"Risk Farmer - Please conduct further steps\"),)","v":"-"},{"$f":"IF(OR(IFERROR(MATCH($D1375,'Transparency List 2018_10'!$L:$L,0),FALSE),IFERROR(MATCH(TRIM($G1375),'Transparency List 2018_10'!$D:$D,0),FALSE)),\"On the 2018_10 List\",\"-\")","v":"-"},{"$f":"IF(OR(IFERROR(MATCH($D1375,'Transparency List 2018_04'!$L:$L,0),FALSE),IFERROR(MATCH(TRIM($G1375),'Transparency List 2018_04'!$D:$D,0),FALSE)),\"On the 2018_04 List\",\"-\")","v":"-"},{"$f":"IF(OR(IFERROR(MATCH($D1375,'Transparency List 2017'!$L:$L,0),FALSE),IFERROR(MATCH(TRIM($G1375),'Transparency List 2017'!$C:$C,0),FALSE)),\"On the 2017 List\",\"-\")","v":"-"},{"$f":"IF(OR(IFERROR(MATCH($D1375,'Transparency List 2015'!$H:$H,0),FALSE),IFERROR(MATCH(TRIM($G1375),'Transparency List 2015'!$C:$C,0),FALSE)),\"On the 2015 List\",\"-\")","v":"-"}]
[null,null,4,"",null,null,null,"-",{"$f":"IF(OR(IFERROR(MATCH($D1376,'Transparency List 2018_10'!$L:$L,0),FALSE),IFERROR(MATCH(TRIM($G1376),'Transparency List 2018_10'!$D:$D,0),FALSE)),\"On the 2018_10 List\",\"-\")","v":"-"},{"$f":"IF(OR(IFERROR(MATCH($D1376,'Transparency List 2018_04'!$L:$L,0),FALSE),IFERROR(MATCH(TRIM($G1376),'Transparency List 2018_04'!$D:$D,0),FALSE)),\"On the 2018_04 List\",\"-\")","v":"-"},{"$f":"IF(OR(IFERROR(MATCH($D1376,'Transparency List 2017'!$L:$L,0),FALSE),IFERROR(MATCH(TRIM($G1376),'Transparency List 2017'!$C:$C,0),FALSE)),\"On the 2017 List\",\"-\")","v":"-"},{"$f":"IF(OR(IFERROR(MATCH($D1376,'Transparency List 2015'!$H:$H,0),FALSE),IFERROR(MATCH(TRIM($G1376),'Transparency List 2015'!$C:$C,0),FALSE)),\"On the 2015 List\",\"-\")","v":"-"}]
[null,null,4,"",null,null,null,"-",{"$f":"IF(OR(IFERROR(MATCH($D1377,'Transparency List 2018_10'!$L:$L,0),FALSE),IFERROR(MATCH(TRIM($G1377),'Transparency List 2018_10'!$D:$D,0),FALSE)),\"On the 2018_10 List\",\"-\")","v":"-"},{"$f":"IF(OR(IFERROR(MATCH($D1377,'Transparency List 2018_04'!$L:$L,0),FALSE),IFERROR(MATCH(TRIM($G1377),'Transparency List 2018_04'!$D:$D,0),FALSE)),\"On the 2018_04 List\",\"-\")","v":"-"},{"$f":"IF(OR(IFERROR(MATCH($D1377,'Transparency List 2017'!$L:$L,0),FALSE),IFERROR(MATCH(TRIM($G1377),'Transparency List 2017'!$C:$C,0),FALSE)),\"On the 2017 List\",\"-\")","v":"-"},{"$f":"IF(OR(IFERROR(MATCH($D1377,'Transparency List 2015'!$H:$H,0),FALSE),IFERROR(MATCH(TRIM($G1377),'Transparency List 2015'!$C:$C,0),FALSE)),\"On the 2015 List\",\"-\")","v":"-"}]
[null,null,4,"",null,null,null,"-",{"$f":"IF(OR(IFERROR(MATCH($D1378,'Transparency List 2018_10'!$L:$L,0),FALSE),IFERROR(MATCH(TRIM($G1378),'Transparency List 2018_10'!$D:$D,0),FALSE)),\"On the 2018_10 List\",\"-\")","v":"-"},{"$f":"IF(OR(IFERROR(MATCH($D1378,'Transparency List 2018_04'!$L:$L,0),FALSE),IFERROR(MATCH(TRIM($G1378),'Transparency List 2018_04'!$D:$D,0),FALSE)),\"On the 2018_04 List\",\"-\")","v":"-"},{"$f":"IF(OR(IFERROR(MATCH($D1378,'Transparency List 2017'!$L:$L,0),FALSE),IFERROR(MATCH(TRIM($G1378),'Transparency List 2017'!$C:$C,0),FALSE)),\"On the 2017 List\",\"-\")","v":"-"},{"$f":"IF(OR(IFERROR(MATCH($D1378,'Transparency List 2015'!$H:$H,0),FALSE),IFERROR(MATCH(TRIM($G1378),'Transparency List 2015'!$C:$C,0),FALSE)),\"On the 2015 List\",\"-\")","v":"-"}]
[null,null,4,"",null,null,null,"-",{"$f":"IF(OR(IFERROR(MATCH($D1379,'Transparency List 2018_10'!$L:$L,0),FALSE),IFERROR(MATCH(TRIM($G1379),'Transparency List 2018_10'!$D:$D,0),FALSE)),\"On the 2018_10 List\",\"-\")","v":"-"},{"$f":"IF(OR(IFERROR(MATCH($D1379,'Transparency List 2018_04'!$L:$L,0),FALSE),IFERROR(MATCH(TRIM($G1379),'Transparency List 2018_04'!$D:$D,0),FALSE)),\"On the 2018_04 List\",\"-\")","v":"-"},{"$f":"IF(OR(IFERROR(MATCH($D1379,'Transparency List 2017'!$L:$L,0),FALSE),IFERROR(MATCH(TRIM($G1379),'Transparency List 2017'!$C:$C,0),FALSE)),\"On the 2017 List\",\"-\")","v":"-"},{"$f":"IF(OR(IFERROR(MATCH($D1379,'Transparency List 2015'!$H:$H,0),FALSE),IFERROR(MATCH(TRIM($G1379),'Transparency List 2015'!$C:$C,0),FALSE)),\"On the 2015 List\",\"-\")","v":"-"}]
[null,null,4,"",null,null,null,"-",{"$f":"IF(OR(IFERROR(MATCH($D1380,'Transparency List 2018_10'!$L:$L,0),FALSE),IFERROR(MATCH(TRIM($G1380),'Transparency List 2018_10'!$D:$D,0),FALSE)),\"On the 2018_10 List\",\"-\")","v":"-"},{"$f":"IF(OR(IFERROR(MATCH($D1380,'Transparency List 2018_04'!$L:$L,0),FALSE),IFERROR(MATCH(TRIM($G1380),'Transparency List 2018_04'!$D:$D,0),FALSE)),\"On the 2018_04 List\",\"-\")","v":"-"},{"$f":"IF(OR(IFERROR(MATCH($D1380,'Transparency List 2017'!$L:$L,0),FALSE),IFERROR(MATCH(TRIM($G1380),'Transparency List 2017'!$C:$C,0),FALSE)),\"On the 2017 List\",\"-\")","v":"-"},{"$f":"IF(OR(IFERROR(MATCH($D1380,'Transparency List 2015'!$H:$H,0),FALSE),IFERROR(MATCH(TRIM($G1380),'Transparency List 2015'!$C:$C,0),FALSE)),\"On the 2015 List\",\"-\")","v":"-"}]
[null,null,4,"",null,null,null,"-",{"$f":"IF(OR(IFERROR(MATCH($D1381,'Transparency List 2018_10'!$L:$L,0),FALSE),IFERROR(MATCH(TRIM($G1381),'Transparency List 2018_10'!$D:$D,0),FALSE)),\"On the 2018_10 List\",\"-\")","v":"-"},{"$f":"IF(OR(IFERROR(MATCH($D1381,'Transparency List 2018_04'!$L:$L,0),FALSE),IFERROR(MATCH(TRIM($G1381),'Transparency List 2018_04'!$D:$D,0),FALSE)),\"On the 2018_04 List\",\"-\")","v":"-"},{"$f":"IF(OR(IFERROR(MATCH($D1381,'Transparency List 2017'!$L:$L,0),FALSE),IFERROR(MATCH(TRIM($G1381),'Transparency List 2017'!$C:$C,0),FALSE)),\"On the 2017 List\",\"-\")","v":"-"},{"$f":"IF(OR(IFERROR(MATCH($D1381,'Transparency List 2015'!$H:$H,0),FALSE),IFERROR(MATCH(TRIM($G1381),'Transparency List 2015'!$C:$C,0),FALSE)),\"On the 2015 List\",\"-\")","v":"-"}]
[null,null,4,"",null,null,null,"-",{"$f":"IF(OR(IFERROR(MATCH($D1382,'Transparency List 2018_10'!$L:$L,0),FALSE),IFERROR(MATCH(TRIM($G1382),'Transparency List 2018_10'!$D:$D,0),FALSE)),\"On the 2018_10 List\",\"-\")","v":"-"},{"$f":"IF(OR(IFERROR(MATCH($D1382,'Transparency List 2018_04'!$L:$L,0),FALSE),IFERROR(MATCH(TRIM($G1382),'Transparency List 2018_04'!$D:$D,0),FALSE)),\"On the 2018_04 List\",\"-\")","v":"-"},{"$f":"IF(OR(IFERROR(MATCH($D1382,'Transparency List 2017'!$L:$L,0),FALSE),IFERROR(MATCH(TRIM($G1382),'Transparency List 2017'!$C:$C,0),FALSE)),\"On the 2017 List\",\"-\")","v":"-"},{"$f":"IF(OR(IFERROR(MATCH($D1382,'Transparency List 2015'!$H:$H,0),FALSE),IFERROR(MATCH(TRIM($G1382),'Transparency List 2015'!$C:$C,0),FALSE)),\"On the 2015 List\",\"-\")","v":"-"}]
[null,null,4,"",null,null,null,"-",{"$f":"IF(OR(IFERROR(MATCH($D1383,'Transparency List 2018_10'!$L:$L,0),FALSE),IFERROR(MATCH(TRIM($G1383),'Transparency List 2018_10'!$D:$D,0),FALSE)),\"On the 2018_10 List\",\"-\")","v":"-"},{"$f":"IF(OR(IFERROR(MATCH($D1383,'Transparency List 2018_04'!$L:$L,0),FALSE),IFERROR(MATCH(TRIM($G1383),'Transparency List 2018_04'!$D:$D,0),FALSE)),\"On the 2018_04 List\",\"-\")","v":"-"},{"$f":"IF(OR(IFERROR(MATCH($D1383,'Transparency List 2017'!$L:$L,0),FALSE),IFERROR(MATCH(TRIM($G1383),'Transparency List 2017'!$C:$C,0),FALSE)),\"On the 2017 List\",\"-\")","v":"-"},{"$f":"IF(OR(IFERROR(MATCH($D1383,'Transparency List 2015'!$H:$H,0),FALSE),IFERROR(MATCH(TRIM($G1383),'Transparency List 2015'!$C:$C,0),FALSE)),\"On the 2015 List\",\"-\")","v":"-"}]
[null,null,4,"",null,null,null,"-",{"$f":"IF(OR(IFERROR(MATCH($D1384,'Transparency List 2018_10'!$L:$L,0),FALSE),IFERROR(MATCH(TRIM($G1384),'Transparency List 2018_10'!$D:$D,0),FALSE)),\"On the 2018_10 List\",\"-\")","v":"-"},{"$f":"IF(OR(IFERROR(MATCH($D1384,'Transparency List 2018_04'!$L:$L,0),FALSE),IFERROR(MATCH(TRIM($G1384),'Transparency List 2018_04'!$D:$D,0),FALSE)),\"On the 2018_04 List\",\"-\")","v":"-"},{"$f":"IF(OR(IFERROR(MATCH($D1384,'Transparency List 2017'!$L:$L,0),FALSE),IFERROR(MATCH(TRIM($G1384),'Transparency List 2017'!$C:$C,0),FALSE)),\"On the 2017 List\",\"-\")","v":"-"},{"$f":"IF(OR(IFERROR(MATCH($D1384,'Transparency List 2015'!$H:$H,0),FALSE),IFERROR(MATCH(TRIM($G1384),'Transparency List 2015'!$C:$C,0),FALSE)),\"On the 2015 List\",\"-\")","v":"-"}]
[null,null,4,"",null,null,null,"-",{"$f":"IF(OR(IFERROR(MATCH($D1385,'Transparency List 2018_10'!$L:$L,0),FALSE),IFERROR(MATCH(TRIM($G1385),'Transparency List 2018_10'!$D:$D,0),FALSE)),\"On the 2018_10 List\",\"-\")","v":"-"},{"$f":"IF(OR(IFERROR(MATCH($D1385,'Transparency List 2018_04'!$L:$L,0),FALSE),IFERROR(MATCH(TRIM($G1385),'Transparency List 2018_04'!$D:$D,0),FALSE)),\"On the 2018_04 List\",\"-\")","v":"-"},{"$f":"IF(OR(IFERROR(MATCH($D1385,'Transparency List 2017'!$L:$L,0),FALSE),IFERROR(MATCH(TRIM($G1385),'Transparency List 2017'!$C:$C,0),FALSE)),\"On the 2017 List\",\"-\")","v":"-"},{"$f":"IF(OR(IFERROR(MATCH($D1385,'Transparency List 2015'!$H:$H,0),FALSE),IFERROR(MATCH(TRIM($G1385),'Transparency List 2015'!$C:$C,0),FALSE)),\"On the 2015 List\",\"-\")","v":"-"}]
[null,null,4,"",null,null,null,"-",{"$f":"IF(OR(IFERROR(MATCH($D1386,'Transparency List 2018_10'!$L:$L,0),FALSE),IFERROR(MATCH(TRIM($G1386),'Transparency List 2018_10'!$D:$D,0),FALSE)),\"On the 2018_10 List\",\"-\")","v":"-"},{"$f":"IF(OR(IFERROR(MATCH($D1386,'Transparency List 2018_04'!$L:$L,0),FALSE),IFERROR(MATCH(TRIM($G1386),'Transparency List 2018_04'!$D:$D,0),FALSE)),\"On the 2018_04 List\",\"-\")","v":"-"},{"$f":"IF(OR(IFERROR(MATCH($D1386,'Transparency List 2017'!$L:$L,0),FALSE),IFERROR(MATCH(TRIM($G1386),'Transparency List 2017'!$C:$C,0),FALSE)),\"On the 2017 List\",\"-\")","v":"-"},{"$f":"IF(OR(IFERROR(MATCH($D1386,'Transparency List 2015'!$H:$H,0),FALSE),IFERROR(MATCH(TRIM($G1386),'Transparency List 2015'!$C:$C,0),FALSE)),\"On the 2015 List\",\"-\")","v":"-"}]
[null,null,4,"",null,null,null,"-",{"$f":"IF(OR(IFERROR(MATCH($D1387,'Transparency List 2018_10'!$L:$L,0),FALSE),IFERROR(MATCH(TRIM($G1387),'Transparency List 2018_10'!$D:$D,0),FALSE)),\"On the 2018_10 List\",\"-\")","v":"-"},{"$f":"IF(OR(IFERROR(MATCH($D1387,'Transparency List 2018_04'!$L:$L,0),FALSE),IFERROR(MATCH(TRIM($G1387),'Transparency List 2018_04'!$D:$D,0),FALSE)),\"On the 2018_04 List\",\"-\")","v":"-"},{"$f":"IF(OR(IFERROR(MATCH($D1387,'Transparency List 2017'!$L:$L,0),FALSE),IFERROR(MATCH(TRIM($G1387),'Transparency List 2017'!$C:$C,0),FALSE)),\"On the 2017 List\",\"-\")","v":"-"},{"$f":"IF(OR(IFERROR(MATCH($D1387,'Transparency List 2015'!$H:$H,0),FALSE),IFERROR(MATCH(TRIM($G1387),'Transparency List 2015'!$C:$C,0),FALSE)),\"On the 2015 List\",\"-\")","v":"-"}]
[null,null,4,"",null,null,null,"-",{"$f":"IF(OR(IFERROR(MATCH($D1388,'Transparency List 2018_10'!$L:$L,0),FALSE),IFERROR(MATCH(TRIM($G1388),'Transparency List 2018_10'!$D:$D,0),FALSE)),\"On the 2018_10 List\",\"-\")","v":"-"},{"$f":"IF(OR(IFERROR(MATCH($D1388,'Transparency List 2018_04'!$L:$L,0),FALSE),IFERROR(MATCH(TRIM($G1388),'Transparency List 2018_04'!$D:$D,0),FALSE)),\"On the 2018_04 List\",\"-\")","v":"-"},{"$f":"IF(OR(IFERROR(MATCH($D1388,'Transparency List 2017'!$L:$L,0),FALSE),IFERROR(MATCH(TRIM($G1388),'Transparency List 2017'!$C:$C,0),FALSE)),\"On the 2017 List\",\"-\")","v":"-"},{"$f":"IF(OR(IFERROR(MATCH($D1388,'Transparency List 2015'!$H:$H,0),FALSE),IFERROR(MATCH(TRIM($G1388),'Transparency List 2015'!$C:$C,0),FALSE)),\"On the 2015 List\",\"-\")","v":"-"}]
[null,null,4,"",null,null,null,"-",{"$f":"IF(OR(IFERROR(MATCH($D1389,'Transparency List 2018_10'!$L:$L,0),FALSE),IFERROR(MATCH(TRIM($G1389),'Transparency List 2018_10'!$D:$D,0),FALSE)),\"On the 2018_10 List\",\"-\")","v":"-"},{"$f":"IF(OR(IFERROR(MATCH($D1389,'Transparency List 2018_04'!$L:$L,0),FALSE),IFERROR(MATCH(TRIM($G1389),'Transparency List 2018_04'!$D:$D,0),FALSE)),\"On the 2018_04 List\",\"-\")","v":"-"},{"$f":"IF(OR(IFERROR(MATCH($D1389,'Transparency List 2017'!$L:$L,0),FALSE),IFERROR(MATCH(TRIM($G1389),'Transparency List 2017'!$C:$C,0),FALSE)),\"On the 2017 List\",\"-\")","v":"-"},{"$f":"IF(OR(IFERROR(MATCH($D1389,'Transparency List 2015'!$H:$H,0),FALSE),IFERROR(MATCH(TRIM($G1389),'Transparency List 2015'!$C:$C,0),FALSE)),\"On the 2015 List\",\"-\")","v":"-"}]
[null,null,4,"",null,null,null,"-",{"$f":"IF(OR(IFERROR(MATCH($D1390,'Transparency List 2018_10'!$L:$L,0),FALSE),IFERROR(MATCH(TRIM($G1390),'Transparency List 2018_10'!$D:$D,0),FALSE)),\"On the 2018_10 List\",\"-\")","v":"-"},{"$f":"IF(OR(IFERROR(MATCH($D1390,'Transparency List 2018_04'!$L:$L,0),FALSE),IFERROR(MATCH(TRIM($G1390),'Transparency List 2018_04'!$D:$D,0),FALSE)),\"On the 2018_04 List\",\"-\")","v":"-"},{"$f":"IF(OR(IFERROR(MATCH($D1390,'Transparency List 2017'!$L:$L,0),FALSE),IFERROR(MATCH(TRIM($G1390),'Transparency List 2017'!$C:$C,0),FALSE)),\"On the 2017 List\",\"-\")","v":"-"},{"$f":"IF(OR(IFERROR(MATCH($D1390,'Transparency List 2015'!$H:$H,0),FALSE),IFERROR(MATCH(TRIM($G1390),'Transparency List 2015'!$C:$C,0),FALSE)),\"On the 2015 List\",\"-\")","v":"-"}]
[null,null,4,"",null,null,null,"-",{"$f":"IF(OR(IFERROR(MATCH($D1391,'Transparency List 2018_10'!$L:$L,0),FALSE),IFERROR(MATCH(TRIM($G1391),'Transparency List 2018_10'!$D:$D,0),FALSE)),\"On the 2018_10 List\",\"-\")","v":"-"},{"$f":"IF(OR(IFERROR(MATCH($D1391,'Transparency List 2018_04'!$L:$L,0),FALSE),IFERROR(MATCH(TRIM($G1391),'Transparency List 2018_04'!$D:$D,0),FALSE)),\"On the 2018_04 List\",\"-\")","v":"-"},{"$f":"IF(OR(IFERROR(MATCH($D1391,'Transparency List 2017'!$L:$L,0),FALSE),IFERROR(MATCH(TRIM($G1391),'Transparency List 2017'!$C:$C,0),FALSE)),\"On the 2017 List\",\"-\")","v":"-"},{"$f":"IF(OR(IFERROR(MATCH($D1391,'Transparency List 2015'!$H:$H,0),FALSE),IFERROR(MATCH(TRIM($G1391),'Transparency List 2015'!$C:$C,0),FALSE)),\"On the 2015 List\",\"-\")","v":"-"}]
[null,null,4,"",null,null,null,"-",{"$f":"IF(OR(IFERROR(MATCH($D1392,'Transparency List 2018_10'!$L:$L,0),FALSE),IFERROR(MATCH(TRIM($G1392),'Transparency List 2018_10'!$D:$D,0),FALSE)),\"On the 2018_10 List\",\"-\")","v":"-"},{"$f":"IF(OR(IFERROR(MATCH($D1392,'Transparency List 2018_04'!$L:$L,0),FALSE),IFERROR(MATCH(TRIM($G1392),'Transparency List 2018_04'!$D:$D,0),FALSE)),\"On the 2018_04 List\",\"-\")","v":"-"},{"$f":"IF(OR(IFERROR(MATCH($D1392,'Transparency List 2017'!$L:$L,0),FALSE),IFERROR(MATCH(TRIM($G1392),'Transparency List 2017'!$C:$C,0),FALSE)),\"On the 2017 List\",\"-\")","v":"-"},{"$f":"IF(OR(IFERROR(MATCH($D1392,'Transparency List 2015'!$H:$H,0),FALSE),IFERROR(MATCH(TRIM($G1392),'Transparency List 2015'!$C:$C,0),FALSE)),\"On the 2015 List\",\"-\")","v":"-"}]
[null,null,4,"",null,null,null,"-",{"$f":"IF(OR(IFERROR(MATCH($D1393,'Transparency List 2018_10'!$L:$L,0),FALSE),IFERROR(MATCH(TRIM($G1393),'Transparency List 2018_10'!$D:$D,0),FALSE)),\"On the 2018_10 List\",\"-\")","v":"-"},{"$f":"IF(OR(IFERROR(MATCH($D1393,'Transparency List 2018_04'!$L:$L,0),FALSE),IFERROR(MATCH(TRIM($G1393),'Transparency List 2018_04'!$D:$D,0),FALSE)),\"On the 2018_04 List\",\"-\")","v":"-"},{"$f":"IF(OR(IFERROR(MATCH($D1393,'Transparency List 2017'!$L:$L,0),FALSE),IFERROR(MATCH(TRIM($G1393),'Transparency List 2017'!$C:$C,0),FALSE)),\"On the 2017 List\",\"-\")","v":"-"},{"$f":"IF(OR(IFERROR(MATCH($D1393,'Transparency List 2015'!$H:$H,0),FALSE),IFERROR(MATCH(TRIM($G1393),'Transparency List 2015'!$C:$C,0),FALSE)),\"On the 2015 List\",\"-\")","v":"-"}]
[null,null,4,"",null,null,null,"-",{"$f":"IF(OR(IFERROR(MATCH($D1394,'Transparency List 2018_10'!$L:$L,0),FALSE),IFERROR(MATCH(TRIM($G1394),'Transparency List 2018_10'!$D:$D,0),FALSE)),\"On the 2018_10 List\",\"-\")","v":"-"},{"$f":"IF(OR(IFERROR(MATCH($D1394,'Transparency List 2018_04'!$L:$L,0),FALSE),IFERROR(MATCH(TRIM($G1394),'Transparency List 2018_04'!$D:$D,0),FALSE)),\"On the 2018_04 List\",\"-\")","v":"-"},{"$f":"IF(OR(IFERROR(MATCH($D1394,'Transparency List 2017'!$L:$L,0),FALSE),IFERROR(MATCH(TRIM($G1394),'Transparency List 2017'!$C:$C,0),FALSE)),\"On the 2017 List\",\"-\")","v":"-"},{"$f":"IF(OR(IFERROR(MATCH($D1394,'Transparency List 2015'!$H:$H,0),FALSE),IFERROR(MATCH(TRIM($G1394),'Transparency List 2015'!$C:$C,0),FALSE)),\"On the 2015 List\",\"-\")","v":"-"}]
[null,null,4,"",null,null,null,"-",{"$f":"IF(OR(IFERROR(MATCH($D1395,'Transparency List 2018_10'!$L:$L,0),FALSE),IFERROR(MATCH(TRIM($G1395),'Transparency List 2018_10'!$D:$D,0),FALSE)),\"On the 2018_10 List\",\"-\")","v":"-"},{"$f":"IF(OR(IFERROR(MATCH($D1395,'Transparency List 2018_04'!$L:$L,0),FALSE),IFERROR(MATCH(TRIM($G1395),'Transparency List 2018_04'!$D:$D,0),FALSE)),\"On the 2018_04 List\",\"-\")","v":"-"},{"$f":"IF(OR(IFERROR(MATCH($D1395,'Transparency List 2017'!$L:$L,0),FALSE),IFERROR(MATCH(TRIM($G1395),'Transparency List 2017'!$C:$C,0),FALSE)),\"On the 2017 List\",\"-\")","v":"-"},{"$f":"IF(OR(IFERROR(MATCH($D1395,'Transparency List 2015'!$H:$H,0),FALSE),IFERROR(MATCH(TRIM($G1395),'Transparency List 2015'!$C:$C,0),FALSE)),\"On the 2015 List\",\"-\")","v":"-"}]
[null,null,4,"",null,null,null,"-",{"$f":"IF(OR(IFERROR(MATCH($D1396,'Transparency List 2018_10'!$L:$L,0),FALSE),IFERROR(MATCH(TRIM($G1396),'Transparency List 2018_10'!$D:$D,0),FALSE)),\"On the 2018_10 List\",\"-\")","v":"-"},{"$f":"IF(OR(IFERROR(MATCH($D1396,'Transparency List 2018_04'!$L:$L,0),FALSE),IFERROR(MATCH(TRIM($G1396),'Transparency List 2018_04'!$D:$D,0),FALSE)),\"On the 2018_04 List\",\"-\")","v":"-"},{"$f":"IF(OR(IFERROR(MATCH($D1396,'Transparency List 2017'!$L:$L,0),FALSE),IFERROR(MATCH(TRIM($G1396),'Transparency List 2017'!$C:$C,0),FALSE)),\"On the 2017 List\",\"-\")","v":"-"},{"$f":"IF(OR(IFERROR(MATCH($D1396,'Transparency List 2015'!$H:$H,0),FALSE),IFERROR(MATCH(TRIM($G1396),'Transparency List 2015'!$C:$C,0),FALSE)),\"On the 2015 List\",\"-\")","v":"-"}]
[null,null,4,"",null,null,null,"-",{"$f":"IF(OR(IFERROR(MATCH($D1397,'Transparency List 2018_10'!$L:$L,0),FALSE),IFERROR(MATCH(TRIM($G1397),'Transparency List 2018_10'!$D:$D,0),FALSE)),\"On the 2018_10 List\",\"-\")","v":"-"},{"$f":"IF(OR(IFERROR(MATCH($D1397,'Transparency List 2018_04'!$L:$L,0),FALSE),IFERROR(MATCH(TRIM($G1397),'Transparency List 2018_04'!$D:$D,0),FALSE)),\"On the 2018_04 List\",\"-\")","v":"-"},{"$f":"IF(OR(IFERROR(MATCH($D1397,'Transparency List 2017'!$L:$L,0),FALSE),IFERROR(MATCH(TRIM($G1397),'Transparency List 2017'!$C:$C,0),FALSE)),\"On the 2017 List\",\"-\")","v":"-"},{"$f":"IF(OR(IFERROR(MATCH($D1397,'Transparency List 2015'!$H:$H,0),FALSE),IFERROR(MATCH(TRIM($G1397),'Transparency List 2015'!$C:$C,0),FALSE)),\"On the 2015 List\",\"-\")","v":"-"}]
[null,null,4,"",null,null,null,"-",{"$f":"IF(OR(IFERROR(MATCH($D1398,'Transparency List 2018_10'!$L:$L,0),FALSE),IFERROR(MATCH(TRIM($G1398),'Transparency List 2018_10'!$D:$D,0),FALSE)),\"On the 2018_10 List\",\"-\")","v":"-"},{"$f":"IF(OR(IFERROR(MATCH($D1398,'Transparency List 2018_04'!$L:$L,0),FALSE),IFERROR(MATCH(TRIM($G1398),'Transparency List 2018_04'!$D:$D,0),FALSE)),\"On the 2018_04 List\",\"-\")","v":"-"},{"$f":"IF(OR(IFERROR(MATCH($D1398,'Transparency List 2017'!$L:$L,0),FALSE),IFERROR(MATCH(TRIM($G1398),'Transparency List 2017'!$C:$C,0),FALSE)),\"On the 2017 List\",\"-\")","v":"-"},{"$f":"IF(OR(IFERROR(MATCH($D1398,'Transparency List 2015'!$H:$H,0),FALSE),IFERROR(MATCH(TRIM($G1398),'Transparency List 2015'!$C:$C,0),FALSE)),\"On the 2015 List\",\"-\")","v":"-"}]
[null,null,4,"",null,null,null,"-",{"$f":"IF(OR(IFERROR(MATCH($D1399,'Transparency List 2018_10'!$L:$L,0),FALSE),IFERROR(MATCH(TRIM($G1399),'Transparency List 2018_10'!$D:$D,0),FALSE)),\"On the 2018_10 List\",\"-\")","v":"-"},{"$f":"IF(OR(IFERROR(MATCH($D1399,'Transparency List 2018_04'!$L:$L,0),FALSE),IFERROR(MATCH(TRIM($G1399),'Transparency List 2018_04'!$D:$D,0),FALSE)),\"On the 2018_04 List\",\"-\")","v":"-"},{"$f":"IF(OR(IFERROR(MATCH($D1399,'Transparency List 2017'!$L:$L,0),FALSE),IFERROR(MATCH(TRIM($G1399),'Transparency List 2017'!$C:$C,0),FALSE)),\"On the 2017 List\",\"-\")","v":"-"},{"$f":"IF(OR(IFERROR(MATCH($D1399,'Transparency List 2015'!$H:$H,0),FALSE),IFERROR(MATCH(TRIM($G1399),'Transparency List 2015'!$C:$C,0),FALSE)),\"On the 2015 List\",\"-\")","v":"-"}]
[null,null,4,"",null,null,null,"-",{"$f":"IF(OR(IFERROR(MATCH($D1400,'Transparency List 2018_10'!$L:$L,0),FALSE),IFERROR(MATCH(TRIM($G1400),'Transparency List 2018_10'!$D:$D,0),FALSE)),\"On the 2018_10 List\",\"-\")","v":"-"},{"$f":"IF(OR(IFERROR(MATCH($D1400,'Transparency List 2018_04'!$L:$L,0),FALSE),IFERROR(MATCH(TRIM($G1400),'Transparency List 2018_04'!$D:$D,0),FALSE)),\"On the 2018_04 List\",\"-\")","v":"-"},{"$f":"IF(OR(IFERROR(MATCH($D1400,'Transparency List 2017'!$L:$L,0),FALSE),IFERROR(MATCH(TRIM($G1400),'Transparency List 2017'!$C:$C,0),FALSE)),\"On the 2017 List\",\"-\")","v":"-"},{"$f":"IF(OR(IFERROR(MATCH($D1400,'Transparency List 2015'!$H:$H,0),FALSE),IFERROR(MATCH(TRIM($G1400),'Transparency List 2015'!$C:$C,0),FALSE)),\"On the 2015 List\",\"-\")","v":"-"}]
[null,null,4,"",null,null,null,"-",{"$f":"IF(OR(IFERROR(MATCH($D1401,'Transparency List 2018_10'!$L:$L,0),FALSE),IFERROR(MATCH(TRIM($G1401),'Transparency List 2018_10'!$D:$D,0),FALSE)),\"On the 2018_10 List\",\"-\")","v":"-"},{"$f":"IF(OR(IFERROR(MATCH($D1401,'Transparency List 2018_04'!$L:$L,0),FALSE),IFERROR(MATCH(TRIM($G1401),'Transparency List 2018_04'!$D:$D,0),FALSE)),\"On the 2018_04 List\",\"-\")","v":"-"},{"$f":"IF(OR(IFERROR(MATCH($D1401,'Transparency List 2017'!$L:$L,0),FALSE),IFERROR(MATCH(TRIM($G1401),'Transparency List 2017'!$C:$C,0),FALSE)),\"On the 2017 List\",\"-\")","v":"-"},{"$f":"IF(OR(IFERROR(MATCH($D1401,'Transparency List 2015'!$H:$H,0),FALSE),IFERROR(MATCH(TRIM($G1401),'Transparency List 2015'!$C:$C,0),FALSE)),\"On the 2015 List\",\"-\")","v":"-"}]
[null,null,4,"",null,null,null,"-",{"$f":"IF(OR(IFERROR(MATCH($D1402,'Transparency List 2018_10'!$L:$L,0),FALSE),IFERROR(MATCH(TRIM($G1402),'Transparency List 2018_10'!$D:$D,0),FALSE)),\"On the 2018_10 List\",\"-\")","v":"-"},{"$f":"IF(OR(IFERROR(MATCH($D1402,'Transparency List 2018_04'!$L:$L,0),FALSE),IFERROR(MATCH(TRIM($G1402),'Transparency List 2018_04'!$D:$D,0),FALSE)),\"On the 2018_04 List\",\"-\")","v":"-"},{"$f":"IF(OR(IFERROR(MATCH($D1402,'Transparency List 2017'!$L:$L,0),FALSE),IFERROR(MATCH(TRIM($G1402),'Transparency List 2017'!$C:$C,0),FALSE)),\"On the 2017 List\",\"-\")","v":"-"},{"$f":"IF(OR(IFERROR(MATCH($D1402,'Transparency List 2015'!$H:$H,0),FALSE),IFERROR(MATCH(TRIM($G1402),'Transparency List 2015'!$C:$C,0),FALSE)),\"On the 2015 List\",\"-\")","v":"-"}]
[null,null,4,"",null,null,null,"-",{"$f":"IF(OR(IFERROR(MATCH($D1403,'Transparency List 2018_10'!$L:$L,0),FALSE),IFERROR(MATCH(TRIM($G1403),'Transparency List 2018_10'!$D:$D,0),FALSE)),\"On the 2018_10 List\",\"-\")","v":"-"},{"$f":"IF(OR(IFERROR(MATCH($D1403,'Transparency List 2018_04'!$L:$L,0),FALSE),IFERROR(MATCH(TRIM($G1403),'Transparency List 2018_04'!$D:$D,0),FALSE)),\"On the 2018_04 List\",\"-\")","v":"-"},{"$f":"IF(OR(IFERROR(MATCH($D1403,'Transparency List 2017'!$L:$L,0),FALSE),IFERROR(MATCH(TRIM($G1403),'Transparency List 2017'!$C:$C,0),FALSE)),\"On the 2017 List\",\"-\")","v":"-"},{"$f":"IF(OR(IFERROR(MATCH($D1403,'Transparency List 2015'!$H:$H,0),FALSE),IFERROR(MATCH(TRIM($G1403),'Transparency List 2015'!$C:$C,0),FALSE)),\"On the 2015 List\",\"-\")","v":"-"}]
[null,null,4,"",null,null,null,"-",{"$f":"IF(OR(IFERROR(MATCH($D1404,'Transparency List 2018_10'!$L:$L,0),FALSE),IFERROR(MATCH(TRIM($G1404),'Transparency List 2018_10'!$D:$D,0),FALSE)),\"On the 2018_10 List\",\"-\")","v":"-"},{"$f":"IF(OR(IFERROR(MATCH($D1404,'Transparency List 2018_04'!$L:$L,0),FALSE),IFERROR(MATCH(TRIM($G1404),'Transparency List 2018_04'!$D:$D,0),FALSE)),\"On the 2018_04 List\",\"-\")","v":"-"},{"$f":"IF(OR(IFERROR(MATCH($D1404,'Transparency List 2017'!$L:$L,0),FALSE),IFERROR(MATCH(TRIM($G1404),'Transparency List 2017'!$C:$C,0),FALSE)),\"On the 2017 List\",\"-\")","v":"-"},{"$f":"IF(OR(IFERROR(MATCH($D1404,'Transparency List 2015'!$H:$H,0),FALSE),IFERROR(MATCH(TRIM($G1404),'Transparency List 2015'!$C:$C,0),FALSE)),\"On the 2015 List\",\"-\")","v":"-"}]
[null,null,4,"",null,null,null,"-",{"$f":"IF(OR(IFERROR(MATCH($D1405,'Transparency List 2018_10'!$L:$L,0),FALSE),IFERROR(MATCH(TRIM($G1405),'Transparency List 2018_10'!$D:$D,0),FALSE)),\"On the 2018_10 List\",\"-\")","v":"-"},{"$f":"IF(OR(IFERROR(MATCH($D1405,'Transparency List 2018_04'!$L:$L,0),FALSE),IFERROR(MATCH(TRIM($G1405),'Transparency List 2018_04'!$D:$D,0),FALSE)),\"On the 2018_04 List\",\"-\")","v":"-"},{"$f":"IF(OR(IFERROR(MATCH($D1405,'Transparency List 2017'!$L:$L,0),FALSE),IFERROR(MATCH(TRIM($G1405),'Transparency List 2017'!$C:$C,0),FALSE)),\"On the 2017 List\",\"-\")","v":"-"},{"$f":"IF(OR(IFERROR(MATCH($D1405,'Transparency List 2015'!$H:$H,0),FALSE),IFERROR(MATCH(TRIM($G1405),'Transparency List 2015'!$C:$C,0),FALSE)),\"On the 2015 List\",\"-\")","v":"-"}]
[null,null,4,"",null,null,null,"-",{"$f":"IF(OR(IFERROR(MATCH($D1406,'Transparency List 2018_10'!$L:$L,0),FALSE),IFERROR(MATCH(TRIM($G1406),'Transparency List 2018_10'!$D:$D,0),FALSE)),\"On the 2018_10 List\",\"-\")","v":"-"},{"$f":"IF(OR(IFERROR(MATCH($D1406,'Transparency List 2018_04'!$L:$L,0),FALSE),IFERROR(MATCH(TRIM($G1406),'Transparency List 2018_04'!$D:$D,0),FALSE)),\"On the 2018_04 List\",\"-\")","v":"-"},{"$f":"IF(OR(IFERROR(MATCH($D1406,'Transparency List 2017'!$L:$L,0),FALSE),IFERROR(MATCH(TRIM($G1406),'Transparency List 2017'!$C:$C,0),FALSE)),\"On the 2017 List\",\"-\")","v":"-"},{"$f":"IF(OR(IFERROR(MATCH($D1406,'Transparency List 2015'!$H:$H,0),FALSE),IFERROR(MATCH(TRIM($G1406),'Transparency List 2015'!$C:$C,0),FALSE)),\"On the 2015 List\",\"-\")","v":"-"}]
[null,null,4,"",null,null,null,"-",{"$f":"IF(OR(IFERROR(MATCH($D1407,'Transparency List 2018_10'!$L:$L,0),FALSE),IFERROR(MATCH(TRIM($G1407),'Transparency List 2018_10'!$D:$D,0),FALSE)),\"On the 2018_10 List\",\"-\")","v":"-"},{"$f":"IF(OR(IFERROR(MATCH($D1407,'Transparency List 2018_04'!$L:$L,0),FALSE),IFERROR(MATCH(TRIM($G1407),'Transparency List 2018_04'!$D:$D,0),FALSE)),\"On the 2018_04 List\",\"-\")","v":"-"},{"$f":"IF(OR(IFERROR(MATCH($D1407,'Transparency List 2017'!$L:$L,0),FALSE),IFERROR(MATCH(TRIM($G1407),'Transparency List 2017'!$C:$C,0),FALSE)),\"On the 2017 List\",\"-\")","v":"-"},{"$f":"IF(OR(IFERROR(MATCH($D1407,'Transparency List 2015'!$H:$H,0),FALSE),IFERROR(MATCH(TRIM($G1407),'Transparency List 2015'!$C:$C,0),FALSE)),\"On the 2015 List\",\"-\")","v":"-"}]
[null,null,4,"",null,null,null,"-",{"$f":"IF(OR(IFERROR(MATCH($D1408,'Transparency List 2018_10'!$L:$L,0),FALSE),IFERROR(MATCH(TRIM($G1408),'Transparency List 2018_10'!$D:$D,0),FALSE)),\"On the 2018_10 List\",\"-\")","v":"-"},{"$f":"IF(OR(IFERROR(MATCH($D1408,'Transparency List 2018_04'!$L:$L,0),FALSE),IFERROR(MATCH(TRIM($G1408),'Transparency List 2018_04'!$D:$D,0),FALSE)),\"On the 2018_04 List\",\"-\")","v":"-"},{"$f":"IF(OR(IFERROR(MATCH($D1408,'Transparency List 2017'!$L:$L,0),FALSE),IFERROR(MATCH(TRIM($G1408),'Transparency List 2017'!$C:$C,0),FALSE)),\"On the 2017 List\",\"-\")","v":"-"},{"$f":"IF(OR(IFERROR(MATCH($D1408,'Transparency List 2015'!$H:$H,0),FALSE),IFERROR(MATCH(TRIM($G1408),'Transparency List 2015'!$C:$C,0),FALSE)),\"On the 2015 List\",\"-\")","v":"-"}]
[null,null,4,"",null,null,null,"-",{"$f":"IF(OR(IFERROR(MATCH($D1409,'Transparency List 2018_10'!$L:$L,0),FALSE),IFERROR(MATCH(TRIM($G1409),'Transparency List 2018_10'!$D:$D,0),FALSE)),\"On the 2018_10 List\",\"-\")","v":"-"},{"$f":"IF(OR(IFERROR(MATCH($D1409,'Transparency List 2018_04'!$L:$L,0),FALSE),IFERROR(MATCH(TRIM($G1409),'Transparency List 2018_04'!$D:$D,0),FALSE)),\"On the 2018_04 List\",\"-\")","v":"-"},{"$f":"IF(OR(IFERROR(MATCH($D1409,'Transparency List 2017'!$L:$L,0),FALSE),IFERROR(MATCH(TRIM($G1409),'Transparency List 2017'!$C:$C,0),FALSE)),\"On the 2017 List\",\"-\")","v":"-"},{"$f":"IF(OR(IFERROR(MATCH($D1409,'Transparency List 2015'!$H:$H,0),FALSE),IFERROR(MATCH(TRIM($G1409),'Transparency List 2015'!$C:$C,0),FALSE)),\"On the 2015 List\",\"-\")","v":"-"}]
[null,null,4,"",null,null,null,"-",{"$f":"IF(OR(IFERROR(MATCH($D1410,'Transparency List 2018_10'!$L:$L,0),FALSE),IFERROR(MATCH(TRIM($G1410),'Transparency List 2018_10'!$D:$D,0),FALSE)),\"On the 2018_10 List\",\"-\")","v":"-"},{"$f":"IF(OR(IFERROR(MATCH($D1410,'Transparency List 2018_04'!$L:$L,0),FALSE),IFERROR(MATCH(TRIM($G1410),'Transparency List 2018_04'!$D:$D,0),FALSE)),\"On the 2018_04 List\",\"-\")","v":"-"},{"$f":"IF(OR(IFERROR(MATCH($D1410,'Transparency List 2017'!$L:$L,0),FALSE),IFERROR(MATCH(TRIM($G1410),'Transparency List 2017'!$C:$C,0),FALSE)),\"On the 2017 List\",\"-\")","v":"-"},{"$f":"IF(OR(IFERROR(MATCH($D1410,'Transparency List 2015'!$H:$H,0),FALSE),IFERROR(MATCH(TRIM($G1410),'Transparency List 2015'!$C:$C,0),FALSE)),\"On the 2015 List\",\"-\")","v":"-"}]
[null,null,4,"",null,null,null,"-",{"$f":"IF(OR(IFERROR(MATCH($D1411,'Transparency List 2018_10'!$L:$L,0),FALSE),IFERROR(MATCH(TRIM($G1411),'Transparency List 2018_10'!$D:$D,0),FALSE)),\"On the 2018_10 List\",\"-\")","v":"-"},{"$f":"IF(OR(IFERROR(MATCH($D1411,'Transparency List 2018_04'!$L:$L,0),FALSE),IFERROR(MATCH(TRIM($G1411),'Transparency List 2018_04'!$D:$D,0),FALSE)),\"On the 2018_04 List\",\"-\")","v":"-"},{"$f":"IF(OR(IFERROR(MATCH($D1411,'Transparency List 2017'!$L:$L,0),FALSE),IFERROR(MATCH(TRIM($G1411),'Transparency List 2017'!$C:$C,0),FALSE)),\"On the 2017 List\",\"-\")","v":"-"},{"$f":"IF(OR(IFERROR(MATCH($D1411,'Transparency List 2015'!$H:$H,0),FALSE),IFERROR(MATCH(TRIM($G1411),'Transparency List 2015'!$C:$C,0),FALSE)),\"On the 2015 List\",\"-\")","v":"-"}]
[null,null,4,"",null,null,null,"-",{"$f":"IF(OR(IFERROR(MATCH($D1412,'Transparency List 2018_10'!$L:$L,0),FALSE),IFERROR(MATCH(TRIM($G1412),'Transparency List 2018_10'!$D:$D,0),FALSE)),\"On the 2018_10 List\",\"-\")","v":"-"},{"$f":"IF(OR(IFERROR(MATCH($D1412,'Transparency List 2018_04'!$L:$L,0),FALSE),IFERROR(MATCH(TRIM($G1412),'Transparency List 2018_04'!$D:$D,0),FALSE)),\"On the 2018_04 List\",\"-\")","v":"-"},{"$f":"IF(OR(IFERROR(MATCH($D1412,'Transparency List 2017'!$L:$L,0),FALSE),IFERROR(MATCH(TRIM($G1412),'Transparency List 2017'!$C:$C,0),FALSE)),\"On the 2017 List\",\"-\")","v":"-"},{"$f":"IF(OR(IFERROR(MATCH($D1412,'Transparency List 2015'!$H:$H,0),FALSE),IFERROR(MATCH(TRIM($G1412),'Transparency List 2015'!$C:$C,0),FALSE)),\"On the 2015 List\",\"-\")","v":"-"}]
[null,null,4,"",null,null,null,"-",{"$f":"IF(OR(IFERROR(MATCH($D1413,'Transparency List 2018_10'!$L:$L,0),FALSE),IFERROR(MATCH(TRIM($G1413),'Transparency List 2018_10'!$D:$D,0),FALSE)),\"On the 2018_10 List\",\"-\")","v":"-"},{"$f":"IF(OR(IFERROR(MATCH($D1413,'Transparency List 2018_04'!$L:$L,0),FALSE),IFERROR(MATCH(TRIM($G1413),'Transparency List 2018_04'!$D:$D,0),FALSE)),\"On the 2018_04 List\",\"-\")","v":"-"},{"$f":"IF(OR(IFERROR(MATCH($D1413,'Transparency List 2017'!$L:$L,0),FALSE),IFERROR(MATCH(TRIM($G1413),'Transparency List 2017'!$C:$C,0),FALSE)),\"On the 2017 List\",\"-\")","v":"-"},{"$f":"IF(OR(IFERROR(MATCH($D1413,'Transparency List 2015'!$H:$H,0),FALSE),IFERROR(MATCH(TRIM($G1413),'Transparency List 2015'!$C:$C,0),FALSE)),\"On the 2015 List\",\"-\")","v":"-"}]
[null,null,4,"",null,null,null,"-",{"$f":"IF(OR(IFERROR(MATCH($D1414,'Transparency List 2018_10'!$L:$L,0),FALSE),IFERROR(MATCH(TRIM($G1414),'Transparency List 2018_10'!$D:$D,0),FALSE)),\"On the 2018_10 List\",\"-\")","v":"-"},{"$f":"IF(OR(IFERROR(MATCH($D1414,'Transparency List 2018_04'!$L:$L,0),FALSE),IFERROR(MATCH(TRIM($G1414),'Transparency List 2018_04'!$D:$D,0),FALSE)),\"On the 2018_04 List\",\"-\")","v":"-"},{"$f":"IF(OR(IFERROR(MATCH($D1414,'Transparency List 2017'!$L:$L,0),FALSE),IFERROR(MATCH(TRIM($G1414),'Transparency List 2017'!$C:$C,0),FALSE)),\"On the 2017 List\",\"-\")","v":"-"},{"$f":"IF(OR(IFERROR(MATCH($D1414,'Transparency List 2015'!$H:$H,0),FALSE),IFERROR(MATCH(TRIM($G1414),'Transparency List 2015'!$C:$C,0),FALSE)),\"On the 2015 List\",\"-\")","v":"-"}]
[null,null,4,"",null,null,null,"-",{"$f":"IF(OR(IFERROR(MATCH($D1415,'Transparency List 2018_10'!$L:$L,0),FALSE),IFERROR(MATCH(TRIM($G1415),'Transparency List 2018_10'!$D:$D,0),FALSE)),\"On the 2018_10 List\",\"-\")","v":"-"},{"$f":"IF(OR(IFERROR(MATCH($D1415,'Transparency List 2018_04'!$L:$L,0),FALSE),IFERROR(MATCH(TRIM($G1415),'Transparency List 2018_04'!$D:$D,0),FALSE)),\"On the 2018_04 List\",\"-\")","v":"-"},{"$f":"IF(OR(IFERROR(MATCH($D1415,'Transparency List 2017'!$L:$L,0),FALSE),IFERROR(MATCH(TRIM($G1415),'Transparency List 2017'!$C:$C,0),FALSE)),\"On the 2017 List\",\"-\")","v":"-"},{"$f":"IF(OR(IFERROR(MATCH($D1415,'Transparency List 2015'!$H:$H,0),FALSE),IFERROR(MATCH(TRIM($G1415),'Transparency List 2015'!$C:$C,0),FALSE)),\"On the 2015 List\",\"-\")","v":"-"}]
[null,null,4,"",null,null,null,"-",{"$f":"IF(OR(IFERROR(MATCH($D1416,'Transparency List 2018_10'!$L:$L,0),FALSE),IFERROR(MATCH(TRIM($G1416),'Transparency List 2018_10'!$D:$D,0),FALSE)),\"On the 2018_10 List\",\"-\")","v":"-"},{"$f":"IF(OR(IFERROR(MATCH($D1416,'Transparency List 2018_04'!$L:$L,0),FALSE),IFERROR(MATCH(TRIM($G1416),'Transparency List 2018_04'!$D:$D,0),FALSE)),\"On the 2018_04 List\",\"-\")","v":"-"},{"$f":"IF(OR(IFERROR(MATCH($D1416,'Transparency List 2017'!$L:$L,0),FALSE),IFERROR(MATCH(TRIM($G1416),'Transparency List 2017'!$C:$C,0),FALSE)),\"On the 2017 List\",\"-\")","v":"-"},{"$f":"IF(OR(IFERROR(MATCH($D1416,'Transparency List 2015'!$H:$H,0),FALSE),IFERROR(MATCH(TRIM($G1416),'Transparency List 2015'!$C:$C,0),FALSE)),\"On the 2015 List\",\"-\")","v":"-"}]
[null,null,4,"",null,null,null,"-",{"$f":"IF(OR(IFERROR(MATCH($D1417,'Transparency List 2018_10'!$L:$L,0),FALSE),IFERROR(MATCH(TRIM($G1417),'Transparency List 2018_10'!$D:$D,0),FALSE)),\"On the 2018_10 List\",\"-\")","v":"-"},{"$f":"IF(OR(IFERROR(MATCH($D1417,'Transparency List 2018_04'!$L:$L,0),FALSE),IFERROR(MATCH(TRIM($G1417),'Transparency List 2018_04'!$D:$D,0),FALSE)),\"On the 2018_04 List\",\"-\")","v":"-"},{"$f":"IF(OR(IFERROR(MATCH($D1417,'Transparency List 2017'!$L:$L,0),FALSE),IFERROR(MATCH(TRIM($G1417),'Transparency List 2017'!$C:$C,0),FALSE)),\"On the 2017 List\",\"-\")","v":"-"},{"$f":"IF(OR(IFERROR(MATCH($D1417,'Transparency List 2015'!$H:$H,0),FALSE),IFERROR(MATCH(TRIM($G1417),'Transparency List 2015'!$C:$C,0),FALSE)),\"On the 2015 List\",\"-\")","v":"-"}]
[null,null,4,"",null,null,null,"-",{"$f":"IF(OR(IFERROR(MATCH($D1418,'Transparency List 2018_10'!$L:$L,0),FALSE),IFERROR(MATCH(TRIM($G1418),'Transparency List 2018_10'!$D:$D,0),FALSE)),\"On the 2018_10 List\",\"-\")","v":"-"},{"$f":"IF(OR(IFERROR(MATCH($D1418,'Transparency List 2018_04'!$L:$L,0),FALSE),IFERROR(MATCH(TRIM($G1418),'Transparency List 2018_04'!$D:$D,0),FALSE)),\"On the 2018_04 List\",\"-\")","v":"-"},{"$f":"IF(OR(IFERROR(MATCH($D1418,'Transparency List 2017'!$L:$L,0),FALSE),IFERROR(MATCH(TRIM($G1418),'Transparency List 2017'!$C:$C,0),FALSE)),\"On the 2017 List\",\"-\")","v":"-"},{"$f":"IF(OR(IFERROR(MATCH($D1418,'Transparency List 2015'!$H:$H,0),FALSE),IFERROR(MATCH(TRIM($G1418),'Transparency List 2015'!$C:$C,0),FALSE)),\"On the 2015 List\",\"-\")","v":"-"}]
[null,null,4,"",null,null,null,"-",{"$f":"IF(OR(IFERROR(MATCH($D1419,'Transparency List 2018_10'!$L:$L,0),FALSE),IFERROR(MATCH(TRIM($G1419),'Transparency List 2018_10'!$D:$D,0),FALSE)),\"On the 2018_10 List\",\"-\")","v":"-"},{"$f":"IF(OR(IFERROR(MATCH($D1419,'Transparency List 2018_04'!$L:$L,0),FALSE),IFERROR(MATCH(TRIM($G1419),'Transparency List 2018_04'!$D:$D,0),FALSE)),\"On the 2018_04 List\",\"-\")","v":"-"},{"$f":"IF(OR(IFERROR(MATCH($D1419,'Transparency List 2017'!$L:$L,0),FALSE),IFERROR(MATCH(TRIM($G1419),'Transparency List 2017'!$C:$C,0),FALSE)),\"On the 2017 List\",\"-\")","v":"-"},{"$f":"IF(OR(IFERROR(MATCH($D1419,'Transparency List 2015'!$H:$H,0),FALSE),IFERROR(MATCH(TRIM($G1419),'Transparency List 2015'!$C:$C,0),FALSE)),\"On the 2015 List\",\"-\")","v":"-"}]
[null,null,4,"",null,null,null,"-",{"$f":"IF(OR(IFERROR(MATCH($D1420,'Transparency List 2018_10'!$L:$L,0),FALSE),IFERROR(MATCH(TRIM($G1420),'Transparency List 2018_10'!$D:$D,0),FALSE)),\"On the 2018_10 List\",\"-\")","v":"-"},{"$f":"IF(OR(IFERROR(MATCH($D1420,'Transparency List 2018_04'!$L:$L,0),FALSE),IFERROR(MATCH(TRIM($G1420),'Transparency List 2018_04'!$D:$D,0),FALSE)),\"On the 2018_04 List\",\"-\")","v":"-"},{"$f":"IF(OR(IFERROR(MATCH($D1420,'Transparency List 2017'!$L:$L,0),FALSE),IFERROR(MATCH(TRIM($G1420),'Transparency List 2017'!$C:$C,0),FALSE)),\"On the 2017 List\",\"-\")","v":"-"},{"$f":"IF(OR(IFERROR(MATCH($D1420,'Transparency List 2015'!$H:$H,0),FALSE),IFERROR(MATCH(TRIM($G1420),'Transparency List 2015'!$C:$C,0),FALSE)),\"On the 2015 List\",\"-\")","v":"-"}]
[null,null,4,"",null,null,null,"-",{"$f":"IF(OR(IFERROR(MATCH($D1421,'Transparency List 2018_10'!$L:$L,0),FALSE),IFERROR(MATCH(TRIM($G1421),'Transparency List 2018_10'!$D:$D,0),FALSE)),\"On the 2018_10 List\",\"-\")","v":"-"},{"$f":"IF(OR(IFERROR(MATCH($D1421,'Transparency List 2018_04'!$L:$L,0),FALSE),IFERROR(MATCH(TRIM($G1421),'Transparency List 2018_04'!$D:$D,0),FALSE)),\"On the 2018_04 List\",\"-\")","v":"-"},{"$f":"IF(OR(IFERROR(MATCH($D1421,'Transparency List 2017'!$L:$L,0),FALSE),IFERROR(MATCH(TRIM($G1421),'Transparency List 2017'!$C:$C,0),FALSE)),\"On the 2017 List\",\"-\")","v":"-"},{"$f":"IF(OR(IFERROR(MATCH($D1421,'Transparency List 2015'!$H:$H,0),FALSE),IFERROR(MATCH(TRIM($G1421),'Transparency List 2015'!$C:$C,0),FALSE)),\"On the 2015 List\",\"-\")","v":"-"}]
[null,null,4,"",null,null,null,"-",{"$f":"IF(OR(IFERROR(MATCH($D1422,'Transparency List 2018_10'!$L:$L,0),FALSE),IFERROR(MATCH(TRIM($G1422),'Transparency List 2018_10'!$D:$D,0),FALSE)),\"On the 2018_10 List\",\"-\")","v":"-"},{"$f":"IF(OR(IFERROR(MATCH($D1422,'Transparency List 2018_04'!$L:$L,0),FALSE),IFERROR(MATCH(TRIM($G1422),'Transparency List 2018_04'!$D:$D,0),FALSE)),\"On the 2018_04 List\",\"-\")","v":"-"},{"$f":"IF(OR(IFERROR(MATCH($D1422,'Transparency List 2017'!$L:$L,0),FALSE),IFERROR(MATCH(TRIM($G1422),'Transparency List 2017'!$C:$C,0),FALSE)),\"On the 2017 List\",\"-\")","v":"-"},{"$f":"IF(OR(IFERROR(MATCH($D1422,'Transparency List 2015'!$H:$H,0),FALSE),IFERROR(MATCH(TRIM($G1422),'Transparency List 2015'!$C:$C,0),FALSE)),\"On the 2015 List\",\"-\")","v":"-"}]
[null,null,4,"",null,null,null,"-",{"$f":"IF(OR(IFERROR(MATCH($D1423,'Transparency List 2018_10'!$L:$L,0),FALSE),IFERROR(MATCH(TRIM($G1423),'Transparency List 2018_10'!$D:$D,0),FALSE)),\"On the 2018_10 List\",\"-\")","v":"-"},{"$f":"IF(OR(IFERROR(MATCH($D1423,'Transparency List 2018_04'!$L:$L,0),FALSE),IFERROR(MATCH(TRIM($G1423),'Transparency List 2018_04'!$D:$D,0),FALSE)),\"On the 2018_04 List\",\"-\")","v":"-"},{"$f":"IF(OR(IFERROR(MATCH($D1423,'Transparency List 2017'!$L:$L,0),FALSE),IFERROR(MATCH(TRIM($G1423),'Transparency List 2017'!$C:$C,0),FALSE)),\"On the 2017 List\",\"-\")","v":"-"},{"$f":"IF(OR(IFERROR(MATCH($D1423,'Transparency List 2015'!$H:$H,0),FALSE),IFERROR(MATCH(TRIM($G1423),'Transparency List 2015'!$C:$C,0),FALSE)),\"On the 2015 List\",\"-\")","v":"-"}]
[null,null,4,"",null,null,null,"-",{"$f":"IF(OR(IFERROR(MATCH($D1424,'Transparency List 2018_10'!$L:$L,0),FALSE),IFERROR(MATCH(TRIM($G1424),'Transparency List 2018_10'!$D:$D,0),FALSE)),\"On the 2018_10 List\",\"-\")","v":"-"},{"$f":"IF(OR(IFERROR(MATCH($D1424,'Transparency List 2018_04'!$L:$L,0),FALSE),IFERROR(MATCH(TRIM($G1424),'Transparency List 2018_04'!$D:$D,0),FALSE)),\"On the 2018_04 List\",\"-\")","v":"-"},{"$f":"IF(OR(IFERROR(MATCH($D1424,'Transparency List 2017'!$L:$L,0),FALSE),IFERROR(MATCH(TRIM($G1424),'Transparency List 2017'!$C:$C,0),FALSE)),\"On the 2017 List\",\"-\")","v":"-"},{"$f":"IF(OR(IFERROR(MATCH($D1424,'Transparency List 2015'!$H:$H,0),FALSE),IFERROR(MATCH(TRIM($G1424),'Transparency List 2015'!$C:$C,0),FALSE)),\"On the 2015 List\",\"-\")","v":"-"}]
[null,null,4,"",null,null,null,"-",{"$f":"IF(OR(IFERROR(MATCH($D1425,'Transparency List 2018_10'!$L:$L,0),FALSE),IFERROR(MATCH(TRIM($G1425),'Transparency List 2018_10'!$D:$D,0),FALSE)),\"On the 2018_10 List\",\"-\")","v":"-"},{"$f":"IF(OR(IFERROR(MATCH($D1425,'Transparency List 2018_04'!$L:$L,0),FALSE),IFERROR(MATCH(TRIM($G1425),'Transparency List 2018_04'!$D:$D,0),FALSE)),\"On the 2018_04 List\",\"-\")","v":"-"},{"$f":"IF(OR(IFERROR(MATCH($D1425,'Transparency List 2017'!$L:$L,0),FALSE),IFERROR(MATCH(TRIM($G1425),'Transparency List 2017'!$C:$C,0),FALSE)),\"On the 2017 List\",\"-\")","v":"-"},{"$f":"IF(OR(IFERROR(MATCH($D1425,'Transparency List 2015'!$H:$H,0),FALSE),IFERROR(MATCH(TRIM($G1425),'Transparency List 2015'!$C:$C,0),FALSE)),\"On the 2015 List\",\"-\")","v":"-"}]
[null,null,4,"",null,null,null,"-",{"$f":"IF(OR(IFERROR(MATCH($D1426,'Transparency List 2018_10'!$L:$L,0),FALSE),IFERROR(MATCH(TRIM($G1426),'Transparency List 2018_10'!$D:$D,0),FALSE)),\"On the 2018_10 List\",\"-\")","v":"-"},{"$f":"IF(OR(IFERROR(MATCH($D1426,'Transparency List 2018_04'!$L:$L,0),FALSE),IFERROR(MATCH(TRIM($G1426),'Transparency List 2018_04'!$D:$D,0),FALSE)),\"On the 2018_04 List\",\"-\")","v":"-"},{"$f":"IF(OR(IFERROR(MATCH($D1426,'Transparency List 2017'!$L:$L,0),FALSE),IFERROR(MATCH(TRIM($G1426),'Transparency List 2017'!$C:$C,0),FALSE)),\"On the 2017 List\",\"-\")","v":"-"},{"$f":"IF(OR(IFERROR(MATCH($D1426,'Transparency List 2015'!$H:$H,0),FALSE),IFERROR(MATCH(TRIM($G1426),'Transparency List 2015'!$C:$C,0),FALSE)),\"On the 2015 List\",\"-\")","v":"-"}]
[null,null,4,"",null,null,null,"-",{"$f":"IF(OR(IFERROR(MATCH($D1427,'Transparency List 2018_10'!$L:$L,0),FALSE),IFERROR(MATCH(TRIM($G1427),'Transparency List 2018_10'!$D:$D,0),FALSE)),\"On the 2018_10 List\",\"-\")","v":"-"},{"$f":"IF(OR(IFERROR(MATCH($D1427,'Transparency List 2018_04'!$L:$L,0),FALSE),IFERROR(MATCH(TRIM($G1427),'Transparency List 2018_04'!$D:$D,0),FALSE)),\"On the 2018_04 List\",\"-\")","v":"-"},{"$f":"IF(OR(IFERROR(MATCH($D1427,'Transparency List 2017'!$L:$L,0),FALSE),IFERROR(MATCH(TRIM($G1427),'Transparency List 2017'!$C:$C,0),FALSE)),\"On the 2017 List\",\"-\")","v":"-"},{"$f":"IF(OR(IFERROR(MATCH($D1427,'Transparency List 2015'!$H:$H,0),FALSE),IFERROR(MATCH(TRIM($G1427),'Transparency List 2015'!$C:$C,0),FALSE)),\"On the 2015 List\",\"-\")","v":"-"}]
[null,null,4,"",null,null,null,"-",{"$f":"IF(OR(IFERROR(MATCH($D1428,'Transparency List 2018_10'!$L:$L,0),FALSE),IFERROR(MATCH(TRIM($G1428),'Transparency List 2018_10'!$D:$D,0),FALSE)),\"On the 2018_10 List\",\"-\")","v":"-"},{"$f":"IF(OR(IFERROR(MATCH($D1428,'Transparency List 2018_04'!$L:$L,0),FALSE),IFERROR(MATCH(TRIM($G1428),'Transparency List 2018_04'!$D:$D,0),FALSE)),\"On the 2018_04 List\",\"-\")","v":"-"},{"$f":"IF(OR(IFERROR(MATCH($D1428,'Transparency List 2017'!$L:$L,0),FALSE),IFERROR(MATCH(TRIM($G1428),'Transparency List 2017'!$C:$C,0),FALSE)),\"On the 2017 List\",\"-\")","v":"-"},{"$f":"IF(OR(IFERROR(MATCH($D1428,'Transparency List 2015'!$H:$H,0),FALSE),IFERROR(MATCH(TRIM($G1428),'Transparency List 2015'!$C:$C,0),FALSE)),\"On the 2015 List\",\"-\")","v":"-"}]
[null,null,4,"",null,null,null,"-",{"$f":"IF(OR(IFERROR(MATCH($D1429,'Transparency List 2018_10'!$L:$L,0),FALSE),IFERROR(MATCH(TRIM($G1429),'Transparency List 2018_10'!$D:$D,0),FALSE)),\"On the 2018_10 List\",\"-\")","v":"-"},{"$f":"IF(OR(IFERROR(MATCH($D1429,'Transparency List 2018_04'!$L:$L,0),FALSE),IFERROR(MATCH(TRIM($G1429),'Transparency List 2018_04'!$D:$D,0),FALSE)),\"On the 2018_04 List\",\"-\")","v":"-"},{"$f":"IF(OR(IFERROR(MATCH($D1429,'Transparency List 2017'!$L:$L,0),FALSE),IFERROR(MATCH(TRIM($G1429),'Transparency List 2017'!$C:$C,0),FALSE)),\"On the 2017 List\",\"-\")","v":"-"},{"$f":"IF(OR(IFERROR(MATCH($D1429,'Transparency List 2015'!$H:$H,0),FALSE),IFERROR(MATCH(TRIM($G1429),'Transparency List 2015'!$C:$C,0),FALSE)),\"On the 2015 List\",\"-\")","v":"-"}]
[null,null,4,"",null,null,null,"-",{"$f":"IF(OR(IFERROR(MATCH($D1430,'Transparency List 2018_10'!$L:$L,0),FALSE),IFERROR(MATCH(TRIM($G1430),'Transparency List 2018_10'!$D:$D,0),FALSE)),\"On the 2018_10 List\",\"-\")","v":"-"},{"$f":"IF(OR(IFERROR(MATCH($D1430,'Transparency List 2018_04'!$L:$L,0),FALSE),IFERROR(MATCH(TRIM($G1430),'Transparency List 2018_04'!$D:$D,0),FALSE)),\"On the 2018_04 List\",\"-\")","v":"-"},{"$f":"IF(OR(IFERROR(MATCH($D1430,'Transparency List 2017'!$L:$L,0),FALSE),IFERROR(MATCH(TRIM($G1430),'Transparency List 2017'!$C:$C,0),FALSE)),\"On the 2017 List\",\"-\")","v":"-"},{"$f":"IF(OR(IFERROR(MATCH($D1430,'Transparency List 2015'!$H:$H,0),FALSE),IFERROR(MATCH(TRIM($G1430),'Transparency List 2015'!$C:$C,0),FALSE)),\"On the 2015 List\",\"-\")","v":"-"}]
[null,null,4,"",null,null,null,"-",{"$f":"IF(OR(IFERROR(MATCH($D1431,'Transparency List 2018_10'!$L:$L,0),FALSE),IFERROR(MATCH(TRIM($G1431),'Transparency List 2018_10'!$D:$D,0),FALSE)),\"On the 2018_10 List\",\"-\")","v":"-"},{"$f":"IF(OR(IFERROR(MATCH($D1431,'Transparency List 2018_04'!$L:$L,0),FALSE),IFERROR(MATCH(TRIM($G1431),'Transparency List 2018_04'!$D:$D,0),FALSE)),\"On the 2018_04 List\",\"-\")","v":"-"},{"$f":"IF(OR(IFERROR(MATCH($D1431,'Transparency List 2017'!$L:$L,0),FALSE),IFERROR(MATCH(TRIM($G1431),'Transparency List 2017'!$C:$C,0),FALSE)),\"On the 2017 List\",\"-\")","v":"-"},{"$f":"IF(OR(IFERROR(MATCH($D1431,'Transparency List 2015'!$H:$H,0),FALSE),IFERROR(MATCH(TRIM($G1431),'Transparency List 2015'!$C:$C,0),FALSE)),\"On the 2015 List\",\"-\")","v":"-"}]
[null,null,4,"",null,null,null,"-",{"$f":"IF(OR(IFERROR(MATCH($D1432,'Transparency List 2018_10'!$L:$L,0),FALSE),IFERROR(MATCH(TRIM($G1432),'Transparency List 2018_10'!$D:$D,0),FALSE)),\"On the 2018_10 List\",\"-\")","v":"-"},{"$f":"IF(OR(IFERROR(MATCH($D1432,'Transparency List 2018_04'!$L:$L,0),FALSE),IFERROR(MATCH(TRIM($G1432),'Transparency List 2018_04'!$D:$D,0),FALSE)),\"On the 2018_04 List\",\"-\")","v":"-"},{"$f":"IF(OR(IFERROR(MATCH($D1432,'Transparency List 2017'!$L:$L,0),FALSE),IFERROR(MATCH(TRIM($G1432),'Transparency List 2017'!$C:$C,0),FALSE)),\"On the 2017 List\",\"-\")","v":"-"},{"$f":"IF(OR(IFERROR(MATCH($D1432,'Transparency List 2015'!$H:$H,0),FALSE),IFERROR(MATCH(TRIM($G1432),'Transparency List 2015'!$C:$C,0),FALSE)),\"On the 2015 List\",\"-\")","v":"-"}]
[null,null,4,"",null,null,null,"-",{"$f":"IF(OR(IFERROR(MATCH($D1433,'Transparency List 2018_10'!$L:$L,0),FALSE),IFERROR(MATCH(TRIM($G1433),'Transparency List 2018_10'!$D:$D,0),FALSE)),\"On the 2018_10 List\",\"-\")","v":"-"},{"$f":"IF(OR(IFERROR(MATCH($D1433,'Transparency List 2018_04'!$L:$L,0),FALSE),IFERROR(MATCH(TRIM($G1433),'Transparency List 2018_04'!$D:$D,0),FALSE)),\"On the 2018_04 List\",\"-\")","v":"-"},{"$f":"IF(OR(IFERROR(MATCH($D1433,'Transparency List 2017'!$L:$L,0),FALSE),IFERROR(MATCH(TRIM($G1433),'Transparency List 2017'!$C:$C,0),FALSE)),\"On the 2017 List\",\"-\")","v":"-"},{"$f":"IF(OR(IFERROR(MATCH($D1433,'Transparency List 2015'!$H:$H,0),FALSE),IFERROR(MATCH(TRIM($G1433),'Transparency List 2015'!$C:$C,0),FALSE)),\"On the 2015 List\",\"-\")","v":"-"}]
[null,null,4,"",null,null,null,"-",{"$f":"IF(OR(IFERROR(MATCH($D1434,'Transparency List 2018_10'!$L:$L,0),FALSE),IFERROR(MATCH(TRIM($G1434),'Transparency List 2018_10'!$D:$D,0),FALSE)),\"On the 2018_10 List\",\"-\")","v":"-"},{"$f":"IF(OR(IFERROR(MATCH($D1434,'Transparency List 2018_04'!$L:$L,0),FALSE),IFERROR(MATCH(TRIM($G1434),'Transparency List 2018_04'!$D:$D,0),FALSE)),\"On the 2018_04 List\",\"-\")","v":"-"},{"$f":"IF(OR(IFERROR(MATCH($D1434,'Transparency List 2017'!$L:$L,0),FALSE),IFERROR(MATCH(TRIM($G1434),'Transparency List 2017'!$C:$C,0),FALSE)),\"On the 2017 List\",\"-\")","v":"-"},{"$f":"IF(OR(IFERROR(MATCH($D1434,'Transparency List 2015'!$H:$H,0),FALSE),IFERROR(MATCH(TRIM($G1434),'Transparency List 2015'!$C:$C,0),FALSE)),\"On the 2015 List\",\"-\")","v":"-"}]
[null,null,4,"",null,null,null,"-",{"$f":"IF(OR(IFERROR(MATCH($D1435,'Transparency List 2018_10'!$L:$L,0),FALSE),IFERROR(MATCH(TRIM($G1435),'Transparency List 2018_10'!$D:$D,0),FALSE)),\"On the 2018_10 List\",\"-\")","v":"-"},{"$f":"IF(OR(IFERROR(MATCH($D1435,'Transparency List 2018_04'!$L:$L,0),FALSE),IFERROR(MATCH(TRIM($G1435),'Transparency List 2018_04'!$D:$D,0),FALSE)),\"On the 2018_04 List\",\"-\")","v":"-"},{"$f":"IF(OR(IFERROR(MATCH($D1435,'Transparency List 2017'!$L:$L,0),FALSE),IFERROR(MATCH(TRIM($G1435),'Transparency List 2017'!$C:$C,0),FALSE)),\"On the 2017 List\",\"-\")","v":"-"},{"$f":"IF(OR(IFERROR(MATCH($D1435,'Transparency List 2015'!$H:$H,0),FALSE),IFERROR(MATCH(TRIM($G1435),'Transparency List 2015'!$C:$C,0),FALSE)),\"On the 2015 List\",\"-\")","v":"-"}]
[null,null,4,"",null,null,null,"-",{"$f":"IF(OR(IFERROR(MATCH($D1436,'Transparency List 2018_10'!$L:$L,0),FALSE),IFERROR(MATCH(TRIM($G1436),'Transparency List 2018_10'!$D:$D,0),FALSE)),\"On the 2018_10 List\",\"-\")","v":"-"},{"$f":"IF(OR(IFERROR(MATCH($D1436,'Transparency List 2018_04'!$L:$L,0),FALSE),IFERROR(MATCH(TRIM($G1436),'Transparency List 2018_04'!$D:$D,0),FALSE)),\"On the 2018_04 List\",\"-\")","v":"-"},{"$f":"IF(OR(IFERROR(MATCH($D1436,'Transparency List 2017'!$L:$L,0),FALSE),IFERROR(MATCH(TRIM($G1436),'Transparency List 2017'!$C:$C,0),FALSE)),\"On the 2017 List\",\"-\")","v":"-"},{"$f":"IF(OR(IFERROR(MATCH($D1436,'Transparency List 2015'!$H:$H,0),FALSE),IFERROR(MATCH(TRIM($G1436),'Transparency List 2015'!$C:$C,0),FALSE)),\"On the 2015 List\",\"-\")","v":"-"}]
[null,null,4,"",null,null,null,"-",{"$f":"IF(OR(IFERROR(MATCH($D1437,'Transparency List 2018_10'!$L:$L,0),FALSE),IFERROR(MATCH(TRIM($G1437),'Transparency List 2018_10'!$D:$D,0),FALSE)),\"On the 2018_10 List\",\"-\")","v":"-"},{"$f":"IF(OR(IFERROR(MATCH($D1437,'Transparency List 2018_04'!$L:$L,0),FALSE),IFERROR(MATCH(TRIM($G1437),'Transparency List 2018_04'!$D:$D,0),FALSE)),\"On the 2018_04 List\",\"-\")","v":"-"},{"$f":"IF(OR(IFERROR(MATCH($D1437,'Transparency List 2017'!$L:$L,0),FALSE),IFERROR(MATCH(TRIM($G1437),'Transparency List 2017'!$C:$C,0),FALSE)),\"On the 2017 List\",\"-\")","v":"-"},{"$f":"IF(OR(IFERROR(MATCH($D1437,'Transparency List 2015'!$H:$H,0),FALSE),IFERROR(MATCH(TRIM($G1437),'Transparency List 2015'!$C:$C,0),FALSE)),\"On the 2015 List\",\"-\")","v":"-"}]
[null,null,4,"",null,null,null,"-",{"$f":"IF(OR(IFERROR(MATCH($D1438,'Transparency List 2018_10'!$L:$L,0),FALSE),IFERROR(MATCH(TRIM($G1438),'Transparency List 2018_10'!$D:$D,0),FALSE)),\"On the 2018_10 List\",\"-\")","v":"-"},{"$f":"IF(OR(IFERROR(MATCH($D1438,'Transparency List 2018_04'!$L:$L,0),FALSE),IFERROR(MATCH(TRIM($G1438),'Transparency List 2018_04'!$D:$D,0),FALSE)),\"On the 2018_04 List\",\"-\")","v":"-"},{"$f":"IF(OR(IFERROR(MATCH($D1438,'Transparency List 2017'!$L:$L,0),FALSE),IFERROR(MATCH(TRIM($G1438),'Transparency List 2017'!$C:$C,0),FALSE)),\"On the 2017 List\",\"-\")","v":"-"},{"$f":"IF(OR(IFERROR(MATCH($D1438,'Transparency List 2015'!$H:$H,0),FALSE),IFERROR(MATCH(TRIM($G1438),'Transparency List 2015'!$C:$C,0),FALSE)),\"On the 2015 List\",\"-\")","v":"-"}]
[null,null,{"$f":"COUNTIF($I1439:$L1439,\"-\")","v":4},{"$f":"SUBSTITUTE(SUBSTITUTE(SUBSTITUTE(SUBSTITUTE($G1439,\" \",\"\"),\".\",\"\"),\"-\",\"\"),\"/\",\"\")","v":""},null,null,null,{"$f":"IFERROR(IF($C1439=4,\"-\",\"Risk Farmer - Please conduct further steps\"),)","v":"-"},{"$f":"IF(OR(IFERROR(MATCH($D1439,'Transparency List 2018_10'!$L:$L,0),FALSE),IFERROR(MATCH(TRIM($G1439),'Transparency List 2018_10'!$D:$D,0),FALSE)),\"On the 2018_10 List\",\"-\")","v":"-"},{"$f":"IF(OR(IFERROR(MATCH($D1439,'Transparency List 2018_04'!$L:$L,0),FALSE),IFERROR(MATCH(TRIM($G1439),'Transparency List 2018_04'!$D:$D,0),FALSE)),\"On the 2018_04 List\",\"-\")","v":"-"},{"$f":"IF(OR(IFERROR(MATCH($D1439,'Transparency List 2017'!$L:$L,0),FALSE),IFERROR(MATCH(TRIM($G1439),'Transparency List 2017'!$C:$C,0),FALSE)),\"On the 2017 List\",\"-\")","v":"-"},{"$f":"IF(OR(IFERROR(MATCH($D1439,'Transparency List 2015'!$H:$H,0),FALSE),IFERROR(MATCH(TRIM($G1439),'Transparency List 2015'!$C:$C,0),FALSE)),\"On the 2015 List\",\"-\")","v":"-"}]
[null,null,4,"",null,null,null,"-",{"$f":"IF(OR(IFERROR(MATCH($D1440,'Transparency List 2018_10'!$L:$L,0),FALSE),IFERROR(MATCH(TRIM($G1440),'Transparency List 2018_10'!$D:$D,0),FALSE)),\"On the 2018_10 List\",\"-\")","v":"-"},{"$f":"IF(OR(IFERROR(MATCH($D1440,'Transparency List 2018_04'!$L:$L,0),FALSE),IFERROR(MATCH(TRIM($G1440),'Transparency List 2018_04'!$D:$D,0),FALSE)),\"On the 2018_04 List\",\"-\")","v":"-"},{"$f":"IF(OR(IFERROR(MATCH($D1440,'Transparency List 2017'!$L:$L,0),FALSE),IFERROR(MATCH(TRIM($G1440),'Transparency List 2017'!$C:$C,0),FALSE)),\"On the 2017 List\",\"-\")","v":"-"},{"$f":"IF(OR(IFERROR(MATCH($D1440,'Transparency List 2015'!$H:$H,0),FALSE),IFERROR(MATCH(TRIM($G1440),'Transparency List 2015'!$C:$C,0),FALSE)),\"On the 2015 List\",\"-\")","v":"-"}]
[null,null,4,"",null,null,null,"-",{"$f":"IF(OR(IFERROR(MATCH($D1441,'Transparency List 2018_10'!$L:$L,0),FALSE),IFERROR(MATCH(TRIM($G1441),'Transparency List 2018_10'!$D:$D,0),FALSE)),\"On the 2018_10 List\",\"-\")","v":"-"},{"$f":"IF(OR(IFERROR(MATCH($D1441,'Transparency List 2018_04'!$L:$L,0),FALSE),IFERROR(MATCH(TRIM($G1441),'Transparency List 2018_04'!$D:$D,0),FALSE)),\"On the 2018_04 List\",\"-\")","v":"-"},{"$f":"IF(OR(IFERROR(MATCH($D1441,'Transparency List 2017'!$L:$L,0),FALSE),IFERROR(MATCH(TRIM($G1441),'Transparency List 2017'!$C:$C,0),FALSE)),\"On the 2017 List\",\"-\")","v":"-"},{"$f":"IF(OR(IFERROR(MATCH($D1441,'Transparency List 2015'!$H:$H,0),FALSE),IFERROR(MATCH(TRIM($G1441),'Transparency List 2015'!$C:$C,0),FALSE)),\"On the 2015 List\",\"-\")","v":"-"}]
[null,null,4,"",null,null,null,"-",{"$f":"IF(OR(IFERROR(MATCH($D1442,'Transparency List 2018_10'!$L:$L,0),FALSE),IFERROR(MATCH(TRIM($G1442),'Transparency List 2018_10'!$D:$D,0),FALSE)),\"On the 2018_10 List\",\"-\")","v":"-"},{"$f":"IF(OR(IFERROR(MATCH($D1442,'Transparency List 2018_04'!$L:$L,0),FALSE),IFERROR(MATCH(TRIM($G1442),'Transparency List 2018_04'!$D:$D,0),FALSE)),\"On the 2018_04 List\",\"-\")","v":"-"},{"$f":"IF(OR(IFERROR(MATCH($D1442,'Transparency List 2017'!$L:$L,0),FALSE),IFERROR(MATCH(TRIM($G1442),'Transparency List 2017'!$C:$C,0),FALSE)),\"On the 2017 List\",\"-\")","v":"-"},{"$f":"IF(OR(IFERROR(MATCH($D1442,'Transparency List 2015'!$H:$H,0),FALSE),IFERROR(MATCH(TRIM($G1442),'Transparency List 2015'!$C:$C,0),FALSE)),\"On the 2015 List\",\"-\")","v":"-"}]
[null,null,4,"",null,null,null,"-",{"$f":"IF(OR(IFERROR(MATCH($D1443,'Transparency List 2018_10'!$L:$L,0),FALSE),IFERROR(MATCH(TRIM($G1443),'Transparency List 2018_10'!$D:$D,0),FALSE)),\"On the 2018_10 List\",\"-\")","v":"-"},{"$f":"IF(OR(IFERROR(MATCH($D1443,'Transparency List 2018_04'!$L:$L,0),FALSE),IFERROR(MATCH(TRIM($G1443),'Transparency List 2018_04'!$D:$D,0),FALSE)),\"On the 2018_04 List\",\"-\")","v":"-"},{"$f":"IF(OR(IFERROR(MATCH($D1443,'Transparency List 2017'!$L:$L,0),FALSE),IFERROR(MATCH(TRIM($G1443),'Transparency List 2017'!$C:$C,0),FALSE)),\"On the 2017 List\",\"-\")","v":"-"},{"$f":"IF(OR(IFERROR(MATCH($D1443,'Transparency List 2015'!$H:$H,0),FALSE),IFERROR(MATCH(TRIM($G1443),'Transparency List 2015'!$C:$C,0),FALSE)),\"On the 2015 List\",\"-\")","v":"-"}]
[null,null,4,"",null,null,null,"-",{"$f":"IF(OR(IFERROR(MATCH($D1444,'Transparency List 2018_10'!$L:$L,0),FALSE),IFERROR(MATCH(TRIM($G1444),'Transparency List 2018_10'!$D:$D,0),FALSE)),\"On the 2018_10 List\",\"-\")","v":"-"},{"$f":"IF(OR(IFERROR(MATCH($D1444,'Transparency List 2018_04'!$L:$L,0),FALSE),IFERROR(MATCH(TRIM($G1444),'Transparency List 2018_04'!$D:$D,0),FALSE)),\"On the 2018_04 List\",\"-\")","v":"-"},{"$f":"IF(OR(IFERROR(MATCH($D1444,'Transparency List 2017'!$L:$L,0),FALSE),IFERROR(MATCH(TRIM($G1444),'Transparency List 2017'!$C:$C,0),FALSE)),\"On the 2017 List\",\"-\")","v":"-"},{"$f":"IF(OR(IFERROR(MATCH($D1444,'Transparency List 2015'!$H:$H,0),FALSE),IFERROR(MATCH(TRIM($G1444),'Transparency List 2015'!$C:$C,0),FALSE)),\"On the 2015 List\",\"-\")","v":"-"}]
[null,null,4,"",null,null,null,"-",{"$f":"IF(OR(IFERROR(MATCH($D1445,'Transparency List 2018_10'!$L:$L,0),FALSE),IFERROR(MATCH(TRIM($G1445),'Transparency List 2018_10'!$D:$D,0),FALSE)),\"On the 2018_10 List\",\"-\")","v":"-"},{"$f":"IF(OR(IFERROR(MATCH($D1445,'Transparency List 2018_04'!$L:$L,0),FALSE),IFERROR(MATCH(TRIM($G1445),'Transparency List 2018_04'!$D:$D,0),FALSE)),\"On the 2018_04 List\",\"-\")","v":"-"},{"$f":"IF(OR(IFERROR(MATCH($D1445,'Transparency List 2017'!$L:$L,0),FALSE),IFERROR(MATCH(TRIM($G1445),'Transparency List 2017'!$C:$C,0),FALSE)),\"On the 2017 List\",\"-\")","v":"-"},{"$f":"IF(OR(IFERROR(MATCH($D1445,'Transparency List 2015'!$H:$H,0),FALSE),IFERROR(MATCH(TRIM($G1445),'Transparency List 2015'!$C:$C,0),FALSE)),\"On the 2015 List\",\"-\")","v":"-"}]
[null,null,4,"",null,null,null,"-",{"$f":"IF(OR(IFERROR(MATCH($D1446,'Transparency List 2018_10'!$L:$L,0),FALSE),IFERROR(MATCH(TRIM($G1446),'Transparency List 2018_10'!$D:$D,0),FALSE)),\"On the 2018_10 List\",\"-\")","v":"-"},{"$f":"IF(OR(IFERROR(MATCH($D1446,'Transparency List 2018_04'!$L:$L,0),FALSE),IFERROR(MATCH(TRIM($G1446),'Transparency List 2018_04'!$D:$D,0),FALSE)),\"On the 2018_04 List\",\"-\")","v":"-"},{"$f":"IF(OR(IFERROR(MATCH($D1446,'Transparency List 2017'!$L:$L,0),FALSE),IFERROR(MATCH(TRIM($G1446),'Transparency List 2017'!$C:$C,0),FALSE)),\"On the 2017 List\",\"-\")","v":"-"},{"$f":"IF(OR(IFERROR(MATCH($D1446,'Transparency List 2015'!$H:$H,0),FALSE),IFERROR(MATCH(TRIM($G1446),'Transparency List 2015'!$C:$C,0),FALSE)),\"On the 2015 List\",\"-\")","v":"-"}]
[null,null,4,"",null,null,null,"-",{"$f":"IF(OR(IFERROR(MATCH($D1447,'Transparency List 2018_10'!$L:$L,0),FALSE),IFERROR(MATCH(TRIM($G1447),'Transparency List 2018_10'!$D:$D,0),FALSE)),\"On the 2018_10 List\",\"-\")","v":"-"},{"$f":"IF(OR(IFERROR(MATCH($D1447,'Transparency List 2018_04'!$L:$L,0),FALSE),IFERROR(MATCH(TRIM($G1447),'Transparency List 2018_04'!$D:$D,0),FALSE)),\"On the 2018_04 List\",\"-\")","v":"-"},{"$f":"IF(OR(IFERROR(MATCH($D1447,'Transparency List 2017'!$L:$L,0),FALSE),IFERROR(MATCH(TRIM($G1447),'Transparency List 2017'!$C:$C,0),FALSE)),\"On the 2017 List\",\"-\")","v":"-"},{"$f":"IF(OR(IFERROR(MATCH($D1447,'Transparency List 2015'!$H:$H,0),FALSE),IFERROR(MATCH(TRIM($G1447),'Transparency List 2015'!$C:$C,0),FALSE)),\"On the 2015 List\",\"-\")","v":"-"}]
[null,null,4,"",null,null,null,"-",{"$f":"IF(OR(IFERROR(MATCH($D1448,'Transparency List 2018_10'!$L:$L,0),FALSE),IFERROR(MATCH(TRIM($G1448),'Transparency List 2018_10'!$D:$D,0),FALSE)),\"On the 2018_10 List\",\"-\")","v":"-"},{"$f":"IF(OR(IFERROR(MATCH($D1448,'Transparency List 2018_04'!$L:$L,0),FALSE),IFERROR(MATCH(TRIM($G1448),'Transparency List 2018_04'!$D:$D,0),FALSE)),\"On the 2018_04 List\",\"-\")","v":"-"},{"$f":"IF(OR(IFERROR(MATCH($D1448,'Transparency List 2017'!$L:$L,0),FALSE),IFERROR(MATCH(TRIM($G1448),'Transparency List 2017'!$C:$C,0),FALSE)),\"On the 2017 List\",\"-\")","v":"-"},{"$f":"IF(OR(IFERROR(MATCH($D1448,'Transparency List 2015'!$H:$H,0),FALSE),IFERROR(MATCH(TRIM($G1448),'Transparency List 2015'!$C:$C,0),FALSE)),\"On the 2015 List\",\"-\")","v":"-"}]
[null,null,4,"",null,null,null,"-",{"$f":"IF(OR(IFERROR(MATCH($D1449,'Transparency List 2018_10'!$L:$L,0),FALSE),IFERROR(MATCH(TRIM($G1449),'Transparency List 2018_10'!$D:$D,0),FALSE)),\"On the 2018_10 List\",\"-\")","v":"-"},{"$f":"IF(OR(IFERROR(MATCH($D1449,'Transparency List 2018_04'!$L:$L,0),FALSE),IFERROR(MATCH(TRIM($G1449),'Transparency List 2018_04'!$D:$D,0),FALSE)),\"On the 2018_04 List\",\"-\")","v":"-"},{"$f":"IF(OR(IFERROR(MATCH($D1449,'Transparency List 2017'!$L:$L,0),FALSE),IFERROR(MATCH(TRIM($G1449),'Transparency List 2017'!$C:$C,0),FALSE)),\"On the 2017 List\",\"-\")","v":"-"},{"$f":"IF(OR(IFERROR(MATCH($D1449,'Transparency List 2015'!$H:$H,0),FALSE),IFERROR(MATCH(TRIM($G1449),'Transparency List 2015'!$C:$C,0),FALSE)),\"On the 2015 List\",\"-\")","v":"-"}]
[null,null,4,"",null,null,null,"-",{"$f":"IF(OR(IFERROR(MATCH($D1450,'Transparency List 2018_10'!$L:$L,0),FALSE),IFERROR(MATCH(TRIM($G1450),'Transparency List 2018_10'!$D:$D,0),FALSE)),\"On the 2018_10 List\",\"-\")","v":"-"},{"$f":"IF(OR(IFERROR(MATCH($D1450,'Transparency List 2018_04'!$L:$L,0),FALSE),IFERROR(MATCH(TRIM($G1450),'Transparency List 2018_04'!$D:$D,0),FALSE)),\"On the 2018_04 List\",\"-\")","v":"-"},{"$f":"IF(OR(IFERROR(MATCH($D1450,'Transparency List 2017'!$L:$L,0),FALSE),IFERROR(MATCH(TRIM($G1450),'Transparency List 2017'!$C:$C,0),FALSE)),\"On the 2017 List\",\"-\")","v":"-"},{"$f":"IF(OR(IFERROR(MATCH($D1450,'Transparency List 2015'!$H:$H,0),FALSE),IFERROR(MATCH(TRIM($G1450),'Transparency List 2015'!$C:$C,0),FALSE)),\"On the 2015 List\",\"-\")","v":"-"}]
[null,null,4,"",null,null,null,"-",{"$f":"IF(OR(IFERROR(MATCH($D1451,'Transparency List 2018_10'!$L:$L,0),FALSE),IFERROR(MATCH(TRIM($G1451),'Transparency List 2018_10'!$D:$D,0),FALSE)),\"On the 2018_10 List\",\"-\")","v":"-"},{"$f":"IF(OR(IFERROR(MATCH($D1451,'Transparency List 2018_04'!$L:$L,0),FALSE),IFERROR(MATCH(TRIM($G1451),'Transparency List 2018_04'!$D:$D,0),FALSE)),\"On the 2018_04 List\",\"-\")","v":"-"},{"$f":"IF(OR(IFERROR(MATCH($D1451,'Transparency List 2017'!$L:$L,0),FALSE),IFERROR(MATCH(TRIM($G1451),'Transparency List 2017'!$C:$C,0),FALSE)),\"On the 2017 List\",\"-\")","v":"-"},{"$f":"IF(OR(IFERROR(MATCH($D1451,'Transparency List 2015'!$H:$H,0),FALSE),IFERROR(MATCH(TRIM($G1451),'Transparency List 2015'!$C:$C,0),FALSE)),\"On the 2015 List\",\"-\")","v":"-"}]
[null,null,4,"",null,null,null,"-",{"$f":"IF(OR(IFERROR(MATCH($D1452,'Transparency List 2018_10'!$L:$L,0),FALSE),IFERROR(MATCH(TRIM($G1452),'Transparency List 2018_10'!$D:$D,0),FALSE)),\"On the 2018_10 List\",\"-\")","v":"-"},{"$f":"IF(OR(IFERROR(MATCH($D1452,'Transparency List 2018_04'!$L:$L,0),FALSE),IFERROR(MATCH(TRIM($G1452),'Transparency List 2018_04'!$D:$D,0),FALSE)),\"On the 2018_04 List\",\"-\")","v":"-"},{"$f":"IF(OR(IFERROR(MATCH($D1452,'Transparency List 2017'!$L:$L,0),FALSE),IFERROR(MATCH(TRIM($G1452),'Transparency List 2017'!$C:$C,0),FALSE)),\"On the 2017 List\",\"-\")","v":"-"},{"$f":"IF(OR(IFERROR(MATCH($D1452,'Transparency List 2015'!$H:$H,0),FALSE),IFERROR(MATCH(TRIM($G1452),'Transparency List 2015'!$C:$C,0),FALSE)),\"On the 2015 List\",\"-\")","v":"-"}]
[null,null,4,"",null,null,null,"-",{"$f":"IF(OR(IFERROR(MATCH($D1453,'Transparency List 2018_10'!$L:$L,0),FALSE),IFERROR(MATCH(TRIM($G1453),'Transparency List 2018_10'!$D:$D,0),FALSE)),\"On the 2018_10 List\",\"-\")","v":"-"},{"$f":"IF(OR(IFERROR(MATCH($D1453,'Transparency List 2018_04'!$L:$L,0),FALSE),IFERROR(MATCH(TRIM($G1453),'Transparency List 2018_04'!$D:$D,0),FALSE)),\"On the 2018_04 List\",\"-\")","v":"-"},{"$f":"IF(OR(IFERROR(MATCH($D1453,'Transparency List 2017'!$L:$L,0),FALSE),IFERROR(MATCH(TRIM($G1453),'Transparency List 2017'!$C:$C,0),FALSE)),\"On the 2017 List\",\"-\")","v":"-"},{"$f":"IF(OR(IFERROR(MATCH($D1453,'Transparency List 2015'!$H:$H,0),FALSE),IFERROR(MATCH(TRIM($G1453),'Transparency List 2015'!$C:$C,0),FALSE)),\"On the 2015 List\",\"-\")","v":"-"}]
[null,null,4,"",null,null,null,"-",{"$f":"IF(OR(IFERROR(MATCH($D1454,'Transparency List 2018_10'!$L:$L,0),FALSE),IFERROR(MATCH(TRIM($G1454),'Transparency List 2018_10'!$D:$D,0),FALSE)),\"On the 2018_10 List\",\"-\")","v":"-"},{"$f":"IF(OR(IFERROR(MATCH($D1454,'Transparency List 2018_04'!$L:$L,0),FALSE),IFERROR(MATCH(TRIM($G1454),'Transparency List 2018_04'!$D:$D,0),FALSE)),\"On the 2018_04 List\",\"-\")","v":"-"},{"$f":"IF(OR(IFERROR(MATCH($D1454,'Transparency List 2017'!$L:$L,0),FALSE),IFERROR(MATCH(TRIM($G1454),'Transparency List 2017'!$C:$C,0),FALSE)),\"On the 2017 List\",\"-\")","v":"-"},{"$f":"IF(OR(IFERROR(MATCH($D1454,'Transparency List 2015'!$H:$H,0),FALSE),IFERROR(MATCH(TRIM($G1454),'Transparency List 2015'!$C:$C,0),FALSE)),\"On the 2015 List\",\"-\")","v":"-"}]
[null,null,4,"",null,null,null,"-",{"$f":"IF(OR(IFERROR(MATCH($D1455,'Transparency List 2018_10'!$L:$L,0),FALSE),IFERROR(MATCH(TRIM($G1455),'Transparency List 2018_10'!$D:$D,0),FALSE)),\"On the 2018_10 List\",\"-\")","v":"-"},{"$f":"IF(OR(IFERROR(MATCH($D1455,'Transparency List 2018_04'!$L:$L,0),FALSE),IFERROR(MATCH(TRIM($G1455),'Transparency List 2018_04'!$D:$D,0),FALSE)),\"On the 2018_04 List\",\"-\")","v":"-"},{"$f":"IF(OR(IFERROR(MATCH($D1455,'Transparency List 2017'!$L:$L,0),FALSE),IFERROR(MATCH(TRIM($G1455),'Transparency List 2017'!$C:$C,0),FALSE)),\"On the 2017 List\",\"-\")","v":"-"},{"$f":"IF(OR(IFERROR(MATCH($D1455,'Transparency List 2015'!$H:$H,0),FALSE),IFERROR(MATCH(TRIM($G1455),'Transparency List 2015'!$C:$C,0),FALSE)),\"On the 2015 List\",\"-\")","v":"-"}]
[null,null,4,"",null,null,null,"-",{"$f":"IF(OR(IFERROR(MATCH($D1456,'Transparency List 2018_10'!$L:$L,0),FALSE),IFERROR(MATCH(TRIM($G1456),'Transparency List 2018_10'!$D:$D,0),FALSE)),\"On the 2018_10 List\",\"-\")","v":"-"},{"$f":"IF(OR(IFERROR(MATCH($D1456,'Transparency List 2018_04'!$L:$L,0),FALSE),IFERROR(MATCH(TRIM($G1456),'Transparency List 2018_04'!$D:$D,0),FALSE)),\"On the 2018_04 List\",\"-\")","v":"-"},{"$f":"IF(OR(IFERROR(MATCH($D1456,'Transparency List 2017'!$L:$L,0),FALSE),IFERROR(MATCH(TRIM($G1456),'Transparency List 2017'!$C:$C,0),FALSE)),\"On the 2017 List\",\"-\")","v":"-"},{"$f":"IF(OR(IFERROR(MATCH($D1456,'Transparency List 2015'!$H:$H,0),FALSE),IFERROR(MATCH(TRIM($G1456),'Transparency List 2015'!$C:$C,0),FALSE)),\"On the 2015 List\",\"-\")","v":"-"}]
[null,null,4,"",null,null,null,"-",{"$f":"IF(OR(IFERROR(MATCH($D1457,'Transparency List 2018_10'!$L:$L,0),FALSE),IFERROR(MATCH(TRIM($G1457),'Transparency List 2018_10'!$D:$D,0),FALSE)),\"On the 2018_10 List\",\"-\")","v":"-"},{"$f":"IF(OR(IFERROR(MATCH($D1457,'Transparency List 2018_04'!$L:$L,0),FALSE),IFERROR(MATCH(TRIM($G1457),'Transparency List 2018_04'!$D:$D,0),FALSE)),\"On the 2018_04 List\",\"-\")","v":"-"},{"$f":"IF(OR(IFERROR(MATCH($D1457,'Transparency List 2017'!$L:$L,0),FALSE),IFERROR(MATCH(TRIM($G1457),'Transparency List 2017'!$C:$C,0),FALSE)),\"On the 2017 List\",\"-\")","v":"-"},{"$f":"IF(OR(IFERROR(MATCH($D1457,'Transparency List 2015'!$H:$H,0),FALSE),IFERROR(MATCH(TRIM($G1457),'Transparency List 2015'!$C:$C,0),FALSE)),\"On the 2015 List\",\"-\")","v":"-"}]
[null,null,4,"",null,null,null,"-",{"$f":"IF(OR(IFERROR(MATCH($D1458,'Transparency List 2018_10'!$L:$L,0),FALSE),IFERROR(MATCH(TRIM($G1458),'Transparency List 2018_10'!$D:$D,0),FALSE)),\"On the 2018_10 List\",\"-\")","v":"-"},{"$f":"IF(OR(IFERROR(MATCH($D1458,'Transparency List 2018_04'!$L:$L,0),FALSE),IFERROR(MATCH(TRIM($G1458),'Transparency List 2018_04'!$D:$D,0),FALSE)),\"On the 2018_04 List\",\"-\")","v":"-"},{"$f":"IF(OR(IFERROR(MATCH($D1458,'Transparency List 2017'!$L:$L,0),FALSE),IFERROR(MATCH(TRIM($G1458),'Transparency List 2017'!$C:$C,0),FALSE)),\"On the 2017 List\",\"-\")","v":"-"},{"$f":"IF(OR(IFERROR(MATCH($D1458,'Transparency List 2015'!$H:$H,0),FALSE),IFERROR(MATCH(TRIM($G1458),'Transparency List 2015'!$C:$C,0),FALSE)),\"On the 2015 List\",\"-\")","v":"-"}]
[null,null,4,"",null,null,null,"-",{"$f":"IF(OR(IFERROR(MATCH($D1459,'Transparency List 2018_10'!$L:$L,0),FALSE),IFERROR(MATCH(TRIM($G1459),'Transparency List 2018_10'!$D:$D,0),FALSE)),\"On the 2018_10 List\",\"-\")","v":"-"},{"$f":"IF(OR(IFERROR(MATCH($D1459,'Transparency List 2018_04'!$L:$L,0),FALSE),IFERROR(MATCH(TRIM($G1459),'Transparency List 2018_04'!$D:$D,0),FALSE)),\"On the 2018_04 List\",\"-\")","v":"-"},{"$f":"IF(OR(IFERROR(MATCH($D1459,'Transparency List 2017'!$L:$L,0),FALSE),IFERROR(MATCH(TRIM($G1459),'Transparency List 2017'!$C:$C,0),FALSE)),\"On the 2017 List\",\"-\")","v":"-"},{"$f":"IF(OR(IFERROR(MATCH($D1459,'Transparency List 2015'!$H:$H,0),FALSE),IFERROR(MATCH(TRIM($G1459),'Transparency List 2015'!$C:$C,0),FALSE)),\"On the 2015 List\",\"-\")","v":"-"}]
[null,null,4,"",null,null,null,"-",{"$f":"IF(OR(IFERROR(MATCH($D1460,'Transparency List 2018_10'!$L:$L,0),FALSE),IFERROR(MATCH(TRIM($G1460),'Transparency List 2018_10'!$D:$D,0),FALSE)),\"On the 2018_10 List\",\"-\")","v":"-"},{"$f":"IF(OR(IFERROR(MATCH($D1460,'Transparency List 2018_04'!$L:$L,0),FALSE),IFERROR(MATCH(TRIM($G1460),'Transparency List 2018_04'!$D:$D,0),FALSE)),\"On the 2018_04 List\",\"-\")","v":"-"},{"$f":"IF(OR(IFERROR(MATCH($D1460,'Transparency List 2017'!$L:$L,0),FALSE),IFERROR(MATCH(TRIM($G1460),'Transparency List 2017'!$C:$C,0),FALSE)),\"On the 2017 List\",\"-\")","v":"-"},{"$f":"IF(OR(IFERROR(MATCH($D1460,'Transparency List 2015'!$H:$H,0),FALSE),IFERROR(MATCH(TRIM($G1460),'Transparency List 2015'!$C:$C,0),FALSE)),\"On the 2015 List\",\"-\")","v":"-"}]
[null,null,4,"",null,null,null,"-",{"$f":"IF(OR(IFERROR(MATCH($D1461,'Transparency List 2018_10'!$L:$L,0),FALSE),IFERROR(MATCH(TRIM($G1461),'Transparency List 2018_10'!$D:$D,0),FALSE)),\"On the 2018_10 List\",\"-\")","v":"-"},{"$f":"IF(OR(IFERROR(MATCH($D1461,'Transparency List 2018_04'!$L:$L,0),FALSE),IFERROR(MATCH(TRIM($G1461),'Transparency List 2018_04'!$D:$D,0),FALSE)),\"On the 2018_04 List\",\"-\")","v":"-"},{"$f":"IF(OR(IFERROR(MATCH($D1461,'Transparency List 2017'!$L:$L,0),FALSE),IFERROR(MATCH(TRIM($G1461),'Transparency List 2017'!$C:$C,0),FALSE)),\"On the 2017 List\",\"-\")","v":"-"},{"$f":"IF(OR(IFERROR(MATCH($D1461,'Transparency List 2015'!$H:$H,0),FALSE),IFERROR(MATCH(TRIM($G1461),'Transparency List 2015'!$C:$C,0),FALSE)),\"On the 2015 List\",\"-\")","v":"-"}]
[null,null,4,"",null,null,null,"-",{"$f":"IF(OR(IFERROR(MATCH($D1462,'Transparency List 2018_10'!$L:$L,0),FALSE),IFERROR(MATCH(TRIM($G1462),'Transparency List 2018_10'!$D:$D,0),FALSE)),\"On the 2018_10 List\",\"-\")","v":"-"},{"$f":"IF(OR(IFERROR(MATCH($D1462,'Transparency List 2018_04'!$L:$L,0),FALSE),IFERROR(MATCH(TRIM($G1462),'Transparency List 2018_04'!$D:$D,0),FALSE)),\"On the 2018_04 List\",\"-\")","v":"-"},{"$f":"IF(OR(IFERROR(MATCH($D1462,'Transparency List 2017'!$L:$L,0),FALSE),IFERROR(MATCH(TRIM($G1462),'Transparency List 2017'!$C:$C,0),FALSE)),\"On the 2017 List\",\"-\")","v":"-"},{"$f":"IF(OR(IFERROR(MATCH($D1462,'Transparency List 2015'!$H:$H,0),FALSE),IFERROR(MATCH(TRIM($G1462),'Transparency List 2015'!$C:$C,0),FALSE)),\"On the 2015 List\",\"-\")","v":"-"}]
[null,null,4,"",null,null,null,"-",{"$f":"IF(OR(IFERROR(MATCH($D1463,'Transparency List 2018_10'!$L:$L,0),FALSE),IFERROR(MATCH(TRIM($G1463),'Transparency List 2018_10'!$D:$D,0),FALSE)),\"On the 2018_10 List\",\"-\")","v":"-"},{"$f":"IF(OR(IFERROR(MATCH($D1463,'Transparency List 2018_04'!$L:$L,0),FALSE),IFERROR(MATCH(TRIM($G1463),'Transparency List 2018_04'!$D:$D,0),FALSE)),\"On the 2018_04 List\",\"-\")","v":"-"},{"$f":"IF(OR(IFERROR(MATCH($D1463,'Transparency List 2017'!$L:$L,0),FALSE),IFERROR(MATCH(TRIM($G1463),'Transparency List 2017'!$C:$C,0),FALSE)),\"On the 2017 List\",\"-\")","v":"-"},{"$f":"IF(OR(IFERROR(MATCH($D1463,'Transparency List 2015'!$H:$H,0),FALSE),IFERROR(MATCH(TRIM($G1463),'Transparency List 2015'!$C:$C,0),FALSE)),\"On the 2015 List\",\"-\")","v":"-"}]
[null,null,4,"",null,null,null,"-",{"$f":"IF(OR(IFERROR(MATCH($D1464,'Transparency List 2018_10'!$L:$L,0),FALSE),IFERROR(MATCH(TRIM($G1464),'Transparency List 2018_10'!$D:$D,0),FALSE)),\"On the 2018_10 List\",\"-\")","v":"-"},{"$f":"IF(OR(IFERROR(MATCH($D1464,'Transparency List 2018_04'!$L:$L,0),FALSE),IFERROR(MATCH(TRIM($G1464),'Transparency List 2018_04'!$D:$D,0),FALSE)),\"On the 2018_04 List\",\"-\")","v":"-"},{"$f":"IF(OR(IFERROR(MATCH($D1464,'Transparency List 2017'!$L:$L,0),FALSE),IFERROR(MATCH(TRIM($G1464),'Transparency List 2017'!$C:$C,0),FALSE)),\"On the 2017 List\",\"-\")","v":"-"},{"$f":"IF(OR(IFERROR(MATCH($D1464,'Transparency List 2015'!$H:$H,0),FALSE),IFERROR(MATCH(TRIM($G1464),'Transparency List 2015'!$C:$C,0),FALSE)),\"On the 2015 List\",\"-\")","v":"-"}]
[null,null,4,"",null,null,null,"-",{"$f":"IF(OR(IFERROR(MATCH($D1465,'Transparency List 2018_10'!$L:$L,0),FALSE),IFERROR(MATCH(TRIM($G1465),'Transparency List 2018_10'!$D:$D,0),FALSE)),\"On the 2018_10 List\",\"-\")","v":"-"},{"$f":"IF(OR(IFERROR(MATCH($D1465,'Transparency List 2018_04'!$L:$L,0),FALSE),IFERROR(MATCH(TRIM($G1465),'Transparency List 2018_04'!$D:$D,0),FALSE)),\"On the 2018_04 List\",\"-\")","v":"-"},{"$f":"IF(OR(IFERROR(MATCH($D1465,'Transparency List 2017'!$L:$L,0),FALSE),IFERROR(MATCH(TRIM($G1465),'Transparency List 2017'!$C:$C,0),FALSE)),\"On the 2017 List\",\"-\")","v":"-"},{"$f":"IF(OR(IFERROR(MATCH($D1465,'Transparency List 2015'!$H:$H,0),FALSE),IFERROR(MATCH(TRIM($G1465),'Transparency List 2015'!$C:$C,0),FALSE)),\"On the 2015 List\",\"-\")","v":"-"}]
[null,null,4,"",null,null,null,"-",{"$f":"IF(OR(IFERROR(MATCH($D1466,'Transparency List 2018_10'!$L:$L,0),FALSE),IFERROR(MATCH(TRIM($G1466),'Transparency List 2018_10'!$D:$D,0),FALSE)),\"On the 2018_10 List\",\"-\")","v":"-"},{"$f":"IF(OR(IFERROR(MATCH($D1466,'Transparency List 2018_04'!$L:$L,0),FALSE),IFERROR(MATCH(TRIM($G1466),'Transparency List 2018_04'!$D:$D,0),FALSE)),\"On the 2018_04 List\",\"-\")","v":"-"},{"$f":"IF(OR(IFERROR(MATCH($D1466,'Transparency List 2017'!$L:$L,0),FALSE),IFERROR(MATCH(TRIM($G1466),'Transparency List 2017'!$C:$C,0),FALSE)),\"On the 2017 List\",\"-\")","v":"-"},{"$f":"IF(OR(IFERROR(MATCH($D1466,'Transparency List 2015'!$H:$H,0),FALSE),IFERROR(MATCH(TRIM($G1466),'Transparency List 2015'!$C:$C,0),FALSE)),\"On the 2015 List\",\"-\")","v":"-"}]
[null,null,4,"",null,null,null,"-",{"$f":"IF(OR(IFERROR(MATCH($D1467,'Transparency List 2018_10'!$L:$L,0),FALSE),IFERROR(MATCH(TRIM($G1467),'Transparency List 2018_10'!$D:$D,0),FALSE)),\"On the 2018_10 List\",\"-\")","v":"-"},{"$f":"IF(OR(IFERROR(MATCH($D1467,'Transparency List 2018_04'!$L:$L,0),FALSE),IFERROR(MATCH(TRIM($G1467),'Transparency List 2018_04'!$D:$D,0),FALSE)),\"On the 2018_04 List\",\"-\")","v":"-"},{"$f":"IF(OR(IFERROR(MATCH($D1467,'Transparency List 2017'!$L:$L,0),FALSE),IFERROR(MATCH(TRIM($G1467),'Transparency List 2017'!$C:$C,0),FALSE)),\"On the 2017 List\",\"-\")","v":"-"},{"$f":"IF(OR(IFERROR(MATCH($D1467,'Transparency List 2015'!$H:$H,0),FALSE),IFERROR(MATCH(TRIM($G1467),'Transparency List 2015'!$C:$C,0),FALSE)),\"On the 2015 List\",\"-\")","v":"-"}]
[null,null,4,"",null,null,null,"-",{"$f":"IF(OR(IFERROR(MATCH($D1468,'Transparency List 2018_10'!$L:$L,0),FALSE),IFERROR(MATCH(TRIM($G1468),'Transparency List 2018_10'!$D:$D,0),FALSE)),\"On the 2018_10 List\",\"-\")","v":"-"},{"$f":"IF(OR(IFERROR(MATCH($D1468,'Transparency List 2018_04'!$L:$L,0),FALSE),IFERROR(MATCH(TRIM($G1468),'Transparency List 2018_04'!$D:$D,0),FALSE)),\"On the 2018_04 List\",\"-\")","v":"-"},{"$f":"IF(OR(IFERROR(MATCH($D1468,'Transparency List 2017'!$L:$L,0),FALSE),IFERROR(MATCH(TRIM($G1468),'Transparency List 2017'!$C:$C,0),FALSE)),\"On the 2017 List\",\"-\")","v":"-"},{"$f":"IF(OR(IFERROR(MATCH($D1468,'Transparency List 2015'!$H:$H,0),FALSE),IFERROR(MATCH(TRIM($G1468),'Transparency List 2015'!$C:$C,0),FALSE)),\"On the 2015 List\",\"-\")","v":"-"}]
[null,null,4,"",null,null,null,"-",{"$f":"IF(OR(IFERROR(MATCH($D1469,'Transparency List 2018_10'!$L:$L,0),FALSE),IFERROR(MATCH(TRIM($G1469),'Transparency List 2018_10'!$D:$D,0),FALSE)),\"On the 2018_10 List\",\"-\")","v":"-"},{"$f":"IF(OR(IFERROR(MATCH($D1469,'Transparency List 2018_04'!$L:$L,0),FALSE),IFERROR(MATCH(TRIM($G1469),'Transparency List 2018_04'!$D:$D,0),FALSE)),\"On the 2018_04 List\",\"-\")","v":"-"},{"$f":"IF(OR(IFERROR(MATCH($D1469,'Transparency List 2017'!$L:$L,0),FALSE),IFERROR(MATCH(TRIM($G1469),'Transparency List 2017'!$C:$C,0),FALSE)),\"On the 2017 List\",\"-\")","v":"-"},{"$f":"IF(OR(IFERROR(MATCH($D1469,'Transparency List 2015'!$H:$H,0),FALSE),IFERROR(MATCH(TRIM($G1469),'Transparency List 2015'!$C:$C,0),FALSE)),\"On the 2015 List\",\"-\")","v":"-"}]
[null,null,4,"",null,null,null,"-",{"$f":"IF(OR(IFERROR(MATCH($D1470,'Transparency List 2018_10'!$L:$L,0),FALSE),IFERROR(MATCH(TRIM($G1470),'Transparency List 2018_10'!$D:$D,0),FALSE)),\"On the 2018_10 List\",\"-\")","v":"-"},{"$f":"IF(OR(IFERROR(MATCH($D1470,'Transparency List 2018_04'!$L:$L,0),FALSE),IFERROR(MATCH(TRIM($G1470),'Transparency List 2018_04'!$D:$D,0),FALSE)),\"On the 2018_04 List\",\"-\")","v":"-"},{"$f":"IF(OR(IFERROR(MATCH($D1470,'Transparency List 2017'!$L:$L,0),FALSE),IFERROR(MATCH(TRIM($G1470),'Transparency List 2017'!$C:$C,0),FALSE)),\"On the 2017 List\",\"-\")","v":"-"},{"$f":"IF(OR(IFERROR(MATCH($D1470,'Transparency List 2015'!$H:$H,0),FALSE),IFERROR(MATCH(TRIM($G1470),'Transparency List 2015'!$C:$C,0),FALSE)),\"On the 2015 List\",\"-\")","v":"-"}]
[null,null,4,"",null,null,null,"-",{"$f":"IF(OR(IFERROR(MATCH($D1471,'Transparency List 2018_10'!$L:$L,0),FALSE),IFERROR(MATCH(TRIM($G1471),'Transparency List 2018_10'!$D:$D,0),FALSE)),\"On the 2018_10 List\",\"-\")","v":"-"},{"$f":"IF(OR(IFERROR(MATCH($D1471,'Transparency List 2018_04'!$L:$L,0),FALSE),IFERROR(MATCH(TRIM($G1471),'Transparency List 2018_04'!$D:$D,0),FALSE)),\"On the 2018_04 List\",\"-\")","v":"-"},{"$f":"IF(OR(IFERROR(MATCH($D1471,'Transparency List 2017'!$L:$L,0),FALSE),IFERROR(MATCH(TRIM($G1471),'Transparency List 2017'!$C:$C,0),FALSE)),\"On the 2017 List\",\"-\")","v":"-"},{"$f":"IF(OR(IFERROR(MATCH($D1471,'Transparency List 2015'!$H:$H,0),FALSE),IFERROR(MATCH(TRIM($G1471),'Transparency List 2015'!$C:$C,0),FALSE)),\"On the 2015 List\",\"-\")","v":"-"}]
[null,null,4,"",null,null,null,"-",{"$f":"IF(OR(IFERROR(MATCH($D1472,'Transparency List 2018_10'!$L:$L,0),FALSE),IFERROR(MATCH(TRIM($G1472),'Transparency List 2018_10'!$D:$D,0),FALSE)),\"On the 2018_10 List\",\"-\")","v":"-"},{"$f":"IF(OR(IFERROR(MATCH($D1472,'Transparency List 2018_04'!$L:$L,0),FALSE),IFERROR(MATCH(TRIM($G1472),'Transparency List 2018_04'!$D:$D,0),FALSE)),\"On the 2018_04 List\",\"-\")","v":"-"},{"$f":"IF(OR(IFERROR(MATCH($D1472,'Transparency List 2017'!$L:$L,0),FALSE),IFERROR(MATCH(TRIM($G1472),'Transparency List 2017'!$C:$C,0),FALSE)),\"On the 2017 List\",\"-\")","v":"-"},{"$f":"IF(OR(IFERROR(MATCH($D1472,'Transparency List 2015'!$H:$H,0),FALSE),IFERROR(MATCH(TRIM($G1472),'Transparency List 2015'!$C:$C,0),FALSE)),\"On the 2015 List\",\"-\")","v":"-"}]
[null,null,4,"",null,null,null,"-",{"$f":"IF(OR(IFERROR(MATCH($D1473,'Transparency List 2018_10'!$L:$L,0),FALSE),IFERROR(MATCH(TRIM($G1473),'Transparency List 2018_10'!$D:$D,0),FALSE)),\"On the 2018_10 List\",\"-\")","v":"-"},{"$f":"IF(OR(IFERROR(MATCH($D1473,'Transparency List 2018_04'!$L:$L,0),FALSE),IFERROR(MATCH(TRIM($G1473),'Transparency List 2018_04'!$D:$D,0),FALSE)),\"On the 2018_04 List\",\"-\")","v":"-"},{"$f":"IF(OR(IFERROR(MATCH($D1473,'Transparency List 2017'!$L:$L,0),FALSE),IFERROR(MATCH(TRIM($G1473),'Transparency List 2017'!$C:$C,0),FALSE)),\"On the 2017 List\",\"-\")","v":"-"},{"$f":"IF(OR(IFERROR(MATCH($D1473,'Transparency List 2015'!$H:$H,0),FALSE),IFERROR(MATCH(TRIM($G1473),'Transparency List 2015'!$C:$C,0),FALSE)),\"On the 2015 List\",\"-\")","v":"-"}]
[null,null,4,"",null,null,null,"-",{"$f":"IF(OR(IFERROR(MATCH($D1474,'Transparency List 2018_10'!$L:$L,0),FALSE),IFERROR(MATCH(TRIM($G1474),'Transparency List 2018_10'!$D:$D,0),FALSE)),\"On the 2018_10 List\",\"-\")","v":"-"},{"$f":"IF(OR(IFERROR(MATCH($D1474,'Transparency List 2018_04'!$L:$L,0),FALSE),IFERROR(MATCH(TRIM($G1474),'Transparency List 2018_04'!$D:$D,0),FALSE)),\"On the 2018_04 List\",\"-\")","v":"-"},{"$f":"IF(OR(IFERROR(MATCH($D1474,'Transparency List 2017'!$L:$L,0),FALSE),IFERROR(MATCH(TRIM($G1474),'Transparency List 2017'!$C:$C,0),FALSE)),\"On the 2017 List\",\"-\")","v":"-"},{"$f":"IF(OR(IFERROR(MATCH($D1474,'Transparency List 2015'!$H:$H,0),FALSE),IFERROR(MATCH(TRIM($G1474),'Transparency List 2015'!$C:$C,0),FALSE)),\"On the 2015 List\",\"-\")","v":"-"}]
[null,null,4,"",null,null,null,"-",{"$f":"IF(OR(IFERROR(MATCH($D1475,'Transparency List 2018_10'!$L:$L,0),FALSE),IFERROR(MATCH(TRIM($G1475),'Transparency List 2018_10'!$D:$D,0),FALSE)),\"On the 2018_10 List\",\"-\")","v":"-"},{"$f":"IF(OR(IFERROR(MATCH($D1475,'Transparency List 2018_04'!$L:$L,0),FALSE),IFERROR(MATCH(TRIM($G1475),'Transparency List 2018_04'!$D:$D,0),FALSE)),\"On the 2018_04 List\",\"-\")","v":"-"},{"$f":"IF(OR(IFERROR(MATCH($D1475,'Transparency List 2017'!$L:$L,0),FALSE),IFERROR(MATCH(TRIM($G1475),'Transparency List 2017'!$C:$C,0),FALSE)),\"On the 2017 List\",\"-\")","v":"-"},{"$f":"IF(OR(IFERROR(MATCH($D1475,'Transparency List 2015'!$H:$H,0),FALSE),IFERROR(MATCH(TRIM($G1475),'Transparency List 2015'!$C:$C,0),FALSE)),\"On the 2015 List\",\"-\")","v":"-"}]
[null,null,4,"",null,null,null,"-",{"$f":"IF(OR(IFERROR(MATCH($D1476,'Transparency List 2018_10'!$L:$L,0),FALSE),IFERROR(MATCH(TRIM($G1476),'Transparency List 2018_10'!$D:$D,0),FALSE)),\"On the 2018_10 List\",\"-\")","v":"-"},{"$f":"IF(OR(IFERROR(MATCH($D1476,'Transparency List 2018_04'!$L:$L,0),FALSE),IFERROR(MATCH(TRIM($G1476),'Transparency List 2018_04'!$D:$D,0),FALSE)),\"On the 2018_04 List\",\"-\")","v":"-"},{"$f":"IF(OR(IFERROR(MATCH($D1476,'Transparency List 2017'!$L:$L,0),FALSE),IFERROR(MATCH(TRIM($G1476),'Transparency List 2017'!$C:$C,0),FALSE)),\"On the 2017 List\",\"-\")","v":"-"},{"$f":"IF(OR(IFERROR(MATCH($D1476,'Transparency List 2015'!$H:$H,0),FALSE),IFERROR(MATCH(TRIM($G1476),'Transparency List 2015'!$C:$C,0),FALSE)),\"On the 2015 List\",\"-\")","v":"-"}]
[null,null,4,"",null,null,null,"-",{"$f":"IF(OR(IFERROR(MATCH($D1477,'Transparency List 2018_10'!$L:$L,0),FALSE),IFERROR(MATCH(TRIM($G1477),'Transparency List 2018_10'!$D:$D,0),FALSE)),\"On the 2018_10 List\",\"-\")","v":"-"},{"$f":"IF(OR(IFERROR(MATCH($D1477,'Transparency List 2018_04'!$L:$L,0),FALSE),IFERROR(MATCH(TRIM($G1477),'Transparency List 2018_04'!$D:$D,0),FALSE)),\"On the 2018_04 List\",\"-\")","v":"-"},{"$f":"IF(OR(IFERROR(MATCH($D1477,'Transparency List 2017'!$L:$L,0),FALSE),IFERROR(MATCH(TRIM($G1477),'Transparency List 2017'!$C:$C,0),FALSE)),\"On the 2017 List\",\"-\")","v":"-"},{"$f":"IF(OR(IFERROR(MATCH($D1477,'Transparency List 2015'!$H:$H,0),FALSE),IFERROR(MATCH(TRIM($G1477),'Transparency List 2015'!$C:$C,0),FALSE)),\"On the 2015 List\",\"-\")","v":"-"}]
[null,null,4,"",null,null,null,"-",{"$f":"IF(OR(IFERROR(MATCH($D1478,'Transparency List 2018_10'!$L:$L,0),FALSE),IFERROR(MATCH(TRIM($G1478),'Transparency List 2018_10'!$D:$D,0),FALSE)),\"On the 2018_10 List\",\"-\")","v":"-"},{"$f":"IF(OR(IFERROR(MATCH($D1478,'Transparency List 2018_04'!$L:$L,0),FALSE),IFERROR(MATCH(TRIM($G1478),'Transparency List 2018_04'!$D:$D,0),FALSE)),\"On the 2018_04 List\",\"-\")","v":"-"},{"$f":"IF(OR(IFERROR(MATCH($D1478,'Transparency List 2017'!$L:$L,0),FALSE),IFERROR(MATCH(TRIM($G1478),'Transparency List 2017'!$C:$C,0),FALSE)),\"On the 2017 List\",\"-\")","v":"-"},{"$f":"IF(OR(IFERROR(MATCH($D1478,'Transparency List 2015'!$H:$H,0),FALSE),IFERROR(MATCH(TRIM($G1478),'Transparency List 2015'!$C:$C,0),FALSE)),\"On the 2015 List\",\"-\")","v":"-"}]
[null,null,4,"",null,null,null,"-",{"$f":"IF(OR(IFERROR(MATCH($D1479,'Transparency List 2018_10'!$L:$L,0),FALSE),IFERROR(MATCH(TRIM($G1479),'Transparency List 2018_10'!$D:$D,0),FALSE)),\"On the 2018_10 List\",\"-\")","v":"-"},{"$f":"IF(OR(IFERROR(MATCH($D1479,'Transparency List 2018_04'!$L:$L,0),FALSE),IFERROR(MATCH(TRIM($G1479),'Transparency List 2018_04'!$D:$D,0),FALSE)),\"On the 2018_04 List\",\"-\")","v":"-"},{"$f":"IF(OR(IFERROR(MATCH($D1479,'Transparency List 2017'!$L:$L,0),FALSE),IFERROR(MATCH(TRIM($G1479),'Transparency List 2017'!$C:$C,0),FALSE)),\"On the 2017 List\",\"-\")","v":"-"},{"$f":"IF(OR(IFERROR(MATCH($D1479,'Transparency List 2015'!$H:$H,0),FALSE),IFERROR(MATCH(TRIM($G1479),'Transparency List 2015'!$C:$C,0),FALSE)),\"On the 2015 List\",\"-\")","v":"-"}]
[null,null,4,"",null,null,null,"-",{"$f":"IF(OR(IFERROR(MATCH($D1480,'Transparency List 2018_10'!$L:$L,0),FALSE),IFERROR(MATCH(TRIM($G1480),'Transparency List 2018_10'!$D:$D,0),FALSE)),\"On the 2018_10 List\",\"-\")","v":"-"},{"$f":"IF(OR(IFERROR(MATCH($D1480,'Transparency List 2018_04'!$L:$L,0),FALSE),IFERROR(MATCH(TRIM($G1480),'Transparency List 2018_04'!$D:$D,0),FALSE)),\"On the 2018_04 List\",\"-\")","v":"-"},{"$f":"IF(OR(IFERROR(MATCH($D1480,'Transparency List 2017'!$L:$L,0),FALSE),IFERROR(MATCH(TRIM($G1480),'Transparency List 2017'!$C:$C,0),FALSE)),\"On the 2017 List\",\"-\")","v":"-"},{"$f":"IF(OR(IFERROR(MATCH($D1480,'Transparency List 2015'!$H:$H,0),FALSE),IFERROR(MATCH(TRIM($G1480),'Transparency List 2015'!$C:$C,0),FALSE)),\"On the 2015 List\",\"-\")","v":"-"}]
[null,null,4,"",null,null,null,"-",{"$f":"IF(OR(IFERROR(MATCH($D1481,'Transparency List 2018_10'!$L:$L,0),FALSE),IFERROR(MATCH(TRIM($G1481),'Transparency List 2018_10'!$D:$D,0),FALSE)),\"On the 2018_10 List\",\"-\")","v":"-"},{"$f":"IF(OR(IFERROR(MATCH($D1481,'Transparency List 2018_04'!$L:$L,0),FALSE),IFERROR(MATCH(TRIM($G1481),'Transparency List 2018_04'!$D:$D,0),FALSE)),\"On the 2018_04 List\",\"-\")","v":"-"},{"$f":"IF(OR(IFERROR(MATCH($D1481,'Transparency List 2017'!$L:$L,0),FALSE),IFERROR(MATCH(TRIM($G1481),'Transparency List 2017'!$C:$C,0),FALSE)),\"On the 2017 List\",\"-\")","v":"-"},{"$f":"IF(OR(IFERROR(MATCH($D1481,'Transparency List 2015'!$H:$H,0),FALSE),IFERROR(MATCH(TRIM($G1481),'Transparency List 2015'!$C:$C,0),FALSE)),\"On the 2015 List\",\"-\")","v":"-"}]
[null,null,4,"",null,null,null,"-",{"$f":"IF(OR(IFERROR(MATCH($D1482,'Transparency List 2018_10'!$L:$L,0),FALSE),IFERROR(MATCH(TRIM($G1482),'Transparency List 2018_10'!$D:$D,0),FALSE)),\"On the 2018_10 List\",\"-\")","v":"-"},{"$f":"IF(OR(IFERROR(MATCH($D1482,'Transparency List 2018_04'!$L:$L,0),FALSE),IFERROR(MATCH(TRIM($G1482),'Transparency List 2018_04'!$D:$D,0),FALSE)),\"On the 2018_04 List\",\"-\")","v":"-"},{"$f":"IF(OR(IFERROR(MATCH($D1482,'Transparency List 2017'!$L:$L,0),FALSE),IFERROR(MATCH(TRIM($G1482),'Transparency List 2017'!$C:$C,0),FALSE)),\"On the 2017 List\",\"-\")","v":"-"},{"$f":"IF(OR(IFERROR(MATCH($D1482,'Transparency List 2015'!$H:$H,0),FALSE),IFERROR(MATCH(TRIM($G1482),'Transparency List 2015'!$C:$C,0),FALSE)),\"On the 2015 List\",\"-\")","v":"-"}]
[null,null,4,"",null,null,null,"-",{"$f":"IF(OR(IFERROR(MATCH($D1483,'Transparency List 2018_10'!$L:$L,0),FALSE),IFERROR(MATCH(TRIM($G1483),'Transparency List 2018_10'!$D:$D,0),FALSE)),\"On the 2018_10 List\",\"-\")","v":"-"},{"$f":"IF(OR(IFERROR(MATCH($D1483,'Transparency List 2018_04'!$L:$L,0),FALSE),IFERROR(MATCH(TRIM($G1483),'Transparency List 2018_04'!$D:$D,0),FALSE)),\"On the 2018_04 List\",\"-\")","v":"-"},{"$f":"IF(OR(IFERROR(MATCH($D1483,'Transparency List 2017'!$L:$L,0),FALSE),IFERROR(MATCH(TRIM($G1483),'Transparency List 2017'!$C:$C,0),FALSE)),\"On the 2017 List\",\"-\")","v":"-"},{"$f":"IF(OR(IFERROR(MATCH($D1483,'Transparency List 2015'!$H:$H,0),FALSE),IFERROR(MATCH(TRIM($G1483),'Transparency List 2015'!$C:$C,0),FALSE)),\"On the 2015 List\",\"-\")","v":"-"}]
[null,null,4,"",null,null,null,"-",{"$f":"IF(OR(IFERROR(MATCH($D1484,'Transparency List 2018_10'!$L:$L,0),FALSE),IFERROR(MATCH(TRIM($G1484),'Transparency List 2018_10'!$D:$D,0),FALSE)),\"On the 2018_10 List\",\"-\")","v":"-"},{"$f":"IF(OR(IFERROR(MATCH($D1484,'Transparency List 2018_04'!$L:$L,0),FALSE),IFERROR(MATCH(TRIM($G1484),'Transparency List 2018_04'!$D:$D,0),FALSE)),\"On the 2018_04 List\",\"-\")","v":"-"},{"$f":"IF(OR(IFERROR(MATCH($D1484,'Transparency List 2017'!$L:$L,0),FALSE),IFERROR(MATCH(TRIM($G1484),'Transparency List 2017'!$C:$C,0),FALSE)),\"On the 2017 List\",\"-\")","v":"-"},{"$f":"IF(OR(IFERROR(MATCH($D1484,'Transparency List 2015'!$H:$H,0),FALSE),IFERROR(MATCH(TRIM($G1484),'Transparency List 2015'!$C:$C,0),FALSE)),\"On the 2015 List\",\"-\")","v":"-"}]
[null,null,4,"",null,null,null,"-",{"$f":"IF(OR(IFERROR(MATCH($D1485,'Transparency List 2018_10'!$L:$L,0),FALSE),IFERROR(MATCH(TRIM($G1485),'Transparency List 2018_10'!$D:$D,0),FALSE)),\"On the 2018_10 List\",\"-\")","v":"-"},{"$f":"IF(OR(IFERROR(MATCH($D1485,'Transparency List 2018_04'!$L:$L,0),FALSE),IFERROR(MATCH(TRIM($G1485),'Transparency List 2018_04'!$D:$D,0),FALSE)),\"On the 2018_04 List\",\"-\")","v":"-"},{"$f":"IF(OR(IFERROR(MATCH($D1485,'Transparency List 2017'!$L:$L,0),FALSE),IFERROR(MATCH(TRIM($G1485),'Transparency List 2017'!$C:$C,0),FALSE)),\"On the 2017 List\",\"-\")","v":"-"},{"$f":"IF(OR(IFERROR(MATCH($D1485,'Transparency List 2015'!$H:$H,0),FALSE),IFERROR(MATCH(TRIM($G1485),'Transparency List 2015'!$C:$C,0),FALSE)),\"On the 2015 List\",\"-\")","v":"-"}]
[null,null,4,"",null,null,null,"-",{"$f":"IF(OR(IFERROR(MATCH($D1486,'Transparency List 2018_10'!$L:$L,0),FALSE),IFERROR(MATCH(TRIM($G1486),'Transparency List 2018_10'!$D:$D,0),FALSE)),\"On the 2018_10 List\",\"-\")","v":"-"},{"$f":"IF(OR(IFERROR(MATCH($D1486,'Transparency List 2018_04'!$L:$L,0),FALSE),IFERROR(MATCH(TRIM($G1486),'Transparency List 2018_04'!$D:$D,0),FALSE)),\"On the 2018_04 List\",\"-\")","v":"-"},{"$f":"IF(OR(IFERROR(MATCH($D1486,'Transparency List 2017'!$L:$L,0),FALSE),IFERROR(MATCH(TRIM($G1486),'Transparency List 2017'!$C:$C,0),FALSE)),\"On the 2017 List\",\"-\")","v":"-"},{"$f":"IF(OR(IFERROR(MATCH($D1486,'Transparency List 2015'!$H:$H,0),FALSE),IFERROR(MATCH(TRIM($G1486),'Transparency List 2015'!$C:$C,0),FALSE)),\"On the 2015 List\",\"-\")","v":"-"}]
[null,null,4,"",null,null,null,"-",{"$f":"IF(OR(IFERROR(MATCH($D1487,'Transparency List 2018_10'!$L:$L,0),FALSE),IFERROR(MATCH(TRIM($G1487),'Transparency List 2018_10'!$D:$D,0),FALSE)),\"On the 2018_10 List\",\"-\")","v":"-"},{"$f":"IF(OR(IFERROR(MATCH($D1487,'Transparency List 2018_04'!$L:$L,0),FALSE),IFERROR(MATCH(TRIM($G1487),'Transparency List 2018_04'!$D:$D,0),FALSE)),\"On the 2018_04 List\",\"-\")","v":"-"},{"$f":"IF(OR(IFERROR(MATCH($D1487,'Transparency List 2017'!$L:$L,0),FALSE),IFERROR(MATCH(TRIM($G1487),'Transparency List 2017'!$C:$C,0),FALSE)),\"On the 2017 List\",\"-\")","v":"-"},{"$f":"IF(OR(IFERROR(MATCH($D1487,'Transparency List 2015'!$H:$H,0),FALSE),IFERROR(MATCH(TRIM($G1487),'Transparency List 2015'!$C:$C,0),FALSE)),\"On the 2015 List\",\"-\")","v":"-"}]
[null,null,4,"",null,null,null,"-",{"$f":"IF(OR(IFERROR(MATCH($D1488,'Transparency List 2018_10'!$L:$L,0),FALSE),IFERROR(MATCH(TRIM($G1488),'Transparency List 2018_10'!$D:$D,0),FALSE)),\"On the 2018_10 List\",\"-\")","v":"-"},{"$f":"IF(OR(IFERROR(MATCH($D1488,'Transparency List 2018_04'!$L:$L,0),FALSE),IFERROR(MATCH(TRIM($G1488),'Transparency List 2018_04'!$D:$D,0),FALSE)),\"On the 2018_04 List\",\"-\")","v":"-"},{"$f":"IF(OR(IFERROR(MATCH($D1488,'Transparency List 2017'!$L:$L,0),FALSE),IFERROR(MATCH(TRIM($G1488),'Transparency List 2017'!$C:$C,0),FALSE)),\"On the 2017 List\",\"-\")","v":"-"},{"$f":"IF(OR(IFERROR(MATCH($D1488,'Transparency List 2015'!$H:$H,0),FALSE),IFERROR(MATCH(TRIM($G1488),'Transparency List 2015'!$C:$C,0),FALSE)),\"On the 2015 List\",\"-\")","v":"-"}]
[null,null,4,"",null,null,null,"-",{"$f":"IF(OR(IFERROR(MATCH($D1489,'Transparency List 2018_10'!$L:$L,0),FALSE),IFERROR(MATCH(TRIM($G1489),'Transparency List 2018_10'!$D:$D,0),FALSE)),\"On the 2018_10 List\",\"-\")","v":"-"},{"$f":"IF(OR(IFERROR(MATCH($D1489,'Transparency List 2018_04'!$L:$L,0),FALSE),IFERROR(MATCH(TRIM($G1489),'Transparency List 2018_04'!$D:$D,0),FALSE)),\"On the 2018_04 List\",\"-\")","v":"-"},{"$f":"IF(OR(IFERROR(MATCH($D1489,'Transparency List 2017'!$L:$L,0),FALSE),IFERROR(MATCH(TRIM($G1489),'Transparency List 2017'!$C:$C,0),FALSE)),\"On the 2017 List\",\"-\")","v":"-"},{"$f":"IF(OR(IFERROR(MATCH($D1489,'Transparency List 2015'!$H:$H,0),FALSE),IFERROR(MATCH(TRIM($G1489),'Transparency List 2015'!$C:$C,0),FALSE)),\"On the 2015 List\",\"-\")","v":"-"}]
[null,null,4,"",null,null,null,"-",{"$f":"IF(OR(IFERROR(MATCH($D1490,'Transparency List 2018_10'!$L:$L,0),FALSE),IFERROR(MATCH(TRIM($G1490),'Transparency List 2018_10'!$D:$D,0),FALSE)),\"On the 2018_10 List\",\"-\")","v":"-"},{"$f":"IF(OR(IFERROR(MATCH($D1490,'Transparency List 2018_04'!$L:$L,0),FALSE),IFERROR(MATCH(TRIM($G1490),'Transparency List 2018_04'!$D:$D,0),FALSE)),\"On the 2018_04 List\",\"-\")","v":"-"},{"$f":"IF(OR(IFERROR(MATCH($D1490,'Transparency List 2017'!$L:$L,0),FALSE),IFERROR(MATCH(TRIM($G1490),'Transparency List 2017'!$C:$C,0),FALSE)),\"On the 2017 List\",\"-\")","v":"-"},{"$f":"IF(OR(IFERROR(MATCH($D1490,'Transparency List 2015'!$H:$H,0),FALSE),IFERROR(MATCH(TRIM($G1490),'Transparency List 2015'!$C:$C,0),FALSE)),\"On the 2015 List\",\"-\")","v":"-"}]
[null,null,4,"",null,null,null,"-",{"$f":"IF(OR(IFERROR(MATCH($D1491,'Transparency List 2018_10'!$L:$L,0),FALSE),IFERROR(MATCH(TRIM($G1491),'Transparency List 2018_10'!$D:$D,0),FALSE)),\"On the 2018_10 List\",\"-\")","v":"-"},{"$f":"IF(OR(IFERROR(MATCH($D1491,'Transparency List 2018_04'!$L:$L,0),FALSE),IFERROR(MATCH(TRIM($G1491),'Transparency List 2018_04'!$D:$D,0),FALSE)),\"On the 2018_04 List\",\"-\")","v":"-"},{"$f":"IF(OR(IFERROR(MATCH($D1491,'Transparency List 2017'!$L:$L,0),FALSE),IFERROR(MATCH(TRIM($G1491),'Transparency List 2017'!$C:$C,0),FALSE)),\"On the 2017 List\",\"-\")","v":"-"},{"$f":"IF(OR(IFERROR(MATCH($D1491,'Transparency List 2015'!$H:$H,0),FALSE),IFERROR(MATCH(TRIM($G1491),'Transparency List 2015'!$C:$C,0),FALSE)),\"On the 2015 List\",\"-\")","v":"-"}]
[null,null,4,"",null,null,null,"-",{"$f":"IF(OR(IFERROR(MATCH($D1492,'Transparency List 2018_10'!$L:$L,0),FALSE),IFERROR(MATCH(TRIM($G1492),'Transparency List 2018_10'!$D:$D,0),FALSE)),\"On the 2018_10 List\",\"-\")","v":"-"},{"$f":"IF(OR(IFERROR(MATCH($D1492,'Transparency List 2018_04'!$L:$L,0),FALSE),IFERROR(MATCH(TRIM($G1492),'Transparency List 2018_04'!$D:$D,0),FALSE)),\"On the 2018_04 List\",\"-\")","v":"-"},{"$f":"IF(OR(IFERROR(MATCH($D1492,'Transparency List 2017'!$L:$L,0),FALSE),IFERROR(MATCH(TRIM($G1492),'Transparency List 2017'!$C:$C,0),FALSE)),\"On the 2017 List\",\"-\")","v":"-"},{"$f":"IF(OR(IFERROR(MATCH($D1492,'Transparency List 2015'!$H:$H,0),FALSE),IFERROR(MATCH(TRIM($G1492),'Transparency List 2015'!$C:$C,0),FALSE)),\"On the 2015 List\",\"-\")","v":"-"}]
[null,null,4,"",null,null,null,"-",{"$f":"IF(OR(IFERROR(MATCH($D1493,'Transparency List 2018_10'!$L:$L,0),FALSE),IFERROR(MATCH(TRIM($G1493),'Transparency List 2018_10'!$D:$D,0),FALSE)),\"On the 2018_10 List\",\"-\")","v":"-"},{"$f":"IF(OR(IFERROR(MATCH($D1493,'Transparency List 2018_04'!$L:$L,0),FALSE),IFERROR(MATCH(TRIM($G1493),'Transparency List 2018_04'!$D:$D,0),FALSE)),\"On the 2018_04 List\",\"-\")","v":"-"},{"$f":"IF(OR(IFERROR(MATCH($D1493,'Transparency List 2017'!$L:$L,0),FALSE),IFERROR(MATCH(TRIM($G1493),'Transparency List 2017'!$C:$C,0),FALSE)),\"On the 2017 List\",\"-\")","v":"-"},{"$f":"IF(OR(IFERROR(MATCH($D1493,'Transparency List 2015'!$H:$H,0),FALSE),IFERROR(MATCH(TRIM($G1493),'Transparency List 2015'!$C:$C,0),FALSE)),\"On the 2015 List\",\"-\")","v":"-"}]
[null,null,4,"",null,null,null,"-",{"$f":"IF(OR(IFERROR(MATCH($D1494,'Transparency List 2018_10'!$L:$L,0),FALSE),IFERROR(MATCH(TRIM($G1494),'Transparency List 2018_10'!$D:$D,0),FALSE)),\"On the 2018_10 List\",\"-\")","v":"-"},{"$f":"IF(OR(IFERROR(MATCH($D1494,'Transparency List 2018_04'!$L:$L,0),FALSE),IFERROR(MATCH(TRIM($G1494),'Transparency List 2018_04'!$D:$D,0),FALSE)),\"On the 2018_04 List\",\"-\")","v":"-"},{"$f":"IF(OR(IFERROR(MATCH($D1494,'Transparency List 2017'!$L:$L,0),FALSE),IFERROR(MATCH(TRIM($G1494),'Transparency List 2017'!$C:$C,0),FALSE)),\"On the 2017 List\",\"-\")","v":"-"},{"$f":"IF(OR(IFERROR(MATCH($D1494,'Transparency List 2015'!$H:$H,0),FALSE),IFERROR(MATCH(TRIM($G1494),'Transparency List 2015'!$C:$C,0),FALSE)),\"On the 2015 List\",\"-\")","v":"-"}]
[null,null,4,"",null,null,null,"-",{"$f":"IF(OR(IFERROR(MATCH($D1495,'Transparency List 2018_10'!$L:$L,0),FALSE),IFERROR(MATCH(TRIM($G1495),'Transparency List 2018_10'!$D:$D,0),FALSE)),\"On the 2018_10 List\",\"-\")","v":"-"},{"$f":"IF(OR(IFERROR(MATCH($D1495,'Transparency List 2018_04'!$L:$L,0),FALSE),IFERROR(MATCH(TRIM($G1495),'Transparency List 2018_04'!$D:$D,0),FALSE)),\"On the 2018_04 List\",\"-\")","v":"-"},{"$f":"IF(OR(IFERROR(MATCH($D1495,'Transparency List 2017'!$L:$L,0),FALSE),IFERROR(MATCH(TRIM($G1495),'Transparency List 2017'!$C:$C,0),FALSE)),\"On the 2017 List\",\"-\")","v":"-"},{"$f":"IF(OR(IFERROR(MATCH($D1495,'Transparency List 2015'!$H:$H,0),FALSE),IFERROR(MATCH(TRIM($G1495),'Transparency List 2015'!$C:$C,0),FALSE)),\"On the 2015 List\",\"-\")","v":"-"}]
[null,null,4,"",null,null,null,"-",{"$f":"IF(OR(IFERROR(MATCH($D1496,'Transparency List 2018_10'!$L:$L,0),FALSE),IFERROR(MATCH(TRIM($G1496),'Transparency List 2018_10'!$D:$D,0),FALSE)),\"On the 2018_10 List\",\"-\")","v":"-"},{"$f":"IF(OR(IFERROR(MATCH($D1496,'Transparency List 2018_04'!$L:$L,0),FALSE),IFERROR(MATCH(TRIM($G1496),'Transparency List 2018_04'!$D:$D,0),FALSE)),\"On the 2018_04 List\",\"-\")","v":"-"},{"$f":"IF(OR(IFERROR(MATCH($D1496,'Transparency List 2017'!$L:$L,0),FALSE),IFERROR(MATCH(TRIM($G1496),'Transparency List 2017'!$C:$C,0),FALSE)),\"On the 2017 List\",\"-\")","v":"-"},{"$f":"IF(OR(IFERROR(MATCH($D1496,'Transparency List 2015'!$H:$H,0),FALSE),IFERROR(MATCH(TRIM($G1496),'Transparency List 2015'!$C:$C,0),FALSE)),\"On the 2015 List\",\"-\")","v":"-"}]
[null,null,4,"",null,null,null,"-",{"$f":"IF(OR(IFERROR(MATCH($D1497,'Transparency List 2018_10'!$L:$L,0),FALSE),IFERROR(MATCH(TRIM($G1497),'Transparency List 2018_10'!$D:$D,0),FALSE)),\"On the 2018_10 List\",\"-\")","v":"-"},{"$f":"IF(OR(IFERROR(MATCH($D1497,'Transparency List 2018_04'!$L:$L,0),FALSE),IFERROR(MATCH(TRIM($G1497),'Transparency List 2018_04'!$D:$D,0),FALSE)),\"On the 2018_04 List\",\"-\")","v":"-"},{"$f":"IF(OR(IFERROR(MATCH($D1497,'Transparency List 2017'!$L:$L,0),FALSE),IFERROR(MATCH(TRIM($G1497),'Transparency List 2017'!$C:$C,0),FALSE)),\"On the 2017 List\",\"-\")","v":"-"},{"$f":"IF(OR(IFERROR(MATCH($D1497,'Transparency List 2015'!$H:$H,0),FALSE),IFERROR(MATCH(TRIM($G1497),'Transparency List 2015'!$C:$C,0),FALSE)),\"On the 2015 List\",\"-\")","v":"-"}]
[null,null,4,"",null,null,null,"-",{"$f":"IF(OR(IFERROR(MATCH($D1498,'Transparency List 2018_10'!$L:$L,0),FALSE),IFERROR(MATCH(TRIM($G1498),'Transparency List 2018_10'!$D:$D,0),FALSE)),\"On the 2018_10 List\",\"-\")","v":"-"},{"$f":"IF(OR(IFERROR(MATCH($D1498,'Transparency List 2018_04'!$L:$L,0),FALSE),IFERROR(MATCH(TRIM($G1498),'Transparency List 2018_04'!$D:$D,0),FALSE)),\"On the 2018_04 List\",\"-\")","v":"-"},{"$f":"IF(OR(IFERROR(MATCH($D1498,'Transparency List 2017'!$L:$L,0),FALSE),IFERROR(MATCH(TRIM($G1498),'Transparency List 2017'!$C:$C,0),FALSE)),\"On the 2017 List\",\"-\")","v":"-"},{"$f":"IF(OR(IFERROR(MATCH($D1498,'Transparency List 2015'!$H:$H,0),FALSE),IFERROR(MATCH(TRIM($G1498),'Transparency List 2015'!$C:$C,0),FALSE)),\"On the 2015 List\",\"-\")","v":"-"}]
[null,null,4,"",null,null,null,"-",{"$f":"IF(OR(IFERROR(MATCH($D1499,'Transparency List 2018_10'!$L:$L,0),FALSE),IFERROR(MATCH(TRIM($G1499),'Transparency List 2018_10'!$D:$D,0),FALSE)),\"On the 2018_10 List\",\"-\")","v":"-"},{"$f":"IF(OR(IFERROR(MATCH($D1499,'Transparency List 2018_04'!$L:$L,0),FALSE),IFERROR(MATCH(TRIM($G1499),'Transparency List 2018_04'!$D:$D,0),FALSE)),\"On the 2018_04 List\",\"-\")","v":"-"},{"$f":"IF(OR(IFERROR(MATCH($D1499,'Transparency List 2017'!$L:$L,0),FALSE),IFERROR(MATCH(TRIM($G1499),'Transparency List 2017'!$C:$C,0),FALSE)),\"On the 2017 List\",\"-\")","v":"-"},{"$f":"IF(OR(IFERROR(MATCH($D1499,'Transparency List 2015'!$H:$H,0),FALSE),IFERROR(MATCH(TRIM($G1499),'Transparency List 2015'!$C:$C,0),FALSE)),\"On the 2015 List\",\"-\")","v":"-"}]
[null,null,4,"",null,null,null,"-",{"$f":"IF(OR(IFERROR(MATCH($D1500,'Transparency List 2018_10'!$L:$L,0),FALSE),IFERROR(MATCH(TRIM($G1500),'Transparency List 2018_10'!$D:$D,0),FALSE)),\"On the 2018_10 List\",\"-\")","v":"-"},{"$f":"IF(OR(IFERROR(MATCH($D1500,'Transparency List 2018_04'!$L:$L,0),FALSE),IFERROR(MATCH(TRIM($G1500),'Transparency List 2018_04'!$D:$D,0),FALSE)),\"On the 2018_04 List\",\"-\")","v":"-"},{"$f":"IF(OR(IFERROR(MATCH($D1500,'Transparency List 2017'!$L:$L,0),FALSE),IFERROR(MATCH(TRIM($G1500),'Transparency List 2017'!$C:$C,0),FALSE)),\"On the 2017 List\",\"-\")","v":"-"},{"$f":"IF(OR(IFERROR(MATCH($D1500,'Transparency List 2015'!$H:$H,0),FALSE),IFERROR(MATCH(TRIM($G1500),'Transparency List 2015'!$C:$C,0),FALSE)),\"On the 2015 List\",\"-\")","v":"-"}]
[null,null,4,"",null,null,null,"-",{"$f":"IF(OR(IFERROR(MATCH($D1501,'Transparency List 2018_10'!$L:$L,0),FALSE),IFERROR(MATCH(TRIM($G1501),'Transparency List 2018_10'!$D:$D,0),FALSE)),\"On the 2018_10 List\",\"-\")","v":"-"},{"$f":"IF(OR(IFERROR(MATCH($D1501,'Transparency List 2018_04'!$L:$L,0),FALSE),IFERROR(MATCH(TRIM($G1501),'Transparency List 2018_04'!$D:$D,0),FALSE)),\"On the 2018_04 List\",\"-\")","v":"-"},{"$f":"IF(OR(IFERROR(MATCH($D1501,'Transparency List 2017'!$L:$L,0),FALSE),IFERROR(MATCH(TRIM($G1501),'Transparency List 2017'!$C:$C,0),FALSE)),\"On the 2017 List\",\"-\")","v":"-"},{"$f":"IF(OR(IFERROR(MATCH($D1501,'Transparency List 2015'!$H:$H,0),FALSE),IFERROR(MATCH(TRIM($G1501),'Transparency List 2015'!$C:$C,0),FALSE)),\"On the 2015 List\",\"-\")","v":"-"}]
[null,null,4,"",null,null,null,"-",{"$f":"IF(OR(IFERROR(MATCH($D1502,'Transparency List 2018_10'!$L:$L,0),FALSE),IFERROR(MATCH(TRIM($G1502),'Transparency List 2018_10'!$D:$D,0),FALSE)),\"On the 2018_10 List\",\"-\")","v":"-"},{"$f":"IF(OR(IFERROR(MATCH($D1502,'Transparency List 2018_04'!$L:$L,0),FALSE),IFERROR(MATCH(TRIM($G1502),'Transparency List 2018_04'!$D:$D,0),FALSE)),\"On the 2018_04 List\",\"-\")","v":"-"},{"$f":"IF(OR(IFERROR(MATCH($D1502,'Transparency List 2017'!$L:$L,0),FALSE),IFERROR(MATCH(TRIM($G1502),'Transparency List 2017'!$C:$C,0),FALSE)),\"On the 2017 List\",\"-\")","v":"-"},{"$f":"IF(OR(IFERROR(MATCH($D1502,'Transparency List 2015'!$H:$H,0),FALSE),IFERROR(MATCH(TRIM($G1502),'Transparency List 2015'!$C:$C,0),FALSE)),\"On the 2015 List\",\"-\")","v":"-"}]
[null,null,{"$f":"COUNTIF($I1503:$L1503,\"-\")","v":4},{"$f":"SUBSTITUTE(SUBSTITUTE(SUBSTITUTE(SUBSTITUTE($G1503,\" \",\"\"),\".\",\"\"),\"-\",\"\"),\"/\",\"\")","v":""},null,null,null,{"$f":"IFERROR(IF($C1503=4,\"-\",\"Risk Farmer - Please conduct further steps\"),)","v":"-"},{"$f":"IF(OR(IFERROR(MATCH($D1503,'Transparency List 2018_10'!$L:$L,0),FALSE),IFERROR(MATCH(TRIM($G1503),'Transparency List 2018_10'!$D:$D,0),FALSE)),\"On the 2018_10 List\",\"-\")","v":"-"},{"$f":"IF(OR(IFERROR(MATCH($D1503,'Transparency List 2018_04'!$L:$L,0),FALSE),IFERROR(MATCH(TRIM($G1503),'Transparency List 2018_04'!$D:$D,0),FALSE)),\"On the 2018_04 List\",\"-\")","v":"-"},{"$f":"IF(OR(IFERROR(MATCH($D1503,'Transparency List 2017'!$L:$L,0),FALSE),IFERROR(MATCH(TRIM($G1503),'Transparency List 2017'!$C:$C,0),FALSE)),\"On the 2017 List\",\"-\")","v":"-"},{"$f":"IF(OR(IFERROR(MATCH($D1503,'Transparency List 2015'!$H:$H,0),FALSE),IFERROR(MATCH(TRIM($G1503),'Transparency List 2015'!$C:$C,0),FALSE)),\"On the 2015 List\",\"-\")","v":"-"}]
[null,null,4,"",null,null,null,"-",{"$f":"IF(OR(IFERROR(MATCH($D1504,'Transparency List 2018_10'!$L:$L,0),FALSE),IFERROR(MATCH(TRIM($G1504),'Transparency List 2018_10'!$D:$D,0),FALSE)),\"On the 2018_10 List\",\"-\")","v":"-"},{"$f":"IF(OR(IFERROR(MATCH($D1504,'Transparency List 2018_04'!$L:$L,0),FALSE),IFERROR(MATCH(TRIM($G1504),'Transparency List 2018_04'!$D:$D,0),FALSE)),\"On the 2018_04 List\",\"-\")","v":"-"},{"$f":"IF(OR(IFERROR(MATCH($D1504,'Transparency List 2017'!$L:$L,0),FALSE),IFERROR(MATCH(TRIM($G1504),'Transparency List 2017'!$C:$C,0),FALSE)),\"On the 2017 List\",\"-\")","v":"-"},{"$f":"IF(OR(IFERROR(MATCH($D1504,'Transparency List 2015'!$H:$H,0),FALSE),IFERROR(MATCH(TRIM($G1504),'Transparency List 2015'!$C:$C,0),FALSE)),\"On the 2015 List\",\"-\")","v":"-"}]
[null,null,4,"",null,null,null,"-",{"$f":"IF(OR(IFERROR(MATCH($D1505,'Transparency List 2018_10'!$L:$L,0),FALSE),IFERROR(MATCH(TRIM($G1505),'Transparency List 2018_10'!$D:$D,0),FALSE)),\"On the 2018_10 List\",\"-\")","v":"-"},{"$f":"IF(OR(IFERROR(MATCH($D1505,'Transparency List 2018_04'!$L:$L,0),FALSE),IFERROR(MATCH(TRIM($G1505),'Transparency List 2018_04'!$D:$D,0),FALSE)),\"On the 2018_04 List\",\"-\")","v":"-"},{"$f":"IF(OR(IFERROR(MATCH($D1505,'Transparency List 2017'!$L:$L,0),FALSE),IFERROR(MATCH(TRIM($G1505),'Transparency List 2017'!$C:$C,0),FALSE)),\"On the 2017 List\",\"-\")","v":"-"},{"$f":"IF(OR(IFERROR(MATCH($D1505,'Transparency List 2015'!$H:$H,0),FALSE),IFERROR(MATCH(TRIM($G1505),'Transparency List 2015'!$C:$C,0),FALSE)),\"On the 2015 List\",\"-\")","v":"-"}]
[null,null,4,"",null,null,null,"-",{"$f":"IF(OR(IFERROR(MATCH($D1506,'Transparency List 2018_10'!$L:$L,0),FALSE),IFERROR(MATCH(TRIM($G1506),'Transparency List 2018_10'!$D:$D,0),FALSE)),\"On the 2018_10 List\",\"-\")","v":"-"},{"$f":"IF(OR(IFERROR(MATCH($D1506,'Transparency List 2018_04'!$L:$L,0),FALSE),IFERROR(MATCH(TRIM($G1506),'Transparency List 2018_04'!$D:$D,0),FALSE)),\"On the 2018_04 List\",\"-\")","v":"-"},{"$f":"IF(OR(IFERROR(MATCH($D1506,'Transparency List 2017'!$L:$L,0),FALSE),IFERROR(MATCH(TRIM($G1506),'Transparency List 2017'!$C:$C,0),FALSE)),\"On the 2017 List\",\"-\")","v":"-"},{"$f":"IF(OR(IFERROR(MATCH($D1506,'Transparency List 2015'!$H:$H,0),FALSE),IFERROR(MATCH(TRIM($G1506),'Transparency List 2015'!$C:$C,0),FALSE)),\"On the 2015 List\",\"-\")","v":"-"}]
[null,null,4,"",null,null,null,"-",{"$f":"IF(OR(IFERROR(MATCH($D1507,'Transparency List 2018_10'!$L:$L,0),FALSE),IFERROR(MATCH(TRIM($G1507),'Transparency List 2018_10'!$D:$D,0),FALSE)),\"On the 2018_10 List\",\"-\")","v":"-"},{"$f":"IF(OR(IFERROR(MATCH($D1507,'Transparency List 2018_04'!$L:$L,0),FALSE),IFERROR(MATCH(TRIM($G1507),'Transparency List 2018_04'!$D:$D,0),FALSE)),\"On the 2018_04 List\",\"-\")","v":"-"},{"$f":"IF(OR(IFERROR(MATCH($D1507,'Transparency List 2017'!$L:$L,0),FALSE),IFERROR(MATCH(TRIM($G1507),'Transparency List 2017'!$C:$C,0),FALSE)),\"On the 2017 List\",\"-\")","v":"-"},{"$f":"IF(OR(IFERROR(MATCH($D1507,'Transparency List 2015'!$H:$H,0),FALSE),IFERROR(MATCH(TRIM($G1507),'Transparency List 2015'!$C:$C,0),FALSE)),\"On the 2015 List\",\"-\")","v":"-"}]
[null,null,4,"",null,null,null,"-",{"$f":"IF(OR(IFERROR(MATCH($D1508,'Transparency List 2018_10'!$L:$L,0),FALSE),IFERROR(MATCH(TRIM($G1508),'Transparency List 2018_10'!$D:$D,0),FALSE)),\"On the 2018_10 List\",\"-\")","v":"-"},{"$f":"IF(OR(IFERROR(MATCH($D1508,'Transparency List 2018_04'!$L:$L,0),FALSE),IFERROR(MATCH(TRIM($G1508),'Transparency List 2018_04'!$D:$D,0),FALSE)),\"On the 2018_04 List\",\"-\")","v":"-"},{"$f":"IF(OR(IFERROR(MATCH($D1508,'Transparency List 2017'!$L:$L,0),FALSE),IFERROR(MATCH(TRIM($G1508),'Transparency List 2017'!$C:$C,0),FALSE)),\"On the 2017 List\",\"-\")","v":"-"},{"$f":"IF(OR(IFERROR(MATCH($D1508,'Transparency List 2015'!$H:$H,0),FALSE),IFERROR(MATCH(TRIM($G1508),'Transparency List 2015'!$C:$C,0),FALSE)),\"On the 2015 List\",\"-\")","v":"-"}]
[null,null,4,"",null,null,null,"-",{"$f":"IF(OR(IFERROR(MATCH($D1509,'Transparency List 2018_10'!$L:$L,0),FALSE),IFERROR(MATCH(TRIM($G1509),'Transparency List 2018_10'!$D:$D,0),FALSE)),\"On the 2018_10 List\",\"-\")","v":"-"},{"$f":"IF(OR(IFERROR(MATCH($D1509,'Transparency List 2018_04'!$L:$L,0),FALSE),IFERROR(MATCH(TRIM($G1509),'Transparency List 2018_04'!$D:$D,0),FALSE)),\"On the 2018_04 List\",\"-\")","v":"-"},{"$f":"IF(OR(IFERROR(MATCH($D1509,'Transparency List 2017'!$L:$L,0),FALSE),IFERROR(MATCH(TRIM($G1509),'Transparency List 2017'!$C:$C,0),FALSE)),\"On the 2017 List\",\"-\")","v":"-"},{"$f":"IF(OR(IFERROR(MATCH($D1509,'Transparency List 2015'!$H:$H,0),FALSE),IFERROR(MATCH(TRIM($G1509),'Transparency List 2015'!$C:$C,0),FALSE)),\"On the 2015 List\",\"-\")","v":"-"}]
[null,null,4,"",null,null,null,"-",{"$f":"IF(OR(IFERROR(MATCH($D1510,'Transparency List 2018_10'!$L:$L,0),FALSE),IFERROR(MATCH(TRIM($G1510),'Transparency List 2018_10'!$D:$D,0),FALSE)),\"On the 2018_10 List\",\"-\")","v":"-"},{"$f":"IF(OR(IFERROR(MATCH($D1510,'Transparency List 2018_04'!$L:$L,0),FALSE),IFERROR(MATCH(TRIM($G1510),'Transparency List 2018_04'!$D:$D,0),FALSE)),\"On the 2018_04 List\",\"-\")","v":"-"},{"$f":"IF(OR(IFERROR(MATCH($D1510,'Transparency List 2017'!$L:$L,0),FALSE),IFERROR(MATCH(TRIM($G1510),'Transparency List 2017'!$C:$C,0),FALSE)),\"On the 2017 List\",\"-\")","v":"-"},{"$f":"IF(OR(IFERROR(MATCH($D1510,'Transparency List 2015'!$H:$H,0),FALSE),IFERROR(MATCH(TRIM($G1510),'Transparency List 2015'!$C:$C,0),FALSE)),\"On the 2015 List\",\"-\")","v":"-"}]
[null,null,4,"",null,null,null,"-",{"$f":"IF(OR(IFERROR(MATCH($D1511,'Transparency List 2018_10'!$L:$L,0),FALSE),IFERROR(MATCH(TRIM($G1511),'Transparency List 2018_10'!$D:$D,0),FALSE)),\"On the 2018_10 List\",\"-\")","v":"-"},{"$f":"IF(OR(IFERROR(MATCH($D1511,'Transparency List 2018_04'!$L:$L,0),FALSE),IFERROR(MATCH(TRIM($G1511),'Transparency List 2018_04'!$D:$D,0),FALSE)),\"On the 2018_04 List\",\"-\")","v":"-"},{"$f":"IF(OR(IFERROR(MATCH($D1511,'Transparency List 2017'!$L:$L,0),FALSE),IFERROR(MATCH(TRIM($G1511),'Transparency List 2017'!$C:$C,0),FALSE)),\"On the 2017 List\",\"-\")","v":"-"},{"$f":"IF(OR(IFERROR(MATCH($D1511,'Transparency List 2015'!$H:$H,0),FALSE),IFERROR(MATCH(TRIM($G1511),'Transparency List 2015'!$C:$C,0),FALSE)),\"On the 2015 List\",\"-\")","v":"-"}]
[null,null,4,"",null,null,null,"-",{"$f":"IF(OR(IFERROR(MATCH($D1512,'Transparency List 2018_10'!$L:$L,0),FALSE),IFERROR(MATCH(TRIM($G1512),'Transparency List 2018_10'!$D:$D,0),FALSE)),\"On the 2018_10 List\",\"-\")","v":"-"},{"$f":"IF(OR(IFERROR(MATCH($D1512,'Transparency List 2018_04'!$L:$L,0),FALSE),IFERROR(MATCH(TRIM($G1512),'Transparency List 2018_04'!$D:$D,0),FALSE)),\"On the 2018_04 List\",\"-\")","v":"-"},{"$f":"IF(OR(IFERROR(MATCH($D1512,'Transparency List 2017'!$L:$L,0),FALSE),IFERROR(MATCH(TRIM($G1512),'Transparency List 2017'!$C:$C,0),FALSE)),\"On the 2017 List\",\"-\")","v":"-"},{"$f":"IF(OR(IFERROR(MATCH($D1512,'Transparency List 2015'!$H:$H,0),FALSE),IFERROR(MATCH(TRIM($G1512),'Transparency List 2015'!$C:$C,0),FALSE)),\"On the 2015 List\",\"-\")","v":"-"}]
[null,null,4,"",null,null,null,"-",{"$f":"IF(OR(IFERROR(MATCH($D1513,'Transparency List 2018_10'!$L:$L,0),FALSE),IFERROR(MATCH(TRIM($G1513),'Transparency List 2018_10'!$D:$D,0),FALSE)),\"On the 2018_10 List\",\"-\")","v":"-"},{"$f":"IF(OR(IFERROR(MATCH($D1513,'Transparency List 2018_04'!$L:$L,0),FALSE),IFERROR(MATCH(TRIM($G1513),'Transparency List 2018_04'!$D:$D,0),FALSE)),\"On the 2018_04 List\",\"-\")","v":"-"},{"$f":"IF(OR(IFERROR(MATCH($D1513,'Transparency List 2017'!$L:$L,0),FALSE),IFERROR(MATCH(TRIM($G1513),'Transparency List 2017'!$C:$C,0),FALSE)),\"On the 2017 List\",\"-\")","v":"-"},{"$f":"IF(OR(IFERROR(MATCH($D1513,'Transparency List 2015'!$H:$H,0),FALSE),IFERROR(MATCH(TRIM($G1513),'Transparency List 2015'!$C:$C,0),FALSE)),\"On the 2015 List\",\"-\")","v":"-"}]
[null,null,4,"",null,null,null,"-",{"$f":"IF(OR(IFERROR(MATCH($D1514,'Transparency List 2018_10'!$L:$L,0),FALSE),IFERROR(MATCH(TRIM($G1514),'Transparency List 2018_10'!$D:$D,0),FALSE)),\"On the 2018_10 List\",\"-\")","v":"-"},{"$f":"IF(OR(IFERROR(MATCH($D1514,'Transparency List 2018_04'!$L:$L,0),FALSE),IFERROR(MATCH(TRIM($G1514),'Transparency List 2018_04'!$D:$D,0),FALSE)),\"On the 2018_04 List\",\"-\")","v":"-"},{"$f":"IF(OR(IFERROR(MATCH($D1514,'Transparency List 2017'!$L:$L,0),FALSE),IFERROR(MATCH(TRIM($G1514),'Transparency List 2017'!$C:$C,0),FALSE)),\"On the 2017 List\",\"-\")","v":"-"},{"$f":"IF(OR(IFERROR(MATCH($D1514,'Transparency List 2015'!$H:$H,0),FALSE),IFERROR(MATCH(TRIM($G1514),'Transparency List 2015'!$C:$C,0),FALSE)),\"On the 2015 List\",\"-\")","v":"-"}]
[null,null,4,"",null,null,null,"-",{"$f":"IF(OR(IFERROR(MATCH($D1515,'Transparency List 2018_10'!$L:$L,0),FALSE),IFERROR(MATCH(TRIM($G1515),'Transparency List 2018_10'!$D:$D,0),FALSE)),\"On the 2018_10 List\",\"-\")","v":"-"},{"$f":"IF(OR(IFERROR(MATCH($D1515,'Transparency List 2018_04'!$L:$L,0),FALSE),IFERROR(MATCH(TRIM($G1515),'Transparency List 2018_04'!$D:$D,0),FALSE)),\"On the 2018_04 List\",\"-\")","v":"-"},{"$f":"IF(OR(IFERROR(MATCH($D1515,'Transparency List 2017'!$L:$L,0),FALSE),IFERROR(MATCH(TRIM($G1515),'Transparency List 2017'!$C:$C,0),FALSE)),\"On the 2017 List\",\"-\")","v":"-"},{"$f":"IF(OR(IFERROR(MATCH($D1515,'Transparency List 2015'!$H:$H,0),FALSE),IFERROR(MATCH(TRIM($G1515),'Transparency List 2015'!$C:$C,0),FALSE)),\"On the 2015 List\",\"-\")","v":"-"}]
[null,null,4,"",null,null,null,"-",{"$f":"IF(OR(IFERROR(MATCH($D1516,'Transparency List 2018_10'!$L:$L,0),FALSE),IFERROR(MATCH(TRIM($G1516),'Transparency List 2018_10'!$D:$D,0),FALSE)),\"On the 2018_10 List\",\"-\")","v":"-"},{"$f":"IF(OR(IFERROR(MATCH($D1516,'Transparency List 2018_04'!$L:$L,0),FALSE),IFERROR(MATCH(TRIM($G1516),'Transparency List 2018_04'!$D:$D,0),FALSE)),\"On the 2018_04 List\",\"-\")","v":"-"},{"$f":"IF(OR(IFERROR(MATCH($D1516,'Transparency List 2017'!$L:$L,0),FALSE),IFERROR(MATCH(TRIM($G1516),'Transparency List 2017'!$C:$C,0),FALSE)),\"On the 2017 List\",\"-\")","v":"-"},{"$f":"IF(OR(IFERROR(MATCH($D1516,'Transparency List 2015'!$H:$H,0),FALSE),IFERROR(MATCH(TRIM($G1516),'Transparency List 2015'!$C:$C,0),FALSE)),\"On the 2015 List\",\"-\")","v":"-"}]
[null,null,4,"",null,null,null,"-",{"$f":"IF(OR(IFERROR(MATCH($D1517,'Transparency List 2018_10'!$L:$L,0),FALSE),IFERROR(MATCH(TRIM($G1517),'Transparency List 2018_10'!$D:$D,0),FALSE)),\"On the 2018_10 List\",\"-\")","v":"-"},{"$f":"IF(OR(IFERROR(MATCH($D1517,'Transparency List 2018_04'!$L:$L,0),FALSE),IFERROR(MATCH(TRIM($G1517),'Transparency List 2018_04'!$D:$D,0),FALSE)),\"On the 2018_04 List\",\"-\")","v":"-"},{"$f":"IF(OR(IFERROR(MATCH($D1517,'Transparency List 2017'!$L:$L,0),FALSE),IFERROR(MATCH(TRIM($G1517),'Transparency List 2017'!$C:$C,0),FALSE)),\"On the 2017 List\",\"-\")","v":"-"},{"$f":"IF(OR(IFERROR(MATCH($D1517,'Transparency List 2015'!$H:$H,0),FALSE),IFERROR(MATCH(TRIM($G1517),'Transparency List 2015'!$C:$C,0),FALSE)),\"On the 2015 List\",\"-\")","v":"-"}]
[null,null,4,"",null,null,null,"-",{"$f":"IF(OR(IFERROR(MATCH($D1518,'Transparency List 2018_10'!$L:$L,0),FALSE),IFERROR(MATCH(TRIM($G1518),'Transparency List 2018_10'!$D:$D,0),FALSE)),\"On the 2018_10 List\",\"-\")","v":"-"},{"$f":"IF(OR(IFERROR(MATCH($D1518,'Transparency List 2018_04'!$L:$L,0),FALSE),IFERROR(MATCH(TRIM($G1518),'Transparency List 2018_04'!$D:$D,0),FALSE)),\"On the 2018_04 List\",\"-\")","v":"-"},{"$f":"IF(OR(IFERROR(MATCH($D1518,'Transparency List 2017'!$L:$L,0),FALSE),IFERROR(MATCH(TRIM($G1518),'Transparency List 2017'!$C:$C,0),FALSE)),\"On the 2017 List\",\"-\")","v":"-"},{"$f":"IF(OR(IFERROR(MATCH($D1518,'Transparency List 2015'!$H:$H,0),FALSE),IFERROR(MATCH(TRIM($G1518),'Transparency List 2015'!$C:$C,0),FALSE)),\"On the 2015 List\",\"-\")","v":"-"}]
[null,null,4,"",null,null,null,"-",{"$f":"IF(OR(IFERROR(MATCH($D1519,'Transparency List 2018_10'!$L:$L,0),FALSE),IFERROR(MATCH(TRIM($G1519),'Transparency List 2018_10'!$D:$D,0),FALSE)),\"On the 2018_10 List\",\"-\")","v":"-"},{"$f":"IF(OR(IFERROR(MATCH($D1519,'Transparency List 2018_04'!$L:$L,0),FALSE),IFERROR(MATCH(TRIM($G1519),'Transparency List 2018_04'!$D:$D,0),FALSE)),\"On the 2018_04 List\",\"-\")","v":"-"},{"$f":"IF(OR(IFERROR(MATCH($D1519,'Transparency List 2017'!$L:$L,0),FALSE),IFERROR(MATCH(TRIM($G1519),'Transparency List 2017'!$C:$C,0),FALSE)),\"On the 2017 List\",\"-\")","v":"-"},{"$f":"IF(OR(IFERROR(MATCH($D1519,'Transparency List 2015'!$H:$H,0),FALSE),IFERROR(MATCH(TRIM($G1519),'Transparency List 2015'!$C:$C,0),FALSE)),\"On the 2015 List\",\"-\")","v":"-"}]
[null,null,4,"",null,null,null,"-",{"$f":"IF(OR(IFERROR(MATCH($D1520,'Transparency List 2018_10'!$L:$L,0),FALSE),IFERROR(MATCH(TRIM($G1520),'Transparency List 2018_10'!$D:$D,0),FALSE)),\"On the 2018_10 List\",\"-\")","v":"-"},{"$f":"IF(OR(IFERROR(MATCH($D1520,'Transparency List 2018_04'!$L:$L,0),FALSE),IFERROR(MATCH(TRIM($G1520),'Transparency List 2018_04'!$D:$D,0),FALSE)),\"On the 2018_04 List\",\"-\")","v":"-"},{"$f":"IF(OR(IFERROR(MATCH($D1520,'Transparency List 2017'!$L:$L,0),FALSE),IFERROR(MATCH(TRIM($G1520),'Transparency List 2017'!$C:$C,0),FALSE)),\"On the 2017 List\",\"-\")","v":"-"},{"$f":"IF(OR(IFERROR(MATCH($D1520,'Transparency List 2015'!$H:$H,0),FALSE),IFERROR(MATCH(TRIM($G1520),'Transparency List 2015'!$C:$C,0),FALSE)),\"On the 2015 List\",\"-\")","v":"-"}]
[null,null,4,"",null,null,null,"-",{"$f":"IF(OR(IFERROR(MATCH($D1521,'Transparency List 2018_10'!$L:$L,0),FALSE),IFERROR(MATCH(TRIM($G1521),'Transparency List 2018_10'!$D:$D,0),FALSE)),\"On the 2018_10 List\",\"-\")","v":"-"},{"$f":"IF(OR(IFERROR(MATCH($D1521,'Transparency List 2018_04'!$L:$L,0),FALSE),IFERROR(MATCH(TRIM($G1521),'Transparency List 2018_04'!$D:$D,0),FALSE)),\"On the 2018_04 List\",\"-\")","v":"-"},{"$f":"IF(OR(IFERROR(MATCH($D1521,'Transparency List 2017'!$L:$L,0),FALSE),IFERROR(MATCH(TRIM($G1521),'Transparency List 2017'!$C:$C,0),FALSE)),\"On the 2017 List\",\"-\")","v":"-"},{"$f":"IF(OR(IFERROR(MATCH($D1521,'Transparency List 2015'!$H:$H,0),FALSE),IFERROR(MATCH(TRIM($G1521),'Transparency List 2015'!$C:$C,0),FALSE)),\"On the 2015 List\",\"-\")","v":"-"}]
[null,null,4,"",null,null,null,"-",{"$f":"IF(OR(IFERROR(MATCH($D1522,'Transparency List 2018_10'!$L:$L,0),FALSE),IFERROR(MATCH(TRIM($G1522),'Transparency List 2018_10'!$D:$D,0),FALSE)),\"On the 2018_10 List\",\"-\")","v":"-"},{"$f":"IF(OR(IFERROR(MATCH($D1522,'Transparency List 2018_04'!$L:$L,0),FALSE),IFERROR(MATCH(TRIM($G1522),'Transparency List 2018_04'!$D:$D,0),FALSE)),\"On the 2018_04 List\",\"-\")","v":"-"},{"$f":"IF(OR(IFERROR(MATCH($D1522,'Transparency List 2017'!$L:$L,0),FALSE),IFERROR(MATCH(TRIM($G1522),'Transparency List 2017'!$C:$C,0),FALSE)),\"On the 2017 List\",\"-\")","v":"-"},{"$f":"IF(OR(IFERROR(MATCH($D1522,'Transparency List 2015'!$H:$H,0),FALSE),IFERROR(MATCH(TRIM($G1522),'Transparency List 2015'!$C:$C,0),FALSE)),\"On the 2015 List\",\"-\")","v":"-"}]
[null,null,4,"",null,null,null,"-",{"$f":"IF(OR(IFERROR(MATCH($D1523,'Transparency List 2018_10'!$L:$L,0),FALSE),IFERROR(MATCH(TRIM($G1523),'Transparency List 2018_10'!$D:$D,0),FALSE)),\"On the 2018_10 List\",\"-\")","v":"-"},{"$f":"IF(OR(IFERROR(MATCH($D1523,'Transparency List 2018_04'!$L:$L,0),FALSE),IFERROR(MATCH(TRIM($G1523),'Transparency List 2018_04'!$D:$D,0),FALSE)),\"On the 2018_04 List\",\"-\")","v":"-"},{"$f":"IF(OR(IFERROR(MATCH($D1523,'Transparency List 2017'!$L:$L,0),FALSE),IFERROR(MATCH(TRIM($G1523),'Transparency List 2017'!$C:$C,0),FALSE)),\"On the 2017 List\",\"-\")","v":"-"},{"$f":"IF(OR(IFERROR(MATCH($D1523,'Transparency List 2015'!$H:$H,0),FALSE),IFERROR(MATCH(TRIM($G1523),'Transparency List 2015'!$C:$C,0),FALSE)),\"On the 2015 List\",\"-\")","v":"-"}]
[null,null,4,"",null,null,null,"-",{"$f":"IF(OR(IFERROR(MATCH($D1524,'Transparency List 2018_10'!$L:$L,0),FALSE),IFERROR(MATCH(TRIM($G1524),'Transparency List 2018_10'!$D:$D,0),FALSE)),\"On the 2018_10 List\",\"-\")","v":"-"},{"$f":"IF(OR(IFERROR(MATCH($D1524,'Transparency List 2018_04'!$L:$L,0),FALSE),IFERROR(MATCH(TRIM($G1524),'Transparency List 2018_04'!$D:$D,0),FALSE)),\"On the 2018_04 List\",\"-\")","v":"-"},{"$f":"IF(OR(IFERROR(MATCH($D1524,'Transparency List 2017'!$L:$L,0),FALSE),IFERROR(MATCH(TRIM($G1524),'Transparency List 2017'!$C:$C,0),FALSE)),\"On the 2017 List\",\"-\")","v":"-"},{"$f":"IF(OR(IFERROR(MATCH($D1524,'Transparency List 2015'!$H:$H,0),FALSE),IFERROR(MATCH(TRIM($G1524),'Transparency List 2015'!$C:$C,0),FALSE)),\"On the 2015 List\",\"-\")","v":"-"}]
[null,null,4,"",null,null,null,"-",{"$f":"IF(OR(IFERROR(MATCH($D1525,'Transparency List 2018_10'!$L:$L,0),FALSE),IFERROR(MATCH(TRIM($G1525),'Transparency List 2018_10'!$D:$D,0),FALSE)),\"On the 2018_10 List\",\"-\")","v":"-"},{"$f":"IF(OR(IFERROR(MATCH($D1525,'Transparency List 2018_04'!$L:$L,0),FALSE),IFERROR(MATCH(TRIM($G1525),'Transparency List 2018_04'!$D:$D,0),FALSE)),\"On the 2018_04 List\",\"-\")","v":"-"},{"$f":"IF(OR(IFERROR(MATCH($D1525,'Transparency List 2017'!$L:$L,0),FALSE),IFERROR(MATCH(TRIM($G1525),'Transparency List 2017'!$C:$C,0),FALSE)),\"On the 2017 List\",\"-\")","v":"-"},{"$f":"IF(OR(IFERROR(MATCH($D1525,'Transparency List 2015'!$H:$H,0),FALSE),IFERROR(MATCH(TRIM($G1525),'Transparency List 2015'!$C:$C,0),FALSE)),\"On the 2015 List\",\"-\")","v":"-"}]
[null,null,4,"",null,null,null,"-",{"$f":"IF(OR(IFERROR(MATCH($D1526,'Transparency List 2018_10'!$L:$L,0),FALSE),IFERROR(MATCH(TRIM($G1526),'Transparency List 2018_10'!$D:$D,0),FALSE)),\"On the 2018_10 List\",\"-\")","v":"-"},{"$f":"IF(OR(IFERROR(MATCH($D1526,'Transparency List 2018_04'!$L:$L,0),FALSE),IFERROR(MATCH(TRIM($G1526),'Transparency List 2018_04'!$D:$D,0),FALSE)),\"On the 2018_04 List\",\"-\")","v":"-"},{"$f":"IF(OR(IFERROR(MATCH($D1526,'Transparency List 2017'!$L:$L,0),FALSE),IFERROR(MATCH(TRIM($G1526),'Transparency List 2017'!$C:$C,0),FALSE)),\"On the 2017 List\",\"-\")","v":"-"},{"$f":"IF(OR(IFERROR(MATCH($D1526,'Transparency List 2015'!$H:$H,0),FALSE),IFERROR(MATCH(TRIM($G1526),'Transparency List 2015'!$C:$C,0),FALSE)),\"On the 2015 List\",\"-\")","v":"-"}]
[null,null,4,"",null,null,null,"-",{"$f":"IF(OR(IFERROR(MATCH($D1527,'Transparency List 2018_10'!$L:$L,0),FALSE),IFERROR(MATCH(TRIM($G1527),'Transparency List 2018_10'!$D:$D,0),FALSE)),\"On the 2018_10 List\",\"-\")","v":"-"},{"$f":"IF(OR(IFERROR(MATCH($D1527,'Transparency List 2018_04'!$L:$L,0),FALSE),IFERROR(MATCH(TRIM($G1527),'Transparency List 2018_04'!$D:$D,0),FALSE)),\"On the 2018_04 List\",\"-\")","v":"-"},{"$f":"IF(OR(IFERROR(MATCH($D1527,'Transparency List 2017'!$L:$L,0),FALSE),IFERROR(MATCH(TRIM($G1527),'Transparency List 2017'!$C:$C,0),FALSE)),\"On the 2017 List\",\"-\")","v":"-"},{"$f":"IF(OR(IFERROR(MATCH($D1527,'Transparency List 2015'!$H:$H,0),FALSE),IFERROR(MATCH(TRIM($G1527),'Transparency List 2015'!$C:$C,0),FALSE)),\"On the 2015 List\",\"-\")","v":"-"}]
[null,null,4,"",null,null,null,"-",{"$f":"IF(OR(IFERROR(MATCH($D1528,'Transparency List 2018_10'!$L:$L,0),FALSE),IFERROR(MATCH(TRIM($G1528),'Transparency List 2018_10'!$D:$D,0),FALSE)),\"On the 2018_10 List\",\"-\")","v":"-"},{"$f":"IF(OR(IFERROR(MATCH($D1528,'Transparency List 2018_04'!$L:$L,0),FALSE),IFERROR(MATCH(TRIM($G1528),'Transparency List 2018_04'!$D:$D,0),FALSE)),\"On the 2018_04 List\",\"-\")","v":"-"},{"$f":"IF(OR(IFERROR(MATCH($D1528,'Transparency List 2017'!$L:$L,0),FALSE),IFERROR(MATCH(TRIM($G1528),'Transparency List 2017'!$C:$C,0),FALSE)),\"On the 2017 List\",\"-\")","v":"-"},{"$f":"IF(OR(IFERROR(MATCH($D1528,'Transparency List 2015'!$H:$H,0),FALSE),IFERROR(MATCH(TRIM($G1528),'Transparency List 2015'!$C:$C,0),FALSE)),\"On the 2015 List\",\"-\")","v":"-"}]
[null,null,4,"",null,null,null,"-",{"$f":"IF(OR(IFERROR(MATCH($D1529,'Transparency List 2018_10'!$L:$L,0),FALSE),IFERROR(MATCH(TRIM($G1529),'Transparency List 2018_10'!$D:$D,0),FALSE)),\"On the 2018_10 List\",\"-\")","v":"-"},{"$f":"IF(OR(IFERROR(MATCH($D1529,'Transparency List 2018_04'!$L:$L,0),FALSE),IFERROR(MATCH(TRIM($G1529),'Transparency List 2018_04'!$D:$D,0),FALSE)),\"On the 2018_04 List\",\"-\")","v":"-"},{"$f":"IF(OR(IFERROR(MATCH($D1529,'Transparency List 2017'!$L:$L,0),FALSE),IFERROR(MATCH(TRIM($G1529),'Transparency List 2017'!$C:$C,0),FALSE)),\"On the 2017 List\",\"-\")","v":"-"},{"$f":"IF(OR(IFERROR(MATCH($D1529,'Transparency List 2015'!$H:$H,0),FALSE),IFERROR(MATCH(TRIM($G1529),'Transparency List 2015'!$C:$C,0),FALSE)),\"On the 2015 List\",\"-\")","v":"-"}]
[null,null,4,"",null,null,null,"-",{"$f":"IF(OR(IFERROR(MATCH($D1530,'Transparency List 2018_10'!$L:$L,0),FALSE),IFERROR(MATCH(TRIM($G1530),'Transparency List 2018_10'!$D:$D,0),FALSE)),\"On the 2018_10 List\",\"-\")","v":"-"},{"$f":"IF(OR(IFERROR(MATCH($D1530,'Transparency List 2018_04'!$L:$L,0),FALSE),IFERROR(MATCH(TRIM($G1530),'Transparency List 2018_04'!$D:$D,0),FALSE)),\"On the 2018_04 List\",\"-\")","v":"-"},{"$f":"IF(OR(IFERROR(MATCH($D1530,'Transparency List 2017'!$L:$L,0),FALSE),IFERROR(MATCH(TRIM($G1530),'Transparency List 2017'!$C:$C,0),FALSE)),\"On the 2017 List\",\"-\")","v":"-"},{"$f":"IF(OR(IFERROR(MATCH($D1530,'Transparency List 2015'!$H:$H,0),FALSE),IFERROR(MATCH(TRIM($G1530),'Transparency List 2015'!$C:$C,0),FALSE)),\"On the 2015 List\",\"-\")","v":"-"}]
[null,null,4,"",null,null,null,"-",{"$f":"IF(OR(IFERROR(MATCH($D1531,'Transparency List 2018_10'!$L:$L,0),FALSE),IFERROR(MATCH(TRIM($G1531),'Transparency List 2018_10'!$D:$D,0),FALSE)),\"On the 2018_10 List\",\"-\")","v":"-"},{"$f":"IF(OR(IFERROR(MATCH($D1531,'Transparency List 2018_04'!$L:$L,0),FALSE),IFERROR(MATCH(TRIM($G1531),'Transparency List 2018_04'!$D:$D,0),FALSE)),\"On the 2018_04 List\",\"-\")","v":"-"},{"$f":"IF(OR(IFERROR(MATCH($D1531,'Transparency List 2017'!$L:$L,0),FALSE),IFERROR(MATCH(TRIM($G1531),'Transparency List 2017'!$C:$C,0),FALSE)),\"On the 2017 List\",\"-\")","v":"-"},{"$f":"IF(OR(IFERROR(MATCH($D1531,'Transparency List 2015'!$H:$H,0),FALSE),IFERROR(MATCH(TRIM($G1531),'Transparency List 2015'!$C:$C,0),FALSE)),\"On the 2015 List\",\"-\")","v":"-"}]
[null,null,4,"",null,null,null,"-",{"$f":"IF(OR(IFERROR(MATCH($D1532,'Transparency List 2018_10'!$L:$L,0),FALSE),IFERROR(MATCH(TRIM($G1532),'Transparency List 2018_10'!$D:$D,0),FALSE)),\"On the 2018_10 List\",\"-\")","v":"-"},{"$f":"IF(OR(IFERROR(MATCH($D1532,'Transparency List 2018_04'!$L:$L,0),FALSE),IFERROR(MATCH(TRIM($G1532),'Transparency List 2018_04'!$D:$D,0),FALSE)),\"On the 2018_04 List\",\"-\")","v":"-"},{"$f":"IF(OR(IFERROR(MATCH($D1532,'Transparency List 2017'!$L:$L,0),FALSE),IFERROR(MATCH(TRIM($G1532),'Transparency List 2017'!$C:$C,0),FALSE)),\"On the 2017 List\",\"-\")","v":"-"},{"$f":"IF(OR(IFERROR(MATCH($D1532,'Transparency List 2015'!$H:$H,0),FALSE),IFERROR(MATCH(TRIM($G1532),'Transparency List 2015'!$C:$C,0),FALSE)),\"On the 2015 List\",\"-\")","v":"-"}]
[null,null,4,"",null,null,null,"-",{"$f":"IF(OR(IFERROR(MATCH($D1533,'Transparency List 2018_10'!$L:$L,0),FALSE),IFERROR(MATCH(TRIM($G1533),'Transparency List 2018_10'!$D:$D,0),FALSE)),\"On the 2018_10 List\",\"-\")","v":"-"},{"$f":"IF(OR(IFERROR(MATCH($D1533,'Transparency List 2018_04'!$L:$L,0),FALSE),IFERROR(MATCH(TRIM($G1533),'Transparency List 2018_04'!$D:$D,0),FALSE)),\"On the 2018_04 List\",\"-\")","v":"-"},{"$f":"IF(OR(IFERROR(MATCH($D1533,'Transparency List 2017'!$L:$L,0),FALSE),IFERROR(MATCH(TRIM($G1533),'Transparency List 2017'!$C:$C,0),FALSE)),\"On the 2017 List\",\"-\")","v":"-"},{"$f":"IF(OR(IFERROR(MATCH($D1533,'Transparency List 2015'!$H:$H,0),FALSE),IFERROR(MATCH(TRIM($G1533),'Transparency List 2015'!$C:$C,0),FALSE)),\"On the 2015 List\",\"-\")","v":"-"}]
[null,null,4,"",null,null,null,"-",{"$f":"IF(OR(IFERROR(MATCH($D1534,'Transparency List 2018_10'!$L:$L,0),FALSE),IFERROR(MATCH(TRIM($G1534),'Transparency List 2018_10'!$D:$D,0),FALSE)),\"On the 2018_10 List\",\"-\")","v":"-"},{"$f":"IF(OR(IFERROR(MATCH($D1534,'Transparency List 2018_04'!$L:$L,0),FALSE),IFERROR(MATCH(TRIM($G1534),'Transparency List 2018_04'!$D:$D,0),FALSE)),\"On the 2018_04 List\",\"-\")","v":"-"},{"$f":"IF(OR(IFERROR(MATCH($D1534,'Transparency List 2017'!$L:$L,0),FALSE),IFERROR(MATCH(TRIM($G1534),'Transparency List 2017'!$C:$C,0),FALSE)),\"On the 2017 List\",\"-\")","v":"-"},{"$f":"IF(OR(IFERROR(MATCH($D1534,'Transparency List 2015'!$H:$H,0),FALSE),IFERROR(MATCH(TRIM($G1534),'Transparency List 2015'!$C:$C,0),FALSE)),\"On the 2015 List\",\"-\")","v":"-"}]
[null,null,4,"",null,null,null,"-",{"$f":"IF(OR(IFERROR(MATCH($D1535,'Transparency List 2018_10'!$L:$L,0),FALSE),IFERROR(MATCH(TRIM($G1535),'Transparency List 2018_10'!$D:$D,0),FALSE)),\"On the 2018_10 List\",\"-\")","v":"-"},{"$f":"IF(OR(IFERROR(MATCH($D1535,'Transparency List 2018_04'!$L:$L,0),FALSE),IFERROR(MATCH(TRIM($G1535),'Transparency List 2018_04'!$D:$D,0),FALSE)),\"On the 2018_04 List\",\"-\")","v":"-"},{"$f":"IF(OR(IFERROR(MATCH($D1535,'Transparency List 2017'!$L:$L,0),FALSE),IFERROR(MATCH(TRIM($G1535),'Transparency List 2017'!$C:$C,0),FALSE)),\"On the 2017 List\",\"-\")","v":"-"},{"$f":"IF(OR(IFERROR(MATCH($D1535,'Transparency List 2015'!$H:$H,0),FALSE),IFERROR(MATCH(TRIM($G1535),'Transparency List 2015'!$C:$C,0),FALSE)),\"On the 2015 List\",\"-\")","v":"-"}]
[null,null,4,"",null,null,null,"-",{"$f":"IF(OR(IFERROR(MATCH($D1536,'Transparency List 2018_10'!$L:$L,0),FALSE),IFERROR(MATCH(TRIM($G1536),'Transparency List 2018_10'!$D:$D,0),FALSE)),\"On the 2018_10 List\",\"-\")","v":"-"},{"$f":"IF(OR(IFERROR(MATCH($D1536,'Transparency List 2018_04'!$L:$L,0),FALSE),IFERROR(MATCH(TRIM($G1536),'Transparency List 2018_04'!$D:$D,0),FALSE)),\"On the 2018_04 List\",\"-\")","v":"-"},{"$f":"IF(OR(IFERROR(MATCH($D1536,'Transparency List 2017'!$L:$L,0),FALSE),IFERROR(MATCH(TRIM($G1536),'Transparency List 2017'!$C:$C,0),FALSE)),\"On the 2017 List\",\"-\")","v":"-"},{"$f":"IF(OR(IFERROR(MATCH($D1536,'Transparency List 2015'!$H:$H,0),FALSE),IFERROR(MATCH(TRIM($G1536),'Transparency List 2015'!$C:$C,0),FALSE)),\"On the 2015 List\",\"-\")","v":"-"}]
[null,null,4,"",null,null,null,"-",{"$f":"IF(OR(IFERROR(MATCH($D1537,'Transparency List 2018_10'!$L:$L,0),FALSE),IFERROR(MATCH(TRIM($G1537),'Transparency List 2018_10'!$D:$D,0),FALSE)),\"On the 2018_10 List\",\"-\")","v":"-"},{"$f":"IF(OR(IFERROR(MATCH($D1537,'Transparency List 2018_04'!$L:$L,0),FALSE),IFERROR(MATCH(TRIM($G1537),'Transparency List 2018_04'!$D:$D,0),FALSE)),\"On the 2018_04 List\",\"-\")","v":"-"},{"$f":"IF(OR(IFERROR(MATCH($D1537,'Transparency List 2017'!$L:$L,0),FALSE),IFERROR(MATCH(TRIM($G1537),'Transparency List 2017'!$C:$C,0),FALSE)),\"On the 2017 List\",\"-\")","v":"-"},{"$f":"IF(OR(IFERROR(MATCH($D1537,'Transparency List 2015'!$H:$H,0),FALSE),IFERROR(MATCH(TRIM($G1537),'Transparency List 2015'!$C:$C,0),FALSE)),\"On the 2015 List\",\"-\")","v":"-"}]
[null,null,4,"",null,null,null,"-",{"$f":"IF(OR(IFERROR(MATCH($D1538,'Transparency List 2018_10'!$L:$L,0),FALSE),IFERROR(MATCH(TRIM($G1538),'Transparency List 2018_10'!$D:$D,0),FALSE)),\"On the 2018_10 List\",\"-\")","v":"-"},{"$f":"IF(OR(IFERROR(MATCH($D1538,'Transparency List 2018_04'!$L:$L,0),FALSE),IFERROR(MATCH(TRIM($G1538),'Transparency List 2018_04'!$D:$D,0),FALSE)),\"On the 2018_04 List\",\"-\")","v":"-"},{"$f":"IF(OR(IFERROR(MATCH($D1538,'Transparency List 2017'!$L:$L,0),FALSE),IFERROR(MATCH(TRIM($G1538),'Transparency List 2017'!$C:$C,0),FALSE)),\"On the 2017 List\",\"-\")","v":"-"},{"$f":"IF(OR(IFERROR(MATCH($D1538,'Transparency List 2015'!$H:$H,0),FALSE),IFERROR(MATCH(TRIM($G1538),'Transparency List 2015'!$C:$C,0),FALSE)),\"On the 2015 List\",\"-\")","v":"-"}]
[null,null,4,"",null,null,null,"-",{"$f":"IF(OR(IFERROR(MATCH($D1539,'Transparency List 2018_10'!$L:$L,0),FALSE),IFERROR(MATCH(TRIM($G1539),'Transparency List 2018_10'!$D:$D,0),FALSE)),\"On the 2018_10 List\",\"-\")","v":"-"},{"$f":"IF(OR(IFERROR(MATCH($D1539,'Transparency List 2018_04'!$L:$L,0),FALSE),IFERROR(MATCH(TRIM($G1539),'Transparency List 2018_04'!$D:$D,0),FALSE)),\"On the 2018_04 List\",\"-\")","v":"-"},{"$f":"IF(OR(IFERROR(MATCH($D1539,'Transparency List 2017'!$L:$L,0),FALSE),IFERROR(MATCH(TRIM($G1539),'Transparency List 2017'!$C:$C,0),FALSE)),\"On the 2017 List\",\"-\")","v":"-"},{"$f":"IF(OR(IFERROR(MATCH($D1539,'Transparency List 2015'!$H:$H,0),FALSE),IFERROR(MATCH(TRIM($G1539),'Transparency List 2015'!$C:$C,0),FALSE)),\"On the 2015 List\",\"-\")","v":"-"}]
[null,null,4,"",null,null,null,"-",{"$f":"IF(OR(IFERROR(MATCH($D1540,'Transparency List 2018_10'!$L:$L,0),FALSE),IFERROR(MATCH(TRIM($G1540),'Transparency List 2018_10'!$D:$D,0),FALSE)),\"On the 2018_10 List\",\"-\")","v":"-"},{"$f":"IF(OR(IFERROR(MATCH($D1540,'Transparency List 2018_04'!$L:$L,0),FALSE),IFERROR(MATCH(TRIM($G1540),'Transparency List 2018_04'!$D:$D,0),FALSE)),\"On the 2018_04 List\",\"-\")","v":"-"},{"$f":"IF(OR(IFERROR(MATCH($D1540,'Transparency List 2017'!$L:$L,0),FALSE),IFERROR(MATCH(TRIM($G1540),'Transparency List 2017'!$C:$C,0),FALSE)),\"On the 2017 List\",\"-\")","v":"-"},{"$f":"IF(OR(IFERROR(MATCH($D1540,'Transparency List 2015'!$H:$H,0),FALSE),IFERROR(MATCH(TRIM($G1540),'Transparency List 2015'!$C:$C,0),FALSE)),\"On the 2015 List\",\"-\")","v":"-"}]
[null,null,4,"",null,null,null,"-",{"$f":"IF(OR(IFERROR(MATCH($D1541,'Transparency List 2018_10'!$L:$L,0),FALSE),IFERROR(MATCH(TRIM($G1541),'Transparency List 2018_10'!$D:$D,0),FALSE)),\"On the 2018_10 List\",\"-\")","v":"-"},{"$f":"IF(OR(IFERROR(MATCH($D1541,'Transparency List 2018_04'!$L:$L,0),FALSE),IFERROR(MATCH(TRIM($G1541),'Transparency List 2018_04'!$D:$D,0),FALSE)),\"On the 2018_04 List\",\"-\")","v":"-"},{"$f":"IF(OR(IFERROR(MATCH($D1541,'Transparency List 2017'!$L:$L,0),FALSE),IFERROR(MATCH(TRIM($G1541),'Transparency List 2017'!$C:$C,0),FALSE)),\"On the 2017 List\",\"-\")","v":"-"},{"$f":"IF(OR(IFERROR(MATCH($D1541,'Transparency List 2015'!$H:$H,0),FALSE),IFERROR(MATCH(TRIM($G1541),'Transparency List 2015'!$C:$C,0),FALSE)),\"On the 2015 List\",\"-\")","v":"-"}]
[null,null,4,"",null,null,null,"-",{"$f":"IF(OR(IFERROR(MATCH($D1542,'Transparency List 2018_10'!$L:$L,0),FALSE),IFERROR(MATCH(TRIM($G1542),'Transparency List 2018_10'!$D:$D,0),FALSE)),\"On the 2018_10 List\",\"-\")","v":"-"},{"$f":"IF(OR(IFERROR(MATCH($D1542,'Transparency List 2018_04'!$L:$L,0),FALSE),IFERROR(MATCH(TRIM($G1542),'Transparency List 2018_04'!$D:$D,0),FALSE)),\"On the 2018_04 List\",\"-\")","v":"-"},{"$f":"IF(OR(IFERROR(MATCH($D1542,'Transparency List 2017'!$L:$L,0),FALSE),IFERROR(MATCH(TRIM($G1542),'Transparency List 2017'!$C:$C,0),FALSE)),\"On the 2017 List\",\"-\")","v":"-"},{"$f":"IF(OR(IFERROR(MATCH($D1542,'Transparency List 2015'!$H:$H,0),FALSE),IFERROR(MATCH(TRIM($G1542),'Transparency List 2015'!$C:$C,0),FALSE)),\"On the 2015 List\",\"-\")","v":"-"}]
[null,null,4,"",null,null,null,"-",{"$f":"IF(OR(IFERROR(MATCH($D1543,'Transparency List 2018_10'!$L:$L,0),FALSE),IFERROR(MATCH(TRIM($G1543),'Transparency List 2018_10'!$D:$D,0),FALSE)),\"On the 2018_10 List\",\"-\")","v":"-"},{"$f":"IF(OR(IFERROR(MATCH($D1543,'Transparency List 2018_04'!$L:$L,0),FALSE),IFERROR(MATCH(TRIM($G1543),'Transparency List 2018_04'!$D:$D,0),FALSE)),\"On the 2018_04 List\",\"-\")","v":"-"},{"$f":"IF(OR(IFERROR(MATCH($D1543,'Transparency List 2017'!$L:$L,0),FALSE),IFERROR(MATCH(TRIM($G1543),'Transparency List 2017'!$C:$C,0),FALSE)),\"On the 2017 List\",\"-\")","v":"-"},{"$f":"IF(OR(IFERROR(MATCH($D1543,'Transparency List 2015'!$H:$H,0),FALSE),IFERROR(MATCH(TRIM($G1543),'Transparency List 2015'!$C:$C,0),FALSE)),\"On the 2015 List\",\"-\")","v":"-"}]
[null,null,4,"",null,null,null,"-",{"$f":"IF(OR(IFERROR(MATCH($D1544,'Transparency List 2018_10'!$L:$L,0),FALSE),IFERROR(MATCH(TRIM($G1544),'Transparency List 2018_10'!$D:$D,0),FALSE)),\"On the 2018_10 List\",\"-\")","v":"-"},{"$f":"IF(OR(IFERROR(MATCH($D1544,'Transparency List 2018_04'!$L:$L,0),FALSE),IFERROR(MATCH(TRIM($G1544),'Transparency List 2018_04'!$D:$D,0),FALSE)),\"On the 2018_04 List\",\"-\")","v":"-"},{"$f":"IF(OR(IFERROR(MATCH($D1544,'Transparency List 2017'!$L:$L,0),FALSE),IFERROR(MATCH(TRIM($G1544),'Transparency List 2017'!$C:$C,0),FALSE)),\"On the 2017 List\",\"-\")","v":"-"},{"$f":"IF(OR(IFERROR(MATCH($D1544,'Transparency List 2015'!$H:$H,0),FALSE),IFERROR(MATCH(TRIM($G1544),'Transparency List 2015'!$C:$C,0),FALSE)),\"On the 2015 List\",\"-\")","v":"-"}]
[null,null,4,"",null,null,null,"-",{"$f":"IF(OR(IFERROR(MATCH($D1545,'Transparency List 2018_10'!$L:$L,0),FALSE),IFERROR(MATCH(TRIM($G1545),'Transparency List 2018_10'!$D:$D,0),FALSE)),\"On the 2018_10 List\",\"-\")","v":"-"},{"$f":"IF(OR(IFERROR(MATCH($D1545,'Transparency List 2018_04'!$L:$L,0),FALSE),IFERROR(MATCH(TRIM($G1545),'Transparency List 2018_04'!$D:$D,0),FALSE)),\"On the 2018_04 List\",\"-\")","v":"-"},{"$f":"IF(OR(IFERROR(MATCH($D1545,'Transparency List 2017'!$L:$L,0),FALSE),IFERROR(MATCH(TRIM($G1545),'Transparency List 2017'!$C:$C,0),FALSE)),\"On the 2017 List\",\"-\")","v":"-"},{"$f":"IF(OR(IFERROR(MATCH($D1545,'Transparency List 2015'!$H:$H,0),FALSE),IFERROR(MATCH(TRIM($G1545),'Transparency List 2015'!$C:$C,0),FALSE)),\"On the 2015 List\",\"-\")","v":"-"}]
[null,null,4,"",null,null,null,"-",{"$f":"IF(OR(IFERROR(MATCH($D1546,'Transparency List 2018_10'!$L:$L,0),FALSE),IFERROR(MATCH(TRIM($G1546),'Transparency List 2018_10'!$D:$D,0),FALSE)),\"On the 2018_10 List\",\"-\")","v":"-"},{"$f":"IF(OR(IFERROR(MATCH($D1546,'Transparency List 2018_04'!$L:$L,0),FALSE),IFERROR(MATCH(TRIM($G1546),'Transparency List 2018_04'!$D:$D,0),FALSE)),\"On the 2018_04 List\",\"-\")","v":"-"},{"$f":"IF(OR(IFERROR(MATCH($D1546,'Transparency List 2017'!$L:$L,0),FALSE),IFERROR(MATCH(TRIM($G1546),'Transparency List 2017'!$C:$C,0),FALSE)),\"On the 2017 List\",\"-\")","v":"-"},{"$f":"IF(OR(IFERROR(MATCH($D1546,'Transparency List 2015'!$H:$H,0),FALSE),IFERROR(MATCH(TRIM($G1546),'Transparency List 2015'!$C:$C,0),FALSE)),\"On the 2015 List\",\"-\")","v":"-"}]
[null,null,4,"",null,null,null,"-",{"$f":"IF(OR(IFERROR(MATCH($D1547,'Transparency List 2018_10'!$L:$L,0),FALSE),IFERROR(MATCH(TRIM($G1547),'Transparency List 2018_10'!$D:$D,0),FALSE)),\"On the 2018_10 List\",\"-\")","v":"-"},{"$f":"IF(OR(IFERROR(MATCH($D1547,'Transparency List 2018_04'!$L:$L,0),FALSE),IFERROR(MATCH(TRIM($G1547),'Transparency List 2018_04'!$D:$D,0),FALSE)),\"On the 2018_04 List\",\"-\")","v":"-"},{"$f":"IF(OR(IFERROR(MATCH($D1547,'Transparency List 2017'!$L:$L,0),FALSE),IFERROR(MATCH(TRIM($G1547),'Transparency List 2017'!$C:$C,0),FALSE)),\"On the 2017 List\",\"-\")","v":"-"},{"$f":"IF(OR(IFERROR(MATCH($D1547,'Transparency List 2015'!$H:$H,0),FALSE),IFERROR(MATCH(TRIM($G1547),'Transparency List 2015'!$C:$C,0),FALSE)),\"On the 2015 List\",\"-\")","v":"-"}]
[null,null,4,"",null,null,null,"-",{"$f":"IF(OR(IFERROR(MATCH($D1548,'Transparency List 2018_10'!$L:$L,0),FALSE),IFERROR(MATCH(TRIM($G1548),'Transparency List 2018_10'!$D:$D,0),FALSE)),\"On the 2018_10 List\",\"-\")","v":"-"},{"$f":"IF(OR(IFERROR(MATCH($D1548,'Transparency List 2018_04'!$L:$L,0),FALSE),IFERROR(MATCH(TRIM($G1548),'Transparency List 2018_04'!$D:$D,0),FALSE)),\"On the 2018_04 List\",\"-\")","v":"-"},{"$f":"IF(OR(IFERROR(MATCH($D1548,'Transparency List 2017'!$L:$L,0),FALSE),IFERROR(MATCH(TRIM($G1548),'Transparency List 2017'!$C:$C,0),FALSE)),\"On the 2017 List\",\"-\")","v":"-"},{"$f":"IF(OR(IFERROR(MATCH($D1548,'Transparency List 2015'!$H:$H,0),FALSE),IFERROR(MATCH(TRIM($G1548),'Transparency List 2015'!$C:$C,0),FALSE)),\"On the 2015 List\",\"-\")","v":"-"}]
[null,null,4,"",null,null,null,"-",{"$f":"IF(OR(IFERROR(MATCH($D1549,'Transparency List 2018_10'!$L:$L,0),FALSE),IFERROR(MATCH(TRIM($G1549),'Transparency List 2018_10'!$D:$D,0),FALSE)),\"On the 2018_10 List\",\"-\")","v":"-"},{"$f":"IF(OR(IFERROR(MATCH($D1549,'Transparency List 2018_04'!$L:$L,0),FALSE),IFERROR(MATCH(TRIM($G1549),'Transparency List 2018_04'!$D:$D,0),FALSE)),\"On the 2018_04 List\",\"-\")","v":"-"},{"$f":"IF(OR(IFERROR(MATCH($D1549,'Transparency List 2017'!$L:$L,0),FALSE),IFERROR(MATCH(TRIM($G1549),'Transparency List 2017'!$C:$C,0),FALSE)),\"On the 2017 List\",\"-\")","v":"-"},{"$f":"IF(OR(IFERROR(MATCH($D1549,'Transparency List 2015'!$H:$H,0),FALSE),IFERROR(MATCH(TRIM($G1549),'Transparency List 2015'!$C:$C,0),FALSE)),\"On the 2015 List\",\"-\")","v":"-"}]
[null,null,4,"",null,null,null,"-",{"$f":"IF(OR(IFERROR(MATCH($D1550,'Transparency List 2018_10'!$L:$L,0),FALSE),IFERROR(MATCH(TRIM($G1550),'Transparency List 2018_10'!$D:$D,0),FALSE)),\"On the 2018_10 List\",\"-\")","v":"-"},{"$f":"IF(OR(IFERROR(MATCH($D1550,'Transparency List 2018_04'!$L:$L,0),FALSE),IFERROR(MATCH(TRIM($G1550),'Transparency List 2018_04'!$D:$D,0),FALSE)),\"On the 2018_04 List\",\"-\")","v":"-"},{"$f":"IF(OR(IFERROR(MATCH($D1550,'Transparency List 2017'!$L:$L,0),FALSE),IFERROR(MATCH(TRIM($G1550),'Transparency List 2017'!$C:$C,0),FALSE)),\"On the 2017 List\",\"-\")","v":"-"},{"$f":"IF(OR(IFERROR(MATCH($D1550,'Transparency List 2015'!$H:$H,0),FALSE),IFERROR(MATCH(TRIM($G1550),'Transparency List 2015'!$C:$C,0),FALSE)),\"On the 2015 List\",\"-\")","v":"-"}]
[null,null,4,"",null,null,null,"-",{"$f":"IF(OR(IFERROR(MATCH($D1551,'Transparency List 2018_10'!$L:$L,0),FALSE),IFERROR(MATCH(TRIM($G1551),'Transparency List 2018_10'!$D:$D,0),FALSE)),\"On the 2018_10 List\",\"-\")","v":"-"},{"$f":"IF(OR(IFERROR(MATCH($D1551,'Transparency List 2018_04'!$L:$L,0),FALSE),IFERROR(MATCH(TRIM($G1551),'Transparency List 2018_04'!$D:$D,0),FALSE)),\"On the 2018_04 List\",\"-\")","v":"-"},{"$f":"IF(OR(IFERROR(MATCH($D1551,'Transparency List 2017'!$L:$L,0),FALSE),IFERROR(MATCH(TRIM($G1551),'Transparency List 2017'!$C:$C,0),FALSE)),\"On the 2017 List\",\"-\")","v":"-"},{"$f":"IF(OR(IFERROR(MATCH($D1551,'Transparency List 2015'!$H:$H,0),FALSE),IFERROR(MATCH(TRIM($G1551),'Transparency List 2015'!$C:$C,0),FALSE)),\"On the 2015 List\",\"-\")","v":"-"}]
[null,null,4,"",null,null,null,"-",{"$f":"IF(OR(IFERROR(MATCH($D1552,'Transparency List 2018_10'!$L:$L,0),FALSE),IFERROR(MATCH(TRIM($G1552),'Transparency List 2018_10'!$D:$D,0),FALSE)),\"On the 2018_10 List\",\"-\")","v":"-"},{"$f":"IF(OR(IFERROR(MATCH($D1552,'Transparency List 2018_04'!$L:$L,0),FALSE),IFERROR(MATCH(TRIM($G1552),'Transparency List 2018_04'!$D:$D,0),FALSE)),\"On the 2018_04 List\",\"-\")","v":"-"},{"$f":"IF(OR(IFERROR(MATCH($D1552,'Transparency List 2017'!$L:$L,0),FALSE),IFERROR(MATCH(TRIM($G1552),'Transparency List 2017'!$C:$C,0),FALSE)),\"On the 2017 List\",\"-\")","v":"-"},{"$f":"IF(OR(IFERROR(MATCH($D1552,'Transparency List 2015'!$H:$H,0),FALSE),IFERROR(MATCH(TRIM($G1552),'Transparency List 2015'!$C:$C,0),FALSE)),\"On the 2015 List\",\"-\")","v":"-"}]
[null,null,4,"",null,null,null,"-",{"$f":"IF(OR(IFERROR(MATCH($D1553,'Transparency List 2018_10'!$L:$L,0),FALSE),IFERROR(MATCH(TRIM($G1553),'Transparency List 2018_10'!$D:$D,0),FALSE)),\"On the 2018_10 List\",\"-\")","v":"-"},{"$f":"IF(OR(IFERROR(MATCH($D1553,'Transparency List 2018_04'!$L:$L,0),FALSE),IFERROR(MATCH(TRIM($G1553),'Transparency List 2018_04'!$D:$D,0),FALSE)),\"On the 2018_04 List\",\"-\")","v":"-"},{"$f":"IF(OR(IFERROR(MATCH($D1553,'Transparency List 2017'!$L:$L,0),FALSE),IFERROR(MATCH(TRIM($G1553),'Transparency List 2017'!$C:$C,0),FALSE)),\"On the 2017 List\",\"-\")","v":"-"},{"$f":"IF(OR(IFERROR(MATCH($D1553,'Transparency List 2015'!$H:$H,0),FALSE),IFERROR(MATCH(TRIM($G1553),'Transparency List 2015'!$C:$C,0),FALSE)),\"On the 2015 List\",\"-\")","v":"-"}]
[null,null,4,"",null,null,null,"-",{"$f":"IF(OR(IFERROR(MATCH($D1554,'Transparency List 2018_10'!$L:$L,0),FALSE),IFERROR(MATCH(TRIM($G1554),'Transparency List 2018_10'!$D:$D,0),FALSE)),\"On the 2018_10 List\",\"-\")","v":"-"},{"$f":"IF(OR(IFERROR(MATCH($D1554,'Transparency List 2018_04'!$L:$L,0),FALSE),IFERROR(MATCH(TRIM($G1554),'Transparency List 2018_04'!$D:$D,0),FALSE)),\"On the 2018_04 List\",\"-\")","v":"-"},{"$f":"IF(OR(IFERROR(MATCH($D1554,'Transparency List 2017'!$L:$L,0),FALSE),IFERROR(MATCH(TRIM($G1554),'Transparency List 2017'!$C:$C,0),FALSE)),\"On the 2017 List\",\"-\")","v":"-"},{"$f":"IF(OR(IFERROR(MATCH($D1554,'Transparency List 2015'!$H:$H,0),FALSE),IFERROR(MATCH(TRIM($G1554),'Transparency List 2015'!$C:$C,0),FALSE)),\"On the 2015 List\",\"-\")","v":"-"}]
[null,null,4,"",null,null,null,"-",{"$f":"IF(OR(IFERROR(MATCH($D1555,'Transparency List 2018_10'!$L:$L,0),FALSE),IFERROR(MATCH(TRIM($G1555),'Transparency List 2018_10'!$D:$D,0),FALSE)),\"On the 2018_10 List\",\"-\")","v":"-"},{"$f":"IF(OR(IFERROR(MATCH($D1555,'Transparency List 2018_04'!$L:$L,0),FALSE),IFERROR(MATCH(TRIM($G1555),'Transparency List 2018_04'!$D:$D,0),FALSE)),\"On the 2018_04 List\",\"-\")","v":"-"},{"$f":"IF(OR(IFERROR(MATCH($D1555,'Transparency List 2017'!$L:$L,0),FALSE),IFERROR(MATCH(TRIM($G1555),'Transparency List 2017'!$C:$C,0),FALSE)),\"On the 2017 List\",\"-\")","v":"-"},{"$f":"IF(OR(IFERROR(MATCH($D1555,'Transparency List 2015'!$H:$H,0),FALSE),IFERROR(MATCH(TRIM($G1555),'Transparency List 2015'!$C:$C,0),FALSE)),\"On the 2015 List\",\"-\")","v":"-"}]
[null,null,4,"",null,null,null,"-",{"$f":"IF(OR(IFERROR(MATCH($D1556,'Transparency List 2018_10'!$L:$L,0),FALSE),IFERROR(MATCH(TRIM($G1556),'Transparency List 2018_10'!$D:$D,0),FALSE)),\"On the 2018_10 List\",\"-\")","v":"-"},{"$f":"IF(OR(IFERROR(MATCH($D1556,'Transparency List 2018_04'!$L:$L,0),FALSE),IFERROR(MATCH(TRIM($G1556),'Transparency List 2018_04'!$D:$D,0),FALSE)),\"On the 2018_04 List\",\"-\")","v":"-"},{"$f":"IF(OR(IFERROR(MATCH($D1556,'Transparency List 2017'!$L:$L,0),FALSE),IFERROR(MATCH(TRIM($G1556),'Transparency List 2017'!$C:$C,0),FALSE)),\"On the 2017 List\",\"-\")","v":"-"},{"$f":"IF(OR(IFERROR(MATCH($D1556,'Transparency List 2015'!$H:$H,0),FALSE),IFERROR(MATCH(TRIM($G1556),'Transparency List 2015'!$C:$C,0),FALSE)),\"On the 2015 List\",\"-\")","v":"-"}]
[null,null,4,"",null,null,null,"-",{"$f":"IF(OR(IFERROR(MATCH($D1557,'Transparency List 2018_10'!$L:$L,0),FALSE),IFERROR(MATCH(TRIM($G1557),'Transparency List 2018_10'!$D:$D,0),FALSE)),\"On the 2018_10 List\",\"-\")","v":"-"},{"$f":"IF(OR(IFERROR(MATCH($D1557,'Transparency List 2018_04'!$L:$L,0),FALSE),IFERROR(MATCH(TRIM($G1557),'Transparency List 2018_04'!$D:$D,0),FALSE)),\"On the 2018_04 List\",\"-\")","v":"-"},{"$f":"IF(OR(IFERROR(MATCH($D1557,'Transparency List 2017'!$L:$L,0),FALSE),IFERROR(MATCH(TRIM($G1557),'Transparency List 2017'!$C:$C,0),FALSE)),\"On the 2017 List\",\"-\")","v":"-"},{"$f":"IF(OR(IFERROR(MATCH($D1557,'Transparency List 2015'!$H:$H,0),FALSE),IFERROR(MATCH(TRIM($G1557),'Transparency List 2015'!$C:$C,0),FALSE)),\"On the 2015 List\",\"-\")","v":"-"}]
[null,null,4,"",null,null,null,"-",{"$f":"IF(OR(IFERROR(MATCH($D1558,'Transparency List 2018_10'!$L:$L,0),FALSE),IFERROR(MATCH(TRIM($G1558),'Transparency List 2018_10'!$D:$D,0),FALSE)),\"On the 2018_10 List\",\"-\")","v":"-"},{"$f":"IF(OR(IFERROR(MATCH($D1558,'Transparency List 2018_04'!$L:$L,0),FALSE),IFERROR(MATCH(TRIM($G1558),'Transparency List 2018_04'!$D:$D,0),FALSE)),\"On the 2018_04 List\",\"-\")","v":"-"},{"$f":"IF(OR(IFERROR(MATCH($D1558,'Transparency List 2017'!$L:$L,0),FALSE),IFERROR(MATCH(TRIM($G1558),'Transparency List 2017'!$C:$C,0),FALSE)),\"On the 2017 List\",\"-\")","v":"-"},{"$f":"IF(OR(IFERROR(MATCH($D1558,'Transparency List 2015'!$H:$H,0),FALSE),IFERROR(MATCH(TRIM($G1558),'Transparency List 2015'!$C:$C,0),FALSE)),\"On the 2015 List\",\"-\")","v":"-"}]
[null,null,4,"",null,null,null,"-",{"$f":"IF(OR(IFERROR(MATCH($D1559,'Transparency List 2018_10'!$L:$L,0),FALSE),IFERROR(MATCH(TRIM($G1559),'Transparency List 2018_10'!$D:$D,0),FALSE)),\"On the 2018_10 List\",\"-\")","v":"-"},{"$f":"IF(OR(IFERROR(MATCH($D1559,'Transparency List 2018_04'!$L:$L,0),FALSE),IFERROR(MATCH(TRIM($G1559),'Transparency List 2018_04'!$D:$D,0),FALSE)),\"On the 2018_04 List\",\"-\")","v":"-"},{"$f":"IF(OR(IFERROR(MATCH($D1559,'Transparency List 2017'!$L:$L,0),FALSE),IFERROR(MATCH(TRIM($G1559),'Transparency List 2017'!$C:$C,0),FALSE)),\"On the 2017 List\",\"-\")","v":"-"},{"$f":"IF(OR(IFERROR(MATCH($D1559,'Transparency List 2015'!$H:$H,0),FALSE),IFERROR(MATCH(TRIM($G1559),'Transparency List 2015'!$C:$C,0),FALSE)),\"On the 2015 List\",\"-\")","v":"-"}]
[null,null,4,"",null,null,null,"-",{"$f":"IF(OR(IFERROR(MATCH($D1560,'Transparency List 2018_10'!$L:$L,0),FALSE),IFERROR(MATCH(TRIM($G1560),'Transparency List 2018_10'!$D:$D,0),FALSE)),\"On the 2018_10 List\",\"-\")","v":"-"},{"$f":"IF(OR(IFERROR(MATCH($D1560,'Transparency List 2018_04'!$L:$L,0),FALSE),IFERROR(MATCH(TRIM($G1560),'Transparency List 2018_04'!$D:$D,0),FALSE)),\"On the 2018_04 List\",\"-\")","v":"-"},{"$f":"IF(OR(IFERROR(MATCH($D1560,'Transparency List 2017'!$L:$L,0),FALSE),IFERROR(MATCH(TRIM($G1560),'Transparency List 2017'!$C:$C,0),FALSE)),\"On the 2017 List\",\"-\")","v":"-"},{"$f":"IF(OR(IFERROR(MATCH($D1560,'Transparency List 2015'!$H:$H,0),FALSE),IFERROR(MATCH(TRIM($G1560),'Transparency List 2015'!$C:$C,0),FALSE)),\"On the 2015 List\",\"-\")","v":"-"}]
[null,null,4,"",null,null,null,"-",{"$f":"IF(OR(IFERROR(MATCH($D1561,'Transparency List 2018_10'!$L:$L,0),FALSE),IFERROR(MATCH(TRIM($G1561),'Transparency List 2018_10'!$D:$D,0),FALSE)),\"On the 2018_10 List\",\"-\")","v":"-"},{"$f":"IF(OR(IFERROR(MATCH($D1561,'Transparency List 2018_04'!$L:$L,0),FALSE),IFERROR(MATCH(TRIM($G1561),'Transparency List 2018_04'!$D:$D,0),FALSE)),\"On the 2018_04 List\",\"-\")","v":"-"},{"$f":"IF(OR(IFERROR(MATCH($D1561,'Transparency List 2017'!$L:$L,0),FALSE),IFERROR(MATCH(TRIM($G1561),'Transparency List 2017'!$C:$C,0),FALSE)),\"On the 2017 List\",\"-\")","v":"-"},{"$f":"IF(OR(IFERROR(MATCH($D1561,'Transparency List 2015'!$H:$H,0),FALSE),IFERROR(MATCH(TRIM($G1561),'Transparency List 2015'!$C:$C,0),FALSE)),\"On the 2015 List\",\"-\")","v":"-"}]
[null,null,4,"",null,null,null,"-",{"$f":"IF(OR(IFERROR(MATCH($D1562,'Transparency List 2018_10'!$L:$L,0),FALSE),IFERROR(MATCH(TRIM($G1562),'Transparency List 2018_10'!$D:$D,0),FALSE)),\"On the 2018_10 List\",\"-\")","v":"-"},{"$f":"IF(OR(IFERROR(MATCH($D1562,'Transparency List 2018_04'!$L:$L,0),FALSE),IFERROR(MATCH(TRIM($G1562),'Transparency List 2018_04'!$D:$D,0),FALSE)),\"On the 2018_04 List\",\"-\")","v":"-"},{"$f":"IF(OR(IFERROR(MATCH($D1562,'Transparency List 2017'!$L:$L,0),FALSE),IFERROR(MATCH(TRIM($G1562),'Transparency List 2017'!$C:$C,0),FALSE)),\"On the 2017 List\",\"-\")","v":"-"},{"$f":"IF(OR(IFERROR(MATCH($D1562,'Transparency List 2015'!$H:$H,0),FALSE),IFERROR(MATCH(TRIM($G1562),'Transparency List 2015'!$C:$C,0),FALSE)),\"On the 2015 List\",\"-\")","v":"-"}]
[null,null,4,"",null,null,null,"-",{"$f":"IF(OR(IFERROR(MATCH($D1563,'Transparency List 2018_10'!$L:$L,0),FALSE),IFERROR(MATCH(TRIM($G1563),'Transparency List 2018_10'!$D:$D,0),FALSE)),\"On the 2018_10 List\",\"-\")","v":"-"},{"$f":"IF(OR(IFERROR(MATCH($D1563,'Transparency List 2018_04'!$L:$L,0),FALSE),IFERROR(MATCH(TRIM($G1563),'Transparency List 2018_04'!$D:$D,0),FALSE)),\"On the 2018_04 List\",\"-\")","v":"-"},{"$f":"IF(OR(IFERROR(MATCH($D1563,'Transparency List 2017'!$L:$L,0),FALSE),IFERROR(MATCH(TRIM($G1563),'Transparency List 2017'!$C:$C,0),FALSE)),\"On the 2017 List\",\"-\")","v":"-"},{"$f":"IF(OR(IFERROR(MATCH($D1563,'Transparency List 2015'!$H:$H,0),FALSE),IFERROR(MATCH(TRIM($G1563),'Transparency List 2015'!$C:$C,0),FALSE)),\"On the 2015 List\",\"-\")","v":"-"}]
[null,null,4,"",null,null,null,"-",{"$f":"IF(OR(IFERROR(MATCH($D1564,'Transparency List 2018_10'!$L:$L,0),FALSE),IFERROR(MATCH(TRIM($G1564),'Transparency List 2018_10'!$D:$D,0),FALSE)),\"On the 2018_10 List\",\"-\")","v":"-"},{"$f":"IF(OR(IFERROR(MATCH($D1564,'Transparency List 2018_04'!$L:$L,0),FALSE),IFERROR(MATCH(TRIM($G1564),'Transparency List 2018_04'!$D:$D,0),FALSE)),\"On the 2018_04 List\",\"-\")","v":"-"},{"$f":"IF(OR(IFERROR(MATCH($D1564,'Transparency List 2017'!$L:$L,0),FALSE),IFERROR(MATCH(TRIM($G1564),'Transparency List 2017'!$C:$C,0),FALSE)),\"On the 2017 List\",\"-\")","v":"-"},{"$f":"IF(OR(IFERROR(MATCH($D1564,'Transparency List 2015'!$H:$H,0),FALSE),IFERROR(MATCH(TRIM($G1564),'Transparency List 2015'!$C:$C,0),FALSE)),\"On the 2015 List\",\"-\")","v":"-"}]
[null,null,4,"",null,null,null,"-",{"$f":"IF(OR(IFERROR(MATCH($D1565,'Transparency List 2018_10'!$L:$L,0),FALSE),IFERROR(MATCH(TRIM($G1565),'Transparency List 2018_10'!$D:$D,0),FALSE)),\"On the 2018_10 List\",\"-\")","v":"-"},{"$f":"IF(OR(IFERROR(MATCH($D1565,'Transparency List 2018_04'!$L:$L,0),FALSE),IFERROR(MATCH(TRIM($G1565),'Transparency List 2018_04'!$D:$D,0),FALSE)),\"On the 2018_04 List\",\"-\")","v":"-"},{"$f":"IF(OR(IFERROR(MATCH($D1565,'Transparency List 2017'!$L:$L,0),FALSE),IFERROR(MATCH(TRIM($G1565),'Transparency List 2017'!$C:$C,0),FALSE)),\"On the 2017 List\",\"-\")","v":"-"},{"$f":"IF(OR(IFERROR(MATCH($D1565,'Transparency List 2015'!$H:$H,0),FALSE),IFERROR(MATCH(TRIM($G1565),'Transparency List 2015'!$C:$C,0),FALSE)),\"On the 2015 List\",\"-\")","v":"-"}]
[null,null,4,"",null,null,null,"-",{"$f":"IF(OR(IFERROR(MATCH($D1566,'Transparency List 2018_10'!$L:$L,0),FALSE),IFERROR(MATCH(TRIM($G1566),'Transparency List 2018_10'!$D:$D,0),FALSE)),\"On the 2018_10 List\",\"-\")","v":"-"},{"$f":"IF(OR(IFERROR(MATCH($D1566,'Transparency List 2018_04'!$L:$L,0),FALSE),IFERROR(MATCH(TRIM($G1566),'Transparency List 2018_04'!$D:$D,0),FALSE)),\"On the 2018_04 List\",\"-\")","v":"-"},{"$f":"IF(OR(IFERROR(MATCH($D1566,'Transparency List 2017'!$L:$L,0),FALSE),IFERROR(MATCH(TRIM($G1566),'Transparency List 2017'!$C:$C,0),FALSE)),\"On the 2017 List\",\"-\")","v":"-"},{"$f":"IF(OR(IFERROR(MATCH($D1566,'Transparency List 2015'!$H:$H,0),FALSE),IFERROR(MATCH(TRIM($G1566),'Transparency List 2015'!$C:$C,0),FALSE)),\"On the 2015 List\",\"-\")","v":"-"}]
[null,null,{"$f":"COUNTIF($I1567:$L1567,\"-\")","v":4},{"$f":"SUBSTITUTE(SUBSTITUTE(SUBSTITUTE(SUBSTITUTE($G1567,\" \",\"\"),\".\",\"\"),\"-\",\"\"),\"/\",\"\")","v":""},null,null,null,{"$f":"IFERROR(IF($C1567=4,\"-\",\"Risk Farmer - Please conduct further steps\"),)","v":"-"},{"$f":"IF(OR(IFERROR(MATCH($D1567,'Transparency List 2018_10'!$L:$L,0),FALSE),IFERROR(MATCH(TRIM($G1567),'Transparency List 2018_10'!$D:$D,0),FALSE)),\"On the 2018_10 List\",\"-\")","v":"-"},{"$f":"IF(OR(IFERROR(MATCH($D1567,'Transparency List 2018_04'!$L:$L,0),FALSE),IFERROR(MATCH(TRIM($G1567),'Transparency List 2018_04'!$D:$D,0),FALSE)),\"On the 2018_04 List\",\"-\")","v":"-"},{"$f":"IF(OR(IFERROR(MATCH($D1567,'Transparency List 2017'!$L:$L,0),FALSE),IFERROR(MATCH(TRIM($G1567),'Transparency List 2017'!$C:$C,0),FALSE)),\"On the 2017 List\",\"-\")","v":"-"},{"$f":"IF(OR(IFERROR(MATCH($D1567,'Transparency List 2015'!$H:$H,0),FALSE),IFERROR(MATCH(TRIM($G1567),'Transparency List 2015'!$C:$C,0),FALSE)),\"On the 2015 List\",\"-\")","v":"-"}]
[null,null,4,"",null,null,null,"-",{"$f":"IF(OR(IFERROR(MATCH($D1568,'Transparency List 2018_10'!$L:$L,0),FALSE),IFERROR(MATCH(TRIM($G1568),'Transparency List 2018_10'!$D:$D,0),FALSE)),\"On the 2018_10 List\",\"-\")","v":"-"},{"$f":"IF(OR(IFERROR(MATCH($D1568,'Transparency List 2018_04'!$L:$L,0),FALSE),IFERROR(MATCH(TRIM($G1568),'Transparency List 2018_04'!$D:$D,0),FALSE)),\"On the 2018_04 List\",\"-\")","v":"-"},{"$f":"IF(OR(IFERROR(MATCH($D1568,'Transparency List 2017'!$L:$L,0),FALSE),IFERROR(MATCH(TRIM($G1568),'Transparency List 2017'!$C:$C,0),FALSE)),\"On the 2017 List\",\"-\")","v":"-"},{"$f":"IF(OR(IFERROR(MATCH($D1568,'Transparency List 2015'!$H:$H,0),FALSE),IFERROR(MATCH(TRIM($G1568),'Transparency List 2015'!$C:$C,0),FALSE)),\"On the 2015 List\",\"-\")","v":"-"}]
[null,null,4,"",null,null,null,"-",{"$f":"IF(OR(IFERROR(MATCH($D1569,'Transparency List 2018_10'!$L:$L,0),FALSE),IFERROR(MATCH(TRIM($G1569),'Transparency List 2018_10'!$D:$D,0),FALSE)),\"On the 2018_10 List\",\"-\")","v":"-"},{"$f":"IF(OR(IFERROR(MATCH($D1569,'Transparency List 2018_04'!$L:$L,0),FALSE),IFERROR(MATCH(TRIM($G1569),'Transparency List 2018_04'!$D:$D,0),FALSE)),\"On the 2018_04 List\",\"-\")","v":"-"},{"$f":"IF(OR(IFERROR(MATCH($D1569,'Transparency List 2017'!$L:$L,0),FALSE),IFERROR(MATCH(TRIM($G1569),'Transparency List 2017'!$C:$C,0),FALSE)),\"On the 2017 List\",\"-\")","v":"-"},{"$f":"IF(OR(IFERROR(MATCH($D1569,'Transparency List 2015'!$H:$H,0),FALSE),IFERROR(MATCH(TRIM($G1569),'Transparency List 2015'!$C:$C,0),FALSE)),\"On the 2015 List\",\"-\")","v":"-"}]
[null,null,4,"",null,null,null,"-",{"$f":"IF(OR(IFERROR(MATCH($D1570,'Transparency List 2018_10'!$L:$L,0),FALSE),IFERROR(MATCH(TRIM($G1570),'Transparency List 2018_10'!$D:$D,0),FALSE)),\"On the 2018_10 List\",\"-\")","v":"-"},{"$f":"IF(OR(IFERROR(MATCH($D1570,'Transparency List 2018_04'!$L:$L,0),FALSE),IFERROR(MATCH(TRIM($G1570),'Transparency List 2018_04'!$D:$D,0),FALSE)),\"On the 2018_04 List\",\"-\")","v":"-"},{"$f":"IF(OR(IFERROR(MATCH($D1570,'Transparency List 2017'!$L:$L,0),FALSE),IFERROR(MATCH(TRIM($G1570),'Transparency List 2017'!$C:$C,0),FALSE)),\"On the 2017 List\",\"-\")","v":"-"},{"$f":"IF(OR(IFERROR(MATCH($D1570,'Transparency List 2015'!$H:$H,0),FALSE),IFERROR(MATCH(TRIM($G1570),'Transparency List 2015'!$C:$C,0),FALSE)),\"On the 2015 List\",\"-\")","v":"-"}]
[null,null,4,"",null,null,null,"-",{"$f":"IF(OR(IFERROR(MATCH($D1571,'Transparency List 2018_10'!$L:$L,0),FALSE),IFERROR(MATCH(TRIM($G1571),'Transparency List 2018_10'!$D:$D,0),FALSE)),\"On the 2018_10 List\",\"-\")","v":"-"},{"$f":"IF(OR(IFERROR(MATCH($D1571,'Transparency List 2018_04'!$L:$L,0),FALSE),IFERROR(MATCH(TRIM($G1571),'Transparency List 2018_04'!$D:$D,0),FALSE)),\"On the 2018_04 List\",\"-\")","v":"-"},{"$f":"IF(OR(IFERROR(MATCH($D1571,'Transparency List 2017'!$L:$L,0),FALSE),IFERROR(MATCH(TRIM($G1571),'Transparency List 2017'!$C:$C,0),FALSE)),\"On the 2017 List\",\"-\")","v":"-"},{"$f":"IF(OR(IFERROR(MATCH($D1571,'Transparency List 2015'!$H:$H,0),FALSE),IFERROR(MATCH(TRIM($G1571),'Transparency List 2015'!$C:$C,0),FALSE)),\"On the 2015 List\",\"-\")","v":"-"}]
[null,null,4,"",null,null,null,"-",{"$f":"IF(OR(IFERROR(MATCH($D1572,'Transparency List 2018_10'!$L:$L,0),FALSE),IFERROR(MATCH(TRIM($G1572),'Transparency List 2018_10'!$D:$D,0),FALSE)),\"On the 2018_10 List\",\"-\")","v":"-"},{"$f":"IF(OR(IFERROR(MATCH($D1572,'Transparency List 2018_04'!$L:$L,0),FALSE),IFERROR(MATCH(TRIM($G1572),'Transparency List 2018_04'!$D:$D,0),FALSE)),\"On the 2018_04 List\",\"-\")","v":"-"},{"$f":"IF(OR(IFERROR(MATCH($D1572,'Transparency List 2017'!$L:$L,0),FALSE),IFERROR(MATCH(TRIM($G1572),'Transparency List 2017'!$C:$C,0),FALSE)),\"On the 2017 List\",\"-\")","v":"-"},{"$f":"IF(OR(IFERROR(MATCH($D1572,'Transparency List 2015'!$H:$H,0),FALSE),IFERROR(MATCH(TRIM($G1572),'Transparency List 2015'!$C:$C,0),FALSE)),\"On the 2015 List\",\"-\")","v":"-"}]
[null,null,4,"",null,null,null,"-",{"$f":"IF(OR(IFERROR(MATCH($D1573,'Transparency List 2018_10'!$L:$L,0),FALSE),IFERROR(MATCH(TRIM($G1573),'Transparency List 2018_10'!$D:$D,0),FALSE)),\"On the 2018_10 List\",\"-\")","v":"-"},{"$f":"IF(OR(IFERROR(MATCH($D1573,'Transparency List 2018_04'!$L:$L,0),FALSE),IFERROR(MATCH(TRIM($G1573),'Transparency List 2018_04'!$D:$D,0),FALSE)),\"On the 2018_04 List\",\"-\")","v":"-"},{"$f":"IF(OR(IFERROR(MATCH($D1573,'Transparency List 2017'!$L:$L,0),FALSE),IFERROR(MATCH(TRIM($G1573),'Transparency List 2017'!$C:$C,0),FALSE)),\"On the 2017 List\",\"-\")","v":"-"},{"$f":"IF(OR(IFERROR(MATCH($D1573,'Transparency List 2015'!$H:$H,0),FALSE),IFERROR(MATCH(TRIM($G1573),'Transparency List 2015'!$C:$C,0),FALSE)),\"On the 2015 List\",\"-\")","v":"-"}]
[null,null,4,"",null,null,null,"-",{"$f":"IF(OR(IFERROR(MATCH($D1574,'Transparency List 2018_10'!$L:$L,0),FALSE),IFERROR(MATCH(TRIM($G1574),'Transparency List 2018_10'!$D:$D,0),FALSE)),\"On the 2018_10 List\",\"-\")","v":"-"},{"$f":"IF(OR(IFERROR(MATCH($D1574,'Transparency List 2018_04'!$L:$L,0),FALSE),IFERROR(MATCH(TRIM($G1574),'Transparency List 2018_04'!$D:$D,0),FALSE)),\"On the 2018_04 List\",\"-\")","v":"-"},{"$f":"IF(OR(IFERROR(MATCH($D1574,'Transparency List 2017'!$L:$L,0),FALSE),IFERROR(MATCH(TRIM($G1574),'Transparency List 2017'!$C:$C,0),FALSE)),\"On the 2017 List\",\"-\")","v":"-"},{"$f":"IF(OR(IFERROR(MATCH($D1574,'Transparency List 2015'!$H:$H,0),FALSE),IFERROR(MATCH(TRIM($G1574),'Transparency List 2015'!$C:$C,0),FALSE)),\"On the 2015 List\",\"-\")","v":"-"}]
[null,null,4,"",null,null,null,"-",{"$f":"IF(OR(IFERROR(MATCH($D1575,'Transparency List 2018_10'!$L:$L,0),FALSE),IFERROR(MATCH(TRIM($G1575),'Transparency List 2018_10'!$D:$D,0),FALSE)),\"On the 2018_10 List\",\"-\")","v":"-"},{"$f":"IF(OR(IFERROR(MATCH($D1575,'Transparency List 2018_04'!$L:$L,0),FALSE),IFERROR(MATCH(TRIM($G1575),'Transparency List 2018_04'!$D:$D,0),FALSE)),\"On the 2018_04 List\",\"-\")","v":"-"},{"$f":"IF(OR(IFERROR(MATCH($D1575,'Transparency List 2017'!$L:$L,0),FALSE),IFERROR(MATCH(TRIM($G1575),'Transparency List 2017'!$C:$C,0),FALSE)),\"On the 2017 List\",\"-\")","v":"-"},{"$f":"IF(OR(IFERROR(MATCH($D1575,'Transparency List 2015'!$H:$H,0),FALSE),IFERROR(MATCH(TRIM($G1575),'Transparency List 2015'!$C:$C,0),FALSE)),\"On the 2015 List\",\"-\")","v":"-"}]
[null,null,4,"",null,null,null,"-",{"$f":"IF(OR(IFERROR(MATCH($D1576,'Transparency List 2018_10'!$L:$L,0),FALSE),IFERROR(MATCH(TRIM($G1576),'Transparency List 2018_10'!$D:$D,0),FALSE)),\"On the 2018_10 List\",\"-\")","v":"-"},{"$f":"IF(OR(IFERROR(MATCH($D1576,'Transparency List 2018_04'!$L:$L,0),FALSE),IFERROR(MATCH(TRIM($G1576),'Transparency List 2018_04'!$D:$D,0),FALSE)),\"On the 2018_04 List\",\"-\")","v":"-"},{"$f":"IF(OR(IFERROR(MATCH($D1576,'Transparency List 2017'!$L:$L,0),FALSE),IFERROR(MATCH(TRIM($G1576),'Transparency List 2017'!$C:$C,0),FALSE)),\"On the 2017 List\",\"-\")","v":"-"},{"$f":"IF(OR(IFERROR(MATCH($D1576,'Transparency List 2015'!$H:$H,0),FALSE),IFERROR(MATCH(TRIM($G1576),'Transparency List 2015'!$C:$C,0),FALSE)),\"On the 2015 List\",\"-\")","v":"-"}]
[null,null,4,"",null,null,null,"-",{"$f":"IF(OR(IFERROR(MATCH($D1577,'Transparency List 2018_10'!$L:$L,0),FALSE),IFERROR(MATCH(TRIM($G1577),'Transparency List 2018_10'!$D:$D,0),FALSE)),\"On the 2018_10 List\",\"-\")","v":"-"},{"$f":"IF(OR(IFERROR(MATCH($D1577,'Transparency List 2018_04'!$L:$L,0),FALSE),IFERROR(MATCH(TRIM($G1577),'Transparency List 2018_04'!$D:$D,0),FALSE)),\"On the 2018_04 List\",\"-\")","v":"-"},{"$f":"IF(OR(IFERROR(MATCH($D1577,'Transparency List 2017'!$L:$L,0),FALSE),IFERROR(MATCH(TRIM($G1577),'Transparency List 2017'!$C:$C,0),FALSE)),\"On the 2017 List\",\"-\")","v":"-"},{"$f":"IF(OR(IFERROR(MATCH($D1577,'Transparency List 2015'!$H:$H,0),FALSE),IFERROR(MATCH(TRIM($G1577),'Transparency List 2015'!$C:$C,0),FALSE)),\"On the 2015 List\",\"-\")","v":"-"}]
[null,null,4,"",null,null,null,"-",{"$f":"IF(OR(IFERROR(MATCH($D1578,'Transparency List 2018_10'!$L:$L,0),FALSE),IFERROR(MATCH(TRIM($G1578),'Transparency List 2018_10'!$D:$D,0),FALSE)),\"On the 2018_10 List\",\"-\")","v":"-"},{"$f":"IF(OR(IFERROR(MATCH($D1578,'Transparency List 2018_04'!$L:$L,0),FALSE),IFERROR(MATCH(TRIM($G1578),'Transparency List 2018_04'!$D:$D,0),FALSE)),\"On the 2018_04 List\",\"-\")","v":"-"},{"$f":"IF(OR(IFERROR(MATCH($D1578,'Transparency List 2017'!$L:$L,0),FALSE),IFERROR(MATCH(TRIM($G1578),'Transparency List 2017'!$C:$C,0),FALSE)),\"On the 2017 List\",\"-\")","v":"-"},{"$f":"IF(OR(IFERROR(MATCH($D1578,'Transparency List 2015'!$H:$H,0),FALSE),IFERROR(MATCH(TRIM($G1578),'Transparency List 2015'!$C:$C,0),FALSE)),\"On the 2015 List\",\"-\")","v":"-"}]
[null,null,4,"",null,null,null,"-",{"$f":"IF(OR(IFERROR(MATCH($D1579,'Transparency List 2018_10'!$L:$L,0),FALSE),IFERROR(MATCH(TRIM($G1579),'Transparency List 2018_10'!$D:$D,0),FALSE)),\"On the 2018_10 List\",\"-\")","v":"-"},{"$f":"IF(OR(IFERROR(MATCH($D1579,'Transparency List 2018_04'!$L:$L,0),FALSE),IFERROR(MATCH(TRIM($G1579),'Transparency List 2018_04'!$D:$D,0),FALSE)),\"On the 2018_04 List\",\"-\")","v":"-"},{"$f":"IF(OR(IFERROR(MATCH($D1579,'Transparency List 2017'!$L:$L,0),FALSE),IFERROR(MATCH(TRIM($G1579),'Transparency List 2017'!$C:$C,0),FALSE)),\"On the 2017 List\",\"-\")","v":"-"},{"$f":"IF(OR(IFERROR(MATCH($D1579,'Transparency List 2015'!$H:$H,0),FALSE),IFERROR(MATCH(TRIM($G1579),'Transparency List 2015'!$C:$C,0),FALSE)),\"On the 2015 List\",\"-\")","v":"-"}]
[null,null,4,"",null,null,null,"-",{"$f":"IF(OR(IFERROR(MATCH($D1580,'Transparency List 2018_10'!$L:$L,0),FALSE),IFERROR(MATCH(TRIM($G1580),'Transparency List 2018_10'!$D:$D,0),FALSE)),\"On the 2018_10 List\",\"-\")","v":"-"},{"$f":"IF(OR(IFERROR(MATCH($D1580,'Transparency List 2018_04'!$L:$L,0),FALSE),IFERROR(MATCH(TRIM($G1580),'Transparency List 2018_04'!$D:$D,0),FALSE)),\"On the 2018_04 List\",\"-\")","v":"-"},{"$f":"IF(OR(IFERROR(MATCH($D1580,'Transparency List 2017'!$L:$L,0),FALSE),IFERROR(MATCH(TRIM($G1580),'Transparency List 2017'!$C:$C,0),FALSE)),\"On the 2017 List\",\"-\")","v":"-"},{"$f":"IF(OR(IFERROR(MATCH($D1580,'Transparency List 2015'!$H:$H,0),FALSE),IFERROR(MATCH(TRIM($G1580),'Transparency List 2015'!$C:$C,0),FALSE)),\"On the 2015 List\",\"-\")","v":"-"}]
[null,null,4,"",null,null,null,"-",{"$f":"IF(OR(IFERROR(MATCH($D1581,'Transparency List 2018_10'!$L:$L,0),FALSE),IFERROR(MATCH(TRIM($G1581),'Transparency List 2018_10'!$D:$D,0),FALSE)),\"On the 2018_10 List\",\"-\")","v":"-"},{"$f":"IF(OR(IFERROR(MATCH($D1581,'Transparency List 2018_04'!$L:$L,0),FALSE),IFERROR(MATCH(TRIM($G1581),'Transparency List 2018_04'!$D:$D,0),FALSE)),\"On the 2018_04 List\",\"-\")","v":"-"},{"$f":"IF(OR(IFERROR(MATCH($D1581,'Transparency List 2017'!$L:$L,0),FALSE),IFERROR(MATCH(TRIM($G1581),'Transparency List 2017'!$C:$C,0),FALSE)),\"On the 2017 List\",\"-\")","v":"-"},{"$f":"IF(OR(IFERROR(MATCH($D1581,'Transparency List 2015'!$H:$H,0),FALSE),IFERROR(MATCH(TRIM($G1581),'Transparency List 2015'!$C:$C,0),FALSE)),\"On the 2015 List\",\"-\")","v":"-"}]
[null,null,4,"",null,null,null,"-",{"$f":"IF(OR(IFERROR(MATCH($D1582,'Transparency List 2018_10'!$L:$L,0),FALSE),IFERROR(MATCH(TRIM($G1582),'Transparency List 2018_10'!$D:$D,0),FALSE)),\"On the 2018_10 List\",\"-\")","v":"-"},{"$f":"IF(OR(IFERROR(MATCH($D1582,'Transparency List 2018_04'!$L:$L,0),FALSE),IFERROR(MATCH(TRIM($G1582),'Transparency List 2018_04'!$D:$D,0),FALSE)),\"On the 2018_04 List\",\"-\")","v":"-"},{"$f":"IF(OR(IFERROR(MATCH($D1582,'Transparency List 2017'!$L:$L,0),FALSE),IFERROR(MATCH(TRIM($G1582),'Transparency List 2017'!$C:$C,0),FALSE)),\"On the 2017 List\",\"-\")","v":"-"},{"$f":"IF(OR(IFERROR(MATCH($D1582,'Transparency List 2015'!$H:$H,0),FALSE),IFERROR(MATCH(TRIM($G1582),'Transparency List 2015'!$C:$C,0),FALSE)),\"On the 2015 List\",\"-\")","v":"-"}]
[null,null,4,"",null,null,null,"-",{"$f":"IF(OR(IFERROR(MATCH($D1583,'Transparency List 2018_10'!$L:$L,0),FALSE),IFERROR(MATCH(TRIM($G1583),'Transparency List 2018_10'!$D:$D,0),FALSE)),\"On the 2018_10 List\",\"-\")","v":"-"},{"$f":"IF(OR(IFERROR(MATCH($D1583,'Transparency List 2018_04'!$L:$L,0),FALSE),IFERROR(MATCH(TRIM($G1583),'Transparency List 2018_04'!$D:$D,0),FALSE)),\"On the 2018_04 List\",\"-\")","v":"-"},{"$f":"IF(OR(IFERROR(MATCH($D1583,'Transparency List 2017'!$L:$L,0),FALSE),IFERROR(MATCH(TRIM($G1583),'Transparency List 2017'!$C:$C,0),FALSE)),\"On the 2017 List\",\"-\")","v":"-"},{"$f":"IF(OR(IFERROR(MATCH($D1583,'Transparency List 2015'!$H:$H,0),FALSE),IFERROR(MATCH(TRIM($G1583),'Transparency List 2015'!$C:$C,0),FALSE)),\"On the 2015 List\",\"-\")","v":"-"}]
[null,null,4,"",null,null,null,"-",{"$f":"IF(OR(IFERROR(MATCH($D1584,'Transparency List 2018_10'!$L:$L,0),FALSE),IFERROR(MATCH(TRIM($G1584),'Transparency List 2018_10'!$D:$D,0),FALSE)),\"On the 2018_10 List\",\"-\")","v":"-"},{"$f":"IF(OR(IFERROR(MATCH($D1584,'Transparency List 2018_04'!$L:$L,0),FALSE),IFERROR(MATCH(TRIM($G1584),'Transparency List 2018_04'!$D:$D,0),FALSE)),\"On the 2018_04 List\",\"-\")","v":"-"},{"$f":"IF(OR(IFERROR(MATCH($D1584,'Transparency List 2017'!$L:$L,0),FALSE),IFERROR(MATCH(TRIM($G1584),'Transparency List 2017'!$C:$C,0),FALSE)),\"On the 2017 List\",\"-\")","v":"-"},{"$f":"IF(OR(IFERROR(MATCH($D1584,'Transparency List 2015'!$H:$H,0),FALSE),IFERROR(MATCH(TRIM($G1584),'Transparency List 2015'!$C:$C,0),FALSE)),\"On the 2015 List\",\"-\")","v":"-"}]
[null,null,4,"",null,null,null,"-",{"$f":"IF(OR(IFERROR(MATCH($D1585,'Transparency List 2018_10'!$L:$L,0),FALSE),IFERROR(MATCH(TRIM($G1585),'Transparency List 2018_10'!$D:$D,0),FALSE)),\"On the 2018_10 List\",\"-\")","v":"-"},{"$f":"IF(OR(IFERROR(MATCH($D1585,'Transparency List 2018_04'!$L:$L,0),FALSE),IFERROR(MATCH(TRIM($G1585),'Transparency List 2018_04'!$D:$D,0),FALSE)),\"On the 2018_04 List\",\"-\")","v":"-"},{"$f":"IF(OR(IFERROR(MATCH($D1585,'Transparency List 2017'!$L:$L,0),FALSE),IFERROR(MATCH(TRIM($G1585),'Transparency List 2017'!$C:$C,0),FALSE)),\"On the 2017 List\",\"-\")","v":"-"},{"$f":"IF(OR(IFERROR(MATCH($D1585,'Transparency List 2015'!$H:$H,0),FALSE),IFERROR(MATCH(TRIM($G1585),'Transparency List 2015'!$C:$C,0),FALSE)),\"On the 2015 List\",\"-\")","v":"-"}]
[null,null,4,"",null,null,null,"-",{"$f":"IF(OR(IFERROR(MATCH($D1586,'Transparency List 2018_10'!$L:$L,0),FALSE),IFERROR(MATCH(TRIM($G1586),'Transparency List 2018_10'!$D:$D,0),FALSE)),\"On the 2018_10 List\",\"-\")","v":"-"},{"$f":"IF(OR(IFERROR(MATCH($D1586,'Transparency List 2018_04'!$L:$L,0),FALSE),IFERROR(MATCH(TRIM($G1586),'Transparency List 2018_04'!$D:$D,0),FALSE)),\"On the 2018_04 List\",\"-\")","v":"-"},{"$f":"IF(OR(IFERROR(MATCH($D1586,'Transparency List 2017'!$L:$L,0),FALSE),IFERROR(MATCH(TRIM($G1586),'Transparency List 2017'!$C:$C,0),FALSE)),\"On the 2017 List\",\"-\")","v":"-"},{"$f":"IF(OR(IFERROR(MATCH($D1586,'Transparency List 2015'!$H:$H,0),FALSE),IFERROR(MATCH(TRIM($G1586),'Transparency List 2015'!$C:$C,0),FALSE)),\"On the 2015 List\",\"-\")","v":"-"}]
[null,null,4,"",null,null,null,"-",{"$f":"IF(OR(IFERROR(MATCH($D1587,'Transparency List 2018_10'!$L:$L,0),FALSE),IFERROR(MATCH(TRIM($G1587),'Transparency List 2018_10'!$D:$D,0),FALSE)),\"On the 2018_10 List\",\"-\")","v":"-"},{"$f":"IF(OR(IFERROR(MATCH($D1587,'Transparency List 2018_04'!$L:$L,0),FALSE),IFERROR(MATCH(TRIM($G1587),'Transparency List 2018_04'!$D:$D,0),FALSE)),\"On the 2018_04 List\",\"-\")","v":"-"},{"$f":"IF(OR(IFERROR(MATCH($D1587,'Transparency List 2017'!$L:$L,0),FALSE),IFERROR(MATCH(TRIM($G1587),'Transparency List 2017'!$C:$C,0),FALSE)),\"On the 2017 List\",\"-\")","v":"-"},{"$f":"IF(OR(IFERROR(MATCH($D1587,'Transparency List 2015'!$H:$H,0),FALSE),IFERROR(MATCH(TRIM($G1587),'Transparency List 2015'!$C:$C,0),FALSE)),\"On the 2015 List\",\"-\")","v":"-"}]
[null,null,4,"",null,null,null,"-",{"$f":"IF(OR(IFERROR(MATCH($D1588,'Transparency List 2018_10'!$L:$L,0),FALSE),IFERROR(MATCH(TRIM($G1588),'Transparency List 2018_10'!$D:$D,0),FALSE)),\"On the 2018_10 List\",\"-\")","v":"-"},{"$f":"IF(OR(IFERROR(MATCH($D1588,'Transparency List 2018_04'!$L:$L,0),FALSE),IFERROR(MATCH(TRIM($G1588),'Transparency List 2018_04'!$D:$D,0),FALSE)),\"On the 2018_04 List\",\"-\")","v":"-"},{"$f":"IF(OR(IFERROR(MATCH($D1588,'Transparency List 2017'!$L:$L,0),FALSE),IFERROR(MATCH(TRIM($G1588),'Transparency List 2017'!$C:$C,0),FALSE)),\"On the 2017 List\",\"-\")","v":"-"},{"$f":"IF(OR(IFERROR(MATCH($D1588,'Transparency List 2015'!$H:$H,0),FALSE),IFERROR(MATCH(TRIM($G1588),'Transparency List 2015'!$C:$C,0),FALSE)),\"On the 2015 List\",\"-\")","v":"-"}]
[null,null,4,"",null,null,null,"-",{"$f":"IF(OR(IFERROR(MATCH($D1589,'Transparency List 2018_10'!$L:$L,0),FALSE),IFERROR(MATCH(TRIM($G1589),'Transparency List 2018_10'!$D:$D,0),FALSE)),\"On the 2018_10 List\",\"-\")","v":"-"},{"$f":"IF(OR(IFERROR(MATCH($D1589,'Transparency List 2018_04'!$L:$L,0),FALSE),IFERROR(MATCH(TRIM($G1589),'Transparency List 2018_04'!$D:$D,0),FALSE)),\"On the 2018_04 List\",\"-\")","v":"-"},{"$f":"IF(OR(IFERROR(MATCH($D1589,'Transparency List 2017'!$L:$L,0),FALSE),IFERROR(MATCH(TRIM($G1589),'Transparency List 2017'!$C:$C,0),FALSE)),\"On the 2017 List\",\"-\")","v":"-"},{"$f":"IF(OR(IFERROR(MATCH($D1589,'Transparency List 2015'!$H:$H,0),FALSE),IFERROR(MATCH(TRIM($G1589),'Transparency List 2015'!$C:$C,0),FALSE)),\"On the 2015 List\",\"-\")","v":"-"}]
[null,null,4,"",null,null,null,"-",{"$f":"IF(OR(IFERROR(MATCH($D1590,'Transparency List 2018_10'!$L:$L,0),FALSE),IFERROR(MATCH(TRIM($G1590),'Transparency List 2018_10'!$D:$D,0),FALSE)),\"On the 2018_10 List\",\"-\")","v":"-"},{"$f":"IF(OR(IFERROR(MATCH($D1590,'Transparency List 2018_04'!$L:$L,0),FALSE),IFERROR(MATCH(TRIM($G1590),'Transparency List 2018_04'!$D:$D,0),FALSE)),\"On the 2018_04 List\",\"-\")","v":"-"},{"$f":"IF(OR(IFERROR(MATCH($D1590,'Transparency List 2017'!$L:$L,0),FALSE),IFERROR(MATCH(TRIM($G1590),'Transparency List 2017'!$C:$C,0),FALSE)),\"On the 2017 List\",\"-\")","v":"-"},{"$f":"IF(OR(IFERROR(MATCH($D1590,'Transparency List 2015'!$H:$H,0),FALSE),IFERROR(MATCH(TRIM($G1590),'Transparency List 2015'!$C:$C,0),FALSE)),\"On the 2015 List\",\"-\")","v":"-"}]
[null,null,4,"",null,null,null,"-",{"$f":"IF(OR(IFERROR(MATCH($D1591,'Transparency List 2018_10'!$L:$L,0),FALSE),IFERROR(MATCH(TRIM($G1591),'Transparency List 2018_10'!$D:$D,0),FALSE)),\"On the 2018_10 List\",\"-\")","v":"-"},{"$f":"IF(OR(IFERROR(MATCH($D1591,'Transparency List 2018_04'!$L:$L,0),FALSE),IFERROR(MATCH(TRIM($G1591),'Transparency List 2018_04'!$D:$D,0),FALSE)),\"On the 2018_04 List\",\"-\")","v":"-"},{"$f":"IF(OR(IFERROR(MATCH($D1591,'Transparency List 2017'!$L:$L,0),FALSE),IFERROR(MATCH(TRIM($G1591),'Transparency List 2017'!$C:$C,0),FALSE)),\"On the 2017 List\",\"-\")","v":"-"},{"$f":"IF(OR(IFERROR(MATCH($D1591,'Transparency List 2015'!$H:$H,0),FALSE),IFERROR(MATCH(TRIM($G1591),'Transparency List 2015'!$C:$C,0),FALSE)),\"On the 2015 List\",\"-\")","v":"-"}]
[null,null,4,"",null,null,null,"-",{"$f":"IF(OR(IFERROR(MATCH($D1592,'Transparency List 2018_10'!$L:$L,0),FALSE),IFERROR(MATCH(TRIM($G1592),'Transparency List 2018_10'!$D:$D,0),FALSE)),\"On the 2018_10 List\",\"-\")","v":"-"},{"$f":"IF(OR(IFERROR(MATCH($D1592,'Transparency List 2018_04'!$L:$L,0),FALSE),IFERROR(MATCH(TRIM($G1592),'Transparency List 2018_04'!$D:$D,0),FALSE)),\"On the 2018_04 List\",\"-\")","v":"-"},{"$f":"IF(OR(IFERROR(MATCH($D1592,'Transparency List 2017'!$L:$L,0),FALSE),IFERROR(MATCH(TRIM($G1592),'Transparency List 2017'!$C:$C,0),FALSE)),\"On the 2017 List\",\"-\")","v":"-"},{"$f":"IF(OR(IFERROR(MATCH($D1592,'Transparency List 2015'!$H:$H,0),FALSE),IFERROR(MATCH(TRIM($G1592),'Transparency List 2015'!$C:$C,0),FALSE)),\"On the 2015 List\",\"-\")","v":"-"}]
[null,null,4,"",null,null,null,"-",{"$f":"IF(OR(IFERROR(MATCH($D1593,'Transparency List 2018_10'!$L:$L,0),FALSE),IFERROR(MATCH(TRIM($G1593),'Transparency List 2018_10'!$D:$D,0),FALSE)),\"On the 2018_10 List\",\"-\")","v":"-"},{"$f":"IF(OR(IFERROR(MATCH($D1593,'Transparency List 2018_04'!$L:$L,0),FALSE),IFERROR(MATCH(TRIM($G1593),'Transparency List 2018_04'!$D:$D,0),FALSE)),\"On the 2018_04 List\",\"-\")","v":"-"},{"$f":"IF(OR(IFERROR(MATCH($D1593,'Transparency List 2017'!$L:$L,0),FALSE),IFERROR(MATCH(TRIM($G1593),'Transparency List 2017'!$C:$C,0),FALSE)),\"On the 2017 List\",\"-\")","v":"-"},{"$f":"IF(OR(IFERROR(MATCH($D1593,'Transparency List 2015'!$H:$H,0),FALSE),IFERROR(MATCH(TRIM($G1593),'Transparency List 2015'!$C:$C,0),FALSE)),\"On the 2015 List\",\"-\")","v":"-"}]
[null,null,4,"",null,null,null,"-",{"$f":"IF(OR(IFERROR(MATCH($D1594,'Transparency List 2018_10'!$L:$L,0),FALSE),IFERROR(MATCH(TRIM($G1594),'Transparency List 2018_10'!$D:$D,0),FALSE)),\"On the 2018_10 List\",\"-\")","v":"-"},{"$f":"IF(OR(IFERROR(MATCH($D1594,'Transparency List 2018_04'!$L:$L,0),FALSE),IFERROR(MATCH(TRIM($G1594),'Transparency List 2018_04'!$D:$D,0),FALSE)),\"On the 2018_04 List\",\"-\")","v":"-"},{"$f":"IF(OR(IFERROR(MATCH($D1594,'Transparency List 2017'!$L:$L,0),FALSE),IFERROR(MATCH(TRIM($G1594),'Transparency List 2017'!$C:$C,0),FALSE)),\"On the 2017 List\",\"-\")","v":"-"},{"$f":"IF(OR(IFERROR(MATCH($D1594,'Transparency List 2015'!$H:$H,0),FALSE),IFERROR(MATCH(TRIM($G1594),'Transparency List 2015'!$C:$C,0),FALSE)),\"On the 2015 List\",\"-\")","v":"-"}]
[null,null,4,"",null,null,null,"-",{"$f":"IF(OR(IFERROR(MATCH($D1595,'Transparency List 2018_10'!$L:$L,0),FALSE),IFERROR(MATCH(TRIM($G1595),'Transparency List 2018_10'!$D:$D,0),FALSE)),\"On the 2018_10 List\",\"-\")","v":"-"},{"$f":"IF(OR(IFERROR(MATCH($D1595,'Transparency List 2018_04'!$L:$L,0),FALSE),IFERROR(MATCH(TRIM($G1595),'Transparency List 2018_04'!$D:$D,0),FALSE)),\"On the 2018_04 List\",\"-\")","v":"-"},{"$f":"IF(OR(IFERROR(MATCH($D1595,'Transparency List 2017'!$L:$L,0),FALSE),IFERROR(MATCH(TRIM($G1595),'Transparency List 2017'!$C:$C,0),FALSE)),\"On the 2017 List\",\"-\")","v":"-"},{"$f":"IF(OR(IFERROR(MATCH($D1595,'Transparency List 2015'!$H:$H,0),FALSE),IFERROR(MATCH(TRIM($G1595),'Transparency List 2015'!$C:$C,0),FALSE)),\"On the 2015 List\",\"-\")","v":"-"}]
[null,null,4,"",null,null,null,"-",{"$f":"IF(OR(IFERROR(MATCH($D1596,'Transparency List 2018_10'!$L:$L,0),FALSE),IFERROR(MATCH(TRIM($G1596),'Transparency List 2018_10'!$D:$D,0),FALSE)),\"On the 2018_10 List\",\"-\")","v":"-"},{"$f":"IF(OR(IFERROR(MATCH($D1596,'Transparency List 2018_04'!$L:$L,0),FALSE),IFERROR(MATCH(TRIM($G1596),'Transparency List 2018_04'!$D:$D,0),FALSE)),\"On the 2018_04 List\",\"-\")","v":"-"},{"$f":"IF(OR(IFERROR(MATCH($D1596,'Transparency List 2017'!$L:$L,0),FALSE),IFERROR(MATCH(TRIM($G1596),'Transparency List 2017'!$C:$C,0),FALSE)),\"On the 2017 List\",\"-\")","v":"-"},{"$f":"IF(OR(IFERROR(MATCH($D1596,'Transparency List 2015'!$H:$H,0),FALSE),IFERROR(MATCH(TRIM($G1596),'Transparency List 2015'!$C:$C,0),FALSE)),\"On the 2015 List\",\"-\")","v":"-"}]
[null,null,4,"",null,null,null,"-",{"$f":"IF(OR(IFERROR(MATCH($D1597,'Transparency List 2018_10'!$L:$L,0),FALSE),IFERROR(MATCH(TRIM($G1597),'Transparency List 2018_10'!$D:$D,0),FALSE)),\"On the 2018_10 List\",\"-\")","v":"-"},{"$f":"IF(OR(IFERROR(MATCH($D1597,'Transparency List 2018_04'!$L:$L,0),FALSE),IFERROR(MATCH(TRIM($G1597),'Transparency List 2018_04'!$D:$D,0),FALSE)),\"On the 2018_04 List\",\"-\")","v":"-"},{"$f":"IF(OR(IFERROR(MATCH($D1597,'Transparency List 2017'!$L:$L,0),FALSE),IFERROR(MATCH(TRIM($G1597),'Transparency List 2017'!$C:$C,0),FALSE)),\"On the 2017 List\",\"-\")","v":"-"},{"$f":"IF(OR(IFERROR(MATCH($D1597,'Transparency List 2015'!$H:$H,0),FALSE),IFERROR(MATCH(TRIM($G1597),'Transparency List 2015'!$C:$C,0),FALSE)),\"On the 2015 List\",\"-\")","v":"-"}]
[null,null,4,"",null,null,null,"-",{"$f":"IF(OR(IFERROR(MATCH($D1598,'Transparency List 2018_10'!$L:$L,0),FALSE),IFERROR(MATCH(TRIM($G1598),'Transparency List 2018_10'!$D:$D,0),FALSE)),\"On the 2018_10 List\",\"-\")","v":"-"},{"$f":"IF(OR(IFERROR(MATCH($D1598,'Transparency List 2018_04'!$L:$L,0),FALSE),IFERROR(MATCH(TRIM($G1598),'Transparency List 2018_04'!$D:$D,0),FALSE)),\"On the 2018_04 List\",\"-\")","v":"-"},{"$f":"IF(OR(IFERROR(MATCH($D1598,'Transparency List 2017'!$L:$L,0),FALSE),IFERROR(MATCH(TRIM($G1598),'Transparency List 2017'!$C:$C,0),FALSE)),\"On the 2017 List\",\"-\")","v":"-"},{"$f":"IF(OR(IFERROR(MATCH($D1598,'Transparency List 2015'!$H:$H,0),FALSE),IFERROR(MATCH(TRIM($G1598),'Transparency List 2015'!$C:$C,0),FALSE)),\"On the 2015 List\",\"-\")","v":"-"}]
[null,null,4,"",null,null,null,"-",{"$f":"IF(OR(IFERROR(MATCH($D1599,'Transparency List 2018_10'!$L:$L,0),FALSE),IFERROR(MATCH(TRIM($G1599),'Transparency List 2018_10'!$D:$D,0),FALSE)),\"On the 2018_10 List\",\"-\")","v":"-"},{"$f":"IF(OR(IFERROR(MATCH($D1599,'Transparency List 2018_04'!$L:$L,0),FALSE),IFERROR(MATCH(TRIM($G1599),'Transparency List 2018_04'!$D:$D,0),FALSE)),\"On the 2018_04 List\",\"-\")","v":"-"},{"$f":"IF(OR(IFERROR(MATCH($D1599,'Transparency List 2017'!$L:$L,0),FALSE),IFERROR(MATCH(TRIM($G1599),'Transparency List 2017'!$C:$C,0),FALSE)),\"On the 2017 List\",\"-\")","v":"-"},{"$f":"IF(OR(IFERROR(MATCH($D1599,'Transparency List 2015'!$H:$H,0),FALSE),IFERROR(MATCH(TRIM($G1599),'Transparency List 2015'!$C:$C,0),FALSE)),\"On the 2015 List\",\"-\")","v":"-"}]
[null,null,4,"",null,null,null,"-",{"$f":"IF(OR(IFERROR(MATCH($D1600,'Transparency List 2018_10'!$L:$L,0),FALSE),IFERROR(MATCH(TRIM($G1600),'Transparency List 2018_10'!$D:$D,0),FALSE)),\"On the 2018_10 List\",\"-\")","v":"-"},{"$f":"IF(OR(IFERROR(MATCH($D1600,'Transparency List 2018_04'!$L:$L,0),FALSE),IFERROR(MATCH(TRIM($G1600),'Transparency List 2018_04'!$D:$D,0),FALSE)),\"On the 2018_04 List\",\"-\")","v":"-"},{"$f":"IF(OR(IFERROR(MATCH($D1600,'Transparency List 2017'!$L:$L,0),FALSE),IFERROR(MATCH(TRIM($G1600),'Transparency List 2017'!$C:$C,0),FALSE)),\"On the 2017 List\",\"-\")","v":"-"},{"$f":"IF(OR(IFERROR(MATCH($D1600,'Transparency List 2015'!$H:$H,0),FALSE),IFERROR(MATCH(TRIM($G1600),'Transparency List 2015'!$C:$C,0),FALSE)),\"On the 2015 List\",\"-\")","v":"-"}]
[null,null,4,"",null,null,null,"-",{"$f":"IF(OR(IFERROR(MATCH($D1601,'Transparency List 2018_10'!$L:$L,0),FALSE),IFERROR(MATCH(TRIM($G1601),'Transparency List 2018_10'!$D:$D,0),FALSE)),\"On the 2018_10 List\",\"-\")","v":"-"},{"$f":"IF(OR(IFERROR(MATCH($D1601,'Transparency List 2018_04'!$L:$L,0),FALSE),IFERROR(MATCH(TRIM($G1601),'Transparency List 2018_04'!$D:$D,0),FALSE)),\"On the 2018_04 List\",\"-\")","v":"-"},{"$f":"IF(OR(IFERROR(MATCH($D1601,'Transparency List 2017'!$L:$L,0),FALSE),IFERROR(MATCH(TRIM($G1601),'Transparency List 2017'!$C:$C,0),FALSE)),\"On the 2017 List\",\"-\")","v":"-"},{"$f":"IF(OR(IFERROR(MATCH($D1601,'Transparency List 2015'!$H:$H,0),FALSE),IFERROR(MATCH(TRIM($G1601),'Transparency List 2015'!$C:$C,0),FALSE)),\"On the 2015 List\",\"-\")","v":"-"}]
[null,null,4,"",null,null,null,"-",{"$f":"IF(OR(IFERROR(MATCH($D1602,'Transparency List 2018_10'!$L:$L,0),FALSE),IFERROR(MATCH(TRIM($G1602),'Transparency List 2018_10'!$D:$D,0),FALSE)),\"On the 2018_10 List\",\"-\")","v":"-"},{"$f":"IF(OR(IFERROR(MATCH($D1602,'Transparency List 2018_04'!$L:$L,0),FALSE),IFERROR(MATCH(TRIM($G1602),'Transparency List 2018_04'!$D:$D,0),FALSE)),\"On the 2018_04 List\",\"-\")","v":"-"},{"$f":"IF(OR(IFERROR(MATCH($D1602,'Transparency List 2017'!$L:$L,0),FALSE),IFERROR(MATCH(TRIM($G1602),'Transparency List 2017'!$C:$C,0),FALSE)),\"On the 2017 List\",\"-\")","v":"-"},{"$f":"IF(OR(IFERROR(MATCH($D1602,'Transparency List 2015'!$H:$H,0),FALSE),IFERROR(MATCH(TRIM($G1602),'Transparency List 2015'!$C:$C,0),FALSE)),\"On the 2015 List\",\"-\")","v":"-"}]
[null,null,4,"",null,null,null,"-",{"$f":"IF(OR(IFERROR(MATCH($D1603,'Transparency List 2018_10'!$L:$L,0),FALSE),IFERROR(MATCH(TRIM($G1603),'Transparency List 2018_10'!$D:$D,0),FALSE)),\"On the 2018_10 List\",\"-\")","v":"-"},{"$f":"IF(OR(IFERROR(MATCH($D1603,'Transparency List 2018_04'!$L:$L,0),FALSE),IFERROR(MATCH(TRIM($G1603),'Transparency List 2018_04'!$D:$D,0),FALSE)),\"On the 2018_04 List\",\"-\")","v":"-"},{"$f":"IF(OR(IFERROR(MATCH($D1603,'Transparency List 2017'!$L:$L,0),FALSE),IFERROR(MATCH(TRIM($G1603),'Transparency List 2017'!$C:$C,0),FALSE)),\"On the 2017 List\",\"-\")","v":"-"},{"$f":"IF(OR(IFERROR(MATCH($D1603,'Transparency List 2015'!$H:$H,0),FALSE),IFERROR(MATCH(TRIM($G1603),'Transparency List 2015'!$C:$C,0),FALSE)),\"On the 2015 List\",\"-\")","v":"-"}]
[null,null,4,"",null,null,null,"-",{"$f":"IF(OR(IFERROR(MATCH($D1604,'Transparency List 2018_10'!$L:$L,0),FALSE),IFERROR(MATCH(TRIM($G1604),'Transparency List 2018_10'!$D:$D,0),FALSE)),\"On the 2018_10 List\",\"-\")","v":"-"},{"$f":"IF(OR(IFERROR(MATCH($D1604,'Transparency List 2018_04'!$L:$L,0),FALSE),IFERROR(MATCH(TRIM($G1604),'Transparency List 2018_04'!$D:$D,0),FALSE)),\"On the 2018_04 List\",\"-\")","v":"-"},{"$f":"IF(OR(IFERROR(MATCH($D1604,'Transparency List 2017'!$L:$L,0),FALSE),IFERROR(MATCH(TRIM($G1604),'Transparency List 2017'!$C:$C,0),FALSE)),\"On the 2017 List\",\"-\")","v":"-"},{"$f":"IF(OR(IFERROR(MATCH($D1604,'Transparency List 2015'!$H:$H,0),FALSE),IFERROR(MATCH(TRIM($G1604),'Transparency List 2015'!$C:$C,0),FALSE)),\"On the 2015 List\",\"-\")","v":"-"}]
[null,null,4,"",null,null,null,"-",{"$f":"IF(OR(IFERROR(MATCH($D1605,'Transparency List 2018_10'!$L:$L,0),FALSE),IFERROR(MATCH(TRIM($G1605),'Transparency List 2018_10'!$D:$D,0),FALSE)),\"On the 2018_10 List\",\"-\")","v":"-"},{"$f":"IF(OR(IFERROR(MATCH($D1605,'Transparency List 2018_04'!$L:$L,0),FALSE),IFERROR(MATCH(TRIM($G1605),'Transparency List 2018_04'!$D:$D,0),FALSE)),\"On the 2018_04 List\",\"-\")","v":"-"},{"$f":"IF(OR(IFERROR(MATCH($D1605,'Transparency List 2017'!$L:$L,0),FALSE),IFERROR(MATCH(TRIM($G1605),'Transparency List 2017'!$C:$C,0),FALSE)),\"On the 2017 List\",\"-\")","v":"-"},{"$f":"IF(OR(IFERROR(MATCH($D1605,'Transparency List 2015'!$H:$H,0),FALSE),IFERROR(MATCH(TRIM($G1605),'Transparency List 2015'!$C:$C,0),FALSE)),\"On the 2015 List\",\"-\")","v":"-"}]
[null,null,4,"",null,null,null,"-",{"$f":"IF(OR(IFERROR(MATCH($D1606,'Transparency List 2018_10'!$L:$L,0),FALSE),IFERROR(MATCH(TRIM($G1606),'Transparency List 2018_10'!$D:$D,0),FALSE)),\"On the 2018_10 List\",\"-\")","v":"-"},{"$f":"IF(OR(IFERROR(MATCH($D1606,'Transparency List 2018_04'!$L:$L,0),FALSE),IFERROR(MATCH(TRIM($G1606),'Transparency List 2018_04'!$D:$D,0),FALSE)),\"On the 2018_04 List\",\"-\")","v":"-"},{"$f":"IF(OR(IFERROR(MATCH($D1606,'Transparency List 2017'!$L:$L,0),FALSE),IFERROR(MATCH(TRIM($G1606),'Transparency List 2017'!$C:$C,0),FALSE)),\"On the 2017 List\",\"-\")","v":"-"},{"$f":"IF(OR(IFERROR(MATCH($D1606,'Transparency List 2015'!$H:$H,0),FALSE),IFERROR(MATCH(TRIM($G1606),'Transparency List 2015'!$C:$C,0),FALSE)),\"On the 2015 List\",\"-\")","v":"-"}]
[null,null,4,"",null,null,null,"-",{"$f":"IF(OR(IFERROR(MATCH($D1607,'Transparency List 2018_10'!$L:$L,0),FALSE),IFERROR(MATCH(TRIM($G1607),'Transparency List 2018_10'!$D:$D,0),FALSE)),\"On the 2018_10 List\",\"-\")","v":"-"},{"$f":"IF(OR(IFERROR(MATCH($D1607,'Transparency List 2018_04'!$L:$L,0),FALSE),IFERROR(MATCH(TRIM($G1607),'Transparency List 2018_04'!$D:$D,0),FALSE)),\"On the 2018_04 List\",\"-\")","v":"-"},{"$f":"IF(OR(IFERROR(MATCH($D1607,'Transparency List 2017'!$L:$L,0),FALSE),IFERROR(MATCH(TRIM($G1607),'Transparency List 2017'!$C:$C,0),FALSE)),\"On the 2017 List\",\"-\")","v":"-"},{"$f":"IF(OR(IFERROR(MATCH($D1607,'Transparency List 2015'!$H:$H,0),FALSE),IFERROR(MATCH(TRIM($G1607),'Transparency List 2015'!$C:$C,0),FALSE)),\"On the 2015 List\",\"-\")","v":"-"}]
[null,null,4,"",null,null,null,"-",{"$f":"IF(OR(IFERROR(MATCH($D1608,'Transparency List 2018_10'!$L:$L,0),FALSE),IFERROR(MATCH(TRIM($G1608),'Transparency List 2018_10'!$D:$D,0),FALSE)),\"On the 2018_10 List\",\"-\")","v":"-"},{"$f":"IF(OR(IFERROR(MATCH($D1608,'Transparency List 2018_04'!$L:$L,0),FALSE),IFERROR(MATCH(TRIM($G1608),'Transparency List 2018_04'!$D:$D,0),FALSE)),\"On the 2018_04 List\",\"-\")","v":"-"},{"$f":"IF(OR(IFERROR(MATCH($D1608,'Transparency List 2017'!$L:$L,0),FALSE),IFERROR(MATCH(TRIM($G1608),'Transparency List 2017'!$C:$C,0),FALSE)),\"On the 2017 List\",\"-\")","v":"-"},{"$f":"IF(OR(IFERROR(MATCH($D1608,'Transparency List 2015'!$H:$H,0),FALSE),IFERROR(MATCH(TRIM($G1608),'Transparency List 2015'!$C:$C,0),FALSE)),\"On the 2015 List\",\"-\")","v":"-"}]
[null,null,4,"",null,null,null,"-",{"$f":"IF(OR(IFERROR(MATCH($D1609,'Transparency List 2018_10'!$L:$L,0),FALSE),IFERROR(MATCH(TRIM($G1609),'Transparency List 2018_10'!$D:$D,0),FALSE)),\"On the 2018_10 List\",\"-\")","v":"-"},{"$f":"IF(OR(IFERROR(MATCH($D1609,'Transparency List 2018_04'!$L:$L,0),FALSE),IFERROR(MATCH(TRIM($G1609),'Transparency List 2018_04'!$D:$D,0),FALSE)),\"On the 2018_04 List\",\"-\")","v":"-"},{"$f":"IF(OR(IFERROR(MATCH($D1609,'Transparency List 2017'!$L:$L,0),FALSE),IFERROR(MATCH(TRIM($G1609),'Transparency List 2017'!$C:$C,0),FALSE)),\"On the 2017 List\",\"-\")","v":"-"},{"$f":"IF(OR(IFERROR(MATCH($D1609,'Transparency List 2015'!$H:$H,0),FALSE),IFERROR(MATCH(TRIM($G1609),'Transparency List 2015'!$C:$C,0),FALSE)),\"On the 2015 List\",\"-\")","v":"-"}]
[null,null,4,"",null,null,null,"-",{"$f":"IF(OR(IFERROR(MATCH($D1610,'Transparency List 2018_10'!$L:$L,0),FALSE),IFERROR(MATCH(TRIM($G1610),'Transparency List 2018_10'!$D:$D,0),FALSE)),\"On the 2018_10 List\",\"-\")","v":"-"},{"$f":"IF(OR(IFERROR(MATCH($D1610,'Transparency List 2018_04'!$L:$L,0),FALSE),IFERROR(MATCH(TRIM($G1610),'Transparency List 2018_04'!$D:$D,0),FALSE)),\"On the 2018_04 List\",\"-\")","v":"-"},{"$f":"IF(OR(IFERROR(MATCH($D1610,'Transparency List 2017'!$L:$L,0),FALSE),IFERROR(MATCH(TRIM($G1610),'Transparency List 2017'!$C:$C,0),FALSE)),\"On the 2017 List\",\"-\")","v":"-"},{"$f":"IF(OR(IFERROR(MATCH($D1610,'Transparency List 2015'!$H:$H,0),FALSE),IFERROR(MATCH(TRIM($G1610),'Transparency List 2015'!$C:$C,0),FALSE)),\"On the 2015 List\",\"-\")","v":"-"}]
[null,null,4,"",null,null,null,"-",{"$f":"IF(OR(IFERROR(MATCH($D1611,'Transparency List 2018_10'!$L:$L,0),FALSE),IFERROR(MATCH(TRIM($G1611),'Transparency List 2018_10'!$D:$D,0),FALSE)),\"On the 2018_10 List\",\"-\")","v":"-"},{"$f":"IF(OR(IFERROR(MATCH($D1611,'Transparency List 2018_04'!$L:$L,0),FALSE),IFERROR(MATCH(TRIM($G1611),'Transparency List 2018_04'!$D:$D,0),FALSE)),\"On the 2018_04 List\",\"-\")","v":"-"},{"$f":"IF(OR(IFERROR(MATCH($D1611,'Transparency List 2017'!$L:$L,0),FALSE),IFERROR(MATCH(TRIM($G1611),'Transparency List 2017'!$C:$C,0),FALSE)),\"On the 2017 List\",\"-\")","v":"-"},{"$f":"IF(OR(IFERROR(MATCH($D1611,'Transparency List 2015'!$H:$H,0),FALSE),IFERROR(MATCH(TRIM($G1611),'Transparency List 2015'!$C:$C,0),FALSE)),\"On the 2015 List\",\"-\")","v":"-"}]
[null,null,4,"",null,null,null,"-",{"$f":"IF(OR(IFERROR(MATCH($D1612,'Transparency List 2018_10'!$L:$L,0),FALSE),IFERROR(MATCH(TRIM($G1612),'Transparency List 2018_10'!$D:$D,0),FALSE)),\"On the 2018_10 List\",\"-\")","v":"-"},{"$f":"IF(OR(IFERROR(MATCH($D1612,'Transparency List 2018_04'!$L:$L,0),FALSE),IFERROR(MATCH(TRIM($G1612),'Transparency List 2018_04'!$D:$D,0),FALSE)),\"On the 2018_04 List\",\"-\")","v":"-"},{"$f":"IF(OR(IFERROR(MATCH($D1612,'Transparency List 2017'!$L:$L,0),FALSE),IFERROR(MATCH(TRIM($G1612),'Transparency List 2017'!$C:$C,0),FALSE)),\"On the 2017 List\",\"-\")","v":"-"},{"$f":"IF(OR(IFERROR(MATCH($D1612,'Transparency List 2015'!$H:$H,0),FALSE),IFERROR(MATCH(TRIM($G1612),'Transparency List 2015'!$C:$C,0),FALSE)),\"On the 2015 List\",\"-\")","v":"-"}]
[null,null,4,"",null,null,null,"-",{"$f":"IF(OR(IFERROR(MATCH($D1613,'Transparency List 2018_10'!$L:$L,0),FALSE),IFERROR(MATCH(TRIM($G1613),'Transparency List 2018_10'!$D:$D,0),FALSE)),\"On the 2018_10 List\",\"-\")","v":"-"},{"$f":"IF(OR(IFERROR(MATCH($D1613,'Transparency List 2018_04'!$L:$L,0),FALSE),IFERROR(MATCH(TRIM($G1613),'Transparency List 2018_04'!$D:$D,0),FALSE)),\"On the 2018_04 List\",\"-\")","v":"-"},{"$f":"IF(OR(IFERROR(MATCH($D1613,'Transparency List 2017'!$L:$L,0),FALSE),IFERROR(MATCH(TRIM($G1613),'Transparency List 2017'!$C:$C,0),FALSE)),\"On the 2017 List\",\"-\")","v":"-"},{"$f":"IF(OR(IFERROR(MATCH($D1613,'Transparency List 2015'!$H:$H,0),FALSE),IFERROR(MATCH(TRIM($G1613),'Transparency List 2015'!$C:$C,0),FALSE)),\"On the 2015 List\",\"-\")","v":"-"}]
[null,null,4,"",null,null,null,"-",{"$f":"IF(OR(IFERROR(MATCH($D1614,'Transparency List 2018_10'!$L:$L,0),FALSE),IFERROR(MATCH(TRIM($G1614),'Transparency List 2018_10'!$D:$D,0),FALSE)),\"On the 2018_10 List\",\"-\")","v":"-"},{"$f":"IF(OR(IFERROR(MATCH($D1614,'Transparency List 2018_04'!$L:$L,0),FALSE),IFERROR(MATCH(TRIM($G1614),'Transparency List 2018_04'!$D:$D,0),FALSE)),\"On the 2018_04 List\",\"-\")","v":"-"},{"$f":"IF(OR(IFERROR(MATCH($D1614,'Transparency List 2017'!$L:$L,0),FALSE),IFERROR(MATCH(TRIM($G1614),'Transparency List 2017'!$C:$C,0),FALSE)),\"On the 2017 List\",\"-\")","v":"-"},{"$f":"IF(OR(IFERROR(MATCH($D1614,'Transparency List 2015'!$H:$H,0),FALSE),IFERROR(MATCH(TRIM($G1614),'Transparency List 2015'!$C:$C,0),FALSE)),\"On the 2015 List\",\"-\")","v":"-"}]
[null,null,4,"",null,null,null,"-",{"$f":"IF(OR(IFERROR(MATCH($D1615,'Transparency List 2018_10'!$L:$L,0),FALSE),IFERROR(MATCH(TRIM($G1615),'Transparency List 2018_10'!$D:$D,0),FALSE)),\"On the 2018_10 List\",\"-\")","v":"-"},{"$f":"IF(OR(IFERROR(MATCH($D1615,'Transparency List 2018_04'!$L:$L,0),FALSE),IFERROR(MATCH(TRIM($G1615),'Transparency List 2018_04'!$D:$D,0),FALSE)),\"On the 2018_04 List\",\"-\")","v":"-"},{"$f":"IF(OR(IFERROR(MATCH($D1615,'Transparency List 2017'!$L:$L,0),FALSE),IFERROR(MATCH(TRIM($G1615),'Transparency List 2017'!$C:$C,0),FALSE)),\"On the 2017 List\",\"-\")","v":"-"},{"$f":"IF(OR(IFERROR(MATCH($D1615,'Transparency List 2015'!$H:$H,0),FALSE),IFERROR(MATCH(TRIM($G1615),'Transparency List 2015'!$C:$C,0),FALSE)),\"On the 2015 List\",\"-\")","v":"-"}]
[null,null,4,"",null,null,null,"-",{"$f":"IF(OR(IFERROR(MATCH($D1616,'Transparency List 2018_10'!$L:$L,0),FALSE),IFERROR(MATCH(TRIM($G1616),'Transparency List 2018_10'!$D:$D,0),FALSE)),\"On the 2018_10 List\",\"-\")","v":"-"},{"$f":"IF(OR(IFERROR(MATCH($D1616,'Transparency List 2018_04'!$L:$L,0),FALSE),IFERROR(MATCH(TRIM($G1616),'Transparency List 2018_04'!$D:$D,0),FALSE)),\"On the 2018_04 List\",\"-\")","v":"-"},{"$f":"IF(OR(IFERROR(MATCH($D1616,'Transparency List 2017'!$L:$L,0),FALSE),IFERROR(MATCH(TRIM($G1616),'Transparency List 2017'!$C:$C,0),FALSE)),\"On the 2017 List\",\"-\")","v":"-"},{"$f":"IF(OR(IFERROR(MATCH($D1616,'Transparency List 2015'!$H:$H,0),FALSE),IFERROR(MATCH(TRIM($G1616),'Transparency List 2015'!$C:$C,0),FALSE)),\"On the 2015 List\",\"-\")","v":"-"}]
[null,null,4,"",null,null,null,"-",{"$f":"IF(OR(IFERROR(MATCH($D1617,'Transparency List 2018_10'!$L:$L,0),FALSE),IFERROR(MATCH(TRIM($G1617),'Transparency List 2018_10'!$D:$D,0),FALSE)),\"On the 2018_10 List\",\"-\")","v":"-"},{"$f":"IF(OR(IFERROR(MATCH($D1617,'Transparency List 2018_04'!$L:$L,0),FALSE),IFERROR(MATCH(TRIM($G1617),'Transparency List 2018_04'!$D:$D,0),FALSE)),\"On the 2018_04 List\",\"-\")","v":"-"},{"$f":"IF(OR(IFERROR(MATCH($D1617,'Transparency List 2017'!$L:$L,0),FALSE),IFERROR(MATCH(TRIM($G1617),'Transparency List 2017'!$C:$C,0),FALSE)),\"On the 2017 List\",\"-\")","v":"-"},{"$f":"IF(OR(IFERROR(MATCH($D1617,'Transparency List 2015'!$H:$H,0),FALSE),IFERROR(MATCH(TRIM($G1617),'Transparency List 2015'!$C:$C,0),FALSE)),\"On the 2015 List\",\"-\")","v":"-"}]
[null,null,4,"",null,null,null,"-",{"$f":"IF(OR(IFERROR(MATCH($D1618,'Transparency List 2018_10'!$L:$L,0),FALSE),IFERROR(MATCH(TRIM($G1618),'Transparency List 2018_10'!$D:$D,0),FALSE)),\"On the 2018_10 List\",\"-\")","v":"-"},{"$f":"IF(OR(IFERROR(MATCH($D1618,'Transparency List 2018_04'!$L:$L,0),FALSE),IFERROR(MATCH(TRIM($G1618),'Transparency List 2018_04'!$D:$D,0),FALSE)),\"On the 2018_04 List\",\"-\")","v":"-"},{"$f":"IF(OR(IFERROR(MATCH($D1618,'Transparency List 2017'!$L:$L,0),FALSE),IFERROR(MATCH(TRIM($G1618),'Transparency List 2017'!$C:$C,0),FALSE)),\"On the 2017 List\",\"-\")","v":"-"},{"$f":"IF(OR(IFERROR(MATCH($D1618,'Transparency List 2015'!$H:$H,0),FALSE),IFERROR(MATCH(TRIM($G1618),'Transparency List 2015'!$C:$C,0),FALSE)),\"On the 2015 List\",\"-\")","v":"-"}]
[null,null,4,"",null,null,null,"-",{"$f":"IF(OR(IFERROR(MATCH($D1619,'Transparency List 2018_10'!$L:$L,0),FALSE),IFERROR(MATCH(TRIM($G1619),'Transparency List 2018_10'!$D:$D,0),FALSE)),\"On the 2018_10 List\",\"-\")","v":"-"},{"$f":"IF(OR(IFERROR(MATCH($D1619,'Transparency List 2018_04'!$L:$L,0),FALSE),IFERROR(MATCH(TRIM($G1619),'Transparency List 2018_04'!$D:$D,0),FALSE)),\"On the 2018_04 List\",\"-\")","v":"-"},{"$f":"IF(OR(IFERROR(MATCH($D1619,'Transparency List 2017'!$L:$L,0),FALSE),IFERROR(MATCH(TRIM($G1619),'Transparency List 2017'!$C:$C,0),FALSE)),\"On the 2017 List\",\"-\")","v":"-"},{"$f":"IF(OR(IFERROR(MATCH($D1619,'Transparency List 2015'!$H:$H,0),FALSE),IFERROR(MATCH(TRIM($G1619),'Transparency List 2015'!$C:$C,0),FALSE)),\"On the 2015 List\",\"-\")","v":"-"}]
[null,null,4,"",null,null,null,"-",{"$f":"IF(OR(IFERROR(MATCH($D1620,'Transparency List 2018_10'!$L:$L,0),FALSE),IFERROR(MATCH(TRIM($G1620),'Transparency List 2018_10'!$D:$D,0),FALSE)),\"On the 2018_10 List\",\"-\")","v":"-"},{"$f":"IF(OR(IFERROR(MATCH($D1620,'Transparency List 2018_04'!$L:$L,0),FALSE),IFERROR(MATCH(TRIM($G1620),'Transparency List 2018_04'!$D:$D,0),FALSE)),\"On the 2018_04 List\",\"-\")","v":"-"},{"$f":"IF(OR(IFERROR(MATCH($D1620,'Transparency List 2017'!$L:$L,0),FALSE),IFERROR(MATCH(TRIM($G1620),'Transparency List 2017'!$C:$C,0),FALSE)),\"On the 2017 List\",\"-\")","v":"-"},{"$f":"IF(OR(IFERROR(MATCH($D1620,'Transparency List 2015'!$H:$H,0),FALSE),IFERROR(MATCH(TRIM($G1620),'Transparency List 2015'!$C:$C,0),FALSE)),\"On the 2015 List\",\"-\")","v":"-"}]
[null,null,4,"",null,null,null,"-",{"$f":"IF(OR(IFERROR(MATCH($D1621,'Transparency List 2018_10'!$L:$L,0),FALSE),IFERROR(MATCH(TRIM($G1621),'Transparency List 2018_10'!$D:$D,0),FALSE)),\"On the 2018_10 List\",\"-\")","v":"-"},{"$f":"IF(OR(IFERROR(MATCH($D1621,'Transparency List 2018_04'!$L:$L,0),FALSE),IFERROR(MATCH(TRIM($G1621),'Transparency List 2018_04'!$D:$D,0),FALSE)),\"On the 2018_04 List\",\"-\")","v":"-"},{"$f":"IF(OR(IFERROR(MATCH($D1621,'Transparency List 2017'!$L:$L,0),FALSE),IFERROR(MATCH(TRIM($G1621),'Transparency List 2017'!$C:$C,0),FALSE)),\"On the 2017 List\",\"-\")","v":"-"},{"$f":"IF(OR(IFERROR(MATCH($D1621,'Transparency List 2015'!$H:$H,0),FALSE),IFERROR(MATCH(TRIM($G1621),'Transparency List 2015'!$C:$C,0),FALSE)),\"On the 2015 List\",\"-\")","v":"-"}]
[null,null,4,"",null,null,null,"-",{"$f":"IF(OR(IFERROR(MATCH($D1622,'Transparency List 2018_10'!$L:$L,0),FALSE),IFERROR(MATCH(TRIM($G1622),'Transparency List 2018_10'!$D:$D,0),FALSE)),\"On the 2018_10 List\",\"-\")","v":"-"},{"$f":"IF(OR(IFERROR(MATCH($D1622,'Transparency List 2018_04'!$L:$L,0),FALSE),IFERROR(MATCH(TRIM($G1622),'Transparency List 2018_04'!$D:$D,0),FALSE)),\"On the 2018_04 List\",\"-\")","v":"-"},{"$f":"IF(OR(IFERROR(MATCH($D1622,'Transparency List 2017'!$L:$L,0),FALSE),IFERROR(MATCH(TRIM($G1622),'Transparency List 2017'!$C:$C,0),FALSE)),\"On the 2017 List\",\"-\")","v":"-"},{"$f":"IF(OR(IFERROR(MATCH($D1622,'Transparency List 2015'!$H:$H,0),FALSE),IFERROR(MATCH(TRIM($G1622),'Transparency List 2015'!$C:$C,0),FALSE)),\"On the 2015 List\",\"-\")","v":"-"}]
[null,null,4,"",null,null,null,"-",{"$f":"IF(OR(IFERROR(MATCH($D1623,'Transparency List 2018_10'!$L:$L,0),FALSE),IFERROR(MATCH(TRIM($G1623),'Transparency List 2018_10'!$D:$D,0),FALSE)),\"On the 2018_10 List\",\"-\")","v":"-"},{"$f":"IF(OR(IFERROR(MATCH($D1623,'Transparency List 2018_04'!$L:$L,0),FALSE),IFERROR(MATCH(TRIM($G1623),'Transparency List 2018_04'!$D:$D,0),FALSE)),\"On the 2018_04 List\",\"-\")","v":"-"},{"$f":"IF(OR(IFERROR(MATCH($D1623,'Transparency List 2017'!$L:$L,0),FALSE),IFERROR(MATCH(TRIM($G1623),'Transparency List 2017'!$C:$C,0),FALSE)),\"On the 2017 List\",\"-\")","v":"-"},{"$f":"IF(OR(IFERROR(MATCH($D1623,'Transparency List 2015'!$H:$H,0),FALSE),IFERROR(MATCH(TRIM($G1623),'Transparency List 2015'!$C:$C,0),FALSE)),\"On the 2015 List\",\"-\")","v":"-"}]
[null,null,4,"",null,null,null,"-",{"$f":"IF(OR(IFERROR(MATCH($D1624,'Transparency List 2018_10'!$L:$L,0),FALSE),IFERROR(MATCH(TRIM($G1624),'Transparency List 2018_10'!$D:$D,0),FALSE)),\"On the 2018_10 List\",\"-\")","v":"-"},{"$f":"IF(OR(IFERROR(MATCH($D1624,'Transparency List 2018_04'!$L:$L,0),FALSE),IFERROR(MATCH(TRIM($G1624),'Transparency List 2018_04'!$D:$D,0),FALSE)),\"On the 2018_04 List\",\"-\")","v":"-"},{"$f":"IF(OR(IFERROR(MATCH($D1624,'Transparency List 2017'!$L:$L,0),FALSE),IFERROR(MATCH(TRIM($G1624),'Transparency List 2017'!$C:$C,0),FALSE)),\"On the 2017 List\",\"-\")","v":"-"},{"$f":"IF(OR(IFERROR(MATCH($D1624,'Transparency List 2015'!$H:$H,0),FALSE),IFERROR(MATCH(TRIM($G1624),'Transparency List 2015'!$C:$C,0),FALSE)),\"On the 2015 List\",\"-\")","v":"-"}]
[null,null,4,"",null,null,null,"-",{"$f":"IF(OR(IFERROR(MATCH($D1625,'Transparency List 2018_10'!$L:$L,0),FALSE),IFERROR(MATCH(TRIM($G1625),'Transparency List 2018_10'!$D:$D,0),FALSE)),\"On the 2018_10 List\",\"-\")","v":"-"},{"$f":"IF(OR(IFERROR(MATCH($D1625,'Transparency List 2018_04'!$L:$L,0),FALSE),IFERROR(MATCH(TRIM($G1625),'Transparency List 2018_04'!$D:$D,0),FALSE)),\"On the 2018_04 List\",\"-\")","v":"-"},{"$f":"IF(OR(IFERROR(MATCH($D1625,'Transparency List 2017'!$L:$L,0),FALSE),IFERROR(MATCH(TRIM($G1625),'Transparency List 2017'!$C:$C,0),FALSE)),\"On the 2017 List\",\"-\")","v":"-"},{"$f":"IF(OR(IFERROR(MATCH($D1625,'Transparency List 2015'!$H:$H,0),FALSE),IFERROR(MATCH(TRIM($G1625),'Transparency List 2015'!$C:$C,0),FALSE)),\"On the 2015 List\",\"-\")","v":"-"}]
[null,null,4,"",null,null,null,"-",{"$f":"IF(OR(IFERROR(MATCH($D1626,'Transparency List 2018_10'!$L:$L,0),FALSE),IFERROR(MATCH(TRIM($G1626),'Transparency List 2018_10'!$D:$D,0),FALSE)),\"On the 2018_10 List\",\"-\")","v":"-"},{"$f":"IF(OR(IFERROR(MATCH($D1626,'Transparency List 2018_04'!$L:$L,0),FALSE),IFERROR(MATCH(TRIM($G1626),'Transparency List 2018_04'!$D:$D,0),FALSE)),\"On the 2018_04 List\",\"-\")","v":"-"},{"$f":"IF(OR(IFERROR(MATCH($D1626,'Transparency List 2017'!$L:$L,0),FALSE),IFERROR(MATCH(TRIM($G1626),'Transparency List 2017'!$C:$C,0),FALSE)),\"On the 2017 List\",\"-\")","v":"-"},{"$f":"IF(OR(IFERROR(MATCH($D1626,'Transparency List 2015'!$H:$H,0),FALSE),IFERROR(MATCH(TRIM($G1626),'Transparency List 2015'!$C:$C,0),FALSE)),\"On the 2015 List\",\"-\")","v":"-"}]
[null,null,4,"",null,null,null,"-",{"$f":"IF(OR(IFERROR(MATCH($D1627,'Transparency List 2018_10'!$L:$L,0),FALSE),IFERROR(MATCH(TRIM($G1627),'Transparency List 2018_10'!$D:$D,0),FALSE)),\"On the 2018_10 List\",\"-\")","v":"-"},{"$f":"IF(OR(IFERROR(MATCH($D1627,'Transparency List 2018_04'!$L:$L,0),FALSE),IFERROR(MATCH(TRIM($G1627),'Transparency List 2018_04'!$D:$D,0),FALSE)),\"On the 2018_04 List\",\"-\")","v":"-"},{"$f":"IF(OR(IFERROR(MATCH($D1627,'Transparency List 2017'!$L:$L,0),FALSE),IFERROR(MATCH(TRIM($G1627),'Transparency List 2017'!$C:$C,0),FALSE)),\"On the 2017 List\",\"-\")","v":"-"},{"$f":"IF(OR(IFERROR(MATCH($D1627,'Transparency List 2015'!$H:$H,0),FALSE),IFERROR(MATCH(TRIM($G1627),'Transparency List 2015'!$C:$C,0),FALSE)),\"On the 2015 List\",\"-\")","v":"-"}]
[null,null,4,"",null,null,null,"-",{"$f":"IF(OR(IFERROR(MATCH($D1628,'Transparency List 2018_10'!$L:$L,0),FALSE),IFERROR(MATCH(TRIM($G1628),'Transparency List 2018_10'!$D:$D,0),FALSE)),\"On the 2018_10 List\",\"-\")","v":"-"},{"$f":"IF(OR(IFERROR(MATCH($D1628,'Transparency List 2018_04'!$L:$L,0),FALSE),IFERROR(MATCH(TRIM($G1628),'Transparency List 2018_04'!$D:$D,0),FALSE)),\"On the 2018_04 List\",\"-\")","v":"-"},{"$f":"IF(OR(IFERROR(MATCH($D1628,'Transparency List 2017'!$L:$L,0),FALSE),IFERROR(MATCH(TRIM($G1628),'Transparency List 2017'!$C:$C,0),FALSE)),\"On the 2017 List\",\"-\")","v":"-"},{"$f":"IF(OR(IFERROR(MATCH($D1628,'Transparency List 2015'!$H:$H,0),FALSE),IFERROR(MATCH(TRIM($G1628),'Transparency List 2015'!$C:$C,0),FALSE)),\"On the 2015 List\",\"-\")","v":"-"}]
[null,null,4,"",null,null,null,"-",{"$f":"IF(OR(IFERROR(MATCH($D1629,'Transparency List 2018_10'!$L:$L,0),FALSE),IFERROR(MATCH(TRIM($G1629),'Transparency List 2018_10'!$D:$D,0),FALSE)),\"On the 2018_10 List\",\"-\")","v":"-"},{"$f":"IF(OR(IFERROR(MATCH($D1629,'Transparency List 2018_04'!$L:$L,0),FALSE),IFERROR(MATCH(TRIM($G1629),'Transparency List 2018_04'!$D:$D,0),FALSE)),\"On the 2018_04 List\",\"-\")","v":"-"},{"$f":"IF(OR(IFERROR(MATCH($D1629,'Transparency List 2017'!$L:$L,0),FALSE),IFERROR(MATCH(TRIM($G1629),'Transparency List 2017'!$C:$C,0),FALSE)),\"On the 2017 List\",\"-\")","v":"-"},{"$f":"IF(OR(IFERROR(MATCH($D1629,'Transparency List 2015'!$H:$H,0),FALSE),IFERROR(MATCH(TRIM($G1629),'Transparency List 2015'!$C:$C,0),FALSE)),\"On the 2015 List\",\"-\")","v":"-"}]
[null,null,4,"",null,null,null,"-",{"$f":"IF(OR(IFERROR(MATCH($D1630,'Transparency List 2018_10'!$L:$L,0),FALSE),IFERROR(MATCH(TRIM($G1630),'Transparency List 2018_10'!$D:$D,0),FALSE)),\"On the 2018_10 List\",\"-\")","v":"-"},{"$f":"IF(OR(IFERROR(MATCH($D1630,'Transparency List 2018_04'!$L:$L,0),FALSE),IFERROR(MATCH(TRIM($G1630),'Transparency List 2018_04'!$D:$D,0),FALSE)),\"On the 2018_04 List\",\"-\")","v":"-"},{"$f":"IF(OR(IFERROR(MATCH($D1630,'Transparency List 2017'!$L:$L,0),FALSE),IFERROR(MATCH(TRIM($G1630),'Transparency List 2017'!$C:$C,0),FALSE)),\"On the 2017 List\",\"-\")","v":"-"},{"$f":"IF(OR(IFERROR(MATCH($D1630,'Transparency List 2015'!$H:$H,0),FALSE),IFERROR(MATCH(TRIM($G1630),'Transparency List 2015'!$C:$C,0),FALSE)),\"On the 2015 List\",\"-\")","v":"-"}]
[null,null,{"$f":"COUNTIF($I1631:$L1631,\"-\")","v":4},{"$f":"SUBSTITUTE(SUBSTITUTE(SUBSTITUTE(SUBSTITUTE($G1631,\" \",\"\"),\".\",\"\"),\"-\",\"\"),\"/\",\"\")","v":""},null,null,null,{"$f":"IFERROR(IF($C1631=4,\"-\",\"Risk Farmer - Please conduct further steps\"),)","v":"-"},{"$f":"IF(OR(IFERROR(MATCH($D1631,'Transparency List 2018_10'!$L:$L,0),FALSE),IFERROR(MATCH(TRIM($G1631),'Transparency List 2018_10'!$D:$D,0),FALSE)),\"On the 2018_10 List\",\"-\")","v":"-"},{"$f":"IF(OR(IFERROR(MATCH($D1631,'Transparency List 2018_04'!$L:$L,0),FALSE),IFERROR(MATCH(TRIM($G1631),'Transparency List 2018_04'!$D:$D,0),FALSE)),\"On the 2018_04 List\",\"-\")","v":"-"},{"$f":"IF(OR(IFERROR(MATCH($D1631,'Transparency List 2017'!$L:$L,0),FALSE),IFERROR(MATCH(TRIM($G1631),'Transparency List 2017'!$C:$C,0),FALSE)),\"On the 2017 List\",\"-\")","v":"-"},{"$f":"IF(OR(IFERROR(MATCH($D1631,'Transparency List 2015'!$H:$H,0),FALSE),IFERROR(MATCH(TRIM($G1631),'Transparency List 2015'!$C:$C,0),FALSE)),\"On the 2015 List\",\"-\")","v":"-"}]
[null,null,4,"",null,null,null,"-",{"$f":"IF(OR(IFERROR(MATCH($D1632,'Transparency List 2018_10'!$L:$L,0),FALSE),IFERROR(MATCH(TRIM($G1632),'Transparency List 2018_10'!$D:$D,0),FALSE)),\"On the 2018_10 List\",\"-\")","v":"-"},{"$f":"IF(OR(IFERROR(MATCH($D1632,'Transparency List 2018_04'!$L:$L,0),FALSE),IFERROR(MATCH(TRIM($G1632),'Transparency List 2018_04'!$D:$D,0),FALSE)),\"On the 2018_04 List\",\"-\")","v":"-"},{"$f":"IF(OR(IFERROR(MATCH($D1632,'Transparency List 2017'!$L:$L,0),FALSE),IFERROR(MATCH(TRIM($G1632),'Transparency List 2017'!$C:$C,0),FALSE)),\"On the 2017 List\",\"-\")","v":"-"},{"$f":"IF(OR(IFERROR(MATCH($D1632,'Transparency List 2015'!$H:$H,0),FALSE),IFERROR(MATCH(TRIM($G1632),'Transparency List 2015'!$C:$C,0),FALSE)),\"On the 2015 List\",\"-\")","v":"-"}]
[null,null,4,"",null,null,null,"-",{"$f":"IF(OR(IFERROR(MATCH($D1633,'Transparency List 2018_10'!$L:$L,0),FALSE),IFERROR(MATCH(TRIM($G1633),'Transparency List 2018_10'!$D:$D,0),FALSE)),\"On the 2018_10 List\",\"-\")","v":"-"},{"$f":"IF(OR(IFERROR(MATCH($D1633,'Transparency List 2018_04'!$L:$L,0),FALSE),IFERROR(MATCH(TRIM($G1633),'Transparency List 2018_04'!$D:$D,0),FALSE)),\"On the 2018_04 List\",\"-\")","v":"-"},{"$f":"IF(OR(IFERROR(MATCH($D1633,'Transparency List 2017'!$L:$L,0),FALSE),IFERROR(MATCH(TRIM($G1633),'Transparency List 2017'!$C:$C,0),FALSE)),\"On the 2017 List\",\"-\")","v":"-"},{"$f":"IF(OR(IFERROR(MATCH($D1633,'Transparency List 2015'!$H:$H,0),FALSE),IFERROR(MATCH(TRIM($G1633),'Transparency List 2015'!$C:$C,0),FALSE)),\"On the 2015 List\",\"-\")","v":"-"}]
[null,null,4,"",null,null,null,"-",{"$f":"IF(OR(IFERROR(MATCH($D1634,'Transparency List 2018_10'!$L:$L,0),FALSE),IFERROR(MATCH(TRIM($G1634),'Transparency List 2018_10'!$D:$D,0),FALSE)),\"On the 2018_10 List\",\"-\")","v":"-"},{"$f":"IF(OR(IFERROR(MATCH($D1634,'Transparency List 2018_04'!$L:$L,0),FALSE),IFERROR(MATCH(TRIM($G1634),'Transparency List 2018_04'!$D:$D,0),FALSE)),\"On the 2018_04 List\",\"-\")","v":"-"},{"$f":"IF(OR(IFERROR(MATCH($D1634,'Transparency List 2017'!$L:$L,0),FALSE),IFERROR(MATCH(TRIM($G1634),'Transparency List 2017'!$C:$C,0),FALSE)),\"On the 2017 List\",\"-\")","v":"-"},{"$f":"IF(OR(IFERROR(MATCH($D1634,'Transparency List 2015'!$H:$H,0),FALSE),IFERROR(MATCH(TRIM($G1634),'Transparency List 2015'!$C:$C,0),FALSE)),\"On the 2015 List\",\"-\")","v":"-"}]
[null,null,4,"",null,null,null,"-",{"$f":"IF(OR(IFERROR(MATCH($D1635,'Transparency List 2018_10'!$L:$L,0),FALSE),IFERROR(MATCH(TRIM($G1635),'Transparency List 2018_10'!$D:$D,0),FALSE)),\"On the 2018_10 List\",\"-\")","v":"-"},{"$f":"IF(OR(IFERROR(MATCH($D1635,'Transparency List 2018_04'!$L:$L,0),FALSE),IFERROR(MATCH(TRIM($G1635),'Transparency List 2018_04'!$D:$D,0),FALSE)),\"On the 2018_04 List\",\"-\")","v":"-"},{"$f":"IF(OR(IFERROR(MATCH($D1635,'Transparency List 2017'!$L:$L,0),FALSE),IFERROR(MATCH(TRIM($G1635),'Transparency List 2017'!$C:$C,0),FALSE)),\"On the 2017 List\",\"-\")","v":"-"},{"$f":"IF(OR(IFERROR(MATCH($D1635,'Transparency List 2015'!$H:$H,0),FALSE),IFERROR(MATCH(TRIM($G1635),'Transparency List 2015'!$C:$C,0),FALSE)),\"On the 2015 List\",\"-\")","v":"-"}]
[null,null,4,"",null,null,null,"-",{"$f":"IF(OR(IFERROR(MATCH($D1636,'Transparency List 2018_10'!$L:$L,0),FALSE),IFERROR(MATCH(TRIM($G1636),'Transparency List 2018_10'!$D:$D,0),FALSE)),\"On the 2018_10 List\",\"-\")","v":"-"},{"$f":"IF(OR(IFERROR(MATCH($D1636,'Transparency List 2018_04'!$L:$L,0),FALSE),IFERROR(MATCH(TRIM($G1636),'Transparency List 2018_04'!$D:$D,0),FALSE)),\"On the 2018_04 List\",\"-\")","v":"-"},{"$f":"IF(OR(IFERROR(MATCH($D1636,'Transparency List 2017'!$L:$L,0),FALSE),IFERROR(MATCH(TRIM($G1636),'Transparency List 2017'!$C:$C,0),FALSE)),\"On the 2017 List\",\"-\")","v":"-"},{"$f":"IF(OR(IFERROR(MATCH($D1636,'Transparency List 2015'!$H:$H,0),FALSE),IFERROR(MATCH(TRIM($G1636),'Transparency List 2015'!$C:$C,0),FALSE)),\"On the 2015 List\",\"-\")","v":"-"}]
[null,null,4,"",null,null,null,"-",{"$f":"IF(OR(IFERROR(MATCH($D1637,'Transparency List 2018_10'!$L:$L,0),FALSE),IFERROR(MATCH(TRIM($G1637),'Transparency List 2018_10'!$D:$D,0),FALSE)),\"On the 2018_10 List\",\"-\")","v":"-"},{"$f":"IF(OR(IFERROR(MATCH($D1637,'Transparency List 2018_04'!$L:$L,0),FALSE),IFERROR(MATCH(TRIM($G1637),'Transparency List 2018_04'!$D:$D,0),FALSE)),\"On the 2018_04 List\",\"-\")","v":"-"},{"$f":"IF(OR(IFERROR(MATCH($D1637,'Transparency List 2017'!$L:$L,0),FALSE),IFERROR(MATCH(TRIM($G1637),'Transparency List 2017'!$C:$C,0),FALSE)),\"On the 2017 List\",\"-\")","v":"-"},{"$f":"IF(OR(IFERROR(MATCH($D1637,'Transparency List 2015'!$H:$H,0),FALSE),IFERROR(MATCH(TRIM($G1637),'Transparency List 2015'!$C:$C,0),FALSE)),\"On the 2015 List\",\"-\")","v":"-"}]
[null,null,4,"",null,null,null,"-",{"$f":"IF(OR(IFERROR(MATCH($D1638,'Transparency List 2018_10'!$L:$L,0),FALSE),IFERROR(MATCH(TRIM($G1638),'Transparency List 2018_10'!$D:$D,0),FALSE)),\"On the 2018_10 List\",\"-\")","v":"-"},{"$f":"IF(OR(IFERROR(MATCH($D1638,'Transparency List 2018_04'!$L:$L,0),FALSE),IFERROR(MATCH(TRIM($G1638),'Transparency List 2018_04'!$D:$D,0),FALSE)),\"On the 2018_04 List\",\"-\")","v":"-"},{"$f":"IF(OR(IFERROR(MATCH($D1638,'Transparency List 2017'!$L:$L,0),FALSE),IFERROR(MATCH(TRIM($G1638),'Transparency List 2017'!$C:$C,0),FALSE)),\"On the 2017 List\",\"-\")","v":"-"},{"$f":"IF(OR(IFERROR(MATCH($D1638,'Transparency List 2015'!$H:$H,0),FALSE),IFERROR(MATCH(TRIM($G1638),'Transparency List 2015'!$C:$C,0),FALSE)),\"On the 2015 List\",\"-\")","v":"-"}]
[null,null,4,"",null,null,null,"-",{"$f":"IF(OR(IFERROR(MATCH($D1639,'Transparency List 2018_10'!$L:$L,0),FALSE),IFERROR(MATCH(TRIM($G1639),'Transparency List 2018_10'!$D:$D,0),FALSE)),\"On the 2018_10 List\",\"-\")","v":"-"},{"$f":"IF(OR(IFERROR(MATCH($D1639,'Transparency List 2018_04'!$L:$L,0),FALSE),IFERROR(MATCH(TRIM($G1639),'Transparency List 2018_04'!$D:$D,0),FALSE)),\"On the 2018_04 List\",\"-\")","v":"-"},{"$f":"IF(OR(IFERROR(MATCH($D1639,'Transparency List 2017'!$L:$L,0),FALSE),IFERROR(MATCH(TRIM($G1639),'Transparency List 2017'!$C:$C,0),FALSE)),\"On the 2017 List\",\"-\")","v":"-"},{"$f":"IF(OR(IFERROR(MATCH($D1639,'Transparency List 2015'!$H:$H,0),FALSE),IFERROR(MATCH(TRIM($G1639),'Transparency List 2015'!$C:$C,0),FALSE)),\"On the 2015 List\",\"-\")","v":"-"}]
[null,null,4,"",null,null,null,"-",{"$f":"IF(OR(IFERROR(MATCH($D1640,'Transparency List 2018_10'!$L:$L,0),FALSE),IFERROR(MATCH(TRIM($G1640),'Transparency List 2018_10'!$D:$D,0),FALSE)),\"On the 2018_10 List\",\"-\")","v":"-"},{"$f":"IF(OR(IFERROR(MATCH($D1640,'Transparency List 2018_04'!$L:$L,0),FALSE),IFERROR(MATCH(TRIM($G1640),'Transparency List 2018_04'!$D:$D,0),FALSE)),\"On the 2018_04 List\",\"-\")","v":"-"},{"$f":"IF(OR(IFERROR(MATCH($D1640,'Transparency List 2017'!$L:$L,0),FALSE),IFERROR(MATCH(TRIM($G1640),'Transparency List 2017'!$C:$C,0),FALSE)),\"On the 2017 List\",\"-\")","v":"-"},{"$f":"IF(OR(IFERROR(MATCH($D1640,'Transparency List 2015'!$H:$H,0),FALSE),IFERROR(MATCH(TRIM($G1640),'Transparency List 2015'!$C:$C,0),FALSE)),\"On the 2015 List\",\"-\")","v":"-"}]
[null,null,4,"",null,null,null,"-",{"$f":"IF(OR(IFERROR(MATCH($D1641,'Transparency List 2018_10'!$L:$L,0),FALSE),IFERROR(MATCH(TRIM($G1641),'Transparency List 2018_10'!$D:$D,0),FALSE)),\"On the 2018_10 List\",\"-\")","v":"-"},{"$f":"IF(OR(IFERROR(MATCH($D1641,'Transparency List 2018_04'!$L:$L,0),FALSE),IFERROR(MATCH(TRIM($G1641),'Transparency List 2018_04'!$D:$D,0),FALSE)),\"On the 2018_04 List\",\"-\")","v":"-"},{"$f":"IF(OR(IFERROR(MATCH($D1641,'Transparency List 2017'!$L:$L,0),FALSE),IFERROR(MATCH(TRIM($G1641),'Transparency List 2017'!$C:$C,0),FALSE)),\"On the 2017 List\",\"-\")","v":"-"},{"$f":"IF(OR(IFERROR(MATCH($D1641,'Transparency List 2015'!$H:$H,0),FALSE),IFERROR(MATCH(TRIM($G1641),'Transparency List 2015'!$C:$C,0),FALSE)),\"On the 2015 List\",\"-\")","v":"-"}]
[null,null,4,"",null,null,null,"-",{"$f":"IF(OR(IFERROR(MATCH($D1642,'Transparency List 2018_10'!$L:$L,0),FALSE),IFERROR(MATCH(TRIM($G1642),'Transparency List 2018_10'!$D:$D,0),FALSE)),\"On the 2018_10 List\",\"-\")","v":"-"},{"$f":"IF(OR(IFERROR(MATCH($D1642,'Transparency List 2018_04'!$L:$L,0),FALSE),IFERROR(MATCH(TRIM($G1642),'Transparency List 2018_04'!$D:$D,0),FALSE)),\"On the 2018_04 List\",\"-\")","v":"-"},{"$f":"IF(OR(IFERROR(MATCH($D1642,'Transparency List 2017'!$L:$L,0),FALSE),IFERROR(MATCH(TRIM($G1642),'Transparency List 2017'!$C:$C,0),FALSE)),\"On the 2017 List\",\"-\")","v":"-"},{"$f":"IF(OR(IFERROR(MATCH($D1642,'Transparency List 2015'!$H:$H,0),FALSE),IFERROR(MATCH(TRIM($G1642),'Transparency List 2015'!$C:$C,0),FALSE)),\"On the 2015 List\",\"-\")","v":"-"}]
[null,null,4,"",null,null,null,"-",{"$f":"IF(OR(IFERROR(MATCH($D1643,'Transparency List 2018_10'!$L:$L,0),FALSE),IFERROR(MATCH(TRIM($G1643),'Transparency List 2018_10'!$D:$D,0),FALSE)),\"On the 2018_10 List\",\"-\")","v":"-"},{"$f":"IF(OR(IFERROR(MATCH($D1643,'Transparency List 2018_04'!$L:$L,0),FALSE),IFERROR(MATCH(TRIM($G1643),'Transparency List 2018_04'!$D:$D,0),FALSE)),\"On the 2018_04 List\",\"-\")","v":"-"},{"$f":"IF(OR(IFERROR(MATCH($D1643,'Transparency List 2017'!$L:$L,0),FALSE),IFERROR(MATCH(TRIM($G1643),'Transparency List 2017'!$C:$C,0),FALSE)),\"On the 2017 List\",\"-\")","v":"-"},{"$f":"IF(OR(IFERROR(MATCH($D1643,'Transparency List 2015'!$H:$H,0),FALSE),IFERROR(MATCH(TRIM($G1643),'Transparency List 2015'!$C:$C,0),FALSE)),\"On the 2015 List\",\"-\")","v":"-"}]
[null,null,4,"",null,null,null,"-",{"$f":"IF(OR(IFERROR(MATCH($D1644,'Transparency List 2018_10'!$L:$L,0),FALSE),IFERROR(MATCH(TRIM($G1644),'Transparency List 2018_10'!$D:$D,0),FALSE)),\"On the 2018_10 List\",\"-\")","v":"-"},{"$f":"IF(OR(IFERROR(MATCH($D1644,'Transparency List 2018_04'!$L:$L,0),FALSE),IFERROR(MATCH(TRIM($G1644),'Transparency List 2018_04'!$D:$D,0),FALSE)),\"On the 2018_04 List\",\"-\")","v":"-"},{"$f":"IF(OR(IFERROR(MATCH($D1644,'Transparency List 2017'!$L:$L,0),FALSE),IFERROR(MATCH(TRIM($G1644),'Transparency List 2017'!$C:$C,0),FALSE)),\"On the 2017 List\",\"-\")","v":"-"},{"$f":"IF(OR(IFERROR(MATCH($D1644,'Transparency List 2015'!$H:$H,0),FALSE),IFERROR(MATCH(TRIM($G1644),'Transparency List 2015'!$C:$C,0),FALSE)),\"On the 2015 List\",\"-\")","v":"-"}]
[null,null,4,"",null,null,null,"-",{"$f":"IF(OR(IFERROR(MATCH($D1645,'Transparency List 2018_10'!$L:$L,0),FALSE),IFERROR(MATCH(TRIM($G1645),'Transparency List 2018_10'!$D:$D,0),FALSE)),\"On the 2018_10 List\",\"-\")","v":"-"},{"$f":"IF(OR(IFERROR(MATCH($D1645,'Transparency List 2018_04'!$L:$L,0),FALSE),IFERROR(MATCH(TRIM($G1645),'Transparency List 2018_04'!$D:$D,0),FALSE)),\"On the 2018_04 List\",\"-\")","v":"-"},{"$f":"IF(OR(IFERROR(MATCH($D1645,'Transparency List 2017'!$L:$L,0),FALSE),IFERROR(MATCH(TRIM($G1645),'Transparency List 2017'!$C:$C,0),FALSE)),\"On the 2017 List\",\"-\")","v":"-"},{"$f":"IF(OR(IFERROR(MATCH($D1645,'Transparency List 2015'!$H:$H,0),FALSE),IFERROR(MATCH(TRIM($G1645),'Transparency List 2015'!$C:$C,0),FALSE)),\"On the 2015 List\",\"-\")","v":"-"}]
[null,null,4,"",null,null,null,"-",{"$f":"IF(OR(IFERROR(MATCH($D1646,'Transparency List 2018_10'!$L:$L,0),FALSE),IFERROR(MATCH(TRIM($G1646),'Transparency List 2018_10'!$D:$D,0),FALSE)),\"On the 2018_10 List\",\"-\")","v":"-"},{"$f":"IF(OR(IFERROR(MATCH($D1646,'Transparency List 2018_04'!$L:$L,0),FALSE),IFERROR(MATCH(TRIM($G1646),'Transparency List 2018_04'!$D:$D,0),FALSE)),\"On the 2018_04 List\",\"-\")","v":"-"},{"$f":"IF(OR(IFERROR(MATCH($D1646,'Transparency List 2017'!$L:$L,0),FALSE),IFERROR(MATCH(TRIM($G1646),'Transparency List 2017'!$C:$C,0),FALSE)),\"On the 2017 List\",\"-\")","v":"-"},{"$f":"IF(OR(IFERROR(MATCH($D1646,'Transparency List 2015'!$H:$H,0),FALSE),IFERROR(MATCH(TRIM($G1646),'Transparency List 2015'!$C:$C,0),FALSE)),\"On the 2015 List\",\"-\")","v":"-"}]
[null,null,4,"",null,null,null,"-",{"$f":"IF(OR(IFERROR(MATCH($D1647,'Transparency List 2018_10'!$L:$L,0),FALSE),IFERROR(MATCH(TRIM($G1647),'Transparency List 2018_10'!$D:$D,0),FALSE)),\"On the 2018_10 List\",\"-\")","v":"-"},{"$f":"IF(OR(IFERROR(MATCH($D1647,'Transparency List 2018_04'!$L:$L,0),FALSE),IFERROR(MATCH(TRIM($G1647),'Transparency List 2018_04'!$D:$D,0),FALSE)),\"On the 2018_04 List\",\"-\")","v":"-"},{"$f":"IF(OR(IFERROR(MATCH($D1647,'Transparency List 2017'!$L:$L,0),FALSE),IFERROR(MATCH(TRIM($G1647),'Transparency List 2017'!$C:$C,0),FALSE)),\"On the 2017 List\",\"-\")","v":"-"},{"$f":"IF(OR(IFERROR(MATCH($D1647,'Transparency List 2015'!$H:$H,0),FALSE),IFERROR(MATCH(TRIM($G1647),'Transparency List 2015'!$C:$C,0),FALSE)),\"On the 2015 List\",\"-\")","v":"-"}]
[null,null,4,"",null,null,null,"-",{"$f":"IF(OR(IFERROR(MATCH($D1648,'Transparency List 2018_10'!$L:$L,0),FALSE),IFERROR(MATCH(TRIM($G1648),'Transparency List 2018_10'!$D:$D,0),FALSE)),\"On the 2018_10 List\",\"-\")","v":"-"},{"$f":"IF(OR(IFERROR(MATCH($D1648,'Transparency List 2018_04'!$L:$L,0),FALSE),IFERROR(MATCH(TRIM($G1648),'Transparency List 2018_04'!$D:$D,0),FALSE)),\"On the 2018_04 List\",\"-\")","v":"-"},{"$f":"IF(OR(IFERROR(MATCH($D1648,'Transparency List 2017'!$L:$L,0),FALSE),IFERROR(MATCH(TRIM($G1648),'Transparency List 2017'!$C:$C,0),FALSE)),\"On the 2017 List\",\"-\")","v":"-"},{"$f":"IF(OR(IFERROR(MATCH($D1648,'Transparency List 2015'!$H:$H,0),FALSE),IFERROR(MATCH(TRIM($G1648),'Transparency List 2015'!$C:$C,0),FALSE)),\"On the 2015 List\",\"-\")","v":"-"}]
[null,null,4,"",null,null,null,"-",{"$f":"IF(OR(IFERROR(MATCH($D1649,'Transparency List 2018_10'!$L:$L,0),FALSE),IFERROR(MATCH(TRIM($G1649),'Transparency List 2018_10'!$D:$D,0),FALSE)),\"On the 2018_10 List\",\"-\")","v":"-"},{"$f":"IF(OR(IFERROR(MATCH($D1649,'Transparency List 2018_04'!$L:$L,0),FALSE),IFERROR(MATCH(TRIM($G1649),'Transparency List 2018_04'!$D:$D,0),FALSE)),\"On the 2018_04 List\",\"-\")","v":"-"},{"$f":"IF(OR(IFERROR(MATCH($D1649,'Transparency List 2017'!$L:$L,0),FALSE),IFERROR(MATCH(TRIM($G1649),'Transparency List 2017'!$C:$C,0),FALSE)),\"On the 2017 List\",\"-\")","v":"-"},{"$f":"IF(OR(IFERROR(MATCH($D1649,'Transparency List 2015'!$H:$H,0),FALSE),IFERROR(MATCH(TRIM($G1649),'Transparency List 2015'!$C:$C,0),FALSE)),\"On the 2015 List\",\"-\")","v":"-"}]
[null,null,4,"",null,null,null,"-",{"$f":"IF(OR(IFERROR(MATCH($D1650,'Transparency List 2018_10'!$L:$L,0),FALSE),IFERROR(MATCH(TRIM($G1650),'Transparency List 2018_10'!$D:$D,0),FALSE)),\"On the 2018_10 List\",\"-\")","v":"-"},{"$f":"IF(OR(IFERROR(MATCH($D1650,'Transparency List 2018_04'!$L:$L,0),FALSE),IFERROR(MATCH(TRIM($G1650),'Transparency List 2018_04'!$D:$D,0),FALSE)),\"On the 2018_04 List\",\"-\")","v":"-"},{"$f":"IF(OR(IFERROR(MATCH($D1650,'Transparency List 2017'!$L:$L,0),FALSE),IFERROR(MATCH(TRIM($G1650),'Transparency List 2017'!$C:$C,0),FALSE)),\"On the 2017 List\",\"-\")","v":"-"},{"$f":"IF(OR(IFERROR(MATCH($D1650,'Transparency List 2015'!$H:$H,0),FALSE),IFERROR(MATCH(TRIM($G1650),'Transparency List 2015'!$C:$C,0),FALSE)),\"On the 2015 List\",\"-\")","v":"-"}]
[null,null,4,"",null,null,null,"-",{"$f":"IF(OR(IFERROR(MATCH($D1651,'Transparency List 2018_10'!$L:$L,0),FALSE),IFERROR(MATCH(TRIM($G1651),'Transparency List 2018_10'!$D:$D,0),FALSE)),\"On the 2018_10 List\",\"-\")","v":"-"},{"$f":"IF(OR(IFERROR(MATCH($D1651,'Transparency List 2018_04'!$L:$L,0),FALSE),IFERROR(MATCH(TRIM($G1651),'Transparency List 2018_04'!$D:$D,0),FALSE)),\"On the 2018_04 List\",\"-\")","v":"-"},{"$f":"IF(OR(IFERROR(MATCH($D1651,'Transparency List 2017'!$L:$L,0),FALSE),IFERROR(MATCH(TRIM($G1651),'Transparency List 2017'!$C:$C,0),FALSE)),\"On the 2017 List\",\"-\")","v":"-"},{"$f":"IF(OR(IFERROR(MATCH($D1651,'Transparency List 2015'!$H:$H,0),FALSE),IFERROR(MATCH(TRIM($G1651),'Transparency List 2015'!$C:$C,0),FALSE)),\"On the 2015 List\",\"-\")","v":"-"}]
[null,null,4,"",null,null,null,"-",{"$f":"IF(OR(IFERROR(MATCH($D1652,'Transparency List 2018_10'!$L:$L,0),FALSE),IFERROR(MATCH(TRIM($G1652),'Transparency List 2018_10'!$D:$D,0),FALSE)),\"On the 2018_10 List\",\"-\")","v":"-"},{"$f":"IF(OR(IFERROR(MATCH($D1652,'Transparency List 2018_04'!$L:$L,0),FALSE),IFERROR(MATCH(TRIM($G1652),'Transparency List 2018_04'!$D:$D,0),FALSE)),\"On the 2018_04 List\",\"-\")","v":"-"},{"$f":"IF(OR(IFERROR(MATCH($D1652,'Transparency List 2017'!$L:$L,0),FALSE),IFERROR(MATCH(TRIM($G1652),'Transparency List 2017'!$C:$C,0),FALSE)),\"On the 2017 List\",\"-\")","v":"-"},{"$f":"IF(OR(IFERROR(MATCH($D1652,'Transparency List 2015'!$H:$H,0),FALSE),IFERROR(MATCH(TRIM($G1652),'Transparency List 2015'!$C:$C,0),FALSE)),\"On the 2015 List\",\"-\")","v":"-"}]
[null,null,4,"",null,null,null,"-",{"$f":"IF(OR(IFERROR(MATCH($D1653,'Transparency List 2018_10'!$L:$L,0),FALSE),IFERROR(MATCH(TRIM($G1653),'Transparency List 2018_10'!$D:$D,0),FALSE)),\"On the 2018_10 List\",\"-\")","v":"-"},{"$f":"IF(OR(IFERROR(MATCH($D1653,'Transparency List 2018_04'!$L:$L,0),FALSE),IFERROR(MATCH(TRIM($G1653),'Transparency List 2018_04'!$D:$D,0),FALSE)),\"On the 2018_04 List\",\"-\")","v":"-"},{"$f":"IF(OR(IFERROR(MATCH($D1653,'Transparency List 2017'!$L:$L,0),FALSE),IFERROR(MATCH(TRIM($G1653),'Transparency List 2017'!$C:$C,0),FALSE)),\"On the 2017 List\",\"-\")","v":"-"},{"$f":"IF(OR(IFERROR(MATCH($D1653,'Transparency List 2015'!$H:$H,0),FALSE),IFERROR(MATCH(TRIM($G1653),'Transparency List 2015'!$C:$C,0),FALSE)),\"On the 2015 List\",\"-\")","v":"-"}]
[null,null,4,"",null,null,null,"-",{"$f":"IF(OR(IFERROR(MATCH($D1654,'Transparency List 2018_10'!$L:$L,0),FALSE),IFERROR(MATCH(TRIM($G1654),'Transparency List 2018_10'!$D:$D,0),FALSE)),\"On the 2018_10 List\",\"-\")","v":"-"},{"$f":"IF(OR(IFERROR(MATCH($D1654,'Transparency List 2018_04'!$L:$L,0),FALSE),IFERROR(MATCH(TRIM($G1654),'Transparency List 2018_04'!$D:$D,0),FALSE)),\"On the 2018_04 List\",\"-\")","v":"-"},{"$f":"IF(OR(IFERROR(MATCH($D1654,'Transparency List 2017'!$L:$L,0),FALSE),IFERROR(MATCH(TRIM($G1654),'Transparency List 2017'!$C:$C,0),FALSE)),\"On the 2017 List\",\"-\")","v":"-"},{"$f":"IF(OR(IFERROR(MATCH($D1654,'Transparency List 2015'!$H:$H,0),FALSE),IFERROR(MATCH(TRIM($G1654),'Transparency List 2015'!$C:$C,0),FALSE)),\"On the 2015 List\",\"-\")","v":"-"}]
[null,null,4,"",null,null,null,"-",{"$f":"IF(OR(IFERROR(MATCH($D1655,'Transparency List 2018_10'!$L:$L,0),FALSE),IFERROR(MATCH(TRIM($G1655),'Transparency List 2018_10'!$D:$D,0),FALSE)),\"On the 2018_10 List\",\"-\")","v":"-"},{"$f":"IF(OR(IFERROR(MATCH($D1655,'Transparency List 2018_04'!$L:$L,0),FALSE),IFERROR(MATCH(TRIM($G1655),'Transparency List 2018_04'!$D:$D,0),FALSE)),\"On the 2018_04 List\",\"-\")","v":"-"},{"$f":"IF(OR(IFERROR(MATCH($D1655,'Transparency List 2017'!$L:$L,0),FALSE),IFERROR(MATCH(TRIM($G1655),'Transparency List 2017'!$C:$C,0),FALSE)),\"On the 2017 List\",\"-\")","v":"-"},{"$f":"IF(OR(IFERROR(MATCH($D1655,'Transparency List 2015'!$H:$H,0),FALSE),IFERROR(MATCH(TRIM($G1655),'Transparency List 2015'!$C:$C,0),FALSE)),\"On the 2015 List\",\"-\")","v":"-"}]
[null,null,4,"",null,null,null,"-",{"$f":"IF(OR(IFERROR(MATCH($D1656,'Transparency List 2018_10'!$L:$L,0),FALSE),IFERROR(MATCH(TRIM($G1656),'Transparency List 2018_10'!$D:$D,0),FALSE)),\"On the 2018_10 List\",\"-\")","v":"-"},{"$f":"IF(OR(IFERROR(MATCH($D1656,'Transparency List 2018_04'!$L:$L,0),FALSE),IFERROR(MATCH(TRIM($G1656),'Transparency List 2018_04'!$D:$D,0),FALSE)),\"On the 2018_04 List\",\"-\")","v":"-"},{"$f":"IF(OR(IFERROR(MATCH($D1656,'Transparency List 2017'!$L:$L,0),FALSE),IFERROR(MATCH(TRIM($G1656),'Transparency List 2017'!$C:$C,0),FALSE)),\"On the 2017 List\",\"-\")","v":"-"},{"$f":"IF(OR(IFERROR(MATCH($D1656,'Transparency List 2015'!$H:$H,0),FALSE),IFERROR(MATCH(TRIM($G1656),'Transparency List 2015'!$C:$C,0),FALSE)),\"On the 2015 List\",\"-\")","v":"-"}]
[null,null,4,"",null,null,null,"-",{"$f":"IF(OR(IFERROR(MATCH($D1657,'Transparency List 2018_10'!$L:$L,0),FALSE),IFERROR(MATCH(TRIM($G1657),'Transparency List 2018_10'!$D:$D,0),FALSE)),\"On the 2018_10 List\",\"-\")","v":"-"},{"$f":"IF(OR(IFERROR(MATCH($D1657,'Transparency List 2018_04'!$L:$L,0),FALSE),IFERROR(MATCH(TRIM($G1657),'Transparency List 2018_04'!$D:$D,0),FALSE)),\"On the 2018_04 List\",\"-\")","v":"-"},{"$f":"IF(OR(IFERROR(MATCH($D1657,'Transparency List 2017'!$L:$L,0),FALSE),IFERROR(MATCH(TRIM($G1657),'Transparency List 2017'!$C:$C,0),FALSE)),\"On the 2017 List\",\"-\")","v":"-"},{"$f":"IF(OR(IFERROR(MATCH($D1657,'Transparency List 2015'!$H:$H,0),FALSE),IFERROR(MATCH(TRIM($G1657),'Transparency List 2015'!$C:$C,0),FALSE)),\"On the 2015 List\",\"-\")","v":"-"}]
[null,null,4,"",null,null,null,"-",{"$f":"IF(OR(IFERROR(MATCH($D1658,'Transparency List 2018_10'!$L:$L,0),FALSE),IFERROR(MATCH(TRIM($G1658),'Transparency List 2018_10'!$D:$D,0),FALSE)),\"On the 2018_10 List\",\"-\")","v":"-"},{"$f":"IF(OR(IFERROR(MATCH($D1658,'Transparency List 2018_04'!$L:$L,0),FALSE),IFERROR(MATCH(TRIM($G1658),'Transparency List 2018_04'!$D:$D,0),FALSE)),\"On the 2018_04 List\",\"-\")","v":"-"},{"$f":"IF(OR(IFERROR(MATCH($D1658,'Transparency List 2017'!$L:$L,0),FALSE),IFERROR(MATCH(TRIM($G1658),'Transparency List 2017'!$C:$C,0),FALSE)),\"On the 2017 List\",\"-\")","v":"-"},{"$f":"IF(OR(IFERROR(MATCH($D1658,'Transparency List 2015'!$H:$H,0),FALSE),IFERROR(MATCH(TRIM($G1658),'Transparency List 2015'!$C:$C,0),FALSE)),\"On the 2015 List\",\"-\")","v":"-"}]
[null,null,4,"",null,null,null,"-",{"$f":"IF(OR(IFERROR(MATCH($D1659,'Transparency List 2018_10'!$L:$L,0),FALSE),IFERROR(MATCH(TRIM($G1659),'Transparency List 2018_10'!$D:$D,0),FALSE)),\"On the 2018_10 List\",\"-\")","v":"-"},{"$f":"IF(OR(IFERROR(MATCH($D1659,'Transparency List 2018_04'!$L:$L,0),FALSE),IFERROR(MATCH(TRIM($G1659),'Transparency List 2018_04'!$D:$D,0),FALSE)),\"On the 2018_04 List\",\"-\")","v":"-"},{"$f":"IF(OR(IFERROR(MATCH($D1659,'Transparency List 2017'!$L:$L,0),FALSE),IFERROR(MATCH(TRIM($G1659),'Transparency List 2017'!$C:$C,0),FALSE)),\"On the 2017 List\",\"-\")","v":"-"},{"$f":"IF(OR(IFERROR(MATCH($D1659,'Transparency List 2015'!$H:$H,0),FALSE),IFERROR(MATCH(TRIM($G1659),'Transparency List 2015'!$C:$C,0),FALSE)),\"On the 2015 List\",\"-\")","v":"-"}]
[null,null,4,"",null,null,null,"-",{"$f":"IF(OR(IFERROR(MATCH($D1660,'Transparency List 2018_10'!$L:$L,0),FALSE),IFERROR(MATCH(TRIM($G1660),'Transparency List 2018_10'!$D:$D,0),FALSE)),\"On the 2018_10 List\",\"-\")","v":"-"},{"$f":"IF(OR(IFERROR(MATCH($D1660,'Transparency List 2018_04'!$L:$L,0),FALSE),IFERROR(MATCH(TRIM($G1660),'Transparency List 2018_04'!$D:$D,0),FALSE)),\"On the 2018_04 List\",\"-\")","v":"-"},{"$f":"IF(OR(IFERROR(MATCH($D1660,'Transparency List 2017'!$L:$L,0),FALSE),IFERROR(MATCH(TRIM($G1660),'Transparency List 2017'!$C:$C,0),FALSE)),\"On the 2017 List\",\"-\")","v":"-"},{"$f":"IF(OR(IFERROR(MATCH($D1660,'Transparency List 2015'!$H:$H,0),FALSE),IFERROR(MATCH(TRIM($G1660),'Transparency List 2015'!$C:$C,0),FALSE)),\"On the 2015 List\",\"-\")","v":"-"}]
[null,null,4,"",null,null,null,"-",{"$f":"IF(OR(IFERROR(MATCH($D1661,'Transparency List 2018_10'!$L:$L,0),FALSE),IFERROR(MATCH(TRIM($G1661),'Transparency List 2018_10'!$D:$D,0),FALSE)),\"On the 2018_10 List\",\"-\")","v":"-"},{"$f":"IF(OR(IFERROR(MATCH($D1661,'Transparency List 2018_04'!$L:$L,0),FALSE),IFERROR(MATCH(TRIM($G1661),'Transparency List 2018_04'!$D:$D,0),FALSE)),\"On the 2018_04 List\",\"-\")","v":"-"},{"$f":"IF(OR(IFERROR(MATCH($D1661,'Transparency List 2017'!$L:$L,0),FALSE),IFERROR(MATCH(TRIM($G1661),'Transparency List 2017'!$C:$C,0),FALSE)),\"On the 2017 List\",\"-\")","v":"-"},{"$f":"IF(OR(IFERROR(MATCH($D1661,'Transparency List 2015'!$H:$H,0),FALSE),IFERROR(MATCH(TRIM($G1661),'Transparency List 2015'!$C:$C,0),FALSE)),\"On the 2015 List\",\"-\")","v":"-"}]
[null,null,4,"",null,null,null,"-",{"$f":"IF(OR(IFERROR(MATCH($D1662,'Transparency List 2018_10'!$L:$L,0),FALSE),IFERROR(MATCH(TRIM($G1662),'Transparency List 2018_10'!$D:$D,0),FALSE)),\"On the 2018_10 List\",\"-\")","v":"-"},{"$f":"IF(OR(IFERROR(MATCH($D1662,'Transparency List 2018_04'!$L:$L,0),FALSE),IFERROR(MATCH(TRIM($G1662),'Transparency List 2018_04'!$D:$D,0),FALSE)),\"On the 2018_04 List\",\"-\")","v":"-"},{"$f":"IF(OR(IFERROR(MATCH($D1662,'Transparency List 2017'!$L:$L,0),FALSE),IFERROR(MATCH(TRIM($G1662),'Transparency List 2017'!$C:$C,0),FALSE)),\"On the 2017 List\",\"-\")","v":"-"},{"$f":"IF(OR(IFERROR(MATCH($D1662,'Transparency List 2015'!$H:$H,0),FALSE),IFERROR(MATCH(TRIM($G1662),'Transparency List 2015'!$C:$C,0),FALSE)),\"On the 2015 List\",\"-\")","v":"-"}]
[null,null,4,"",null,null,null,"-",{"$f":"IF(OR(IFERROR(MATCH($D1663,'Transparency List 2018_10'!$L:$L,0),FALSE),IFERROR(MATCH(TRIM($G1663),'Transparency List 2018_10'!$D:$D,0),FALSE)),\"On the 2018_10 List\",\"-\")","v":"-"},{"$f":"IF(OR(IFERROR(MATCH($D1663,'Transparency List 2018_04'!$L:$L,0),FALSE),IFERROR(MATCH(TRIM($G1663),'Transparency List 2018_04'!$D:$D,0),FALSE)),\"On the 2018_04 List\",\"-\")","v":"-"},{"$f":"IF(OR(IFERROR(MATCH($D1663,'Transparency List 2017'!$L:$L,0),FALSE),IFERROR(MATCH(TRIM($G1663),'Transparency List 2017'!$C:$C,0),FALSE)),\"On the 2017 List\",\"-\")","v":"-"},{"$f":"IF(OR(IFERROR(MATCH($D1663,'Transparency List 2015'!$H:$H,0),FALSE),IFERROR(MATCH(TRIM($G1663),'Transparency List 2015'!$C:$C,0),FALSE)),\"On the 2015 List\",\"-\")","v":"-"}]
[null,null,4,"",null,null,null,"-",{"$f":"IF(OR(IFERROR(MATCH($D1664,'Transparency List 2018_10'!$L:$L,0),FALSE),IFERROR(MATCH(TRIM($G1664),'Transparency List 2018_10'!$D:$D,0),FALSE)),\"On the 2018_10 List\",\"-\")","v":"-"},{"$f":"IF(OR(IFERROR(MATCH($D1664,'Transparency List 2018_04'!$L:$L,0),FALSE),IFERROR(MATCH(TRIM($G1664),'Transparency List 2018_04'!$D:$D,0),FALSE)),\"On the 2018_04 List\",\"-\")","v":"-"},{"$f":"IF(OR(IFERROR(MATCH($D1664,'Transparency List 2017'!$L:$L,0),FALSE),IFERROR(MATCH(TRIM($G1664),'Transparency List 2017'!$C:$C,0),FALSE)),\"On the 2017 List\",\"-\")","v":"-"},{"$f":"IF(OR(IFERROR(MATCH($D1664,'Transparency List 2015'!$H:$H,0),FALSE),IFERROR(MATCH(TRIM($G1664),'Transparency List 2015'!$C:$C,0),FALSE)),\"On the 2015 List\",\"-\")","v":"-"}]
[null,null,4,"",null,null,null,"-",{"$f":"IF(OR(IFERROR(MATCH($D1665,'Transparency List 2018_10'!$L:$L,0),FALSE),IFERROR(MATCH(TRIM($G1665),'Transparency List 2018_10'!$D:$D,0),FALSE)),\"On the 2018_10 List\",\"-\")","v":"-"},{"$f":"IF(OR(IFERROR(MATCH($D1665,'Transparency List 2018_04'!$L:$L,0),FALSE),IFERROR(MATCH(TRIM($G1665),'Transparency List 2018_04'!$D:$D,0),FALSE)),\"On the 2018_04 List\",\"-\")","v":"-"},{"$f":"IF(OR(IFERROR(MATCH($D1665,'Transparency List 2017'!$L:$L,0),FALSE),IFERROR(MATCH(TRIM($G1665),'Transparency List 2017'!$C:$C,0),FALSE)),\"On the 2017 List\",\"-\")","v":"-"},{"$f":"IF(OR(IFERROR(MATCH($D1665,'Transparency List 2015'!$H:$H,0),FALSE),IFERROR(MATCH(TRIM($G1665),'Transparency List 2015'!$C:$C,0),FALSE)),\"On the 2015 List\",\"-\")","v":"-"}]
[null,null,4,"",null,null,null,"-",{"$f":"IF(OR(IFERROR(MATCH($D1666,'Transparency List 2018_10'!$L:$L,0),FALSE),IFERROR(MATCH(TRIM($G1666),'Transparency List 2018_10'!$D:$D,0),FALSE)),\"On the 2018_10 List\",\"-\")","v":"-"},{"$f":"IF(OR(IFERROR(MATCH($D1666,'Transparency List 2018_04'!$L:$L,0),FALSE),IFERROR(MATCH(TRIM($G1666),'Transparency List 2018_04'!$D:$D,0),FALSE)),\"On the 2018_04 List\",\"-\")","v":"-"},{"$f":"IF(OR(IFERROR(MATCH($D1666,'Transparency List 2017'!$L:$L,0),FALSE),IFERROR(MATCH(TRIM($G1666),'Transparency List 2017'!$C:$C,0),FALSE)),\"On the 2017 List\",\"-\")","v":"-"},{"$f":"IF(OR(IFERROR(MATCH($D1666,'Transparency List 2015'!$H:$H,0),FALSE),IFERROR(MATCH(TRIM($G1666),'Transparency List 2015'!$C:$C,0),FALSE)),\"On the 2015 List\",\"-\")","v":"-"}]
[null,null,4,"",null,null,null,"-",{"$f":"IF(OR(IFERROR(MATCH($D1667,'Transparency List 2018_10'!$L:$L,0),FALSE),IFERROR(MATCH(TRIM($G1667),'Transparency List 2018_10'!$D:$D,0),FALSE)),\"On the 2018_10 List\",\"-\")","v":"-"},{"$f":"IF(OR(IFERROR(MATCH($D1667,'Transparency List 2018_04'!$L:$L,0),FALSE),IFERROR(MATCH(TRIM($G1667),'Transparency List 2018_04'!$D:$D,0),FALSE)),\"On the 2018_04 List\",\"-\")","v":"-"},{"$f":"IF(OR(IFERROR(MATCH($D1667,'Transparency List 2017'!$L:$L,0),FALSE),IFERROR(MATCH(TRIM($G1667),'Transparency List 2017'!$C:$C,0),FALSE)),\"On the 2017 List\",\"-\")","v":"-"},{"$f":"IF(OR(IFERROR(MATCH($D1667,'Transparency List 2015'!$H:$H,0),FALSE),IFERROR(MATCH(TRIM($G1667),'Transparency List 2015'!$C:$C,0),FALSE)),\"On the 2015 List\",\"-\")","v":"-"}]
[null,null,4,"",null,null,null,"-",{"$f":"IF(OR(IFERROR(MATCH($D1668,'Transparency List 2018_10'!$L:$L,0),FALSE),IFERROR(MATCH(TRIM($G1668),'Transparency List 2018_10'!$D:$D,0),FALSE)),\"On the 2018_10 List\",\"-\")","v":"-"},{"$f":"IF(OR(IFERROR(MATCH($D1668,'Transparency List 2018_04'!$L:$L,0),FALSE),IFERROR(MATCH(TRIM($G1668),'Transparency List 2018_04'!$D:$D,0),FALSE)),\"On the 2018_04 List\",\"-\")","v":"-"},{"$f":"IF(OR(IFERROR(MATCH($D1668,'Transparency List 2017'!$L:$L,0),FALSE),IFERROR(MATCH(TRIM($G1668),'Transparency List 2017'!$C:$C,0),FALSE)),\"On the 2017 List\",\"-\")","v":"-"},{"$f":"IF(OR(IFERROR(MATCH($D1668,'Transparency List 2015'!$H:$H,0),FALSE),IFERROR(MATCH(TRIM($G1668),'Transparency List 2015'!$C:$C,0),FALSE)),\"On the 2015 List\",\"-\")","v":"-"}]
[null,null,4,"",null,null,null,"-",{"$f":"IF(OR(IFERROR(MATCH($D1669,'Transparency List 2018_10'!$L:$L,0),FALSE),IFERROR(MATCH(TRIM($G1669),'Transparency List 2018_10'!$D:$D,0),FALSE)),\"On the 2018_10 List\",\"-\")","v":"-"},{"$f":"IF(OR(IFERROR(MATCH($D1669,'Transparency List 2018_04'!$L:$L,0),FALSE),IFERROR(MATCH(TRIM($G1669),'Transparency List 2018_04'!$D:$D,0),FALSE)),\"On the 2018_04 List\",\"-\")","v":"-"},{"$f":"IF(OR(IFERROR(MATCH($D1669,'Transparency List 2017'!$L:$L,0),FALSE),IFERROR(MATCH(TRIM($G1669),'Transparency List 2017'!$C:$C,0),FALSE)),\"On the 2017 List\",\"-\")","v":"-"},{"$f":"IF(OR(IFERROR(MATCH($D1669,'Transparency List 2015'!$H:$H,0),FALSE),IFERROR(MATCH(TRIM($G1669),'Transparency List 2015'!$C:$C,0),FALSE)),\"On the 2015 List\",\"-\")","v":"-"}]
[null,null,4,"",null,null,null,"-",{"$f":"IF(OR(IFERROR(MATCH($D1670,'Transparency List 2018_10'!$L:$L,0),FALSE),IFERROR(MATCH(TRIM($G1670),'Transparency List 2018_10'!$D:$D,0),FALSE)),\"On the 2018_10 List\",\"-\")","v":"-"},{"$f":"IF(OR(IFERROR(MATCH($D1670,'Transparency List 2018_04'!$L:$L,0),FALSE),IFERROR(MATCH(TRIM($G1670),'Transparency List 2018_04'!$D:$D,0),FALSE)),\"On the 2018_04 List\",\"-\")","v":"-"},{"$f":"IF(OR(IFERROR(MATCH($D1670,'Transparency List 2017'!$L:$L,0),FALSE),IFERROR(MATCH(TRIM($G1670),'Transparency List 2017'!$C:$C,0),FALSE)),\"On the 2017 List\",\"-\")","v":"-"},{"$f":"IF(OR(IFERROR(MATCH($D1670,'Transparency List 2015'!$H:$H,0),FALSE),IFERROR(MATCH(TRIM($G1670),'Transparency List 2015'!$C:$C,0),FALSE)),\"On the 2015 List\",\"-\")","v":"-"}]
[null,null,4,"",null,null,null,"-",{"$f":"IF(OR(IFERROR(MATCH($D1671,'Transparency List 2018_10'!$L:$L,0),FALSE),IFERROR(MATCH(TRIM($G1671),'Transparency List 2018_10'!$D:$D,0),FALSE)),\"On the 2018_10 List\",\"-\")","v":"-"},{"$f":"IF(OR(IFERROR(MATCH($D1671,'Transparency List 2018_04'!$L:$L,0),FALSE),IFERROR(MATCH(TRIM($G1671),'Transparency List 2018_04'!$D:$D,0),FALSE)),\"On the 2018_04 List\",\"-\")","v":"-"},{"$f":"IF(OR(IFERROR(MATCH($D1671,'Transparency List 2017'!$L:$L,0),FALSE),IFERROR(MATCH(TRIM($G1671),'Transparency List 2017'!$C:$C,0),FALSE)),\"On the 2017 List\",\"-\")","v":"-"},{"$f":"IF(OR(IFERROR(MATCH($D1671,'Transparency List 2015'!$H:$H,0),FALSE),IFERROR(MATCH(TRIM($G1671),'Transparency List 2015'!$C:$C,0),FALSE)),\"On the 2015 List\",\"-\")","v":"-"}]
[null,null,4,"",null,null,null,"-",{"$f":"IF(OR(IFERROR(MATCH($D1672,'Transparency List 2018_10'!$L:$L,0),FALSE),IFERROR(MATCH(TRIM($G1672),'Transparency List 2018_10'!$D:$D,0),FALSE)),\"On the 2018_10 List\",\"-\")","v":"-"},{"$f":"IF(OR(IFERROR(MATCH($D1672,'Transparency List 2018_04'!$L:$L,0),FALSE),IFERROR(MATCH(TRIM($G1672),'Transparency List 2018_04'!$D:$D,0),FALSE)),\"On the 2018_04 List\",\"-\")","v":"-"},{"$f":"IF(OR(IFERROR(MATCH($D1672,'Transparency List 2017'!$L:$L,0),FALSE),IFERROR(MATCH(TRIM($G1672),'Transparency List 2017'!$C:$C,0),FALSE)),\"On the 2017 List\",\"-\")","v":"-"},{"$f":"IF(OR(IFERROR(MATCH($D1672,'Transparency List 2015'!$H:$H,0),FALSE),IFERROR(MATCH(TRIM($G1672),'Transparency List 2015'!$C:$C,0),FALSE)),\"On the 2015 List\",\"-\")","v":"-"}]
[null,null,4,"",null,null,null,"-",{"$f":"IF(OR(IFERROR(MATCH($D1673,'Transparency List 2018_10'!$L:$L,0),FALSE),IFERROR(MATCH(TRIM($G1673),'Transparency List 2018_10'!$D:$D,0),FALSE)),\"On the 2018_10 List\",\"-\")","v":"-"},{"$f":"IF(OR(IFERROR(MATCH($D1673,'Transparency List 2018_04'!$L:$L,0),FALSE),IFERROR(MATCH(TRIM($G1673),'Transparency List 2018_04'!$D:$D,0),FALSE)),\"On the 2018_04 List\",\"-\")","v":"-"},{"$f":"IF(OR(IFERROR(MATCH($D1673,'Transparency List 2017'!$L:$L,0),FALSE),IFERROR(MATCH(TRIM($G1673),'Transparency List 2017'!$C:$C,0),FALSE)),\"On the 2017 List\",\"-\")","v":"-"},{"$f":"IF(OR(IFERROR(MATCH($D1673,'Transparency List 2015'!$H:$H,0),FALSE),IFERROR(MATCH(TRIM($G1673),'Transparency List 2015'!$C:$C,0),FALSE)),\"On the 2015 List\",\"-\")","v":"-"}]
[null,null,4,"",null,null,null,"-",{"$f":"IF(OR(IFERROR(MATCH($D1674,'Transparency List 2018_10'!$L:$L,0),FALSE),IFERROR(MATCH(TRIM($G1674),'Transparency List 2018_10'!$D:$D,0),FALSE)),\"On the 2018_10 List\",\"-\")","v":"-"},{"$f":"IF(OR(IFERROR(MATCH($D1674,'Transparency List 2018_04'!$L:$L,0),FALSE),IFERROR(MATCH(TRIM($G1674),'Transparency List 2018_04'!$D:$D,0),FALSE)),\"On the 2018_04 List\",\"-\")","v":"-"},{"$f":"IF(OR(IFERROR(MATCH($D1674,'Transparency List 2017'!$L:$L,0),FALSE),IFERROR(MATCH(TRIM($G1674),'Transparency List 2017'!$C:$C,0),FALSE)),\"On the 2017 List\",\"-\")","v":"-"},{"$f":"IF(OR(IFERROR(MATCH($D1674,'Transparency List 2015'!$H:$H,0),FALSE),IFERROR(MATCH(TRIM($G1674),'Transparency List 2015'!$C:$C,0),FALSE)),\"On the 2015 List\",\"-\")","v":"-"}]
[null,null,4,"",null,null,null,"-",{"$f":"IF(OR(IFERROR(MATCH($D1675,'Transparency List 2018_10'!$L:$L,0),FALSE),IFERROR(MATCH(TRIM($G1675),'Transparency List 2018_10'!$D:$D,0),FALSE)),\"On the 2018_10 List\",\"-\")","v":"-"},{"$f":"IF(OR(IFERROR(MATCH($D1675,'Transparency List 2018_04'!$L:$L,0),FALSE),IFERROR(MATCH(TRIM($G1675),'Transparency List 2018_04'!$D:$D,0),FALSE)),\"On the 2018_04 List\",\"-\")","v":"-"},{"$f":"IF(OR(IFERROR(MATCH($D1675,'Transparency List 2017'!$L:$L,0),FALSE),IFERROR(MATCH(TRIM($G1675),'Transparency List 2017'!$C:$C,0),FALSE)),\"On the 2017 List\",\"-\")","v":"-"},{"$f":"IF(OR(IFERROR(MATCH($D1675,'Transparency List 2015'!$H:$H,0),FALSE),IFERROR(MATCH(TRIM($G1675),'Transparency List 2015'!$C:$C,0),FALSE)),\"On the 2015 List\",\"-\")","v":"-"}]
[null,null,4,"",null,null,null,"-",{"$f":"IF(OR(IFERROR(MATCH($D1676,'Transparency List 2018_10'!$L:$L,0),FALSE),IFERROR(MATCH(TRIM($G1676),'Transparency List 2018_10'!$D:$D,0),FALSE)),\"On the 2018_10 List\",\"-\")","v":"-"},{"$f":"IF(OR(IFERROR(MATCH($D1676,'Transparency List 2018_04'!$L:$L,0),FALSE),IFERROR(MATCH(TRIM($G1676),'Transparency List 2018_04'!$D:$D,0),FALSE)),\"On the 2018_04 List\",\"-\")","v":"-"},{"$f":"IF(OR(IFERROR(MATCH($D1676,'Transparency List 2017'!$L:$L,0),FALSE),IFERROR(MATCH(TRIM($G1676),'Transparency List 2017'!$C:$C,0),FALSE)),\"On the 2017 List\",\"-\")","v":"-"},{"$f":"IF(OR(IFERROR(MATCH($D1676,'Transparency List 2015'!$H:$H,0),FALSE),IFERROR(MATCH(TRIM($G1676),'Transparency List 2015'!$C:$C,0),FALSE)),\"On the 2015 List\",\"-\")","v":"-"}]
[null,null,4,"",null,null,null,"-",{"$f":"IF(OR(IFERROR(MATCH($D1677,'Transparency List 2018_10'!$L:$L,0),FALSE),IFERROR(MATCH(TRIM($G1677),'Transparency List 2018_10'!$D:$D,0),FALSE)),\"On the 2018_10 List\",\"-\")","v":"-"},{"$f":"IF(OR(IFERROR(MATCH($D1677,'Transparency List 2018_04'!$L:$L,0),FALSE),IFERROR(MATCH(TRIM($G1677),'Transparency List 2018_04'!$D:$D,0),FALSE)),\"On the 2018_04 List\",\"-\")","v":"-"},{"$f":"IF(OR(IFERROR(MATCH($D1677,'Transparency List 2017'!$L:$L,0),FALSE),IFERROR(MATCH(TRIM($G1677),'Transparency List 2017'!$C:$C,0),FALSE)),\"On the 2017 List\",\"-\")","v":"-"},{"$f":"IF(OR(IFERROR(MATCH($D1677,'Transparency List 2015'!$H:$H,0),FALSE),IFERROR(MATCH(TRIM($G1677),'Transparency List 2015'!$C:$C,0),FALSE)),\"On the 2015 List\",\"-\")","v":"-"}]
[null,null,4,"",null,null,null,"-",{"$f":"IF(OR(IFERROR(MATCH($D1678,'Transparency List 2018_10'!$L:$L,0),FALSE),IFERROR(MATCH(TRIM($G1678),'Transparency List 2018_10'!$D:$D,0),FALSE)),\"On the 2018_10 List\",\"-\")","v":"-"},{"$f":"IF(OR(IFERROR(MATCH($D1678,'Transparency List 2018_04'!$L:$L,0),FALSE),IFERROR(MATCH(TRIM($G1678),'Transparency List 2018_04'!$D:$D,0),FALSE)),\"On the 2018_04 List\",\"-\")","v":"-"},{"$f":"IF(OR(IFERROR(MATCH($D1678,'Transparency List 2017'!$L:$L,0),FALSE),IFERROR(MATCH(TRIM($G1678),'Transparency List 2017'!$C:$C,0),FALSE)),\"On the 2017 List\",\"-\")","v":"-"},{"$f":"IF(OR(IFERROR(MATCH($D1678,'Transparency List 2015'!$H:$H,0),FALSE),IFERROR(MATCH(TRIM($G1678),'Transparency List 2015'!$C:$C,0),FALSE)),\"On the 2015 List\",\"-\")","v":"-"}]
[null,null,4,"",null,null,null,"-",{"$f":"IF(OR(IFERROR(MATCH($D1679,'Transparency List 2018_10'!$L:$L,0),FALSE),IFERROR(MATCH(TRIM($G1679),'Transparency List 2018_10'!$D:$D,0),FALSE)),\"On the 2018_10 List\",\"-\")","v":"-"},{"$f":"IF(OR(IFERROR(MATCH($D1679,'Transparency List 2018_04'!$L:$L,0),FALSE),IFERROR(MATCH(TRIM($G1679),'Transparency List 2018_04'!$D:$D,0),FALSE)),\"On the 2018_04 List\",\"-\")","v":"-"},{"$f":"IF(OR(IFERROR(MATCH($D1679,'Transparency List 2017'!$L:$L,0),FALSE),IFERROR(MATCH(TRIM($G1679),'Transparency List 2017'!$C:$C,0),FALSE)),\"On the 2017 List\",\"-\")","v":"-"},{"$f":"IF(OR(IFERROR(MATCH($D1679,'Transparency List 2015'!$H:$H,0),FALSE),IFERROR(MATCH(TRIM($G1679),'Transparency List 2015'!$C:$C,0),FALSE)),\"On the 2015 List\",\"-\")","v":"-"}]
[null,null,4,"",null,null,null,"-",{"$f":"IF(OR(IFERROR(MATCH($D1680,'Transparency List 2018_10'!$L:$L,0),FALSE),IFERROR(MATCH(TRIM($G1680),'Transparency List 2018_10'!$D:$D,0),FALSE)),\"On the 2018_10 List\",\"-\")","v":"-"},{"$f":"IF(OR(IFERROR(MATCH($D1680,'Transparency List 2018_04'!$L:$L,0),FALSE),IFERROR(MATCH(TRIM($G1680),'Transparency List 2018_04'!$D:$D,0),FALSE)),\"On the 2018_04 List\",\"-\")","v":"-"},{"$f":"IF(OR(IFERROR(MATCH($D1680,'Transparency List 2017'!$L:$L,0),FALSE),IFERROR(MATCH(TRIM($G1680),'Transparency List 2017'!$C:$C,0),FALSE)),\"On the 2017 List\",\"-\")","v":"-"},{"$f":"IF(OR(IFERROR(MATCH($D1680,'Transparency List 2015'!$H:$H,0),FALSE),IFERROR(MATCH(TRIM($G1680),'Transparency List 2015'!$C:$C,0),FALSE)),\"On the 2015 List\",\"-\")","v":"-"}]
[null,null,4,"",null,null,null,"-",{"$f":"IF(OR(IFERROR(MATCH($D1681,'Transparency List 2018_10'!$L:$L,0),FALSE),IFERROR(MATCH(TRIM($G1681),'Transparency List 2018_10'!$D:$D,0),FALSE)),\"On the 2018_10 List\",\"-\")","v":"-"},{"$f":"IF(OR(IFERROR(MATCH($D1681,'Transparency List 2018_04'!$L:$L,0),FALSE),IFERROR(MATCH(TRIM($G1681),'Transparency List 2018_04'!$D:$D,0),FALSE)),\"On the 2018_04 List\",\"-\")","v":"-"},{"$f":"IF(OR(IFERROR(MATCH($D1681,'Transparency List 2017'!$L:$L,0),FALSE),IFERROR(MATCH(TRIM($G1681),'Transparency List 2017'!$C:$C,0),FALSE)),\"On the 2017 List\",\"-\")","v":"-"},{"$f":"IF(OR(IFERROR(MATCH($D1681,'Transparency List 2015'!$H:$H,0),FALSE),IFERROR(MATCH(TRIM($G1681),'Transparency List 2015'!$C:$C,0),FALSE)),\"On the 2015 List\",\"-\")","v":"-"}]
[null,null,4,"",null,null,null,"-",{"$f":"IF(OR(IFERROR(MATCH($D1682,'Transparency List 2018_10'!$L:$L,0),FALSE),IFERROR(MATCH(TRIM($G1682),'Transparency List 2018_10'!$D:$D,0),FALSE)),\"On the 2018_10 List\",\"-\")","v":"-"},{"$f":"IF(OR(IFERROR(MATCH($D1682,'Transparency List 2018_04'!$L:$L,0),FALSE),IFERROR(MATCH(TRIM($G1682),'Transparency List 2018_04'!$D:$D,0),FALSE)),\"On the 2018_04 List\",\"-\")","v":"-"},{"$f":"IF(OR(IFERROR(MATCH($D1682,'Transparency List 2017'!$L:$L,0),FALSE),IFERROR(MATCH(TRIM($G1682),'Transparency List 2017'!$C:$C,0),FALSE)),\"On the 2017 List\",\"-\")","v":"-"},{"$f":"IF(OR(IFERROR(MATCH($D1682,'Transparency List 2015'!$H:$H,0),FALSE),IFERROR(MATCH(TRIM($G1682),'Transparency List 2015'!$C:$C,0),FALSE)),\"On the 2015 List\",\"-\")","v":"-"}]
[null,null,4,"",null,null,null,"-",{"$f":"IF(OR(IFERROR(MATCH($D1683,'Transparency List 2018_10'!$L:$L,0),FALSE),IFERROR(MATCH(TRIM($G1683),'Transparency List 2018_10'!$D:$D,0),FALSE)),\"On the 2018_10 List\",\"-\")","v":"-"},{"$f":"IF(OR(IFERROR(MATCH($D1683,'Transparency List 2018_04'!$L:$L,0),FALSE),IFERROR(MATCH(TRIM($G1683),'Transparency List 2018_04'!$D:$D,0),FALSE)),\"On the 2018_04 List\",\"-\")","v":"-"},{"$f":"IF(OR(IFERROR(MATCH($D1683,'Transparency List 2017'!$L:$L,0),FALSE),IFERROR(MATCH(TRIM($G1683),'Transparency List 2017'!$C:$C,0),FALSE)),\"On the 2017 List\",\"-\")","v":"-"},{"$f":"IF(OR(IFERROR(MATCH($D1683,'Transparency List 2015'!$H:$H,0),FALSE),IFERROR(MATCH(TRIM($G1683),'Transparency List 2015'!$C:$C,0),FALSE)),\"On the 2015 List\",\"-\")","v":"-"}]
[null,null,4,"",null,null,null,"-",{"$f":"IF(OR(IFERROR(MATCH($D1684,'Transparency List 2018_10'!$L:$L,0),FALSE),IFERROR(MATCH(TRIM($G1684),'Transparency List 2018_10'!$D:$D,0),FALSE)),\"On the 2018_10 List\",\"-\")","v":"-"},{"$f":"IF(OR(IFERROR(MATCH($D1684,'Transparency List 2018_04'!$L:$L,0),FALSE),IFERROR(MATCH(TRIM($G1684),'Transparency List 2018_04'!$D:$D,0),FALSE)),\"On the 2018_04 List\",\"-\")","v":"-"},{"$f":"IF(OR(IFERROR(MATCH($D1684,'Transparency List 2017'!$L:$L,0),FALSE),IFERROR(MATCH(TRIM($G1684),'Transparency List 2017'!$C:$C,0),FALSE)),\"On the 2017 List\",\"-\")","v":"-"},{"$f":"IF(OR(IFERROR(MATCH($D1684,'Transparency List 2015'!$H:$H,0),FALSE),IFERROR(MATCH(TRIM($G1684),'Transparency List 2015'!$C:$C,0),FALSE)),\"On the 2015 List\",\"-\")","v":"-"}]
[null,null,4,"",null,null,null,"-",{"$f":"IF(OR(IFERROR(MATCH($D1685,'Transparency List 2018_10'!$L:$L,0),FALSE),IFERROR(MATCH(TRIM($G1685),'Transparency List 2018_10'!$D:$D,0),FALSE)),\"On the 2018_10 List\",\"-\")","v":"-"},{"$f":"IF(OR(IFERROR(MATCH($D1685,'Transparency List 2018_04'!$L:$L,0),FALSE),IFERROR(MATCH(TRIM($G1685),'Transparency List 2018_04'!$D:$D,0),FALSE)),\"On the 2018_04 List\",\"-\")","v":"-"},{"$f":"IF(OR(IFERROR(MATCH($D1685,'Transparency List 2017'!$L:$L,0),FALSE),IFERROR(MATCH(TRIM($G1685),'Transparency List 2017'!$C:$C,0),FALSE)),\"On the 2017 List\",\"-\")","v":"-"},{"$f":"IF(OR(IFERROR(MATCH($D1685,'Transparency List 2015'!$H:$H,0),FALSE),IFERROR(MATCH(TRIM($G1685),'Transparency List 2015'!$C:$C,0),FALSE)),\"On the 2015 List\",\"-\")","v":"-"}]
[null,null,4,"",null,null,null,"-",{"$f":"IF(OR(IFERROR(MATCH($D1686,'Transparency List 2018_10'!$L:$L,0),FALSE),IFERROR(MATCH(TRIM($G1686),'Transparency List 2018_10'!$D:$D,0),FALSE)),\"On the 2018_10 List\",\"-\")","v":"-"},{"$f":"IF(OR(IFERROR(MATCH($D1686,'Transparency List 2018_04'!$L:$L,0),FALSE),IFERROR(MATCH(TRIM($G1686),'Transparency List 2018_04'!$D:$D,0),FALSE)),\"On the 2018_04 List\",\"-\")","v":"-"},{"$f":"IF(OR(IFERROR(MATCH($D1686,'Transparency List 2017'!$L:$L,0),FALSE),IFERROR(MATCH(TRIM($G1686),'Transparency List 2017'!$C:$C,0),FALSE)),\"On the 2017 List\",\"-\")","v":"-"},{"$f":"IF(OR(IFERROR(MATCH($D1686,'Transparency List 2015'!$H:$H,0),FALSE),IFERROR(MATCH(TRIM($G1686),'Transparency List 2015'!$C:$C,0),FALSE)),\"On the 2015 List\",\"-\")","v":"-"}]
[null,null,4,"",null,null,null,"-",{"$f":"IF(OR(IFERROR(MATCH($D1687,'Transparency List 2018_10'!$L:$L,0),FALSE),IFERROR(MATCH(TRIM($G1687),'Transparency List 2018_10'!$D:$D,0),FALSE)),\"On the 2018_10 List\",\"-\")","v":"-"},{"$f":"IF(OR(IFERROR(MATCH($D1687,'Transparency List 2018_04'!$L:$L,0),FALSE),IFERROR(MATCH(TRIM($G1687),'Transparency List 2018_04'!$D:$D,0),FALSE)),\"On the 2018_04 List\",\"-\")","v":"-"},{"$f":"IF(OR(IFERROR(MATCH($D1687,'Transparency List 2017'!$L:$L,0),FALSE),IFERROR(MATCH(TRIM($G1687),'Transparency List 2017'!$C:$C,0),FALSE)),\"On the 2017 List\",\"-\")","v":"-"},{"$f":"IF(OR(IFERROR(MATCH($D1687,'Transparency List 2015'!$H:$H,0),FALSE),IFERROR(MATCH(TRIM($G1687),'Transparency List 2015'!$C:$C,0),FALSE)),\"On the 2015 List\",\"-\")","v":"-"}]
[null,null,4,"",null,null,null,"-",{"$f":"IF(OR(IFERROR(MATCH($D1688,'Transparency List 2018_10'!$L:$L,0),FALSE),IFERROR(MATCH(TRIM($G1688),'Transparency List 2018_10'!$D:$D,0),FALSE)),\"On the 2018_10 List\",\"-\")","v":"-"},{"$f":"IF(OR(IFERROR(MATCH($D1688,'Transparency List 2018_04'!$L:$L,0),FALSE),IFERROR(MATCH(TRIM($G1688),'Transparency List 2018_04'!$D:$D,0),FALSE)),\"On the 2018_04 List\",\"-\")","v":"-"},{"$f":"IF(OR(IFERROR(MATCH($D1688,'Transparency List 2017'!$L:$L,0),FALSE),IFERROR(MATCH(TRIM($G1688),'Transparency List 2017'!$C:$C,0),FALSE)),\"On the 2017 List\",\"-\")","v":"-"},{"$f":"IF(OR(IFERROR(MATCH($D1688,'Transparency List 2015'!$H:$H,0),FALSE),IFERROR(MATCH(TRIM($G1688),'Transparency List 2015'!$C:$C,0),FALSE)),\"On the 2015 List\",\"-\")","v":"-"}]
[null,null,4,"",null,null,null,"-",{"$f":"IF(OR(IFERROR(MATCH($D1689,'Transparency List 2018_10'!$L:$L,0),FALSE),IFERROR(MATCH(TRIM($G1689),'Transparency List 2018_10'!$D:$D,0),FALSE)),\"On the 2018_10 List\",\"-\")","v":"-"},{"$f":"IF(OR(IFERROR(MATCH($D1689,'Transparency List 2018_04'!$L:$L,0),FALSE),IFERROR(MATCH(TRIM($G1689),'Transparency List 2018_04'!$D:$D,0),FALSE)),\"On the 2018_04 List\",\"-\")","v":"-"},{"$f":"IF(OR(IFERROR(MATCH($D1689,'Transparency List 2017'!$L:$L,0),FALSE),IFERROR(MATCH(TRIM($G1689),'Transparency List 2017'!$C:$C,0),FALSE)),\"On the 2017 List\",\"-\")","v":"-"},{"$f":"IF(OR(IFERROR(MATCH($D1689,'Transparency List 2015'!$H:$H,0),FALSE),IFERROR(MATCH(TRIM($G1689),'Transparency List 2015'!$C:$C,0),FALSE)),\"On the 2015 List\",\"-\")","v":"-"}]
[null,null,4,"",null,null,null,"-",{"$f":"IF(OR(IFERROR(MATCH($D1690,'Transparency List 2018_10'!$L:$L,0),FALSE),IFERROR(MATCH(TRIM($G1690),'Transparency List 2018_10'!$D:$D,0),FALSE)),\"On the 2018_10 List\",\"-\")","v":"-"},{"$f":"IF(OR(IFERROR(MATCH($D1690,'Transparency List 2018_04'!$L:$L,0),FALSE),IFERROR(MATCH(TRIM($G1690),'Transparency List 2018_04'!$D:$D,0),FALSE)),\"On the 2018_04 List\",\"-\")","v":"-"},{"$f":"IF(OR(IFERROR(MATCH($D1690,'Transparency List 2017'!$L:$L,0),FALSE),IFERROR(MATCH(TRIM($G1690),'Transparency List 2017'!$C:$C,0),FALSE)),\"On the 2017 List\",\"-\")","v":"-"},{"$f":"IF(OR(IFERROR(MATCH($D1690,'Transparency List 2015'!$H:$H,0),FALSE),IFERROR(MATCH(TRIM($G1690),'Transparency List 2015'!$C:$C,0),FALSE)),\"On the 2015 List\",\"-\")","v":"-"}]
[null,null,4,"",null,null,null,"-",{"$f":"IF(OR(IFERROR(MATCH($D1691,'Transparency List 2018_10'!$L:$L,0),FALSE),IFERROR(MATCH(TRIM($G1691),'Transparency List 2018_10'!$D:$D,0),FALSE)),\"On the 2018_10 List\",\"-\")","v":"-"},{"$f":"IF(OR(IFERROR(MATCH($D1691,'Transparency List 2018_04'!$L:$L,0),FALSE),IFERROR(MATCH(TRIM($G1691),'Transparency List 2018_04'!$D:$D,0),FALSE)),\"On the 2018_04 List\",\"-\")","v":"-"},{"$f":"IF(OR(IFERROR(MATCH($D1691,'Transparency List 2017'!$L:$L,0),FALSE),IFERROR(MATCH(TRIM($G1691),'Transparency List 2017'!$C:$C,0),FALSE)),\"On the 2017 List\",\"-\")","v":"-"},{"$f":"IF(OR(IFERROR(MATCH($D1691,'Transparency List 2015'!$H:$H,0),FALSE),IFERROR(MATCH(TRIM($G1691),'Transparency List 2015'!$C:$C,0),FALSE)),\"On the 2015 List\",\"-\")","v":"-"}]
[null,null,4,"",null,null,null,"-",{"$f":"IF(OR(IFERROR(MATCH($D1692,'Transparency List 2018_10'!$L:$L,0),FALSE),IFERROR(MATCH(TRIM($G1692),'Transparency List 2018_10'!$D:$D,0),FALSE)),\"On the 2018_10 List\",\"-\")","v":"-"},{"$f":"IF(OR(IFERROR(MATCH($D1692,'Transparency List 2018_04'!$L:$L,0),FALSE),IFERROR(MATCH(TRIM($G1692),'Transparency List 2018_04'!$D:$D,0),FALSE)),\"On the 2018_04 List\",\"-\")","v":"-"},{"$f":"IF(OR(IFERROR(MATCH($D1692,'Transparency List 2017'!$L:$L,0),FALSE),IFERROR(MATCH(TRIM($G1692),'Transparency List 2017'!$C:$C,0),FALSE)),\"On the 2017 List\",\"-\")","v":"-"},{"$f":"IF(OR(IFERROR(MATCH($D1692,'Transparency List 2015'!$H:$H,0),FALSE),IFERROR(MATCH(TRIM($G1692),'Transparency List 2015'!$C:$C,0),FALSE)),\"On the 2015 List\",\"-\")","v":"-"}]
[null,null,4,"",null,null,null,"-",{"$f":"IF(OR(IFERROR(MATCH($D1693,'Transparency List 2018_10'!$L:$L,0),FALSE),IFERROR(MATCH(TRIM($G1693),'Transparency List 2018_10'!$D:$D,0),FALSE)),\"On the 2018_10 List\",\"-\")","v":"-"},{"$f":"IF(OR(IFERROR(MATCH($D1693,'Transparency List 2018_04'!$L:$L,0),FALSE),IFERROR(MATCH(TRIM($G1693),'Transparency List 2018_04'!$D:$D,0),FALSE)),\"On the 2018_04 List\",\"-\")","v":"-"},{"$f":"IF(OR(IFERROR(MATCH($D1693,'Transparency List 2017'!$L:$L,0),FALSE),IFERROR(MATCH(TRIM($G1693),'Transparency List 2017'!$C:$C,0),FALSE)),\"On the 2017 List\",\"-\")","v":"-"},{"$f":"IF(OR(IFERROR(MATCH($D1693,'Transparency List 2015'!$H:$H,0),FALSE),IFERROR(MATCH(TRIM($G1693),'Transparency List 2015'!$C:$C,0),FALSE)),\"On the 2015 List\",\"-\")","v":"-"}]
[null,null,4,"",null,null,null,"-",{"$f":"IF(OR(IFERROR(MATCH($D1694,'Transparency List 2018_10'!$L:$L,0),FALSE),IFERROR(MATCH(TRIM($G1694),'Transparency List 2018_10'!$D:$D,0),FALSE)),\"On the 2018_10 List\",\"-\")","v":"-"},{"$f":"IF(OR(IFERROR(MATCH($D1694,'Transparency List 2018_04'!$L:$L,0),FALSE),IFERROR(MATCH(TRIM($G1694),'Transparency List 2018_04'!$D:$D,0),FALSE)),\"On the 2018_04 List\",\"-\")","v":"-"},{"$f":"IF(OR(IFERROR(MATCH($D1694,'Transparency List 2017'!$L:$L,0),FALSE),IFERROR(MATCH(TRIM($G1694),'Transparency List 2017'!$C:$C,0),FALSE)),\"On the 2017 List\",\"-\")","v":"-"},{"$f":"IF(OR(IFERROR(MATCH($D1694,'Transparency List 2015'!$H:$H,0),FALSE),IFERROR(MATCH(TRIM($G1694),'Transparency List 2015'!$C:$C,0),FALSE)),\"On the 2015 List\",\"-\")","v":"-"}]
[null,null,{"$f":"COUNTIF($I1695:$L1695,\"-\")","v":4},{"$f":"SUBSTITUTE(SUBSTITUTE(SUBSTITUTE(SUBSTITUTE($G1695,\" \",\"\"),\".\",\"\"),\"-\",\"\"),\"/\",\"\")","v":""},null,null,null,{"$f":"IFERROR(IF($C1695=4,\"-\",\"Risk Farmer - Please conduct further steps\"),)","v":"-"},{"$f":"IF(OR(IFERROR(MATCH($D1695,'Transparency List 2018_10'!$L:$L,0),FALSE),IFERROR(MATCH(TRIM($G1695),'Transparency List 2018_10'!$D:$D,0),FALSE)),\"On the 2018_10 List\",\"-\")","v":"-"},{"$f":"IF(OR(IFERROR(MATCH($D1695,'Transparency List 2018_04'!$L:$L,0),FALSE),IFERROR(MATCH(TRIM($G1695),'Transparency List 2018_04'!$D:$D,0),FALSE)),\"On the 2018_04 List\",\"-\")","v":"-"},{"$f":"IF(OR(IFERROR(MATCH($D1695,'Transparency List 2017'!$L:$L,0),FALSE),IFERROR(MATCH(TRIM($G1695),'Transparency List 2017'!$C:$C,0),FALSE)),\"On the 2017 List\",\"-\")","v":"-"},{"$f":"IF(OR(IFERROR(MATCH($D1695,'Transparency List 2015'!$H:$H,0),FALSE),IFERROR(MATCH(TRIM($G1695),'Transparency List 2015'!$C:$C,0),FALSE)),\"On the 2015 List\",\"-\")","v":"-"}]
[null,null,4,"",null,null,null,"-",{"$f":"IF(OR(IFERROR(MATCH($D1696,'Transparency List 2018_10'!$L:$L,0),FALSE),IFERROR(MATCH(TRIM($G1696),'Transparency List 2018_10'!$D:$D,0),FALSE)),\"On the 2018_10 List\",\"-\")","v":"-"},{"$f":"IF(OR(IFERROR(MATCH($D1696,'Transparency List 2018_04'!$L:$L,0),FALSE),IFERROR(MATCH(TRIM($G1696),'Transparency List 2018_04'!$D:$D,0),FALSE)),\"On the 2018_04 List\",\"-\")","v":"-"},{"$f":"IF(OR(IFERROR(MATCH($D1696,'Transparency List 2017'!$L:$L,0),FALSE),IFERROR(MATCH(TRIM($G1696),'Transparency List 2017'!$C:$C,0),FALSE)),\"On the 2017 List\",\"-\")","v":"-"},{"$f":"IF(OR(IFERROR(MATCH($D1696,'Transparency List 2015'!$H:$H,0),FALSE),IFERROR(MATCH(TRIM($G1696),'Transparency List 2015'!$C:$C,0),FALSE)),\"On the 2015 List\",\"-\")","v":"-"}]
[null,null,4,"",null,null,null,"-",{"$f":"IF(OR(IFERROR(MATCH($D1697,'Transparency List 2018_10'!$L:$L,0),FALSE),IFERROR(MATCH(TRIM($G1697),'Transparency List 2018_10'!$D:$D,0),FALSE)),\"On the 2018_10 List\",\"-\")","v":"-"},{"$f":"IF(OR(IFERROR(MATCH($D1697,'Transparency List 2018_04'!$L:$L,0),FALSE),IFERROR(MATCH(TRIM($G1697),'Transparency List 2018_04'!$D:$D,0),FALSE)),\"On the 2018_04 List\",\"-\")","v":"-"},{"$f":"IF(OR(IFERROR(MATCH($D1697,'Transparency List 2017'!$L:$L,0),FALSE),IFERROR(MATCH(TRIM($G1697),'Transparency List 2017'!$C:$C,0),FALSE)),\"On the 2017 List\",\"-\")","v":"-"},{"$f":"IF(OR(IFERROR(MATCH($D1697,'Transparency List 2015'!$H:$H,0),FALSE),IFERROR(MATCH(TRIM($G1697),'Transparency List 2015'!$C:$C,0),FALSE)),\"On the 2015 List\",\"-\")","v":"-"}]
[null,null,4,"",null,null,null,"-",{"$f":"IF(OR(IFERROR(MATCH($D1698,'Transparency List 2018_10'!$L:$L,0),FALSE),IFERROR(MATCH(TRIM($G1698),'Transparency List 2018_10'!$D:$D,0),FALSE)),\"On the 2018_10 List\",\"-\")","v":"-"},{"$f":"IF(OR(IFERROR(MATCH($D1698,'Transparency List 2018_04'!$L:$L,0),FALSE),IFERROR(MATCH(TRIM($G1698),'Transparency List 2018_04'!$D:$D,0),FALSE)),\"On the 2018_04 List\",\"-\")","v":"-"},{"$f":"IF(OR(IFERROR(MATCH($D1698,'Transparency List 2017'!$L:$L,0),FALSE),IFERROR(MATCH(TRIM($G1698),'Transparency List 2017'!$C:$C,0),FALSE)),\"On the 2017 List\",\"-\")","v":"-"},{"$f":"IF(OR(IFERROR(MATCH($D1698,'Transparency List 2015'!$H:$H,0),FALSE),IFERROR(MATCH(TRIM($G1698),'Transparency List 2015'!$C:$C,0),FALSE)),\"On the 2015 List\",\"-\")","v":"-"}]
[null,null,4,"",null,null,null,"-",{"$f":"IF(OR(IFERROR(MATCH($D1699,'Transparency List 2018_10'!$L:$L,0),FALSE),IFERROR(MATCH(TRIM($G1699),'Transparency List 2018_10'!$D:$D,0),FALSE)),\"On the 2018_10 List\",\"-\")","v":"-"},{"$f":"IF(OR(IFERROR(MATCH($D1699,'Transparency List 2018_04'!$L:$L,0),FALSE),IFERROR(MATCH(TRIM($G1699),'Transparency List 2018_04'!$D:$D,0),FALSE)),\"On the 2018_04 List\",\"-\")","v":"-"},{"$f":"IF(OR(IFERROR(MATCH($D1699,'Transparency List 2017'!$L:$L,0),FALSE),IFERROR(MATCH(TRIM($G1699),'Transparency List 2017'!$C:$C,0),FALSE)),\"On the 2017 List\",\"-\")","v":"-"},{"$f":"IF(OR(IFERROR(MATCH($D1699,'Transparency List 2015'!$H:$H,0),FALSE),IFERROR(MATCH(TRIM($G1699),'Transparency List 2015'!$C:$C,0),FALSE)),\"On the 2015 List\",\"-\")","v":"-"}]
[null,null,4,"",null,null,null,"-",{"$f":"IF(OR(IFERROR(MATCH($D1700,'Transparency List 2018_10'!$L:$L,0),FALSE),IFERROR(MATCH(TRIM($G1700),'Transparency List 2018_10'!$D:$D,0),FALSE)),\"On the 2018_10 List\",\"-\")","v":"-"},{"$f":"IF(OR(IFERROR(MATCH($D1700,'Transparency List 2018_04'!$L:$L,0),FALSE),IFERROR(MATCH(TRIM($G1700),'Transparency List 2018_04'!$D:$D,0),FALSE)),\"On the 2018_04 List\",\"-\")","v":"-"},{"$f":"IF(OR(IFERROR(MATCH($D1700,'Transparency List 2017'!$L:$L,0),FALSE),IFERROR(MATCH(TRIM($G1700),'Transparency List 2017'!$C:$C,0),FALSE)),\"On the 2017 List\",\"-\")","v":"-"},{"$f":"IF(OR(IFERROR(MATCH($D1700,'Transparency List 2015'!$H:$H,0),FALSE),IFERROR(MATCH(TRIM($G1700),'Transparency List 2015'!$C:$C,0),FALSE)),\"On the 2015 List\",\"-\")","v":"-"}]
[null,null,4,"",null,null,null,"-",{"$f":"IF(OR(IFERROR(MATCH($D1701,'Transparency List 2018_10'!$L:$L,0),FALSE),IFERROR(MATCH(TRIM($G1701),'Transparency List 2018_10'!$D:$D,0),FALSE)),\"On the 2018_10 List\",\"-\")","v":"-"},{"$f":"IF(OR(IFERROR(MATCH($D1701,'Transparency List 2018_04'!$L:$L,0),FALSE),IFERROR(MATCH(TRIM($G1701),'Transparency List 2018_04'!$D:$D,0),FALSE)),\"On the 2018_04 List\",\"-\")","v":"-"},{"$f":"IF(OR(IFERROR(MATCH($D1701,'Transparency List 2017'!$L:$L,0),FALSE),IFERROR(MATCH(TRIM($G1701),'Transparency List 2017'!$C:$C,0),FALSE)),\"On the 2017 List\",\"-\")","v":"-"},{"$f":"IF(OR(IFERROR(MATCH($D1701,'Transparency List 2015'!$H:$H,0),FALSE),IFERROR(MATCH(TRIM($G1701),'Transparency List 2015'!$C:$C,0),FALSE)),\"On the 2015 List\",\"-\")","v":"-"}]
[null,null,4,"",null,null,null,"-",{"$f":"IF(OR(IFERROR(MATCH($D1702,'Transparency List 2018_10'!$L:$L,0),FALSE),IFERROR(MATCH(TRIM($G1702),'Transparency List 2018_10'!$D:$D,0),FALSE)),\"On the 2018_10 List\",\"-\")","v":"-"},{"$f":"IF(OR(IFERROR(MATCH($D1702,'Transparency List 2018_04'!$L:$L,0),FALSE),IFERROR(MATCH(TRIM($G1702),'Transparency List 2018_04'!$D:$D,0),FALSE)),\"On the 2018_04 List\",\"-\")","v":"-"},{"$f":"IF(OR(IFERROR(MATCH($D1702,'Transparency List 2017'!$L:$L,0),FALSE),IFERROR(MATCH(TRIM($G1702),'Transparency List 2017'!$C:$C,0),FALSE)),\"On the 2017 List\",\"-\")","v":"-"},{"$f":"IF(OR(IFERROR(MATCH($D1702,'Transparency List 2015'!$H:$H,0),FALSE),IFERROR(MATCH(TRIM($G1702),'Transparency List 2015'!$C:$C,0),FALSE)),\"On the 2015 List\",\"-\")","v":"-"}]
[null,null,4,"",null,null,null,"-",{"$f":"IF(OR(IFERROR(MATCH($D1703,'Transparency List 2018_10'!$L:$L,0),FALSE),IFERROR(MATCH(TRIM($G1703),'Transparency List 2018_10'!$D:$D,0),FALSE)),\"On the 2018_10 List\",\"-\")","v":"-"},{"$f":"IF(OR(IFERROR(MATCH($D1703,'Transparency List 2018_04'!$L:$L,0),FALSE),IFERROR(MATCH(TRIM($G1703),'Transparency List 2018_04'!$D:$D,0),FALSE)),\"On the 2018_04 List\",\"-\")","v":"-"},{"$f":"IF(OR(IFERROR(MATCH($D1703,'Transparency List 2017'!$L:$L,0),FALSE),IFERROR(MATCH(TRIM($G1703),'Transparency List 2017'!$C:$C,0),FALSE)),\"On the 2017 List\",\"-\")","v":"-"},{"$f":"IF(OR(IFERROR(MATCH($D1703,'Transparency List 2015'!$H:$H,0),FALSE),IFERROR(MATCH(TRIM($G1703),'Transparency List 2015'!$C:$C,0),FALSE)),\"On the 2015 List\",\"-\")","v":"-"}]
[null,null,4,"",null,null,null,"-",{"$f":"IF(OR(IFERROR(MATCH($D1704,'Transparency List 2018_10'!$L:$L,0),FALSE),IFERROR(MATCH(TRIM($G1704),'Transparency List 2018_10'!$D:$D,0),FALSE)),\"On the 2018_10 List\",\"-\")","v":"-"},{"$f":"IF(OR(IFERROR(MATCH($D1704,'Transparency List 2018_04'!$L:$L,0),FALSE),IFERROR(MATCH(TRIM($G1704),'Transparency List 2018_04'!$D:$D,0),FALSE)),\"On the 2018_04 List\",\"-\")","v":"-"},{"$f":"IF(OR(IFERROR(MATCH($D1704,'Transparency List 2017'!$L:$L,0),FALSE),IFERROR(MATCH(TRIM($G1704),'Transparency List 2017'!$C:$C,0),FALSE)),\"On the 2017 List\",\"-\")","v":"-"},{"$f":"IF(OR(IFERROR(MATCH($D1704,'Transparency List 2015'!$H:$H,0),FALSE),IFERROR(MATCH(TRIM($G1704),'Transparency List 2015'!$C:$C,0),FALSE)),\"On the 2015 List\",\"-\")","v":"-"}]
[null,null,4,"",null,null,null,"-",{"$f":"IF(OR(IFERROR(MATCH($D1705,'Transparency List 2018_10'!$L:$L,0),FALSE),IFERROR(MATCH(TRIM($G1705),'Transparency List 2018_10'!$D:$D,0),FALSE)),\"On the 2018_10 List\",\"-\")","v":"-"},{"$f":"IF(OR(IFERROR(MATCH($D1705,'Transparency List 2018_04'!$L:$L,0),FALSE),IFERROR(MATCH(TRIM($G1705),'Transparency List 2018_04'!$D:$D,0),FALSE)),\"On the 2018_04 List\",\"-\")","v":"-"},{"$f":"IF(OR(IFERROR(MATCH($D1705,'Transparency List 2017'!$L:$L,0),FALSE),IFERROR(MATCH(TRIM($G1705),'Transparency List 2017'!$C:$C,0),FALSE)),\"On the 2017 List\",\"-\")","v":"-"},{"$f":"IF(OR(IFERROR(MATCH($D1705,'Transparency List 2015'!$H:$H,0),FALSE),IFERROR(MATCH(TRIM($G1705),'Transparency List 2015'!$C:$C,0),FALSE)),\"On the 2015 List\",\"-\")","v":"-"}]
[null,null,4,"",null,null,null,"-",{"$f":"IF(OR(IFERROR(MATCH($D1706,'Transparency List 2018_10'!$L:$L,0),FALSE),IFERROR(MATCH(TRIM($G1706),'Transparency List 2018_10'!$D:$D,0),FALSE)),\"On the 2018_10 List\",\"-\")","v":"-"},{"$f":"IF(OR(IFERROR(MATCH($D1706,'Transparency List 2018_04'!$L:$L,0),FALSE),IFERROR(MATCH(TRIM($G1706),'Transparency List 2018_04'!$D:$D,0),FALSE)),\"On the 2018_04 List\",\"-\")","v":"-"},{"$f":"IF(OR(IFERROR(MATCH($D1706,'Transparency List 2017'!$L:$L,0),FALSE),IFERROR(MATCH(TRIM($G1706),'Transparency List 2017'!$C:$C,0),FALSE)),\"On the 2017 List\",\"-\")","v":"-"},{"$f":"IF(OR(IFERROR(MATCH($D1706,'Transparency List 2015'!$H:$H,0),FALSE),IFERROR(MATCH(TRIM($G1706),'Transparency List 2015'!$C:$C,0),FALSE)),\"On the 2015 List\",\"-\")","v":"-"}]
[null,null,4,"",null,null,null,"-",{"$f":"IF(OR(IFERROR(MATCH($D1707,'Transparency List 2018_10'!$L:$L,0),FALSE),IFERROR(MATCH(TRIM($G1707),'Transparency List 2018_10'!$D:$D,0),FALSE)),\"On the 2018_10 List\",\"-\")","v":"-"},{"$f":"IF(OR(IFERROR(MATCH($D1707,'Transparency List 2018_04'!$L:$L,0),FALSE),IFERROR(MATCH(TRIM($G1707),'Transparency List 2018_04'!$D:$D,0),FALSE)),\"On the 2018_04 List\",\"-\")","v":"-"},{"$f":"IF(OR(IFERROR(MATCH($D1707,'Transparency List 2017'!$L:$L,0),FALSE),IFERROR(MATCH(TRIM($G1707),'Transparency List 2017'!$C:$C,0),FALSE)),\"On the 2017 List\",\"-\")","v":"-"},{"$f":"IF(OR(IFERROR(MATCH($D1707,'Transparency List 2015'!$H:$H,0),FALSE),IFERROR(MATCH(TRIM($G1707),'Transparency List 2015'!$C:$C,0),FALSE)),\"On the 2015 List\",\"-\")","v":"-"}]
[null,null,4,"",null,null,null,"-",{"$f":"IF(OR(IFERROR(MATCH($D1708,'Transparency List 2018_10'!$L:$L,0),FALSE),IFERROR(MATCH(TRIM($G1708),'Transparency List 2018_10'!$D:$D,0),FALSE)),\"On the 2018_10 List\",\"-\")","v":"-"},{"$f":"IF(OR(IFERROR(MATCH($D1708,'Transparency List 2018_04'!$L:$L,0),FALSE),IFERROR(MATCH(TRIM($G1708),'Transparency List 2018_04'!$D:$D,0),FALSE)),\"On the 2018_04 List\",\"-\")","v":"-"},{"$f":"IF(OR(IFERROR(MATCH($D1708,'Transparency List 2017'!$L:$L,0),FALSE),IFERROR(MATCH(TRIM($G1708),'Transparency List 2017'!$C:$C,0),FALSE)),\"On the 2017 List\",\"-\")","v":"-"},{"$f":"IF(OR(IFERROR(MATCH($D1708,'Transparency List 2015'!$H:$H,0),FALSE),IFERROR(MATCH(TRIM($G1708),'Transparency List 2015'!$C:$C,0),FALSE)),\"On the 2015 List\",\"-\")","v":"-"}]
[null,null,4,"",null,null,null,"-",{"$f":"IF(OR(IFERROR(MATCH($D1709,'Transparency List 2018_10'!$L:$L,0),FALSE),IFERROR(MATCH(TRIM($G1709),'Transparency List 2018_10'!$D:$D,0),FALSE)),\"On the 2018_10 List\",\"-\")","v":"-"},{"$f":"IF(OR(IFERROR(MATCH($D1709,'Transparency List 2018_04'!$L:$L,0),FALSE),IFERROR(MATCH(TRIM($G1709),'Transparency List 2018_04'!$D:$D,0),FALSE)),\"On the 2018_04 List\",\"-\")","v":"-"},{"$f":"IF(OR(IFERROR(MATCH($D1709,'Transparency List 2017'!$L:$L,0),FALSE),IFERROR(MATCH(TRIM($G1709),'Transparency List 2017'!$C:$C,0),FALSE)),\"On the 2017 List\",\"-\")","v":"-"},{"$f":"IF(OR(IFERROR(MATCH($D1709,'Transparency List 2015'!$H:$H,0),FALSE),IFERROR(MATCH(TRIM($G1709),'Transparency List 2015'!$C:$C,0),FALSE)),\"On the 2015 List\",\"-\")","v":"-"}]
[null,null,4,"",null,null,null,"-",{"$f":"IF(OR(IFERROR(MATCH($D1710,'Transparency List 2018_10'!$L:$L,0),FALSE),IFERROR(MATCH(TRIM($G1710),'Transparency List 2018_10'!$D:$D,0),FALSE)),\"On the 2018_10 List\",\"-\")","v":"-"},{"$f":"IF(OR(IFERROR(MATCH($D1710,'Transparency List 2018_04'!$L:$L,0),FALSE),IFERROR(MATCH(TRIM($G1710),'Transparency List 2018_04'!$D:$D,0),FALSE)),\"On the 2018_04 List\",\"-\")","v":"-"},{"$f":"IF(OR(IFERROR(MATCH($D1710,'Transparency List 2017'!$L:$L,0),FALSE),IFERROR(MATCH(TRIM($G1710),'Transparency List 2017'!$C:$C,0),FALSE)),\"On the 2017 List\",\"-\")","v":"-"},{"$f":"IF(OR(IFERROR(MATCH($D1710,'Transparency List 2015'!$H:$H,0),FALSE),IFERROR(MATCH(TRIM($G1710),'Transparency List 2015'!$C:$C,0),FALSE)),\"On the 2015 List\",\"-\")","v":"-"}]
[null,null,4,"",null,null,null,"-",{"$f":"IF(OR(IFERROR(MATCH($D1711,'Transparency List 2018_10'!$L:$L,0),FALSE),IFERROR(MATCH(TRIM($G1711),'Transparency List 2018_10'!$D:$D,0),FALSE)),\"On the 2018_10 List\",\"-\")","v":"-"},{"$f":"IF(OR(IFERROR(MATCH($D1711,'Transparency List 2018_04'!$L:$L,0),FALSE),IFERROR(MATCH(TRIM($G1711),'Transparency List 2018_04'!$D:$D,0),FALSE)),\"On the 2018_04 List\",\"-\")","v":"-"},{"$f":"IF(OR(IFERROR(MATCH($D1711,'Transparency List 2017'!$L:$L,0),FALSE),IFERROR(MATCH(TRIM($G1711),'Transparency List 2017'!$C:$C,0),FALSE)),\"On the 2017 List\",\"-\")","v":"-"},{"$f":"IF(OR(IFERROR(MATCH($D1711,'Transparency List 2015'!$H:$H,0),FALSE),IFERROR(MATCH(TRIM($G1711),'Transparency List 2015'!$C:$C,0),FALSE)),\"On the 2015 List\",\"-\")","v":"-"}]
[null,null,4,"",null,null,null,"-",{"$f":"IF(OR(IFERROR(MATCH($D1712,'Transparency List 2018_10'!$L:$L,0),FALSE),IFERROR(MATCH(TRIM($G1712),'Transparency List 2018_10'!$D:$D,0),FALSE)),\"On the 2018_10 List\",\"-\")","v":"-"},{"$f":"IF(OR(IFERROR(MATCH($D1712,'Transparency List 2018_04'!$L:$L,0),FALSE),IFERROR(MATCH(TRIM($G1712),'Transparency List 2018_04'!$D:$D,0),FALSE)),\"On the 2018_04 List\",\"-\")","v":"-"},{"$f":"IF(OR(IFERROR(MATCH($D1712,'Transparency List 2017'!$L:$L,0),FALSE),IFERROR(MATCH(TRIM($G1712),'Transparency List 2017'!$C:$C,0),FALSE)),\"On the 2017 List\",\"-\")","v":"-"},{"$f":"IF(OR(IFERROR(MATCH($D1712,'Transparency List 2015'!$H:$H,0),FALSE),IFERROR(MATCH(TRIM($G1712),'Transparency List 2015'!$C:$C,0),FALSE)),\"On the 2015 List\",\"-\")","v":"-"}]
[null,null,4,"",null,null,null,"-",{"$f":"IF(OR(IFERROR(MATCH($D1713,'Transparency List 2018_10'!$L:$L,0),FALSE),IFERROR(MATCH(TRIM($G1713),'Transparency List 2018_10'!$D:$D,0),FALSE)),\"On the 2018_10 List\",\"-\")","v":"-"},{"$f":"IF(OR(IFERROR(MATCH($D1713,'Transparency List 2018_04'!$L:$L,0),FALSE),IFERROR(MATCH(TRIM($G1713),'Transparency List 2018_04'!$D:$D,0),FALSE)),\"On the 2018_04 List\",\"-\")","v":"-"},{"$f":"IF(OR(IFERROR(MATCH($D1713,'Transparency List 2017'!$L:$L,0),FALSE),IFERROR(MATCH(TRIM($G1713),'Transparency List 2017'!$C:$C,0),FALSE)),\"On the 2017 List\",\"-\")","v":"-"},{"$f":"IF(OR(IFERROR(MATCH($D1713,'Transparency List 2015'!$H:$H,0),FALSE),IFERROR(MATCH(TRIM($G1713),'Transparency List 2015'!$C:$C,0),FALSE)),\"On the 2015 List\",\"-\")","v":"-"}]
[null,null,4,"",null,null,null,"-",{"$f":"IF(OR(IFERROR(MATCH($D1714,'Transparency List 2018_10'!$L:$L,0),FALSE),IFERROR(MATCH(TRIM($G1714),'Transparency List 2018_10'!$D:$D,0),FALSE)),\"On the 2018_10 List\",\"-\")","v":"-"},{"$f":"IF(OR(IFERROR(MATCH($D1714,'Transparency List 2018_04'!$L:$L,0),FALSE),IFERROR(MATCH(TRIM($G1714),'Transparency List 2018_04'!$D:$D,0),FALSE)),\"On the 2018_04 List\",\"-\")","v":"-"},{"$f":"IF(OR(IFERROR(MATCH($D1714,'Transparency List 2017'!$L:$L,0),FALSE),IFERROR(MATCH(TRIM($G1714),'Transparency List 2017'!$C:$C,0),FALSE)),\"On the 2017 List\",\"-\")","v":"-"},{"$f":"IF(OR(IFERROR(MATCH($D1714,'Transparency List 2015'!$H:$H,0),FALSE),IFERROR(MATCH(TRIM($G1714),'Transparency List 2015'!$C:$C,0),FALSE)),\"On the 2015 List\",\"-\")","v":"-"}]
[null,null,4,"",null,null,null,"-",{"$f":"IF(OR(IFERROR(MATCH($D1715,'Transparency List 2018_10'!$L:$L,0),FALSE),IFERROR(MATCH(TRIM($G1715),'Transparency List 2018_10'!$D:$D,0),FALSE)),\"On the 2018_10 List\",\"-\")","v":"-"},{"$f":"IF(OR(IFERROR(MATCH($D1715,'Transparency List 2018_04'!$L:$L,0),FALSE),IFERROR(MATCH(TRIM($G1715),'Transparency List 2018_04'!$D:$D,0),FALSE)),\"On the 2018_04 List\",\"-\")","v":"-"},{"$f":"IF(OR(IFERROR(MATCH($D1715,'Transparency List 2017'!$L:$L,0),FALSE),IFERROR(MATCH(TRIM($G1715),'Transparency List 2017'!$C:$C,0),FALSE)),\"On the 2017 List\",\"-\")","v":"-"},{"$f":"IF(OR(IFERROR(MATCH($D1715,'Transparency List 2015'!$H:$H,0),FALSE),IFERROR(MATCH(TRIM($G1715),'Transparency List 2015'!$C:$C,0),FALSE)),\"On the 2015 List\",\"-\")","v":"-"}]
[null,null,4,"",null,null,null,"-",{"$f":"IF(OR(IFERROR(MATCH($D1716,'Transparency List 2018_10'!$L:$L,0),FALSE),IFERROR(MATCH(TRIM($G1716),'Transparency List 2018_10'!$D:$D,0),FALSE)),\"On the 2018_10 List\",\"-\")","v":"-"},{"$f":"IF(OR(IFERROR(MATCH($D1716,'Transparency List 2018_04'!$L:$L,0),FALSE),IFERROR(MATCH(TRIM($G1716),'Transparency List 2018_04'!$D:$D,0),FALSE)),\"On the 2018_04 List\",\"-\")","v":"-"},{"$f":"IF(OR(IFERROR(MATCH($D1716,'Transparency List 2017'!$L:$L,0),FALSE),IFERROR(MATCH(TRIM($G1716),'Transparency List 2017'!$C:$C,0),FALSE)),\"On the 2017 List\",\"-\")","v":"-"},{"$f":"IF(OR(IFERROR(MATCH($D1716,'Transparency List 2015'!$H:$H,0),FALSE),IFERROR(MATCH(TRIM($G1716),'Transparency List 2015'!$C:$C,0),FALSE)),\"On the 2015 List\",\"-\")","v":"-"}]
[null,null,4,"",null,null,null,"-",{"$f":"IF(OR(IFERROR(MATCH($D1717,'Transparency List 2018_10'!$L:$L,0),FALSE),IFERROR(MATCH(TRIM($G1717),'Transparency List 2018_10'!$D:$D,0),FALSE)),\"On the 2018_10 List\",\"-\")","v":"-"},{"$f":"IF(OR(IFERROR(MATCH($D1717,'Transparency List 2018_04'!$L:$L,0),FALSE),IFERROR(MATCH(TRIM($G1717),'Transparency List 2018_04'!$D:$D,0),FALSE)),\"On the 2018_04 List\",\"-\")","v":"-"},{"$f":"IF(OR(IFERROR(MATCH($D1717,'Transparency List 2017'!$L:$L,0),FALSE),IFERROR(MATCH(TRIM($G1717),'Transparency List 2017'!$C:$C,0),FALSE)),\"On the 2017 List\",\"-\")","v":"-"},{"$f":"IF(OR(IFERROR(MATCH($D1717,'Transparency List 2015'!$H:$H,0),FALSE),IFERROR(MATCH(TRIM($G1717),'Transparency List 2015'!$C:$C,0),FALSE)),\"On the 2015 List\",\"-\")","v":"-"}]
[null,null,4,"",null,null,null,"-",{"$f":"IF(OR(IFERROR(MATCH($D1718,'Transparency List 2018_10'!$L:$L,0),FALSE),IFERROR(MATCH(TRIM($G1718),'Transparency List 2018_10'!$D:$D,0),FALSE)),\"On the 2018_10 List\",\"-\")","v":"-"},{"$f":"IF(OR(IFERROR(MATCH($D1718,'Transparency List 2018_04'!$L:$L,0),FALSE),IFERROR(MATCH(TRIM($G1718),'Transparency List 2018_04'!$D:$D,0),FALSE)),\"On the 2018_04 List\",\"-\")","v":"-"},{"$f":"IF(OR(IFERROR(MATCH($D1718,'Transparency List 2017'!$L:$L,0),FALSE),IFERROR(MATCH(TRIM($G1718),'Transparency List 2017'!$C:$C,0),FALSE)),\"On the 2017 List\",\"-\")","v":"-"},{"$f":"IF(OR(IFERROR(MATCH($D1718,'Transparency List 2015'!$H:$H,0),FALSE),IFERROR(MATCH(TRIM($G1718),'Transparency List 2015'!$C:$C,0),FALSE)),\"On the 2015 List\",\"-\")","v":"-"}]
[null,null,4,"",null,null,null,"-",{"$f":"IF(OR(IFERROR(MATCH($D1719,'Transparency List 2018_10'!$L:$L,0),FALSE),IFERROR(MATCH(TRIM($G1719),'Transparency List 2018_10'!$D:$D,0),FALSE)),\"On the 2018_10 List\",\"-\")","v":"-"},{"$f":"IF(OR(IFERROR(MATCH($D1719,'Transparency List 2018_04'!$L:$L,0),FALSE),IFERROR(MATCH(TRIM($G1719),'Transparency List 2018_04'!$D:$D,0),FALSE)),\"On the 2018_04 List\",\"-\")","v":"-"},{"$f":"IF(OR(IFERROR(MATCH($D1719,'Transparency List 2017'!$L:$L,0),FALSE),IFERROR(MATCH(TRIM($G1719),'Transparency List 2017'!$C:$C,0),FALSE)),\"On the 2017 List\",\"-\")","v":"-"},{"$f":"IF(OR(IFERROR(MATCH($D1719,'Transparency List 2015'!$H:$H,0),FALSE),IFERROR(MATCH(TRIM($G1719),'Transparency List 2015'!$C:$C,0),FALSE)),\"On the 2015 List\",\"-\")","v":"-"}]
[null,null,4,"",null,null,null,"-",{"$f":"IF(OR(IFERROR(MATCH($D1720,'Transparency List 2018_10'!$L:$L,0),FALSE),IFERROR(MATCH(TRIM($G1720),'Transparency List 2018_10'!$D:$D,0),FALSE)),\"On the 2018_10 List\",\"-\")","v":"-"},{"$f":"IF(OR(IFERROR(MATCH($D1720,'Transparency List 2018_04'!$L:$L,0),FALSE),IFERROR(MATCH(TRIM($G1720),'Transparency List 2018_04'!$D:$D,0),FALSE)),\"On the 2018_04 List\",\"-\")","v":"-"},{"$f":"IF(OR(IFERROR(MATCH($D1720,'Transparency List 2017'!$L:$L,0),FALSE),IFERROR(MATCH(TRIM($G1720),'Transparency List 2017'!$C:$C,0),FALSE)),\"On the 2017 List\",\"-\")","v":"-"},{"$f":"IF(OR(IFERROR(MATCH($D1720,'Transparency List 2015'!$H:$H,0),FALSE),IFERROR(MATCH(TRIM($G1720),'Transparency List 2015'!$C:$C,0),FALSE)),\"On the 2015 List\",\"-\")","v":"-"}]
[null,null,4,"",null,null,null,"-",{"$f":"IF(OR(IFERROR(MATCH($D1721,'Transparency List 2018_10'!$L:$L,0),FALSE),IFERROR(MATCH(TRIM($G1721),'Transparency List 2018_10'!$D:$D,0),FALSE)),\"On the 2018_10 List\",\"-\")","v":"-"},{"$f":"IF(OR(IFERROR(MATCH($D1721,'Transparency List 2018_04'!$L:$L,0),FALSE),IFERROR(MATCH(TRIM($G1721),'Transparency List 2018_04'!$D:$D,0),FALSE)),\"On the 2018_04 List\",\"-\")","v":"-"},{"$f":"IF(OR(IFERROR(MATCH($D1721,'Transparency List 2017'!$L:$L,0),FALSE),IFERROR(MATCH(TRIM($G1721),'Transparency List 2017'!$C:$C,0),FALSE)),\"On the 2017 List\",\"-\")","v":"-"},{"$f":"IF(OR(IFERROR(MATCH($D1721,'Transparency List 2015'!$H:$H,0),FALSE),IFERROR(MATCH(TRIM($G1721),'Transparency List 2015'!$C:$C,0),FALSE)),\"On the 2015 List\",\"-\")","v":"-"}]
[null,null,4,"",null,null,null,"-",{"$f":"IF(OR(IFERROR(MATCH($D1722,'Transparency List 2018_10'!$L:$L,0),FALSE),IFERROR(MATCH(TRIM($G1722),'Transparency List 2018_10'!$D:$D,0),FALSE)),\"On the 2018_10 List\",\"-\")","v":"-"},{"$f":"IF(OR(IFERROR(MATCH($D1722,'Transparency List 2018_04'!$L:$L,0),FALSE),IFERROR(MATCH(TRIM($G1722),'Transparency List 2018_04'!$D:$D,0),FALSE)),\"On the 2018_04 List\",\"-\")","v":"-"},{"$f":"IF(OR(IFERROR(MATCH($D1722,'Transparency List 2017'!$L:$L,0),FALSE),IFERROR(MATCH(TRIM($G1722),'Transparency List 2017'!$C:$C,0),FALSE)),\"On the 2017 List\",\"-\")","v":"-"},{"$f":"IF(OR(IFERROR(MATCH($D1722,'Transparency List 2015'!$H:$H,0),FALSE),IFERROR(MATCH(TRIM($G1722),'Transparency List 2015'!$C:$C,0),FALSE)),\"On the 2015 List\",\"-\")","v":"-"}]
[null,null,4,"",null,null,null,"-",{"$f":"IF(OR(IFERROR(MATCH($D1723,'Transparency List 2018_10'!$L:$L,0),FALSE),IFERROR(MATCH(TRIM($G1723),'Transparency List 2018_10'!$D:$D,0),FALSE)),\"On the 2018_10 List\",\"-\")","v":"-"},{"$f":"IF(OR(IFERROR(MATCH($D1723,'Transparency List 2018_04'!$L:$L,0),FALSE),IFERROR(MATCH(TRIM($G1723),'Transparency List 2018_04'!$D:$D,0),FALSE)),\"On the 2018_04 List\",\"-\")","v":"-"},{"$f":"IF(OR(IFERROR(MATCH($D1723,'Transparency List 2017'!$L:$L,0),FALSE),IFERROR(MATCH(TRIM($G1723),'Transparency List 2017'!$C:$C,0),FALSE)),\"On the 2017 List\",\"-\")","v":"-"},{"$f":"IF(OR(IFERROR(MATCH($D1723,'Transparency List 2015'!$H:$H,0),FALSE),IFERROR(MATCH(TRIM($G1723),'Transparency List 2015'!$C:$C,0),FALSE)),\"On the 2015 List\",\"-\")","v":"-"}]
[null,null,4,"",null,null,null,"-",{"$f":"IF(OR(IFERROR(MATCH($D1724,'Transparency List 2018_10'!$L:$L,0),FALSE),IFERROR(MATCH(TRIM($G1724),'Transparency List 2018_10'!$D:$D,0),FALSE)),\"On the 2018_10 List\",\"-\")","v":"-"},{"$f":"IF(OR(IFERROR(MATCH($D1724,'Transparency List 2018_04'!$L:$L,0),FALSE),IFERROR(MATCH(TRIM($G1724),'Transparency List 2018_04'!$D:$D,0),FALSE)),\"On the 2018_04 List\",\"-\")","v":"-"},{"$f":"IF(OR(IFERROR(MATCH($D1724,'Transparency List 2017'!$L:$L,0),FALSE),IFERROR(MATCH(TRIM($G1724),'Transparency List 2017'!$C:$C,0),FALSE)),\"On the 2017 List\",\"-\")","v":"-"},{"$f":"IF(OR(IFERROR(MATCH($D1724,'Transparency List 2015'!$H:$H,0),FALSE),IFERROR(MATCH(TRIM($G1724),'Transparency List 2015'!$C:$C,0),FALSE)),\"On the 2015 List\",\"-\")","v":"-"}]
[null,null,4,"",null,null,null,"-",{"$f":"IF(OR(IFERROR(MATCH($D1725,'Transparency List 2018_10'!$L:$L,0),FALSE),IFERROR(MATCH(TRIM($G1725),'Transparency List 2018_10'!$D:$D,0),FALSE)),\"On the 2018_10 List\",\"-\")","v":"-"},{"$f":"IF(OR(IFERROR(MATCH($D1725,'Transparency List 2018_04'!$L:$L,0),FALSE),IFERROR(MATCH(TRIM($G1725),'Transparency List 2018_04'!$D:$D,0),FALSE)),\"On the 2018_04 List\",\"-\")","v":"-"},{"$f":"IF(OR(IFERROR(MATCH($D1725,'Transparency List 2017'!$L:$L,0),FALSE),IFERROR(MATCH(TRIM($G1725),'Transparency List 2017'!$C:$C,0),FALSE)),\"On the 2017 List\",\"-\")","v":"-"},{"$f":"IF(OR(IFERROR(MATCH($D1725,'Transparency List 2015'!$H:$H,0),FALSE),IFERROR(MATCH(TRIM($G1725),'Transparency List 2015'!$C:$C,0),FALSE)),\"On the 2015 List\",\"-\")","v":"-"}]
[null,null,4,"",null,null,null,"-",{"$f":"IF(OR(IFERROR(MATCH($D1726,'Transparency List 2018_10'!$L:$L,0),FALSE),IFERROR(MATCH(TRIM($G1726),'Transparency List 2018_10'!$D:$D,0),FALSE)),\"On the 2018_10 List\",\"-\")","v":"-"},{"$f":"IF(OR(IFERROR(MATCH($D1726,'Transparency List 2018_04'!$L:$L,0),FALSE),IFERROR(MATCH(TRIM($G1726),'Transparency List 2018_04'!$D:$D,0),FALSE)),\"On the 2018_04 List\",\"-\")","v":"-"},{"$f":"IF(OR(IFERROR(MATCH($D1726,'Transparency List 2017'!$L:$L,0),FALSE),IFERROR(MATCH(TRIM($G1726),'Transparency List 2017'!$C:$C,0),FALSE)),\"On the 2017 List\",\"-\")","v":"-"},{"$f":"IF(OR(IFERROR(MATCH($D1726,'Transparency List 2015'!$H:$H,0),FALSE),IFERROR(MATCH(TRIM($G1726),'Transparency List 2015'!$C:$C,0),FALSE)),\"On the 2015 List\",\"-\")","v":"-"}]
[null,null,4,"",null,null,null,"-",{"$f":"IF(OR(IFERROR(MATCH($D1727,'Transparency List 2018_10'!$L:$L,0),FALSE),IFERROR(MATCH(TRIM($G1727),'Transparency List 2018_10'!$D:$D,0),FALSE)),\"On the 2018_10 List\",\"-\")","v":"-"},{"$f":"IF(OR(IFERROR(MATCH($D1727,'Transparency List 2018_04'!$L:$L,0),FALSE),IFERROR(MATCH(TRIM($G1727),'Transparency List 2018_04'!$D:$D,0),FALSE)),\"On the 2018_04 List\",\"-\")","v":"-"},{"$f":"IF(OR(IFERROR(MATCH($D1727,'Transparency List 2017'!$L:$L,0),FALSE),IFERROR(MATCH(TRIM($G1727),'Transparency List 2017'!$C:$C,0),FALSE)),\"On the 2017 List\",\"-\")","v":"-"},{"$f":"IF(OR(IFERROR(MATCH($D1727,'Transparency List 2015'!$H:$H,0),FALSE),IFERROR(MATCH(TRIM($G1727),'Transparency List 2015'!$C:$C,0),FALSE)),\"On the 2015 List\",\"-\")","v":"-"}]
[null,null,4,"",null,null,null,"-",{"$f":"IF(OR(IFERROR(MATCH($D1728,'Transparency List 2018_10'!$L:$L,0),FALSE),IFERROR(MATCH(TRIM($G1728),'Transparency List 2018_10'!$D:$D,0),FALSE)),\"On the 2018_10 List\",\"-\")","v":"-"},{"$f":"IF(OR(IFERROR(MATCH($D1728,'Transparency List 2018_04'!$L:$L,0),FALSE),IFERROR(MATCH(TRIM($G1728),'Transparency List 2018_04'!$D:$D,0),FALSE)),\"On the 2018_04 List\",\"-\")","v":"-"},{"$f":"IF(OR(IFERROR(MATCH($D1728,'Transparency List 2017'!$L:$L,0),FALSE),IFERROR(MATCH(TRIM($G1728),'Transparency List 2017'!$C:$C,0),FALSE)),\"On the 2017 List\",\"-\")","v":"-"},{"$f":"IF(OR(IFERROR(MATCH($D1728,'Transparency List 2015'!$H:$H,0),FALSE),IFERROR(MATCH(TRIM($G1728),'Transparency List 2015'!$C:$C,0),FALSE)),\"On the 2015 List\",\"-\")","v":"-"}]
[null,null,4,"",null,null,null,"-",{"$f":"IF(OR(IFERROR(MATCH($D1729,'Transparency List 2018_10'!$L:$L,0),FALSE),IFERROR(MATCH(TRIM($G1729),'Transparency List 2018_10'!$D:$D,0),FALSE)),\"On the 2018_10 List\",\"-\")","v":"-"},{"$f":"IF(OR(IFERROR(MATCH($D1729,'Transparency List 2018_04'!$L:$L,0),FALSE),IFERROR(MATCH(TRIM($G1729),'Transparency List 2018_04'!$D:$D,0),FALSE)),\"On the 2018_04 List\",\"-\")","v":"-"},{"$f":"IF(OR(IFERROR(MATCH($D1729,'Transparency List 2017'!$L:$L,0),FALSE),IFERROR(MATCH(TRIM($G1729),'Transparency List 2017'!$C:$C,0),FALSE)),\"On the 2017 List\",\"-\")","v":"-"},{"$f":"IF(OR(IFERROR(MATCH($D1729,'Transparency List 2015'!$H:$H,0),FALSE),IFERROR(MATCH(TRIM($G1729),'Transparency List 2015'!$C:$C,0),FALSE)),\"On the 2015 List\",\"-\")","v":"-"}]
[null,null,4,"",null,null,null,"-",{"$f":"IF(OR(IFERROR(MATCH($D1730,'Transparency List 2018_10'!$L:$L,0),FALSE),IFERROR(MATCH(TRIM($G1730),'Transparency List 2018_10'!$D:$D,0),FALSE)),\"On the 2018_10 List\",\"-\")","v":"-"},{"$f":"IF(OR(IFERROR(MATCH($D1730,'Transparency List 2018_04'!$L:$L,0),FALSE),IFERROR(MATCH(TRIM($G1730),'Transparency List 2018_04'!$D:$D,0),FALSE)),\"On the 2018_04 List\",\"-\")","v":"-"},{"$f":"IF(OR(IFERROR(MATCH($D1730,'Transparency List 2017'!$L:$L,0),FALSE),IFERROR(MATCH(TRIM($G1730),'Transparency List 2017'!$C:$C,0),FALSE)),\"On the 2017 List\",\"-\")","v":"-"},{"$f":"IF(OR(IFERROR(MATCH($D1730,'Transparency List 2015'!$H:$H,0),FALSE),IFERROR(MATCH(TRIM($G1730),'Transparency List 2015'!$C:$C,0),FALSE)),\"On the 2015 List\",\"-\")","v":"-"}]
[null,null,4,"",null,null,null,"-",{"$f":"IF(OR(IFERROR(MATCH($D1731,'Transparency List 2018_10'!$L:$L,0),FALSE),IFERROR(MATCH(TRIM($G1731),'Transparency List 2018_10'!$D:$D,0),FALSE)),\"On the 2018_10 List\",\"-\")","v":"-"},{"$f":"IF(OR(IFERROR(MATCH($D1731,'Transparency List 2018_04'!$L:$L,0),FALSE),IFERROR(MATCH(TRIM($G1731),'Transparency List 2018_04'!$D:$D,0),FALSE)),\"On the 2018_04 List\",\"-\")","v":"-"},{"$f":"IF(OR(IFERROR(MATCH($D1731,'Transparency List 2017'!$L:$L,0),FALSE),IFERROR(MATCH(TRIM($G1731),'Transparency List 2017'!$C:$C,0),FALSE)),\"On the 2017 List\",\"-\")","v":"-"},{"$f":"IF(OR(IFERROR(MATCH($D1731,'Transparency List 2015'!$H:$H,0),FALSE),IFERROR(MATCH(TRIM($G1731),'Transparency List 2015'!$C:$C,0),FALSE)),\"On the 2015 List\",\"-\")","v":"-"}]
[null,null,4,"",null,null,null,"-",{"$f":"IF(OR(IFERROR(MATCH($D1732,'Transparency List 2018_10'!$L:$L,0),FALSE),IFERROR(MATCH(TRIM($G1732),'Transparency List 2018_10'!$D:$D,0),FALSE)),\"On the 2018_10 List\",\"-\")","v":"-"},{"$f":"IF(OR(IFERROR(MATCH($D1732,'Transparency List 2018_04'!$L:$L,0),FALSE),IFERROR(MATCH(TRIM($G1732),'Transparency List 2018_04'!$D:$D,0),FALSE)),\"On the 2018_04 List\",\"-\")","v":"-"},{"$f":"IF(OR(IFERROR(MATCH($D1732,'Transparency List 2017'!$L:$L,0),FALSE),IFERROR(MATCH(TRIM($G1732),'Transparency List 2017'!$C:$C,0),FALSE)),\"On the 2017 List\",\"-\")","v":"-"},{"$f":"IF(OR(IFERROR(MATCH($D1732,'Transparency List 2015'!$H:$H,0),FALSE),IFERROR(MATCH(TRIM($G1732),'Transparency List 2015'!$C:$C,0),FALSE)),\"On the 2015 List\",\"-\")","v":"-"}]
[null,null,4,"",null,null,null,"-",{"$f":"IF(OR(IFERROR(MATCH($D1733,'Transparency List 2018_10'!$L:$L,0),FALSE),IFERROR(MATCH(TRIM($G1733),'Transparency List 2018_10'!$D:$D,0),FALSE)),\"On the 2018_10 List\",\"-\")","v":"-"},{"$f":"IF(OR(IFERROR(MATCH($D1733,'Transparency List 2018_04'!$L:$L,0),FALSE),IFERROR(MATCH(TRIM($G1733),'Transparency List 2018_04'!$D:$D,0),FALSE)),\"On the 2018_04 List\",\"-\")","v":"-"},{"$f":"IF(OR(IFERROR(MATCH($D1733,'Transparency List 2017'!$L:$L,0),FALSE),IFERROR(MATCH(TRIM($G1733),'Transparency List 2017'!$C:$C,0),FALSE)),\"On the 2017 List\",\"-\")","v":"-"},{"$f":"IF(OR(IFERROR(MATCH($D1733,'Transparency List 2015'!$H:$H,0),FALSE),IFERROR(MATCH(TRIM($G1733),'Transparency List 2015'!$C:$C,0),FALSE)),\"On the 2015 List\",\"-\")","v":"-"}]
[null,null,4,"",null,null,null,"-",{"$f":"IF(OR(IFERROR(MATCH($D1734,'Transparency List 2018_10'!$L:$L,0),FALSE),IFERROR(MATCH(TRIM($G1734),'Transparency List 2018_10'!$D:$D,0),FALSE)),\"On the 2018_10 List\",\"-\")","v":"-"},{"$f":"IF(OR(IFERROR(MATCH($D1734,'Transparency List 2018_04'!$L:$L,0),FALSE),IFERROR(MATCH(TRIM($G1734),'Transparency List 2018_04'!$D:$D,0),FALSE)),\"On the 2018_04 List\",\"-\")","v":"-"},{"$f":"IF(OR(IFERROR(MATCH($D1734,'Transparency List 2017'!$L:$L,0),FALSE),IFERROR(MATCH(TRIM($G1734),'Transparency List 2017'!$C:$C,0),FALSE)),\"On the 2017 List\",\"-\")","v":"-"},{"$f":"IF(OR(IFERROR(MATCH($D1734,'Transparency List 2015'!$H:$H,0),FALSE),IFERROR(MATCH(TRIM($G1734),'Transparency List 2015'!$C:$C,0),FALSE)),\"On the 2015 List\",\"-\")","v":"-"}]
[null,null,4,"",null,null,null,"-",{"$f":"IF(OR(IFERROR(MATCH($D1735,'Transparency List 2018_10'!$L:$L,0),FALSE),IFERROR(MATCH(TRIM($G1735),'Transparency List 2018_10'!$D:$D,0),FALSE)),\"On the 2018_10 List\",\"-\")","v":"-"},{"$f":"IF(OR(IFERROR(MATCH($D1735,'Transparency List 2018_04'!$L:$L,0),FALSE),IFERROR(MATCH(TRIM($G1735),'Transparency List 2018_04'!$D:$D,0),FALSE)),\"On the 2018_04 List\",\"-\")","v":"-"},{"$f":"IF(OR(IFERROR(MATCH($D1735,'Transparency List 2017'!$L:$L,0),FALSE),IFERROR(MATCH(TRIM($G1735),'Transparency List 2017'!$C:$C,0),FALSE)),\"On the 2017 List\",\"-\")","v":"-"},{"$f":"IF(OR(IFERROR(MATCH($D1735,'Transparency List 2015'!$H:$H,0),FALSE),IFERROR(MATCH(TRIM($G1735),'Transparency List 2015'!$C:$C,0),FALSE)),\"On the 2015 List\",\"-\")","v":"-"}]
[null,null,4,"",null,null,null,"-",{"$f":"IF(OR(IFERROR(MATCH($D1736,'Transparency List 2018_10'!$L:$L,0),FALSE),IFERROR(MATCH(TRIM($G1736),'Transparency List 2018_10'!$D:$D,0),FALSE)),\"On the 2018_10 List\",\"-\")","v":"-"},{"$f":"IF(OR(IFERROR(MATCH($D1736,'Transparency List 2018_04'!$L:$L,0),FALSE),IFERROR(MATCH(TRIM($G1736),'Transparency List 2018_04'!$D:$D,0),FALSE)),\"On the 2018_04 List\",\"-\")","v":"-"},{"$f":"IF(OR(IFERROR(MATCH($D1736,'Transparency List 2017'!$L:$L,0),FALSE),IFERROR(MATCH(TRIM($G1736),'Transparency List 2017'!$C:$C,0),FALSE)),\"On the 2017 List\",\"-\")","v":"-"},{"$f":"IF(OR(IFERROR(MATCH($D1736,'Transparency List 2015'!$H:$H,0),FALSE),IFERROR(MATCH(TRIM($G1736),'Transparency List 2015'!$C:$C,0),FALSE)),\"On the 2015 List\",\"-\")","v":"-"}]
[null,null,4,"",null,null,null,"-",{"$f":"IF(OR(IFERROR(MATCH($D1737,'Transparency List 2018_10'!$L:$L,0),FALSE),IFERROR(MATCH(TRIM($G1737),'Transparency List 2018_10'!$D:$D,0),FALSE)),\"On the 2018_10 List\",\"-\")","v":"-"},{"$f":"IF(OR(IFERROR(MATCH($D1737,'Transparency List 2018_04'!$L:$L,0),FALSE),IFERROR(MATCH(TRIM($G1737),'Transparency List 2018_04'!$D:$D,0),FALSE)),\"On the 2018_04 List\",\"-\")","v":"-"},{"$f":"IF(OR(IFERROR(MATCH($D1737,'Transparency List 2017'!$L:$L,0),FALSE),IFERROR(MATCH(TRIM($G1737),'Transparency List 2017'!$C:$C,0),FALSE)),\"On the 2017 List\",\"-\")","v":"-"},{"$f":"IF(OR(IFERROR(MATCH($D1737,'Transparency List 2015'!$H:$H,0),FALSE),IFERROR(MATCH(TRIM($G1737),'Transparency List 2015'!$C:$C,0),FALSE)),\"On the 2015 List\",\"-\")","v":"-"}]
[null,null,4,"",null,null,null,"-",{"$f":"IF(OR(IFERROR(MATCH($D1738,'Transparency List 2018_10'!$L:$L,0),FALSE),IFERROR(MATCH(TRIM($G1738),'Transparency List 2018_10'!$D:$D,0),FALSE)),\"On the 2018_10 List\",\"-\")","v":"-"},{"$f":"IF(OR(IFERROR(MATCH($D1738,'Transparency List 2018_04'!$L:$L,0),FALSE),IFERROR(MATCH(TRIM($G1738),'Transparency List 2018_04'!$D:$D,0),FALSE)),\"On the 2018_04 List\",\"-\")","v":"-"},{"$f":"IF(OR(IFERROR(MATCH($D1738,'Transparency List 2017'!$L:$L,0),FALSE),IFERROR(MATCH(TRIM($G1738),'Transparency List 2017'!$C:$C,0),FALSE)),\"On the 2017 List\",\"-\")","v":"-"},{"$f":"IF(OR(IFERROR(MATCH($D1738,'Transparency List 2015'!$H:$H,0),FALSE),IFERROR(MATCH(TRIM($G1738),'Transparency List 2015'!$C:$C,0),FALSE)),\"On the 2015 List\",\"-\")","v":"-"}]
[null,null,4,"",null,null,null,"-",{"$f":"IF(OR(IFERROR(MATCH($D1739,'Transparency List 2018_10'!$L:$L,0),FALSE),IFERROR(MATCH(TRIM($G1739),'Transparency List 2018_10'!$D:$D,0),FALSE)),\"On the 2018_10 List\",\"-\")","v":"-"},{"$f":"IF(OR(IFERROR(MATCH($D1739,'Transparency List 2018_04'!$L:$L,0),FALSE),IFERROR(MATCH(TRIM($G1739),'Transparency List 2018_04'!$D:$D,0),FALSE)),\"On the 2018_04 List\",\"-\")","v":"-"},{"$f":"IF(OR(IFERROR(MATCH($D1739,'Transparency List 2017'!$L:$L,0),FALSE),IFERROR(MATCH(TRIM($G1739),'Transparency List 2017'!$C:$C,0),FALSE)),\"On the 2017 List\",\"-\")","v":"-"},{"$f":"IF(OR(IFERROR(MATCH($D1739,'Transparency List 2015'!$H:$H,0),FALSE),IFERROR(MATCH(TRIM($G1739),'Transparency List 2015'!$C:$C,0),FALSE)),\"On the 2015 List\",\"-\")","v":"-"}]
[null,null,4,"",null,null,null,"-",{"$f":"IF(OR(IFERROR(MATCH($D1740,'Transparency List 2018_10'!$L:$L,0),FALSE),IFERROR(MATCH(TRIM($G1740),'Transparency List 2018_10'!$D:$D,0),FALSE)),\"On the 2018_10 List\",\"-\")","v":"-"},{"$f":"IF(OR(IFERROR(MATCH($D1740,'Transparency List 2018_04'!$L:$L,0),FALSE),IFERROR(MATCH(TRIM($G1740),'Transparency List 2018_04'!$D:$D,0),FALSE)),\"On the 2018_04 List\",\"-\")","v":"-"},{"$f":"IF(OR(IFERROR(MATCH($D1740,'Transparency List 2017'!$L:$L,0),FALSE),IFERROR(MATCH(TRIM($G1740),'Transparency List 2017'!$C:$C,0),FALSE)),\"On the 2017 List\",\"-\")","v":"-"},{"$f":"IF(OR(IFERROR(MATCH($D1740,'Transparency List 2015'!$H:$H,0),FALSE),IFERROR(MATCH(TRIM($G1740),'Transparency List 2015'!$C:$C,0),FALSE)),\"On the 2015 List\",\"-\")","v":"-"}]
[null,null,4,"",null,null,null,"-",{"$f":"IF(OR(IFERROR(MATCH($D1741,'Transparency List 2018_10'!$L:$L,0),FALSE),IFERROR(MATCH(TRIM($G1741),'Transparency List 2018_10'!$D:$D,0),FALSE)),\"On the 2018_10 List\",\"-\")","v":"-"},{"$f":"IF(OR(IFERROR(MATCH($D1741,'Transparency List 2018_04'!$L:$L,0),FALSE),IFERROR(MATCH(TRIM($G1741),'Transparency List 2018_04'!$D:$D,0),FALSE)),\"On the 2018_04 List\",\"-\")","v":"-"},{"$f":"IF(OR(IFERROR(MATCH($D1741,'Transparency List 2017'!$L:$L,0),FALSE),IFERROR(MATCH(TRIM($G1741),'Transparency List 2017'!$C:$C,0),FALSE)),\"On the 2017 List\",\"-\")","v":"-"},{"$f":"IF(OR(IFERROR(MATCH($D1741,'Transparency List 2015'!$H:$H,0),FALSE),IFERROR(MATCH(TRIM($G1741),'Transparency List 2015'!$C:$C,0),FALSE)),\"On the 2015 List\",\"-\")","v":"-"}]
[null,null,4,"",null,null,null,"-",{"$f":"IF(OR(IFERROR(MATCH($D1742,'Transparency List 2018_10'!$L:$L,0),FALSE),IFERROR(MATCH(TRIM($G1742),'Transparency List 2018_10'!$D:$D,0),FALSE)),\"On the 2018_10 List\",\"-\")","v":"-"},{"$f":"IF(OR(IFERROR(MATCH($D1742,'Transparency List 2018_04'!$L:$L,0),FALSE),IFERROR(MATCH(TRIM($G1742),'Transparency List 2018_04'!$D:$D,0),FALSE)),\"On the 2018_04 List\",\"-\")","v":"-"},{"$f":"IF(OR(IFERROR(MATCH($D1742,'Transparency List 2017'!$L:$L,0),FALSE),IFERROR(MATCH(TRIM($G1742),'Transparency List 2017'!$C:$C,0),FALSE)),\"On the 2017 List\",\"-\")","v":"-"},{"$f":"IF(OR(IFERROR(MATCH($D1742,'Transparency List 2015'!$H:$H,0),FALSE),IFERROR(MATCH(TRIM($G1742),'Transparency List 2015'!$C:$C,0),FALSE)),\"On the 2015 List\",\"-\")","v":"-"}]
[null,null,4,"",null,null,null,"-",{"$f":"IF(OR(IFERROR(MATCH($D1743,'Transparency List 2018_10'!$L:$L,0),FALSE),IFERROR(MATCH(TRIM($G1743),'Transparency List 2018_10'!$D:$D,0),FALSE)),\"On the 2018_10 List\",\"-\")","v":"-"},{"$f":"IF(OR(IFERROR(MATCH($D1743,'Transparency List 2018_04'!$L:$L,0),FALSE),IFERROR(MATCH(TRIM($G1743),'Transparency List 2018_04'!$D:$D,0),FALSE)),\"On the 2018_04 List\",\"-\")","v":"-"},{"$f":"IF(OR(IFERROR(MATCH($D1743,'Transparency List 2017'!$L:$L,0),FALSE),IFERROR(MATCH(TRIM($G1743),'Transparency List 2017'!$C:$C,0),FALSE)),\"On the 2017 List\",\"-\")","v":"-"},{"$f":"IF(OR(IFERROR(MATCH($D1743,'Transparency List 2015'!$H:$H,0),FALSE),IFERROR(MATCH(TRIM($G1743),'Transparency List 2015'!$C:$C,0),FALSE)),\"On the 2015 List\",\"-\")","v":"-"}]
[null,null,4,"",null,null,null,"-",{"$f":"IF(OR(IFERROR(MATCH($D1744,'Transparency List 2018_10'!$L:$L,0),FALSE),IFERROR(MATCH(TRIM($G1744),'Transparency List 2018_10'!$D:$D,0),FALSE)),\"On the 2018_10 List\",\"-\")","v":"-"},{"$f":"IF(OR(IFERROR(MATCH($D1744,'Transparency List 2018_04'!$L:$L,0),FALSE),IFERROR(MATCH(TRIM($G1744),'Transparency List 2018_04'!$D:$D,0),FALSE)),\"On the 2018_04 List\",\"-\")","v":"-"},{"$f":"IF(OR(IFERROR(MATCH($D1744,'Transparency List 2017'!$L:$L,0),FALSE),IFERROR(MATCH(TRIM($G1744),'Transparency List 2017'!$C:$C,0),FALSE)),\"On the 2017 List\",\"-\")","v":"-"},{"$f":"IF(OR(IFERROR(MATCH($D1744,'Transparency List 2015'!$H:$H,0),FALSE),IFERROR(MATCH(TRIM($G1744),'Transparency List 2015'!$C:$C,0),FALSE)),\"On the 2015 List\",\"-\")","v":"-"}]
[null,null,4,"",null,null,null,"-",{"$f":"IF(OR(IFERROR(MATCH($D1745,'Transparency List 2018_10'!$L:$L,0),FALSE),IFERROR(MATCH(TRIM($G1745),'Transparency List 2018_10'!$D:$D,0),FALSE)),\"On the 2018_10 List\",\"-\")","v":"-"},{"$f":"IF(OR(IFERROR(MATCH($D1745,'Transparency List 2018_04'!$L:$L,0),FALSE),IFERROR(MATCH(TRIM($G1745),'Transparency List 2018_04'!$D:$D,0),FALSE)),\"On the 2018_04 List\",\"-\")","v":"-"},{"$f":"IF(OR(IFERROR(MATCH($D1745,'Transparency List 2017'!$L:$L,0),FALSE),IFERROR(MATCH(TRIM($G1745),'Transparency List 2017'!$C:$C,0),FALSE)),\"On the 2017 List\",\"-\")","v":"-"},{"$f":"IF(OR(IFERROR(MATCH($D1745,'Transparency List 2015'!$H:$H,0),FALSE),IFERROR(MATCH(TRIM($G1745),'Transparency List 2015'!$C:$C,0),FALSE)),\"On the 2015 List\",\"-\")","v":"-"}]
[null,null,4,"",null,null,null,"-",{"$f":"IF(OR(IFERROR(MATCH($D1746,'Transparency List 2018_10'!$L:$L,0),FALSE),IFERROR(MATCH(TRIM($G1746),'Transparency List 2018_10'!$D:$D,0),FALSE)),\"On the 2018_10 List\",\"-\")","v":"-"},{"$f":"IF(OR(IFERROR(MATCH($D1746,'Transparency List 2018_04'!$L:$L,0),FALSE),IFERROR(MATCH(TRIM($G1746),'Transparency List 2018_04'!$D:$D,0),FALSE)),\"On the 2018_04 List\",\"-\")","v":"-"},{"$f":"IF(OR(IFERROR(MATCH($D1746,'Transparency List 2017'!$L:$L,0),FALSE),IFERROR(MATCH(TRIM($G1746),'Transparency List 2017'!$C:$C,0),FALSE)),\"On the 2017 List\",\"-\")","v":"-"},{"$f":"IF(OR(IFERROR(MATCH($D1746,'Transparency List 2015'!$H:$H,0),FALSE),IFERROR(MATCH(TRIM($G1746),'Transparency List 2015'!$C:$C,0),FALSE)),\"On the 2015 List\",\"-\")","v":"-"}]
[null,null,4,"",null,null,null,"-",{"$f":"IF(OR(IFERROR(MATCH($D1747,'Transparency List 2018_10'!$L:$L,0),FALSE),IFERROR(MATCH(TRIM($G1747),'Transparency List 2018_10'!$D:$D,0),FALSE)),\"On the 2018_10 List\",\"-\")","v":"-"},{"$f":"IF(OR(IFERROR(MATCH($D1747,'Transparency List 2018_04'!$L:$L,0),FALSE),IFERROR(MATCH(TRIM($G1747),'Transparency List 2018_04'!$D:$D,0),FALSE)),\"On the 2018_04 List\",\"-\")","v":"-"},{"$f":"IF(OR(IFERROR(MATCH($D1747,'Transparency List 2017'!$L:$L,0),FALSE),IFERROR(MATCH(TRIM($G1747),'Transparency List 2017'!$C:$C,0),FALSE)),\"On the 2017 List\",\"-\")","v":"-"},{"$f":"IF(OR(IFERROR(MATCH($D1747,'Transparency List 2015'!$H:$H,0),FALSE),IFERROR(MATCH(TRIM($G1747),'Transparency List 2015'!$C:$C,0),FALSE)),\"On the 2015 List\",\"-\")","v":"-"}]
[null,null,4,"",null,null,null,"-",{"$f":"IF(OR(IFERROR(MATCH($D1748,'Transparency List 2018_10'!$L:$L,0),FALSE),IFERROR(MATCH(TRIM($G1748),'Transparency List 2018_10'!$D:$D,0),FALSE)),\"On the 2018_10 List\",\"-\")","v":"-"},{"$f":"IF(OR(IFERROR(MATCH($D1748,'Transparency List 2018_04'!$L:$L,0),FALSE),IFERROR(MATCH(TRIM($G1748),'Transparency List 2018_04'!$D:$D,0),FALSE)),\"On the 2018_04 List\",\"-\")","v":"-"},{"$f":"IF(OR(IFERROR(MATCH($D1748,'Transparency List 2017'!$L:$L,0),FALSE),IFERROR(MATCH(TRIM($G1748),'Transparency List 2017'!$C:$C,0),FALSE)),\"On the 2017 List\",\"-\")","v":"-"},{"$f":"IF(OR(IFERROR(MATCH($D1748,'Transparency List 2015'!$H:$H,0),FALSE),IFERROR(MATCH(TRIM($G1748),'Transparency List 2015'!$C:$C,0),FALSE)),\"On the 2015 List\",\"-\")","v":"-"}]
[null,null,4,"",null,null,null,"-",{"$f":"IF(OR(IFERROR(MATCH($D1749,'Transparency List 2018_10'!$L:$L,0),FALSE),IFERROR(MATCH(TRIM($G1749),'Transparency List 2018_10'!$D:$D,0),FALSE)),\"On the 2018_10 List\",\"-\")","v":"-"},{"$f":"IF(OR(IFERROR(MATCH($D1749,'Transparency List 2018_04'!$L:$L,0),FALSE),IFERROR(MATCH(TRIM($G1749),'Transparency List 2018_04'!$D:$D,0),FALSE)),\"On the 2018_04 List\",\"-\")","v":"-"},{"$f":"IF(OR(IFERROR(MATCH($D1749,'Transparency List 2017'!$L:$L,0),FALSE),IFERROR(MATCH(TRIM($G1749),'Transparency List 2017'!$C:$C,0),FALSE)),\"On the 2017 List\",\"-\")","v":"-"},{"$f":"IF(OR(IFERROR(MATCH($D1749,'Transparency List 2015'!$H:$H,0),FALSE),IFERROR(MATCH(TRIM($G1749),'Transparency List 2015'!$C:$C,0),FALSE)),\"On the 2015 List\",\"-\")","v":"-"}]
[null,null,4,"",null,null,null,"-",{"$f":"IF(OR(IFERROR(MATCH($D1750,'Transparency List 2018_10'!$L:$L,0),FALSE),IFERROR(MATCH(TRIM($G1750),'Transparency List 2018_10'!$D:$D,0),FALSE)),\"On the 2018_10 List\",\"-\")","v":"-"},{"$f":"IF(OR(IFERROR(MATCH($D1750,'Transparency List 2018_04'!$L:$L,0),FALSE),IFERROR(MATCH(TRIM($G1750),'Transparency List 2018_04'!$D:$D,0),FALSE)),\"On the 2018_04 List\",\"-\")","v":"-"},{"$f":"IF(OR(IFERROR(MATCH($D1750,'Transparency List 2017'!$L:$L,0),FALSE),IFERROR(MATCH(TRIM($G1750),'Transparency List 2017'!$C:$C,0),FALSE)),\"On the 2017 List\",\"-\")","v":"-"},{"$f":"IF(OR(IFERROR(MATCH($D1750,'Transparency List 2015'!$H:$H,0),FALSE),IFERROR(MATCH(TRIM($G1750),'Transparency List 2015'!$C:$C,0),FALSE)),\"On the 2015 List\",\"-\")","v":"-"}]
[null,null,4,"",null,null,null,"-",{"$f":"IF(OR(IFERROR(MATCH($D1751,'Transparency List 2018_10'!$L:$L,0),FALSE),IFERROR(MATCH(TRIM($G1751),'Transparency List 2018_10'!$D:$D,0),FALSE)),\"On the 2018_10 List\",\"-\")","v":"-"},{"$f":"IF(OR(IFERROR(MATCH($D1751,'Transparency List 2018_04'!$L:$L,0),FALSE),IFERROR(MATCH(TRIM($G1751),'Transparency List 2018_04'!$D:$D,0),FALSE)),\"On the 2018_04 List\",\"-\")","v":"-"},{"$f":"IF(OR(IFERROR(MATCH($D1751,'Transparency List 2017'!$L:$L,0),FALSE),IFERROR(MATCH(TRIM($G1751),'Transparency List 2017'!$C:$C,0),FALSE)),\"On the 2017 List\",\"-\")","v":"-"},{"$f":"IF(OR(IFERROR(MATCH($D1751,'Transparency List 2015'!$H:$H,0),FALSE),IFERROR(MATCH(TRIM($G1751),'Transparency List 2015'!$C:$C,0),FALSE)),\"On the 2015 List\",\"-\")","v":"-"}]
[null,null,4,"",null,null,null,"-",{"$f":"IF(OR(IFERROR(MATCH($D1752,'Transparency List 2018_10'!$L:$L,0),FALSE),IFERROR(MATCH(TRIM($G1752),'Transparency List 2018_10'!$D:$D,0),FALSE)),\"On the 2018_10 List\",\"-\")","v":"-"},{"$f":"IF(OR(IFERROR(MATCH($D1752,'Transparency List 2018_04'!$L:$L,0),FALSE),IFERROR(MATCH(TRIM($G1752),'Transparency List 2018_04'!$D:$D,0),FALSE)),\"On the 2018_04 List\",\"-\")","v":"-"},{"$f":"IF(OR(IFERROR(MATCH($D1752,'Transparency List 2017'!$L:$L,0),FALSE),IFERROR(MATCH(TRIM($G1752),'Transparency List 2017'!$C:$C,0),FALSE)),\"On the 2017 List\",\"-\")","v":"-"},{"$f":"IF(OR(IFERROR(MATCH($D1752,'Transparency List 2015'!$H:$H,0),FALSE),IFERROR(MATCH(TRIM($G1752),'Transparency List 2015'!$C:$C,0),FALSE)),\"On the 2015 List\",\"-\")","v":"-"}]
[null,null,4,"",null,null,null,"-",{"$f":"IF(OR(IFERROR(MATCH($D1753,'Transparency List 2018_10'!$L:$L,0),FALSE),IFERROR(MATCH(TRIM($G1753),'Transparency List 2018_10'!$D:$D,0),FALSE)),\"On the 2018_10 List\",\"-\")","v":"-"},{"$f":"IF(OR(IFERROR(MATCH($D1753,'Transparency List 2018_04'!$L:$L,0),FALSE),IFERROR(MATCH(TRIM($G1753),'Transparency List 2018_04'!$D:$D,0),FALSE)),\"On the 2018_04 List\",\"-\")","v":"-"},{"$f":"IF(OR(IFERROR(MATCH($D1753,'Transparency List 2017'!$L:$L,0),FALSE),IFERROR(MATCH(TRIM($G1753),'Transparency List 2017'!$C:$C,0),FALSE)),\"On the 2017 List\",\"-\")","v":"-"},{"$f":"IF(OR(IFERROR(MATCH($D1753,'Transparency List 2015'!$H:$H,0),FALSE),IFERROR(MATCH(TRIM($G1753),'Transparency List 2015'!$C:$C,0),FALSE)),\"On the 2015 List\",\"-\")","v":"-"}]
[null,null,4,"",null,null,null,"-",{"$f":"IF(OR(IFERROR(MATCH($D1754,'Transparency List 2018_10'!$L:$L,0),FALSE),IFERROR(MATCH(TRIM($G1754),'Transparency List 2018_10'!$D:$D,0),FALSE)),\"On the 2018_10 List\",\"-\")","v":"-"},{"$f":"IF(OR(IFERROR(MATCH($D1754,'Transparency List 2018_04'!$L:$L,0),FALSE),IFERROR(MATCH(TRIM($G1754),'Transparency List 2018_04'!$D:$D,0),FALSE)),\"On the 2018_04 List\",\"-\")","v":"-"},{"$f":"IF(OR(IFERROR(MATCH($D1754,'Transparency List 2017'!$L:$L,0),FALSE),IFERROR(MATCH(TRIM($G1754),'Transparency List 2017'!$C:$C,0),FALSE)),\"On the 2017 List\",\"-\")","v":"-"},{"$f":"IF(OR(IFERROR(MATCH($D1754,'Transparency List 2015'!$H:$H,0),FALSE),IFERROR(MATCH(TRIM($G1754),'Transparency List 2015'!$C:$C,0),FALSE)),\"On the 2015 List\",\"-\")","v":"-"}]
[null,null,4,"",null,null,null,"-",{"$f":"IF(OR(IFERROR(MATCH($D1755,'Transparency List 2018_10'!$L:$L,0),FALSE),IFERROR(MATCH(TRIM($G1755),'Transparency List 2018_10'!$D:$D,0),FALSE)),\"On the 2018_10 List\",\"-\")","v":"-"},{"$f":"IF(OR(IFERROR(MATCH($D1755,'Transparency List 2018_04'!$L:$L,0),FALSE),IFERROR(MATCH(TRIM($G1755),'Transparency List 2018_04'!$D:$D,0),FALSE)),\"On the 2018_04 List\",\"-\")","v":"-"},{"$f":"IF(OR(IFERROR(MATCH($D1755,'Transparency List 2017'!$L:$L,0),FALSE),IFERROR(MATCH(TRIM($G1755),'Transparency List 2017'!$C:$C,0),FALSE)),\"On the 2017 List\",\"-\")","v":"-"},{"$f":"IF(OR(IFERROR(MATCH($D1755,'Transparency List 2015'!$H:$H,0),FALSE),IFERROR(MATCH(TRIM($G1755),'Transparency List 2015'!$C:$C,0),FALSE)),\"On the 2015 List\",\"-\")","v":"-"}]
[null,null,4,"",null,null,null,"-",{"$f":"IF(OR(IFERROR(MATCH($D1756,'Transparency List 2018_10'!$L:$L,0),FALSE),IFERROR(MATCH(TRIM($G1756),'Transparency List 2018_10'!$D:$D,0),FALSE)),\"On the 2018_10 List\",\"-\")","v":"-"},{"$f":"IF(OR(IFERROR(MATCH($D1756,'Transparency List 2018_04'!$L:$L,0),FALSE),IFERROR(MATCH(TRIM($G1756),'Transparency List 2018_04'!$D:$D,0),FALSE)),\"On the 2018_04 List\",\"-\")","v":"-"},{"$f":"IF(OR(IFERROR(MATCH($D1756,'Transparency List 2017'!$L:$L,0),FALSE),IFERROR(MATCH(TRIM($G1756),'Transparency List 2017'!$C:$C,0),FALSE)),\"On the 2017 List\",\"-\")","v":"-"},{"$f":"IF(OR(IFERROR(MATCH($D1756,'Transparency List 2015'!$H:$H,0),FALSE),IFERROR(MATCH(TRIM($G1756),'Transparency List 2015'!$C:$C,0),FALSE)),\"On the 2015 List\",\"-\")","v":"-"}]
[null,null,4,"",null,null,null,"-",{"$f":"IF(OR(IFERROR(MATCH($D1757,'Transparency List 2018_10'!$L:$L,0),FALSE),IFERROR(MATCH(TRIM($G1757),'Transparency List 2018_10'!$D:$D,0),FALSE)),\"On the 2018_10 List\",\"-\")","v":"-"},{"$f":"IF(OR(IFERROR(MATCH($D1757,'Transparency List 2018_04'!$L:$L,0),FALSE),IFERROR(MATCH(TRIM($G1757),'Transparency List 2018_04'!$D:$D,0),FALSE)),\"On the 2018_04 List\",\"-\")","v":"-"},{"$f":"IF(OR(IFERROR(MATCH($D1757,'Transparency List 2017'!$L:$L,0),FALSE),IFERROR(MATCH(TRIM($G1757),'Transparency List 2017'!$C:$C,0),FALSE)),\"On the 2017 List\",\"-\")","v":"-"},{"$f":"IF(OR(IFERROR(MATCH($D1757,'Transparency List 2015'!$H:$H,0),FALSE),IFERROR(MATCH(TRIM($G1757),'Transparency List 2015'!$C:$C,0),FALSE)),\"On the 2015 List\",\"-\")","v":"-"}]
[null,null,4,"",null,null,null,"-",{"$f":"IF(OR(IFERROR(MATCH($D1758,'Transparency List 2018_10'!$L:$L,0),FALSE),IFERROR(MATCH(TRIM($G1758),'Transparency List 2018_10'!$D:$D,0),FALSE)),\"On the 2018_10 List\",\"-\")","v":"-"},{"$f":"IF(OR(IFERROR(MATCH($D1758,'Transparency List 2018_04'!$L:$L,0),FALSE),IFERROR(MATCH(TRIM($G1758),'Transparency List 2018_04'!$D:$D,0),FALSE)),\"On the 2018_04 List\",\"-\")","v":"-"},{"$f":"IF(OR(IFERROR(MATCH($D1758,'Transparency List 2017'!$L:$L,0),FALSE),IFERROR(MATCH(TRIM($G1758),'Transparency List 2017'!$C:$C,0),FALSE)),\"On the 2017 List\",\"-\")","v":"-"},{"$f":"IF(OR(IFERROR(MATCH($D1758,'Transparency List 2015'!$H:$H,0),FALSE),IFERROR(MATCH(TRIM($G1758),'Transparency List 2015'!$C:$C,0),FALSE)),\"On the 2015 List\",\"-\")","v":"-"}]
[null,null,{"$f":"COUNTIF($I1759:$L1759,\"-\")","v":4},{"$f":"SUBSTITUTE(SUBSTITUTE(SUBSTITUTE(SUBSTITUTE($G1759,\" \",\"\"),\".\",\"\"),\"-\",\"\"),\"/\",\"\")","v":""},null,null,null,{"$f":"IFERROR(IF($C1759=4,\"-\",\"Risk Farmer - Please conduct further steps\"),)","v":"-"},{"$f":"IF(OR(IFERROR(MATCH($D1759,'Transparency List 2018_10'!$L:$L,0),FALSE),IFERROR(MATCH(TRIM($G1759),'Transparency List 2018_10'!$D:$D,0),FALSE)),\"On the 2018_10 List\",\"-\")","v":"-"},{"$f":"IF(OR(IFERROR(MATCH($D1759,'Transparency List 2018_04'!$L:$L,0),FALSE),IFERROR(MATCH(TRIM($G1759),'Transparency List 2018_04'!$D:$D,0),FALSE)),\"On the 2018_04 List\",\"-\")","v":"-"},{"$f":"IF(OR(IFERROR(MATCH($D1759,'Transparency List 2017'!$L:$L,0),FALSE),IFERROR(MATCH(TRIM($G1759),'Transparency List 2017'!$C:$C,0),FALSE)),\"On the 2017 List\",\"-\")","v":"-"},{"$f":"IF(OR(IFERROR(MATCH($D1759,'Transparency List 2015'!$H:$H,0),FALSE),IFERROR(MATCH(TRIM($G1759),'Transparency List 2015'!$C:$C,0),FALSE)),\"On the 2015 List\",\"-\")","v":"-"}]
[null,null,4,"",null,null,null,"-",{"$f":"IF(OR(IFERROR(MATCH($D1760,'Transparency List 2018_10'!$L:$L,0),FALSE),IFERROR(MATCH(TRIM($G1760),'Transparency List 2018_10'!$D:$D,0),FALSE)),\"On the 2018_10 List\",\"-\")","v":"-"},{"$f":"IF(OR(IFERROR(MATCH($D1760,'Transparency List 2018_04'!$L:$L,0),FALSE),IFERROR(MATCH(TRIM($G1760),'Transparency List 2018_04'!$D:$D,0),FALSE)),\"On the 2018_04 List\",\"-\")","v":"-"},{"$f":"IF(OR(IFERROR(MATCH($D1760,'Transparency List 2017'!$L:$L,0),FALSE),IFERROR(MATCH(TRIM($G1760),'Transparency List 2017'!$C:$C,0),FALSE)),\"On the 2017 List\",\"-\")","v":"-"},{"$f":"IF(OR(IFERROR(MATCH($D1760,'Transparency List 2015'!$H:$H,0),FALSE),IFERROR(MATCH(TRIM($G1760),'Transparency List 2015'!$C:$C,0),FALSE)),\"On the 2015 List\",\"-\")","v":"-"}]
[null,null,4,"",null,null,null,"-",{"$f":"IF(OR(IFERROR(MATCH($D1761,'Transparency List 2018_10'!$L:$L,0),FALSE),IFERROR(MATCH(TRIM($G1761),'Transparency List 2018_10'!$D:$D,0),FALSE)),\"On the 2018_10 List\",\"-\")","v":"-"},{"$f":"IF(OR(IFERROR(MATCH($D1761,'Transparency List 2018_04'!$L:$L,0),FALSE),IFERROR(MATCH(TRIM($G1761),'Transparency List 2018_04'!$D:$D,0),FALSE)),\"On the 2018_04 List\",\"-\")","v":"-"},{"$f":"IF(OR(IFERROR(MATCH($D1761,'Transparency List 2017'!$L:$L,0),FALSE),IFERROR(MATCH(TRIM($G1761),'Transparency List 2017'!$C:$C,0),FALSE)),\"On the 2017 List\",\"-\")","v":"-"},{"$f":"IF(OR(IFERROR(MATCH($D1761,'Transparency List 2015'!$H:$H,0),FALSE),IFERROR(MATCH(TRIM($G1761),'Transparency List 2015'!$C:$C,0),FALSE)),\"On the 2015 List\",\"-\")","v":"-"}]
[null,null,4,"",null,null,null,"-",{"$f":"IF(OR(IFERROR(MATCH($D1762,'Transparency List 2018_10'!$L:$L,0),FALSE),IFERROR(MATCH(TRIM($G1762),'Transparency List 2018_10'!$D:$D,0),FALSE)),\"On the 2018_10 List\",\"-\")","v":"-"},{"$f":"IF(OR(IFERROR(MATCH($D1762,'Transparency List 2018_04'!$L:$L,0),FALSE),IFERROR(MATCH(TRIM($G1762),'Transparency List 2018_04'!$D:$D,0),FALSE)),\"On the 2018_04 List\",\"-\")","v":"-"},{"$f":"IF(OR(IFERROR(MATCH($D1762,'Transparency List 2017'!$L:$L,0),FALSE),IFERROR(MATCH(TRIM($G1762),'Transparency List 2017'!$C:$C,0),FALSE)),\"On the 2017 List\",\"-\")","v":"-"},{"$f":"IF(OR(IFERROR(MATCH($D1762,'Transparency List 2015'!$H:$H,0),FALSE),IFERROR(MATCH(TRIM($G1762),'Transparency List 2015'!$C:$C,0),FALSE)),\"On the 2015 List\",\"-\")","v":"-"}]
[null,null,4,"",null,null,null,"-",{"$f":"IF(OR(IFERROR(MATCH($D1763,'Transparency List 2018_10'!$L:$L,0),FALSE),IFERROR(MATCH(TRIM($G1763),'Transparency List 2018_10'!$D:$D,0),FALSE)),\"On the 2018_10 List\",\"-\")","v":"-"},{"$f":"IF(OR(IFERROR(MATCH($D1763,'Transparency List 2018_04'!$L:$L,0),FALSE),IFERROR(MATCH(TRIM($G1763),'Transparency List 2018_04'!$D:$D,0),FALSE)),\"On the 2018_04 List\",\"-\")","v":"-"},{"$f":"IF(OR(IFERROR(MATCH($D1763,'Transparency List 2017'!$L:$L,0),FALSE),IFERROR(MATCH(TRIM($G1763),'Transparency List 2017'!$C:$C,0),FALSE)),\"On the 2017 List\",\"-\")","v":"-"},{"$f":"IF(OR(IFERROR(MATCH($D1763,'Transparency List 2015'!$H:$H,0),FALSE),IFERROR(MATCH(TRIM($G1763),'Transparency List 2015'!$C:$C,0),FALSE)),\"On the 2015 List\",\"-\")","v":"-"}]
[null,null,4,"",null,null,null,"-",{"$f":"IF(OR(IFERROR(MATCH($D1764,'Transparency List 2018_10'!$L:$L,0),FALSE),IFERROR(MATCH(TRIM($G1764),'Transparency List 2018_10'!$D:$D,0),FALSE)),\"On the 2018_10 List\",\"-\")","v":"-"},{"$f":"IF(OR(IFERROR(MATCH($D1764,'Transparency List 2018_04'!$L:$L,0),FALSE),IFERROR(MATCH(TRIM($G1764),'Transparency List 2018_04'!$D:$D,0),FALSE)),\"On the 2018_04 List\",\"-\")","v":"-"},{"$f":"IF(OR(IFERROR(MATCH($D1764,'Transparency List 2017'!$L:$L,0),FALSE),IFERROR(MATCH(TRIM($G1764),'Transparency List 2017'!$C:$C,0),FALSE)),\"On the 2017 List\",\"-\")","v":"-"},{"$f":"IF(OR(IFERROR(MATCH($D1764,'Transparency List 2015'!$H:$H,0),FALSE),IFERROR(MATCH(TRIM($G1764),'Transparency List 2015'!$C:$C,0),FALSE)),\"On the 2015 List\",\"-\")","v":"-"}]
[null,null,4,"",null,null,null,"-",{"$f":"IF(OR(IFERROR(MATCH($D1765,'Transparency List 2018_10'!$L:$L,0),FALSE),IFERROR(MATCH(TRIM($G1765),'Transparency List 2018_10'!$D:$D,0),FALSE)),\"On the 2018_10 List\",\"-\")","v":"-"},{"$f":"IF(OR(IFERROR(MATCH($D1765,'Transparency List 2018_04'!$L:$L,0),FALSE),IFERROR(MATCH(TRIM($G1765),'Transparency List 2018_04'!$D:$D,0),FALSE)),\"On the 2018_04 List\",\"-\")","v":"-"},{"$f":"IF(OR(IFERROR(MATCH($D1765,'Transparency List 2017'!$L:$L,0),FALSE),IFERROR(MATCH(TRIM($G1765),'Transparency List 2017'!$C:$C,0),FALSE)),\"On the 2017 List\",\"-\")","v":"-"},{"$f":"IF(OR(IFERROR(MATCH($D1765,'Transparency List 2015'!$H:$H,0),FALSE),IFERROR(MATCH(TRIM($G1765),'Transparency List 2015'!$C:$C,0),FALSE)),\"On the 2015 List\",\"-\")","v":"-"}]
[null,null,4,"",null,null,null,"-",{"$f":"IF(OR(IFERROR(MATCH($D1766,'Transparency List 2018_10'!$L:$L,0),FALSE),IFERROR(MATCH(TRIM($G1766),'Transparency List 2018_10'!$D:$D,0),FALSE)),\"On the 2018_10 List\",\"-\")","v":"-"},{"$f":"IF(OR(IFERROR(MATCH($D1766,'Transparency List 2018_04'!$L:$L,0),FALSE),IFERROR(MATCH(TRIM($G1766),'Transparency List 2018_04'!$D:$D,0),FALSE)),\"On the 2018_04 List\",\"-\")","v":"-"},{"$f":"IF(OR(IFERROR(MATCH($D1766,'Transparency List 2017'!$L:$L,0),FALSE),IFERROR(MATCH(TRIM($G1766),'Transparency List 2017'!$C:$C,0),FALSE)),\"On the 2017 List\",\"-\")","v":"-"},{"$f":"IF(OR(IFERROR(MATCH($D1766,'Transparency List 2015'!$H:$H,0),FALSE),IFERROR(MATCH(TRIM($G1766),'Transparency List 2015'!$C:$C,0),FALSE)),\"On the 2015 List\",\"-\")","v":"-"}]
[null,null,4,"",null,null,null,"-",{"$f":"IF(OR(IFERROR(MATCH($D1767,'Transparency List 2018_10'!$L:$L,0),FALSE),IFERROR(MATCH(TRIM($G1767),'Transparency List 2018_10'!$D:$D,0),FALSE)),\"On the 2018_10 List\",\"-\")","v":"-"},{"$f":"IF(OR(IFERROR(MATCH($D1767,'Transparency List 2018_04'!$L:$L,0),FALSE),IFERROR(MATCH(TRIM($G1767),'Transparency List 2018_04'!$D:$D,0),FALSE)),\"On the 2018_04 List\",\"-\")","v":"-"},{"$f":"IF(OR(IFERROR(MATCH($D1767,'Transparency List 2017'!$L:$L,0),FALSE),IFERROR(MATCH(TRIM($G1767),'Transparency List 2017'!$C:$C,0),FALSE)),\"On the 2017 List\",\"-\")","v":"-"},{"$f":"IF(OR(IFERROR(MATCH($D1767,'Transparency List 2015'!$H:$H,0),FALSE),IFERROR(MATCH(TRIM($G1767),'Transparency List 2015'!$C:$C,0),FALSE)),\"On the 2015 List\",\"-\")","v":"-"}]
[null,null,4,"",null,null,null,"-",{"$f":"IF(OR(IFERROR(MATCH($D1768,'Transparency List 2018_10'!$L:$L,0),FALSE),IFERROR(MATCH(TRIM($G1768),'Transparency List 2018_10'!$D:$D,0),FALSE)),\"On the 2018_10 List\",\"-\")","v":"-"},{"$f":"IF(OR(IFERROR(MATCH($D1768,'Transparency List 2018_04'!$L:$L,0),FALSE),IFERROR(MATCH(TRIM($G1768),'Transparency List 2018_04'!$D:$D,0),FALSE)),\"On the 2018_04 List\",\"-\")","v":"-"},{"$f":"IF(OR(IFERROR(MATCH($D1768,'Transparency List 2017'!$L:$L,0),FALSE),IFERROR(MATCH(TRIM($G1768),'Transparency List 2017'!$C:$C,0),FALSE)),\"On the 2017 List\",\"-\")","v":"-"},{"$f":"IF(OR(IFERROR(MATCH($D1768,'Transparency List 2015'!$H:$H,0),FALSE),IFERROR(MATCH(TRIM($G1768),'Transparency List 2015'!$C:$C,0),FALSE)),\"On the 2015 List\",\"-\")","v":"-"}]
[null,null,4,"",null,null,null,"-",{"$f":"IF(OR(IFERROR(MATCH($D1769,'Transparency List 2018_10'!$L:$L,0),FALSE),IFERROR(MATCH(TRIM($G1769),'Transparency List 2018_10'!$D:$D,0),FALSE)),\"On the 2018_10 List\",\"-\")","v":"-"},{"$f":"IF(OR(IFERROR(MATCH($D1769,'Transparency List 2018_04'!$L:$L,0),FALSE),IFERROR(MATCH(TRIM($G1769),'Transparency List 2018_04'!$D:$D,0),FALSE)),\"On the 2018_04 List\",\"-\")","v":"-"},{"$f":"IF(OR(IFERROR(MATCH($D1769,'Transparency List 2017'!$L:$L,0),FALSE),IFERROR(MATCH(TRIM($G1769),'Transparency List 2017'!$C:$C,0),FALSE)),\"On the 2017 List\",\"-\")","v":"-"},{"$f":"IF(OR(IFERROR(MATCH($D1769,'Transparency List 2015'!$H:$H,0),FALSE),IFERROR(MATCH(TRIM($G1769),'Transparency List 2015'!$C:$C,0),FALSE)),\"On the 2015 List\",\"-\")","v":"-"}]
[null,null,4,"",null,null,null,"-",{"$f":"IF(OR(IFERROR(MATCH($D1770,'Transparency List 2018_10'!$L:$L,0),FALSE),IFERROR(MATCH(TRIM($G1770),'Transparency List 2018_10'!$D:$D,0),FALSE)),\"On the 2018_10 List\",\"-\")","v":"-"},{"$f":"IF(OR(IFERROR(MATCH($D1770,'Transparency List 2018_04'!$L:$L,0),FALSE),IFERROR(MATCH(TRIM($G1770),'Transparency List 2018_04'!$D:$D,0),FALSE)),\"On the 2018_04 List\",\"-\")","v":"-"},{"$f":"IF(OR(IFERROR(MATCH($D1770,'Transparency List 2017'!$L:$L,0),FALSE),IFERROR(MATCH(TRIM($G1770),'Transparency List 2017'!$C:$C,0),FALSE)),\"On the 2017 List\",\"-\")","v":"-"},{"$f":"IF(OR(IFERROR(MATCH($D1770,'Transparency List 2015'!$H:$H,0),FALSE),IFERROR(MATCH(TRIM($G1770),'Transparency List 2015'!$C:$C,0),FALSE)),\"On the 2015 List\",\"-\")","v":"-"}]
[null,null,4,"",null,null,null,"-",{"$f":"IF(OR(IFERROR(MATCH($D1771,'Transparency List 2018_10'!$L:$L,0),FALSE),IFERROR(MATCH(TRIM($G1771),'Transparency List 2018_10'!$D:$D,0),FALSE)),\"On the 2018_10 List\",\"-\")","v":"-"},{"$f":"IF(OR(IFERROR(MATCH($D1771,'Transparency List 2018_04'!$L:$L,0),FALSE),IFERROR(MATCH(TRIM($G1771),'Transparency List 2018_04'!$D:$D,0),FALSE)),\"On the 2018_04 List\",\"-\")","v":"-"},{"$f":"IF(OR(IFERROR(MATCH($D1771,'Transparency List 2017'!$L:$L,0),FALSE),IFERROR(MATCH(TRIM($G1771),'Transparency List 2017'!$C:$C,0),FALSE)),\"On the 2017 List\",\"-\")","v":"-"},{"$f":"IF(OR(IFERROR(MATCH($D1771,'Transparency List 2015'!$H:$H,0),FALSE),IFERROR(MATCH(TRIM($G1771),'Transparency List 2015'!$C:$C,0),FALSE)),\"On the 2015 List\",\"-\")","v":"-"}]
[null,null,4,"",null,null,null,"-",{"$f":"IF(OR(IFERROR(MATCH($D1772,'Transparency List 2018_10'!$L:$L,0),FALSE),IFERROR(MATCH(TRIM($G1772),'Transparency List 2018_10'!$D:$D,0),FALSE)),\"On the 2018_10 List\",\"-\")","v":"-"},{"$f":"IF(OR(IFERROR(MATCH($D1772,'Transparency List 2018_04'!$L:$L,0),FALSE),IFERROR(MATCH(TRIM($G1772),'Transparency List 2018_04'!$D:$D,0),FALSE)),\"On the 2018_04 List\",\"-\")","v":"-"},{"$f":"IF(OR(IFERROR(MATCH($D1772,'Transparency List 2017'!$L:$L,0),FALSE),IFERROR(MATCH(TRIM($G1772),'Transparency List 2017'!$C:$C,0),FALSE)),\"On the 2017 List\",\"-\")","v":"-"},{"$f":"IF(OR(IFERROR(MATCH($D1772,'Transparency List 2015'!$H:$H,0),FALSE),IFERROR(MATCH(TRIM($G1772),'Transparency List 2015'!$C:$C,0),FALSE)),\"On the 2015 List\",\"-\")","v":"-"}]
[null,null,4,"",null,null,null,"-",{"$f":"IF(OR(IFERROR(MATCH($D1773,'Transparency List 2018_10'!$L:$L,0),FALSE),IFERROR(MATCH(TRIM($G1773),'Transparency List 2018_10'!$D:$D,0),FALSE)),\"On the 2018_10 List\",\"-\")","v":"-"},{"$f":"IF(OR(IFERROR(MATCH($D1773,'Transparency List 2018_04'!$L:$L,0),FALSE),IFERROR(MATCH(TRIM($G1773),'Transparency List 2018_04'!$D:$D,0),FALSE)),\"On the 2018_04 List\",\"-\")","v":"-"},{"$f":"IF(OR(IFERROR(MATCH($D1773,'Transparency List 2017'!$L:$L,0),FALSE),IFERROR(MATCH(TRIM($G1773),'Transparency List 2017'!$C:$C,0),FALSE)),\"On the 2017 List\",\"-\")","v":"-"},{"$f":"IF(OR(IFERROR(MATCH($D1773,'Transparency List 2015'!$H:$H,0),FALSE),IFERROR(MATCH(TRIM($G1773),'Transparency List 2015'!$C:$C,0),FALSE)),\"On the 2015 List\",\"-\")","v":"-"}]
[null,null,4,"",null,null,null,"-",{"$f":"IF(OR(IFERROR(MATCH($D1774,'Transparency List 2018_10'!$L:$L,0),FALSE),IFERROR(MATCH(TRIM($G1774),'Transparency List 2018_10'!$D:$D,0),FALSE)),\"On the 2018_10 List\",\"-\")","v":"-"},{"$f":"IF(OR(IFERROR(MATCH($D1774,'Transparency List 2018_04'!$L:$L,0),FALSE),IFERROR(MATCH(TRIM($G1774),'Transparency List 2018_04'!$D:$D,0),FALSE)),\"On the 2018_04 List\",\"-\")","v":"-"},{"$f":"IF(OR(IFERROR(MATCH($D1774,'Transparency List 2017'!$L:$L,0),FALSE),IFERROR(MATCH(TRIM($G1774),'Transparency List 2017'!$C:$C,0),FALSE)),\"On the 2017 List\",\"-\")","v":"-"},{"$f":"IF(OR(IFERROR(MATCH($D1774,'Transparency List 2015'!$H:$H,0),FALSE),IFERROR(MATCH(TRIM($G1774),'Transparency List 2015'!$C:$C,0),FALSE)),\"On the 2015 List\",\"-\")","v":"-"}]
[null,null,4,"",null,null,null,"-",{"$f":"IF(OR(IFERROR(MATCH($D1775,'Transparency List 2018_10'!$L:$L,0),FALSE),IFERROR(MATCH(TRIM($G1775),'Transparency List 2018_10'!$D:$D,0),FALSE)),\"On the 2018_10 List\",\"-\")","v":"-"},{"$f":"IF(OR(IFERROR(MATCH($D1775,'Transparency List 2018_04'!$L:$L,0),FALSE),IFERROR(MATCH(TRIM($G1775),'Transparency List 2018_04'!$D:$D,0),FALSE)),\"On the 2018_04 List\",\"-\")","v":"-"},{"$f":"IF(OR(IFERROR(MATCH($D1775,'Transparency List 2017'!$L:$L,0),FALSE),IFERROR(MATCH(TRIM($G1775),'Transparency List 2017'!$C:$C,0),FALSE)),\"On the 2017 List\",\"-\")","v":"-"},{"$f":"IF(OR(IFERROR(MATCH($D1775,'Transparency List 2015'!$H:$H,0),FALSE),IFERROR(MATCH(TRIM($G1775),'Transparency List 2015'!$C:$C,0),FALSE)),\"On the 2015 List\",\"-\")","v":"-"}]
[null,null,4,"",null,null,null,"-",{"$f":"IF(OR(IFERROR(MATCH($D1776,'Transparency List 2018_10'!$L:$L,0),FALSE),IFERROR(MATCH(TRIM($G1776),'Transparency List 2018_10'!$D:$D,0),FALSE)),\"On the 2018_10 List\",\"-\")","v":"-"},{"$f":"IF(OR(IFERROR(MATCH($D1776,'Transparency List 2018_04'!$L:$L,0),FALSE),IFERROR(MATCH(TRIM($G1776),'Transparency List 2018_04'!$D:$D,0),FALSE)),\"On the 2018_04 List\",\"-\")","v":"-"},{"$f":"IF(OR(IFERROR(MATCH($D1776,'Transparency List 2017'!$L:$L,0),FALSE),IFERROR(MATCH(TRIM($G1776),'Transparency List 2017'!$C:$C,0),FALSE)),\"On the 2017 List\",\"-\")","v":"-"},{"$f":"IF(OR(IFERROR(MATCH($D1776,'Transparency List 2015'!$H:$H,0),FALSE),IFERROR(MATCH(TRIM($G1776),'Transparency List 2015'!$C:$C,0),FALSE)),\"On the 2015 List\",\"-\")","v":"-"}]
[null,null,4,"",null,null,null,"-",{"$f":"IF(OR(IFERROR(MATCH($D1777,'Transparency List 2018_10'!$L:$L,0),FALSE),IFERROR(MATCH(TRIM($G1777),'Transparency List 2018_10'!$D:$D,0),FALSE)),\"On the 2018_10 List\",\"-\")","v":"-"},{"$f":"IF(OR(IFERROR(MATCH($D1777,'Transparency List 2018_04'!$L:$L,0),FALSE),IFERROR(MATCH(TRIM($G1777),'Transparency List 2018_04'!$D:$D,0),FALSE)),\"On the 2018_04 List\",\"-\")","v":"-"},{"$f":"IF(OR(IFERROR(MATCH($D1777,'Transparency List 2017'!$L:$L,0),FALSE),IFERROR(MATCH(TRIM($G1777),'Transparency List 2017'!$C:$C,0),FALSE)),\"On the 2017 List\",\"-\")","v":"-"},{"$f":"IF(OR(IFERROR(MATCH($D1777,'Transparency List 2015'!$H:$H,0),FALSE),IFERROR(MATCH(TRIM($G1777),'Transparency List 2015'!$C:$C,0),FALSE)),\"On the 2015 List\",\"-\")","v":"-"}]
[null,null,4,"",null,null,null,"-",{"$f":"IF(OR(IFERROR(MATCH($D1778,'Transparency List 2018_10'!$L:$L,0),FALSE),IFERROR(MATCH(TRIM($G1778),'Transparency List 2018_10'!$D:$D,0),FALSE)),\"On the 2018_10 List\",\"-\")","v":"-"},{"$f":"IF(OR(IFERROR(MATCH($D1778,'Transparency List 2018_04'!$L:$L,0),FALSE),IFERROR(MATCH(TRIM($G1778),'Transparency List 2018_04'!$D:$D,0),FALSE)),\"On the 2018_04 List\",\"-\")","v":"-"},{"$f":"IF(OR(IFERROR(MATCH($D1778,'Transparency List 2017'!$L:$L,0),FALSE),IFERROR(MATCH(TRIM($G1778),'Transparency List 2017'!$C:$C,0),FALSE)),\"On the 2017 List\",\"-\")","v":"-"},{"$f":"IF(OR(IFERROR(MATCH($D1778,'Transparency List 2015'!$H:$H,0),FALSE),IFERROR(MATCH(TRIM($G1778),'Transparency List 2015'!$C:$C,0),FALSE)),\"On the 2015 List\",\"-\")","v":"-"}]
[null,null,4,"",null,null,null,"-",{"$f":"IF(OR(IFERROR(MATCH($D1779,'Transparency List 2018_10'!$L:$L,0),FALSE),IFERROR(MATCH(TRIM($G1779),'Transparency List 2018_10'!$D:$D,0),FALSE)),\"On the 2018_10 List\",\"-\")","v":"-"},{"$f":"IF(OR(IFERROR(MATCH($D1779,'Transparency List 2018_04'!$L:$L,0),FALSE),IFERROR(MATCH(TRIM($G1779),'Transparency List 2018_04'!$D:$D,0),FALSE)),\"On the 2018_04 List\",\"-\")","v":"-"},{"$f":"IF(OR(IFERROR(MATCH($D1779,'Transparency List 2017'!$L:$L,0),FALSE),IFERROR(MATCH(TRIM($G1779),'Transparency List 2017'!$C:$C,0),FALSE)),\"On the 2017 List\",\"-\")","v":"-"},{"$f":"IF(OR(IFERROR(MATCH($D1779,'Transparency List 2015'!$H:$H,0),FALSE),IFERROR(MATCH(TRIM($G1779),'Transparency List 2015'!$C:$C,0),FALSE)),\"On the 2015 List\",\"-\")","v":"-"}]
[null,null,4,"",null,null,null,"-",{"$f":"IF(OR(IFERROR(MATCH($D1780,'Transparency List 2018_10'!$L:$L,0),FALSE),IFERROR(MATCH(TRIM($G1780),'Transparency List 2018_10'!$D:$D,0),FALSE)),\"On the 2018_10 List\",\"-\")","v":"-"},{"$f":"IF(OR(IFERROR(MATCH($D1780,'Transparency List 2018_04'!$L:$L,0),FALSE),IFERROR(MATCH(TRIM($G1780),'Transparency List 2018_04'!$D:$D,0),FALSE)),\"On the 2018_04 List\",\"-\")","v":"-"},{"$f":"IF(OR(IFERROR(MATCH($D1780,'Transparency List 2017'!$L:$L,0),FALSE),IFERROR(MATCH(TRIM($G1780),'Transparency List 2017'!$C:$C,0),FALSE)),\"On the 2017 List\",\"-\")","v":"-"},{"$f":"IF(OR(IFERROR(MATCH($D1780,'Transparency List 2015'!$H:$H,0),FALSE),IFERROR(MATCH(TRIM($G1780),'Transparency List 2015'!$C:$C,0),FALSE)),\"On the 2015 List\",\"-\")","v":"-"}]
[null,null,4,"",null,null,null,"-",{"$f":"IF(OR(IFERROR(MATCH($D1781,'Transparency List 2018_10'!$L:$L,0),FALSE),IFERROR(MATCH(TRIM($G1781),'Transparency List 2018_10'!$D:$D,0),FALSE)),\"On the 2018_10 List\",\"-\")","v":"-"},{"$f":"IF(OR(IFERROR(MATCH($D1781,'Transparency List 2018_04'!$L:$L,0),FALSE),IFERROR(MATCH(TRIM($G1781),'Transparency List 2018_04'!$D:$D,0),FALSE)),\"On the 2018_04 List\",\"-\")","v":"-"},{"$f":"IF(OR(IFERROR(MATCH($D1781,'Transparency List 2017'!$L:$L,0),FALSE),IFERROR(MATCH(TRIM($G1781),'Transparency List 2017'!$C:$C,0),FALSE)),\"On the 2017 List\",\"-\")","v":"-"},{"$f":"IF(OR(IFERROR(MATCH($D1781,'Transparency List 2015'!$H:$H,0),FALSE),IFERROR(MATCH(TRIM($G1781),'Transparency List 2015'!$C:$C,0),FALSE)),\"On the 2015 List\",\"-\")","v":"-"}]
[null,null,4,"",null,null,null,"-",{"$f":"IF(OR(IFERROR(MATCH($D1782,'Transparency List 2018_10'!$L:$L,0),FALSE),IFERROR(MATCH(TRIM($G1782),'Transparency List 2018_10'!$D:$D,0),FALSE)),\"On the 2018_10 List\",\"-\")","v":"-"},{"$f":"IF(OR(IFERROR(MATCH($D1782,'Transparency List 2018_04'!$L:$L,0),FALSE),IFERROR(MATCH(TRIM($G1782),'Transparency List 2018_04'!$D:$D,0),FALSE)),\"On the 2018_04 List\",\"-\")","v":"-"},{"$f":"IF(OR(IFERROR(MATCH($D1782,'Transparency List 2017'!$L:$L,0),FALSE),IFERROR(MATCH(TRIM($G1782),'Transparency List 2017'!$C:$C,0),FALSE)),\"On the 2017 List\",\"-\")","v":"-"},{"$f":"IF(OR(IFERROR(MATCH($D1782,'Transparency List 2015'!$H:$H,0),FALSE),IFERROR(MATCH(TRIM($G1782),'Transparency List 2015'!$C:$C,0),FALSE)),\"On the 2015 List\",\"-\")","v":"-"}]
[null,null,4,"",null,null,null,"-",{"$f":"IF(OR(IFERROR(MATCH($D1783,'Transparency List 2018_10'!$L:$L,0),FALSE),IFERROR(MATCH(TRIM($G1783),'Transparency List 2018_10'!$D:$D,0),FALSE)),\"On the 2018_10 List\",\"-\")","v":"-"},{"$f":"IF(OR(IFERROR(MATCH($D1783,'Transparency List 2018_04'!$L:$L,0),FALSE),IFERROR(MATCH(TRIM($G1783),'Transparency List 2018_04'!$D:$D,0),FALSE)),\"On the 2018_04 List\",\"-\")","v":"-"},{"$f":"IF(OR(IFERROR(MATCH($D1783,'Transparency List 2017'!$L:$L,0),FALSE),IFERROR(MATCH(TRIM($G1783),'Transparency List 2017'!$C:$C,0),FALSE)),\"On the 2017 List\",\"-\")","v":"-"},{"$f":"IF(OR(IFERROR(MATCH($D1783,'Transparency List 2015'!$H:$H,0),FALSE),IFERROR(MATCH(TRIM($G1783),'Transparency List 2015'!$C:$C,0),FALSE)),\"On the 2015 List\",\"-\")","v":"-"}]
[null,null,4,"",null,null,null,"-",{"$f":"IF(OR(IFERROR(MATCH($D1784,'Transparency List 2018_10'!$L:$L,0),FALSE),IFERROR(MATCH(TRIM($G1784),'Transparency List 2018_10'!$D:$D,0),FALSE)),\"On the 2018_10 List\",\"-\")","v":"-"},{"$f":"IF(OR(IFERROR(MATCH($D1784,'Transparency List 2018_04'!$L:$L,0),FALSE),IFERROR(MATCH(TRIM($G1784),'Transparency List 2018_04'!$D:$D,0),FALSE)),\"On the 2018_04 List\",\"-\")","v":"-"},{"$f":"IF(OR(IFERROR(MATCH($D1784,'Transparency List 2017'!$L:$L,0),FALSE),IFERROR(MATCH(TRIM($G1784),'Transparency List 2017'!$C:$C,0),FALSE)),\"On the 2017 List\",\"-\")","v":"-"},{"$f":"IF(OR(IFERROR(MATCH($D1784,'Transparency List 2015'!$H:$H,0),FALSE),IFERROR(MATCH(TRIM($G1784),'Transparency List 2015'!$C:$C,0),FALSE)),\"On the 2015 List\",\"-\")","v":"-"}]
[null,null,4,"",null,null,null,"-",{"$f":"IF(OR(IFERROR(MATCH($D1785,'Transparency List 2018_10'!$L:$L,0),FALSE),IFERROR(MATCH(TRIM($G1785),'Transparency List 2018_10'!$D:$D,0),FALSE)),\"On the 2018_10 List\",\"-\")","v":"-"},{"$f":"IF(OR(IFERROR(MATCH($D1785,'Transparency List 2018_04'!$L:$L,0),FALSE),IFERROR(MATCH(TRIM($G1785),'Transparency List 2018_04'!$D:$D,0),FALSE)),\"On the 2018_04 List\",\"-\")","v":"-"},{"$f":"IF(OR(IFERROR(MATCH($D1785,'Transparency List 2017'!$L:$L,0),FALSE),IFERROR(MATCH(TRIM($G1785),'Transparency List 2017'!$C:$C,0),FALSE)),\"On the 2017 List\",\"-\")","v":"-"},{"$f":"IF(OR(IFERROR(MATCH($D1785,'Transparency List 2015'!$H:$H,0),FALSE),IFERROR(MATCH(TRIM($G1785),'Transparency List 2015'!$C:$C,0),FALSE)),\"On the 2015 List\",\"-\")","v":"-"}]
[null,null,4,"",null,null,null,"-",{"$f":"IF(OR(IFERROR(MATCH($D1786,'Transparency List 2018_10'!$L:$L,0),FALSE),IFERROR(MATCH(TRIM($G1786),'Transparency List 2018_10'!$D:$D,0),FALSE)),\"On the 2018_10 List\",\"-\")","v":"-"},{"$f":"IF(OR(IFERROR(MATCH($D1786,'Transparency List 2018_04'!$L:$L,0),FALSE),IFERROR(MATCH(TRIM($G1786),'Transparency List 2018_04'!$D:$D,0),FALSE)),\"On the 2018_04 List\",\"-\")","v":"-"},{"$f":"IF(OR(IFERROR(MATCH($D1786,'Transparency List 2017'!$L:$L,0),FALSE),IFERROR(MATCH(TRIM($G1786),'Transparency List 2017'!$C:$C,0),FALSE)),\"On the 2017 List\",\"-\")","v":"-"},{"$f":"IF(OR(IFERROR(MATCH($D1786,'Transparency List 2015'!$H:$H,0),FALSE),IFERROR(MATCH(TRIM($G1786),'Transparency List 2015'!$C:$C,0),FALSE)),\"On the 2015 List\",\"-\")","v":"-"}]
[null,null,4,"",null,null,null,"-",{"$f":"IF(OR(IFERROR(MATCH($D1787,'Transparency List 2018_10'!$L:$L,0),FALSE),IFERROR(MATCH(TRIM($G1787),'Transparency List 2018_10'!$D:$D,0),FALSE)),\"On the 2018_10 List\",\"-\")","v":"-"},{"$f":"IF(OR(IFERROR(MATCH($D1787,'Transparency List 2018_04'!$L:$L,0),FALSE),IFERROR(MATCH(TRIM($G1787),'Transparency List 2018_04'!$D:$D,0),FALSE)),\"On the 2018_04 List\",\"-\")","v":"-"},{"$f":"IF(OR(IFERROR(MATCH($D1787,'Transparency List 2017'!$L:$L,0),FALSE),IFERROR(MATCH(TRIM($G1787),'Transparency List 2017'!$C:$C,0),FALSE)),\"On the 2017 List\",\"-\")","v":"-"},{"$f":"IF(OR(IFERROR(MATCH($D1787,'Transparency List 2015'!$H:$H,0),FALSE),IFERROR(MATCH(TRIM($G1787),'Transparency List 2015'!$C:$C,0),FALSE)),\"On the 2015 List\",\"-\")","v":"-"}]
[null,null,4,"",null,null,null,"-",{"$f":"IF(OR(IFERROR(MATCH($D1788,'Transparency List 2018_10'!$L:$L,0),FALSE),IFERROR(MATCH(TRIM($G1788),'Transparency List 2018_10'!$D:$D,0),FALSE)),\"On the 2018_10 List\",\"-\")","v":"-"},{"$f":"IF(OR(IFERROR(MATCH($D1788,'Transparency List 2018_04'!$L:$L,0),FALSE),IFERROR(MATCH(TRIM($G1788),'Transparency List 2018_04'!$D:$D,0),FALSE)),\"On the 2018_04 List\",\"-\")","v":"-"},{"$f":"IF(OR(IFERROR(MATCH($D1788,'Transparency List 2017'!$L:$L,0),FALSE),IFERROR(MATCH(TRIM($G1788),'Transparency List 2017'!$C:$C,0),FALSE)),\"On the 2017 List\",\"-\")","v":"-"},{"$f":"IF(OR(IFERROR(MATCH($D1788,'Transparency List 2015'!$H:$H,0),FALSE),IFERROR(MATCH(TRIM($G1788),'Transparency List 2015'!$C:$C,0),FALSE)),\"On the 2015 List\",\"-\")","v":"-"}]
[null,null,4,"",null,null,null,"-",{"$f":"IF(OR(IFERROR(MATCH($D1789,'Transparency List 2018_10'!$L:$L,0),FALSE),IFERROR(MATCH(TRIM($G1789),'Transparency List 2018_10'!$D:$D,0),FALSE)),\"On the 2018_10 List\",\"-\")","v":"-"},{"$f":"IF(OR(IFERROR(MATCH($D1789,'Transparency List 2018_04'!$L:$L,0),FALSE),IFERROR(MATCH(TRIM($G1789),'Transparency List 2018_04'!$D:$D,0),FALSE)),\"On the 2018_04 List\",\"-\")","v":"-"},{"$f":"IF(OR(IFERROR(MATCH($D1789,'Transparency List 2017'!$L:$L,0),FALSE),IFERROR(MATCH(TRIM($G1789),'Transparency List 2017'!$C:$C,0),FALSE)),\"On the 2017 List\",\"-\")","v":"-"},{"$f":"IF(OR(IFERROR(MATCH($D1789,'Transparency List 2015'!$H:$H,0),FALSE),IFERROR(MATCH(TRIM($G1789),'Transparency List 2015'!$C:$C,0),FALSE)),\"On the 2015 List\",\"-\")","v":"-"}]
[null,null,4,"",null,null,null,"-",{"$f":"IF(OR(IFERROR(MATCH($D1790,'Transparency List 2018_10'!$L:$L,0),FALSE),IFERROR(MATCH(TRIM($G1790),'Transparency List 2018_10'!$D:$D,0),FALSE)),\"On the 2018_10 List\",\"-\")","v":"-"},{"$f":"IF(OR(IFERROR(MATCH($D1790,'Transparency List 2018_04'!$L:$L,0),FALSE),IFERROR(MATCH(TRIM($G1790),'Transparency List 2018_04'!$D:$D,0),FALSE)),\"On the 2018_04 List\",\"-\")","v":"-"},{"$f":"IF(OR(IFERROR(MATCH($D1790,'Transparency List 2017'!$L:$L,0),FALSE),IFERROR(MATCH(TRIM($G1790),'Transparency List 2017'!$C:$C,0),FALSE)),\"On the 2017 List\",\"-\")","v":"-"},{"$f":"IF(OR(IFERROR(MATCH($D1790,'Transparency List 2015'!$H:$H,0),FALSE),IFERROR(MATCH(TRIM($G1790),'Transparency List 2015'!$C:$C,0),FALSE)),\"On the 2015 List\",\"-\")","v":"-"}]
[null,null,4,"",null,null,null,"-",{"$f":"IF(OR(IFERROR(MATCH($D1791,'Transparency List 2018_10'!$L:$L,0),FALSE),IFERROR(MATCH(TRIM($G1791),'Transparency List 2018_10'!$D:$D,0),FALSE)),\"On the 2018_10 List\",\"-\")","v":"-"},{"$f":"IF(OR(IFERROR(MATCH($D1791,'Transparency List 2018_04'!$L:$L,0),FALSE),IFERROR(MATCH(TRIM($G1791),'Transparency List 2018_04'!$D:$D,0),FALSE)),\"On the 2018_04 List\",\"-\")","v":"-"},{"$f":"IF(OR(IFERROR(MATCH($D1791,'Transparency List 2017'!$L:$L,0),FALSE),IFERROR(MATCH(TRIM($G1791),'Transparency List 2017'!$C:$C,0),FALSE)),\"On the 2017 List\",\"-\")","v":"-"},{"$f":"IF(OR(IFERROR(MATCH($D1791,'Transparency List 2015'!$H:$H,0),FALSE),IFERROR(MATCH(TRIM($G1791),'Transparency List 2015'!$C:$C,0),FALSE)),\"On the 2015 List\",\"-\")","v":"-"}]
[null,null,4,"",null,null,null,"-",{"$f":"IF(OR(IFERROR(MATCH($D1792,'Transparency List 2018_10'!$L:$L,0),FALSE),IFERROR(MATCH(TRIM($G1792),'Transparency List 2018_10'!$D:$D,0),FALSE)),\"On the 2018_10 List\",\"-\")","v":"-"},{"$f":"IF(OR(IFERROR(MATCH($D1792,'Transparency List 2018_04'!$L:$L,0),FALSE),IFERROR(MATCH(TRIM($G1792),'Transparency List 2018_04'!$D:$D,0),FALSE)),\"On the 2018_04 List\",\"-\")","v":"-"},{"$f":"IF(OR(IFERROR(MATCH($D1792,'Transparency List 2017'!$L:$L,0),FALSE),IFERROR(MATCH(TRIM($G1792),'Transparency List 2017'!$C:$C,0),FALSE)),\"On the 2017 List\",\"-\")","v":"-"},{"$f":"IF(OR(IFERROR(MATCH($D1792,'Transparency List 2015'!$H:$H,0),FALSE),IFERROR(MATCH(TRIM($G1792),'Transparency List 2015'!$C:$C,0),FALSE)),\"On the 2015 List\",\"-\")","v":"-"}]
[null,null,4,"",null,null,null,"-",{"$f":"IF(OR(IFERROR(MATCH($D1793,'Transparency List 2018_10'!$L:$L,0),FALSE),IFERROR(MATCH(TRIM($G1793),'Transparency List 2018_10'!$D:$D,0),FALSE)),\"On the 2018_10 List\",\"-\")","v":"-"},{"$f":"IF(OR(IFERROR(MATCH($D1793,'Transparency List 2018_04'!$L:$L,0),FALSE),IFERROR(MATCH(TRIM($G1793),'Transparency List 2018_04'!$D:$D,0),FALSE)),\"On the 2018_04 List\",\"-\")","v":"-"},{"$f":"IF(OR(IFERROR(MATCH($D1793,'Transparency List 2017'!$L:$L,0),FALSE),IFERROR(MATCH(TRIM($G1793),'Transparency List 2017'!$C:$C,0),FALSE)),\"On the 2017 List\",\"-\")","v":"-"},{"$f":"IF(OR(IFERROR(MATCH($D1793,'Transparency List 2015'!$H:$H,0),FALSE),IFERROR(MATCH(TRIM($G1793),'Transparency List 2015'!$C:$C,0),FALSE)),\"On the 2015 List\",\"-\")","v":"-"}]
[null,null,4,"",null,null,null,"-",{"$f":"IF(OR(IFERROR(MATCH($D1794,'Transparency List 2018_10'!$L:$L,0),FALSE),IFERROR(MATCH(TRIM($G1794),'Transparency List 2018_10'!$D:$D,0),FALSE)),\"On the 2018_10 List\",\"-\")","v":"-"},{"$f":"IF(OR(IFERROR(MATCH($D1794,'Transparency List 2018_04'!$L:$L,0),FALSE),IFERROR(MATCH(TRIM($G1794),'Transparency List 2018_04'!$D:$D,0),FALSE)),\"On the 2018_04 List\",\"-\")","v":"-"},{"$f":"IF(OR(IFERROR(MATCH($D1794,'Transparency List 2017'!$L:$L,0),FALSE),IFERROR(MATCH(TRIM($G1794),'Transparency List 2017'!$C:$C,0),FALSE)),\"On the 2017 List\",\"-\")","v":"-"},{"$f":"IF(OR(IFERROR(MATCH($D1794,'Transparency List 2015'!$H:$H,0),FALSE),IFERROR(MATCH(TRIM($G1794),'Transparency List 2015'!$C:$C,0),FALSE)),\"On the 2015 List\",\"-\")","v":"-"}]
[null,null,4,"",null,null,null,"-",{"$f":"IF(OR(IFERROR(MATCH($D1795,'Transparency List 2018_10'!$L:$L,0),FALSE),IFERROR(MATCH(TRIM($G1795),'Transparency List 2018_10'!$D:$D,0),FALSE)),\"On the 2018_10 List\",\"-\")","v":"-"},{"$f":"IF(OR(IFERROR(MATCH($D1795,'Transparency List 2018_04'!$L:$L,0),FALSE),IFERROR(MATCH(TRIM($G1795),'Transparency List 2018_04'!$D:$D,0),FALSE)),\"On the 2018_04 List\",\"-\")","v":"-"},{"$f":"IF(OR(IFERROR(MATCH($D1795,'Transparency List 2017'!$L:$L,0),FALSE),IFERROR(MATCH(TRIM($G1795),'Transparency List 2017'!$C:$C,0),FALSE)),\"On the 2017 List\",\"-\")","v":"-"},{"$f":"IF(OR(IFERROR(MATCH($D1795,'Transparency List 2015'!$H:$H,0),FALSE),IFERROR(MATCH(TRIM($G1795),'Transparency List 2015'!$C:$C,0),FALSE)),\"On the 2015 List\",\"-\")","v":"-"}]
[null,null,4,"",null,null,null,"-",{"$f":"IF(OR(IFERROR(MATCH($D1796,'Transparency List 2018_10'!$L:$L,0),FALSE),IFERROR(MATCH(TRIM($G1796),'Transparency List 2018_10'!$D:$D,0),FALSE)),\"On the 2018_10 List\",\"-\")","v":"-"},{"$f":"IF(OR(IFERROR(MATCH($D1796,'Transparency List 2018_04'!$L:$L,0),FALSE),IFERROR(MATCH(TRIM($G1796),'Transparency List 2018_04'!$D:$D,0),FALSE)),\"On the 2018_04 List\",\"-\")","v":"-"},{"$f":"IF(OR(IFERROR(MATCH($D1796,'Transparency List 2017'!$L:$L,0),FALSE),IFERROR(MATCH(TRIM($G1796),'Transparency List 2017'!$C:$C,0),FALSE)),\"On the 2017 List\",\"-\")","v":"-"},{"$f":"IF(OR(IFERROR(MATCH($D1796,'Transparency List 2015'!$H:$H,0),FALSE),IFERROR(MATCH(TRIM($G1796),'Transparency List 2015'!$C:$C,0),FALSE)),\"On the 2015 List\",\"-\")","v":"-"}]
[null,null,4,"",null,null,null,"-",{"$f":"IF(OR(IFERROR(MATCH($D1797,'Transparency List 2018_10'!$L:$L,0),FALSE),IFERROR(MATCH(TRIM($G1797),'Transparency List 2018_10'!$D:$D,0),FALSE)),\"On the 2018_10 List\",\"-\")","v":"-"},{"$f":"IF(OR(IFERROR(MATCH($D1797,'Transparency List 2018_04'!$L:$L,0),FALSE),IFERROR(MATCH(TRIM($G1797),'Transparency List 2018_04'!$D:$D,0),FALSE)),\"On the 2018_04 List\",\"-\")","v":"-"},{"$f":"IF(OR(IFERROR(MATCH($D1797,'Transparency List 2017'!$L:$L,0),FALSE),IFERROR(MATCH(TRIM($G1797),'Transparency List 2017'!$C:$C,0),FALSE)),\"On the 2017 List\",\"-\")","v":"-"},{"$f":"IF(OR(IFERROR(MATCH($D1797,'Transparency List 2015'!$H:$H,0),FALSE),IFERROR(MATCH(TRIM($G1797),'Transparency List 2015'!$C:$C,0),FALSE)),\"On the 2015 List\",\"-\")","v":"-"}]
[null,null,4,"",null,null,null,"-",{"$f":"IF(OR(IFERROR(MATCH($D1798,'Transparency List 2018_10'!$L:$L,0),FALSE),IFERROR(MATCH(TRIM($G1798),'Transparency List 2018_10'!$D:$D,0),FALSE)),\"On the 2018_10 List\",\"-\")","v":"-"},{"$f":"IF(OR(IFERROR(MATCH($D1798,'Transparency List 2018_04'!$L:$L,0),FALSE),IFERROR(MATCH(TRIM($G1798),'Transparency List 2018_04'!$D:$D,0),FALSE)),\"On the 2018_04 List\",\"-\")","v":"-"},{"$f":"IF(OR(IFERROR(MATCH($D1798,'Transparency List 2017'!$L:$L,0),FALSE),IFERROR(MATCH(TRIM($G1798),'Transparency List 2017'!$C:$C,0),FALSE)),\"On the 2017 List\",\"-\")","v":"-"},{"$f":"IF(OR(IFERROR(MATCH($D1798,'Transparency List 2015'!$H:$H,0),FALSE),IFERROR(MATCH(TRIM($G1798),'Transparency List 2015'!$C:$C,0),FALSE)),\"On the 2015 List\",\"-\")","v":"-"}]
[null,null,4,"",null,null,null,"-",{"$f":"IF(OR(IFERROR(MATCH($D1799,'Transparency List 2018_10'!$L:$L,0),FALSE),IFERROR(MATCH(TRIM($G1799),'Transparency List 2018_10'!$D:$D,0),FALSE)),\"On the 2018_10 List\",\"-\")","v":"-"},{"$f":"IF(OR(IFERROR(MATCH($D1799,'Transparency List 2018_04'!$L:$L,0),FALSE),IFERROR(MATCH(TRIM($G1799),'Transparency List 2018_04'!$D:$D,0),FALSE)),\"On the 2018_04 List\",\"-\")","v":"-"},{"$f":"IF(OR(IFERROR(MATCH($D1799,'Transparency List 2017'!$L:$L,0),FALSE),IFERROR(MATCH(TRIM($G1799),'Transparency List 2017'!$C:$C,0),FALSE)),\"On the 2017 List\",\"-\")","v":"-"},{"$f":"IF(OR(IFERROR(MATCH($D1799,'Transparency List 2015'!$H:$H,0),FALSE),IFERROR(MATCH(TRIM($G1799),'Transparency List 2015'!$C:$C,0),FALSE)),\"On the 2015 List\",\"-\")","v":"-"}]
[null,null,4,"",null,null,null,"-",{"$f":"IF(OR(IFERROR(MATCH($D1800,'Transparency List 2018_10'!$L:$L,0),FALSE),IFERROR(MATCH(TRIM($G1800),'Transparency List 2018_10'!$D:$D,0),FALSE)),\"On the 2018_10 List\",\"-\")","v":"-"},{"$f":"IF(OR(IFERROR(MATCH($D1800,'Transparency List 2018_04'!$L:$L,0),FALSE),IFERROR(MATCH(TRIM($G1800),'Transparency List 2018_04'!$D:$D,0),FALSE)),\"On the 2018_04 List\",\"-\")","v":"-"},{"$f":"IF(OR(IFERROR(MATCH($D1800,'Transparency List 2017'!$L:$L,0),FALSE),IFERROR(MATCH(TRIM($G1800),'Transparency List 2017'!$C:$C,0),FALSE)),\"On the 2017 List\",\"-\")","v":"-"},{"$f":"IF(OR(IFERROR(MATCH($D1800,'Transparency List 2015'!$H:$H,0),FALSE),IFERROR(MATCH(TRIM($G1800),'Transparency List 2015'!$C:$C,0),FALSE)),\"On the 2015 List\",\"-\")","v":"-"}]
[null,null,4,"",null,null,null,"-",{"$f":"IF(OR(IFERROR(MATCH($D1801,'Transparency List 2018_10'!$L:$L,0),FALSE),IFERROR(MATCH(TRIM($G1801),'Transparency List 2018_10'!$D:$D,0),FALSE)),\"On the 2018_10 List\",\"-\")","v":"-"},{"$f":"IF(OR(IFERROR(MATCH($D1801,'Transparency List 2018_04'!$L:$L,0),FALSE),IFERROR(MATCH(TRIM($G1801),'Transparency List 2018_04'!$D:$D,0),FALSE)),\"On the 2018_04 List\",\"-\")","v":"-"},{"$f":"IF(OR(IFERROR(MATCH($D1801,'Transparency List 2017'!$L:$L,0),FALSE),IFERROR(MATCH(TRIM($G1801),'Transparency List 2017'!$C:$C,0),FALSE)),\"On the 2017 List\",\"-\")","v":"-"},{"$f":"IF(OR(IFERROR(MATCH($D1801,'Transparency List 2015'!$H:$H,0),FALSE),IFERROR(MATCH(TRIM($G1801),'Transparency List 2015'!$C:$C,0),FALSE)),\"On the 2015 List\",\"-\")","v":"-"}]
[null,null,4,"",null,null,null,"-",{"$f":"IF(OR(IFERROR(MATCH($D1802,'Transparency List 2018_10'!$L:$L,0),FALSE),IFERROR(MATCH(TRIM($G1802),'Transparency List 2018_10'!$D:$D,0),FALSE)),\"On the 2018_10 List\",\"-\")","v":"-"},{"$f":"IF(OR(IFERROR(MATCH($D1802,'Transparency List 2018_04'!$L:$L,0),FALSE),IFERROR(MATCH(TRIM($G1802),'Transparency List 2018_04'!$D:$D,0),FALSE)),\"On the 2018_04 List\",\"-\")","v":"-"},{"$f":"IF(OR(IFERROR(MATCH($D1802,'Transparency List 2017'!$L:$L,0),FALSE),IFERROR(MATCH(TRIM($G1802),'Transparency List 2017'!$C:$C,0),FALSE)),\"On the 2017 List\",\"-\")","v":"-"},{"$f":"IF(OR(IFERROR(MATCH($D1802,'Transparency List 2015'!$H:$H,0),FALSE),IFERROR(MATCH(TRIM($G1802),'Transparency List 2015'!$C:$C,0),FALSE)),\"On the 2015 List\",\"-\")","v":"-"}]
[null,null,4,"",null,null,null,"-",{"$f":"IF(OR(IFERROR(MATCH($D1803,'Transparency List 2018_10'!$L:$L,0),FALSE),IFERROR(MATCH(TRIM($G1803),'Transparency List 2018_10'!$D:$D,0),FALSE)),\"On the 2018_10 List\",\"-\")","v":"-"},{"$f":"IF(OR(IFERROR(MATCH($D1803,'Transparency List 2018_04'!$L:$L,0),FALSE),IFERROR(MATCH(TRIM($G1803),'Transparency List 2018_04'!$D:$D,0),FALSE)),\"On the 2018_04 List\",\"-\")","v":"-"},{"$f":"IF(OR(IFERROR(MATCH($D1803,'Transparency List 2017'!$L:$L,0),FALSE),IFERROR(MATCH(TRIM($G1803),'Transparency List 2017'!$C:$C,0),FALSE)),\"On the 2017 List\",\"-\")","v":"-"},{"$f":"IF(OR(IFERROR(MATCH($D1803,'Transparency List 2015'!$H:$H,0),FALSE),IFERROR(MATCH(TRIM($G1803),'Transparency List 2015'!$C:$C,0),FALSE)),\"On the 2015 List\",\"-\")","v":"-"}]
[null,null,4,"",null,null,null,"-",{"$f":"IF(OR(IFERROR(MATCH($D1804,'Transparency List 2018_10'!$L:$L,0),FALSE),IFERROR(MATCH(TRIM($G1804),'Transparency List 2018_10'!$D:$D,0),FALSE)),\"On the 2018_10 List\",\"-\")","v":"-"},{"$f":"IF(OR(IFERROR(MATCH($D1804,'Transparency List 2018_04'!$L:$L,0),FALSE),IFERROR(MATCH(TRIM($G1804),'Transparency List 2018_04'!$D:$D,0),FALSE)),\"On the 2018_04 List\",\"-\")","v":"-"},{"$f":"IF(OR(IFERROR(MATCH($D1804,'Transparency List 2017'!$L:$L,0),FALSE),IFERROR(MATCH(TRIM($G1804),'Transparency List 2017'!$C:$C,0),FALSE)),\"On the 2017 List\",\"-\")","v":"-"},{"$f":"IF(OR(IFERROR(MATCH($D1804,'Transparency List 2015'!$H:$H,0),FALSE),IFERROR(MATCH(TRIM($G1804),'Transparency List 2015'!$C:$C,0),FALSE)),\"On the 2015 List\",\"-\")","v":"-"}]
[null,null,4,"",null,null,null,"-",{"$f":"IF(OR(IFERROR(MATCH($D1805,'Transparency List 2018_10'!$L:$L,0),FALSE),IFERROR(MATCH(TRIM($G1805),'Transparency List 2018_10'!$D:$D,0),FALSE)),\"On the 2018_10 List\",\"-\")","v":"-"},{"$f":"IF(OR(IFERROR(MATCH($D1805,'Transparency List 2018_04'!$L:$L,0),FALSE),IFERROR(MATCH(TRIM($G1805),'Transparency List 2018_04'!$D:$D,0),FALSE)),\"On the 2018_04 List\",\"-\")","v":"-"},{"$f":"IF(OR(IFERROR(MATCH($D1805,'Transparency List 2017'!$L:$L,0),FALSE),IFERROR(MATCH(TRIM($G1805),'Transparency List 2017'!$C:$C,0),FALSE)),\"On the 2017 List\",\"-\")","v":"-"},{"$f":"IF(OR(IFERROR(MATCH($D1805,'Transparency List 2015'!$H:$H,0),FALSE),IFERROR(MATCH(TRIM($G1805),'Transparency List 2015'!$C:$C,0),FALSE)),\"On the 2015 List\",\"-\")","v":"-"}]
[null,null,4,"",null,null,null,"-",{"$f":"IF(OR(IFERROR(MATCH($D1806,'Transparency List 2018_10'!$L:$L,0),FALSE),IFERROR(MATCH(TRIM($G1806),'Transparency List 2018_10'!$D:$D,0),FALSE)),\"On the 2018_10 List\",\"-\")","v":"-"},{"$f":"IF(OR(IFERROR(MATCH($D1806,'Transparency List 2018_04'!$L:$L,0),FALSE),IFERROR(MATCH(TRIM($G1806),'Transparency List 2018_04'!$D:$D,0),FALSE)),\"On the 2018_04 List\",\"-\")","v":"-"},{"$f":"IF(OR(IFERROR(MATCH($D1806,'Transparency List 2017'!$L:$L,0),FALSE),IFERROR(MATCH(TRIM($G1806),'Transparency List 2017'!$C:$C,0),FALSE)),\"On the 2017 List\",\"-\")","v":"-"},{"$f":"IF(OR(IFERROR(MATCH($D1806,'Transparency List 2015'!$H:$H,0),FALSE),IFERROR(MATCH(TRIM($G1806),'Transparency List 2015'!$C:$C,0),FALSE)),\"On the 2015 List\",\"-\")","v":"-"}]
[null,null,4,"",null,null,null,"-",{"$f":"IF(OR(IFERROR(MATCH($D1807,'Transparency List 2018_10'!$L:$L,0),FALSE),IFERROR(MATCH(TRIM($G1807),'Transparency List 2018_10'!$D:$D,0),FALSE)),\"On the 2018_10 List\",\"-\")","v":"-"},{"$f":"IF(OR(IFERROR(MATCH($D1807,'Transparency List 2018_04'!$L:$L,0),FALSE),IFERROR(MATCH(TRIM($G1807),'Transparency List 2018_04'!$D:$D,0),FALSE)),\"On the 2018_04 List\",\"-\")","v":"-"},{"$f":"IF(OR(IFERROR(MATCH($D1807,'Transparency List 2017'!$L:$L,0),FALSE),IFERROR(MATCH(TRIM($G1807),'Transparency List 2017'!$C:$C,0),FALSE)),\"On the 2017 List\",\"-\")","v":"-"},{"$f":"IF(OR(IFERROR(MATCH($D1807,'Transparency List 2015'!$H:$H,0),FALSE),IFERROR(MATCH(TRIM($G1807),'Transparency List 2015'!$C:$C,0),FALSE)),\"On the 2015 List\",\"-\")","v":"-"}]
[null,null,4,"",null,null,null,"-",{"$f":"IF(OR(IFERROR(MATCH($D1808,'Transparency List 2018_10'!$L:$L,0),FALSE),IFERROR(MATCH(TRIM($G1808),'Transparency List 2018_10'!$D:$D,0),FALSE)),\"On the 2018_10 List\",\"-\")","v":"-"},{"$f":"IF(OR(IFERROR(MATCH($D1808,'Transparency List 2018_04'!$L:$L,0),FALSE),IFERROR(MATCH(TRIM($G1808),'Transparency List 2018_04'!$D:$D,0),FALSE)),\"On the 2018_04 List\",\"-\")","v":"-"},{"$f":"IF(OR(IFERROR(MATCH($D1808,'Transparency List 2017'!$L:$L,0),FALSE),IFERROR(MATCH(TRIM($G1808),'Transparency List 2017'!$C:$C,0),FALSE)),\"On the 2017 List\",\"-\")","v":"-"},{"$f":"IF(OR(IFERROR(MATCH($D1808,'Transparency List 2015'!$H:$H,0),FALSE),IFERROR(MATCH(TRIM($G1808),'Transparency List 2015'!$C:$C,0),FALSE)),\"On the 2015 List\",\"-\")","v":"-"}]
[null,null,4,"",null,null,null,"-",{"$f":"IF(OR(IFERROR(MATCH($D1809,'Transparency List 2018_10'!$L:$L,0),FALSE),IFERROR(MATCH(TRIM($G1809),'Transparency List 2018_10'!$D:$D,0),FALSE)),\"On the 2018_10 List\",\"-\")","v":"-"},{"$f":"IF(OR(IFERROR(MATCH($D1809,'Transparency List 2018_04'!$L:$L,0),FALSE),IFERROR(MATCH(TRIM($G1809),'Transparency List 2018_04'!$D:$D,0),FALSE)),\"On the 2018_04 List\",\"-\")","v":"-"},{"$f":"IF(OR(IFERROR(MATCH($D1809,'Transparency List 2017'!$L:$L,0),FALSE),IFERROR(MATCH(TRIM($G1809),'Transparency List 2017'!$C:$C,0),FALSE)),\"On the 2017 List\",\"-\")","v":"-"},{"$f":"IF(OR(IFERROR(MATCH($D1809,'Transparency List 2015'!$H:$H,0),FALSE),IFERROR(MATCH(TRIM($G1809),'Transparency List 2015'!$C:$C,0),FALSE)),\"On the 2015 List\",\"-\")","v":"-"}]
[null,null,4,"",null,null,null,"-",{"$f":"IF(OR(IFERROR(MATCH($D1810,'Transparency List 2018_10'!$L:$L,0),FALSE),IFERROR(MATCH(TRIM($G1810),'Transparency List 2018_10'!$D:$D,0),FALSE)),\"On the 2018_10 List\",\"-\")","v":"-"},{"$f":"IF(OR(IFERROR(MATCH($D1810,'Transparency List 2018_04'!$L:$L,0),FALSE),IFERROR(MATCH(TRIM($G1810),'Transparency List 2018_04'!$D:$D,0),FALSE)),\"On the 2018_04 List\",\"-\")","v":"-"},{"$f":"IF(OR(IFERROR(MATCH($D1810,'Transparency List 2017'!$L:$L,0),FALSE),IFERROR(MATCH(TRIM($G1810),'Transparency List 2017'!$C:$C,0),FALSE)),\"On the 2017 List\",\"-\")","v":"-"},{"$f":"IF(OR(IFERROR(MATCH($D1810,'Transparency List 2015'!$H:$H,0),FALSE),IFERROR(MATCH(TRIM($G1810),'Transparency List 2015'!$C:$C,0),FALSE)),\"On the 2015 List\",\"-\")","v":"-"}]
[null,null,4,"",null,null,null,"-",{"$f":"IF(OR(IFERROR(MATCH($D1811,'Transparency List 2018_10'!$L:$L,0),FALSE),IFERROR(MATCH(TRIM($G1811),'Transparency List 2018_10'!$D:$D,0),FALSE)),\"On the 2018_10 List\",\"-\")","v":"-"},{"$f":"IF(OR(IFERROR(MATCH($D1811,'Transparency List 2018_04'!$L:$L,0),FALSE),IFERROR(MATCH(TRIM($G1811),'Transparency List 2018_04'!$D:$D,0),FALSE)),\"On the 2018_04 List\",\"-\")","v":"-"},{"$f":"IF(OR(IFERROR(MATCH($D1811,'Transparency List 2017'!$L:$L,0),FALSE),IFERROR(MATCH(TRIM($G1811),'Transparency List 2017'!$C:$C,0),FALSE)),\"On the 2017 List\",\"-\")","v":"-"},{"$f":"IF(OR(IFERROR(MATCH($D1811,'Transparency List 2015'!$H:$H,0),FALSE),IFERROR(MATCH(TRIM($G1811),'Transparency List 2015'!$C:$C,0),FALSE)),\"On the 2015 List\",\"-\")","v":"-"}]
[null,null,4,"",null,null,null,"-",{"$f":"IF(OR(IFERROR(MATCH($D1812,'Transparency List 2018_10'!$L:$L,0),FALSE),IFERROR(MATCH(TRIM($G1812),'Transparency List 2018_10'!$D:$D,0),FALSE)),\"On the 2018_10 List\",\"-\")","v":"-"},{"$f":"IF(OR(IFERROR(MATCH($D1812,'Transparency List 2018_04'!$L:$L,0),FALSE),IFERROR(MATCH(TRIM($G1812),'Transparency List 2018_04'!$D:$D,0),FALSE)),\"On the 2018_04 List\",\"-\")","v":"-"},{"$f":"IF(OR(IFERROR(MATCH($D1812,'Transparency List 2017'!$L:$L,0),FALSE),IFERROR(MATCH(TRIM($G1812),'Transparency List 2017'!$C:$C,0),FALSE)),\"On the 2017 List\",\"-\")","v":"-"},{"$f":"IF(OR(IFERROR(MATCH($D1812,'Transparency List 2015'!$H:$H,0),FALSE),IFERROR(MATCH(TRIM($G1812),'Transparency List 2015'!$C:$C,0),FALSE)),\"On the 2015 List\",\"-\")","v":"-"}]
[null,null,4,"",null,null,null,"-",{"$f":"IF(OR(IFERROR(MATCH($D1813,'Transparency List 2018_10'!$L:$L,0),FALSE),IFERROR(MATCH(TRIM($G1813),'Transparency List 2018_10'!$D:$D,0),FALSE)),\"On the 2018_10 List\",\"-\")","v":"-"},{"$f":"IF(OR(IFERROR(MATCH($D1813,'Transparency List 2018_04'!$L:$L,0),FALSE),IFERROR(MATCH(TRIM($G1813),'Transparency List 2018_04'!$D:$D,0),FALSE)),\"On the 2018_04 List\",\"-\")","v":"-"},{"$f":"IF(OR(IFERROR(MATCH($D1813,'Transparency List 2017'!$L:$L,0),FALSE),IFERROR(MATCH(TRIM($G1813),'Transparency List 2017'!$C:$C,0),FALSE)),\"On the 2017 List\",\"-\")","v":"-"},{"$f":"IF(OR(IFERROR(MATCH($D1813,'Transparency List 2015'!$H:$H,0),FALSE),IFERROR(MATCH(TRIM($G1813),'Transparency List 2015'!$C:$C,0),FALSE)),\"On the 2015 List\",\"-\")","v":"-"}]
[null,null,4,"",null,null,null,"-",{"$f":"IF(OR(IFERROR(MATCH($D1814,'Transparency List 2018_10'!$L:$L,0),FALSE),IFERROR(MATCH(TRIM($G1814),'Transparency List 2018_10'!$D:$D,0),FALSE)),\"On the 2018_10 List\",\"-\")","v":"-"},{"$f":"IF(OR(IFERROR(MATCH($D1814,'Transparency List 2018_04'!$L:$L,0),FALSE),IFERROR(MATCH(TRIM($G1814),'Transparency List 2018_04'!$D:$D,0),FALSE)),\"On the 2018_04 List\",\"-\")","v":"-"},{"$f":"IF(OR(IFERROR(MATCH($D1814,'Transparency List 2017'!$L:$L,0),FALSE),IFERROR(MATCH(TRIM($G1814),'Transparency List 2017'!$C:$C,0),FALSE)),\"On the 2017 List\",\"-\")","v":"-"},{"$f":"IF(OR(IFERROR(MATCH($D1814,'Transparency List 2015'!$H:$H,0),FALSE),IFERROR(MATCH(TRIM($G1814),'Transparency List 2015'!$C:$C,0),FALSE)),\"On the 2015 List\",\"-\")","v":"-"}]
[null,null,4,"",null,null,null,"-",{"$f":"IF(OR(IFERROR(MATCH($D1815,'Transparency List 2018_10'!$L:$L,0),FALSE),IFERROR(MATCH(TRIM($G1815),'Transparency List 2018_10'!$D:$D,0),FALSE)),\"On the 2018_10 List\",\"-\")","v":"-"},{"$f":"IF(OR(IFERROR(MATCH($D1815,'Transparency List 2018_04'!$L:$L,0),FALSE),IFERROR(MATCH(TRIM($G1815),'Transparency List 2018_04'!$D:$D,0),FALSE)),\"On the 2018_04 List\",\"-\")","v":"-"},{"$f":"IF(OR(IFERROR(MATCH($D1815,'Transparency List 2017'!$L:$L,0),FALSE),IFERROR(MATCH(TRIM($G1815),'Transparency List 2017'!$C:$C,0),FALSE)),\"On the 2017 List\",\"-\")","v":"-"},{"$f":"IF(OR(IFERROR(MATCH($D1815,'Transparency List 2015'!$H:$H,0),FALSE),IFERROR(MATCH(TRIM($G1815),'Transparency List 2015'!$C:$C,0),FALSE)),\"On the 2015 List\",\"-\")","v":"-"}]
[null,null,4,"",null,null,null,"-",{"$f":"IF(OR(IFERROR(MATCH($D1816,'Transparency List 2018_10'!$L:$L,0),FALSE),IFERROR(MATCH(TRIM($G1816),'Transparency List 2018_10'!$D:$D,0),FALSE)),\"On the 2018_10 List\",\"-\")","v":"-"},{"$f":"IF(OR(IFERROR(MATCH($D1816,'Transparency List 2018_04'!$L:$L,0),FALSE),IFERROR(MATCH(TRIM($G1816),'Transparency List 2018_04'!$D:$D,0),FALSE)),\"On the 2018_04 List\",\"-\")","v":"-"},{"$f":"IF(OR(IFERROR(MATCH($D1816,'Transparency List 2017'!$L:$L,0),FALSE),IFERROR(MATCH(TRIM($G1816),'Transparency List 2017'!$C:$C,0),FALSE)),\"On the 2017 List\",\"-\")","v":"-"},{"$f":"IF(OR(IFERROR(MATCH($D1816,'Transparency List 2015'!$H:$H,0),FALSE),IFERROR(MATCH(TRIM($G1816),'Transparency List 2015'!$C:$C,0),FALSE)),\"On the 2015 List\",\"-\")","v":"-"}]
[null,null,4,"",null,null,null,"-",{"$f":"IF(OR(IFERROR(MATCH($D1817,'Transparency List 2018_10'!$L:$L,0),FALSE),IFERROR(MATCH(TRIM($G1817),'Transparency List 2018_10'!$D:$D,0),FALSE)),\"On the 2018_10 List\",\"-\")","v":"-"},{"$f":"IF(OR(IFERROR(MATCH($D1817,'Transparency List 2018_04'!$L:$L,0),FALSE),IFERROR(MATCH(TRIM($G1817),'Transparency List 2018_04'!$D:$D,0),FALSE)),\"On the 2018_04 List\",\"-\")","v":"-"},{"$f":"IF(OR(IFERROR(MATCH($D1817,'Transparency List 2017'!$L:$L,0),FALSE),IFERROR(MATCH(TRIM($G1817),'Transparency List 2017'!$C:$C,0),FALSE)),\"On the 2017 List\",\"-\")","v":"-"},{"$f":"IF(OR(IFERROR(MATCH($D1817,'Transparency List 2015'!$H:$H,0),FALSE),IFERROR(MATCH(TRIM($G1817),'Transparency List 2015'!$C:$C,0),FALSE)),\"On the 2015 List\",\"-\")","v":"-"}]
[null,null,4,"",null,null,null,"-",{"$f":"IF(OR(IFERROR(MATCH($D1818,'Transparency List 2018_10'!$L:$L,0),FALSE),IFERROR(MATCH(TRIM($G1818),'Transparency List 2018_10'!$D:$D,0),FALSE)),\"On the 2018_10 List\",\"-\")","v":"-"},{"$f":"IF(OR(IFERROR(MATCH($D1818,'Transparency List 2018_04'!$L:$L,0),FALSE),IFERROR(MATCH(TRIM($G1818),'Transparency List 2018_04'!$D:$D,0),FALSE)),\"On the 2018_04 List\",\"-\")","v":"-"},{"$f":"IF(OR(IFERROR(MATCH($D1818,'Transparency List 2017'!$L:$L,0),FALSE),IFERROR(MATCH(TRIM($G1818),'Transparency List 2017'!$C:$C,0),FALSE)),\"On the 2017 List\",\"-\")","v":"-"},{"$f":"IF(OR(IFERROR(MATCH($D1818,'Transparency List 2015'!$H:$H,0),FALSE),IFERROR(MATCH(TRIM($G1818),'Transparency List 2015'!$C:$C,0),FALSE)),\"On the 2015 List\",\"-\")","v":"-"}]
[null,null,4,"",null,null,null,"-",{"$f":"IF(OR(IFERROR(MATCH($D1819,'Transparency List 2018_10'!$L:$L,0),FALSE),IFERROR(MATCH(TRIM($G1819),'Transparency List 2018_10'!$D:$D,0),FALSE)),\"On the 2018_10 List\",\"-\")","v":"-"},{"$f":"IF(OR(IFERROR(MATCH($D1819,'Transparency List 2018_04'!$L:$L,0),FALSE),IFERROR(MATCH(TRIM($G1819),'Transparency List 2018_04'!$D:$D,0),FALSE)),\"On the 2018_04 List\",\"-\")","v":"-"},{"$f":"IF(OR(IFERROR(MATCH($D1819,'Transparency List 2017'!$L:$L,0),FALSE),IFERROR(MATCH(TRIM($G1819),'Transparency List 2017'!$C:$C,0),FALSE)),\"On the 2017 List\",\"-\")","v":"-"},{"$f":"IF(OR(IFERROR(MATCH($D1819,'Transparency List 2015'!$H:$H,0),FALSE),IFERROR(MATCH(TRIM($G1819),'Transparency List 2015'!$C:$C,0),FALSE)),\"On the 2015 List\",\"-\")","v":"-"}]
[null,null,4,"",null,null,null,"-",{"$f":"IF(OR(IFERROR(MATCH($D1820,'Transparency List 2018_10'!$L:$L,0),FALSE),IFERROR(MATCH(TRIM($G1820),'Transparency List 2018_10'!$D:$D,0),FALSE)),\"On the 2018_10 List\",\"-\")","v":"-"},{"$f":"IF(OR(IFERROR(MATCH($D1820,'Transparency List 2018_04'!$L:$L,0),FALSE),IFERROR(MATCH(TRIM($G1820),'Transparency List 2018_04'!$D:$D,0),FALSE)),\"On the 2018_04 List\",\"-\")","v":"-"},{"$f":"IF(OR(IFERROR(MATCH($D1820,'Transparency List 2017'!$L:$L,0),FALSE),IFERROR(MATCH(TRIM($G1820),'Transparency List 2017'!$C:$C,0),FALSE)),\"On the 2017 List\",\"-\")","v":"-"},{"$f":"IF(OR(IFERROR(MATCH($D1820,'Transparency List 2015'!$H:$H,0),FALSE),IFERROR(MATCH(TRIM($G1820),'Transparency List 2015'!$C:$C,0),FALSE)),\"On the 2015 List\",\"-\")","v":"-"}]
[null,null,4,"",null,null,null,"-",{"$f":"IF(OR(IFERROR(MATCH($D1821,'Transparency List 2018_10'!$L:$L,0),FALSE),IFERROR(MATCH(TRIM($G1821),'Transparency List 2018_10'!$D:$D,0),FALSE)),\"On the 2018_10 List\",\"-\")","v":"-"},{"$f":"IF(OR(IFERROR(MATCH($D1821,'Transparency List 2018_04'!$L:$L,0),FALSE),IFERROR(MATCH(TRIM($G1821),'Transparency List 2018_04'!$D:$D,0),FALSE)),\"On the 2018_04 List\",\"-\")","v":"-"},{"$f":"IF(OR(IFERROR(MATCH($D1821,'Transparency List 2017'!$L:$L,0),FALSE),IFERROR(MATCH(TRIM($G1821),'Transparency List 2017'!$C:$C,0),FALSE)),\"On the 2017 List\",\"-\")","v":"-"},{"$f":"IF(OR(IFERROR(MATCH($D1821,'Transparency List 2015'!$H:$H,0),FALSE),IFERROR(MATCH(TRIM($G1821),'Transparency List 2015'!$C:$C,0),FALSE)),\"On the 2015 List\",\"-\")","v":"-"}]
[null,null,4,"",null,null,null,"-",{"$f":"IF(OR(IFERROR(MATCH($D1822,'Transparency List 2018_10'!$L:$L,0),FALSE),IFERROR(MATCH(TRIM($G1822),'Transparency List 2018_10'!$D:$D,0),FALSE)),\"On the 2018_10 List\",\"-\")","v":"-"},{"$f":"IF(OR(IFERROR(MATCH($D1822,'Transparency List 2018_04'!$L:$L,0),FALSE),IFERROR(MATCH(TRIM($G1822),'Transparency List 2018_04'!$D:$D,0),FALSE)),\"On the 2018_04 List\",\"-\")","v":"-"},{"$f":"IF(OR(IFERROR(MATCH($D1822,'Transparency List 2017'!$L:$L,0),FALSE),IFERROR(MATCH(TRIM($G1822),'Transparency List 2017'!$C:$C,0),FALSE)),\"On the 2017 List\",\"-\")","v":"-"},{"$f":"IF(OR(IFERROR(MATCH($D1822,'Transparency List 2015'!$H:$H,0),FALSE),IFERROR(MATCH(TRIM($G1822),'Transparency List 2015'!$C:$C,0),FALSE)),\"On the 2015 List\",\"-\")","v":"-"}]
[null,null,{"$f":"COUNTIF($I1823:$L1823,\"-\")","v":4},{"$f":"SUBSTITUTE(SUBSTITUTE(SUBSTITUTE(SUBSTITUTE($G1823,\" \",\"\"),\".\",\"\"),\"-\",\"\"),\"/\",\"\")","v":""},null,null,null,{"$f":"IFERROR(IF($C1823=4,\"-\",\"Risk Farmer - Please conduct further steps\"),)","v":"-"},{"$f":"IF(OR(IFERROR(MATCH($D1823,'Transparency List 2018_10'!$L:$L,0),FALSE),IFERROR(MATCH(TRIM($G1823),'Transparency List 2018_10'!$D:$D,0),FALSE)),\"On the 2018_10 List\",\"-\")","v":"-"},{"$f":"IF(OR(IFERROR(MATCH($D1823,'Transparency List 2018_04'!$L:$L,0),FALSE),IFERROR(MATCH(TRIM($G1823),'Transparency List 2018_04'!$D:$D,0),FALSE)),\"On the 2018_04 List\",\"-\")","v":"-"},{"$f":"IF(OR(IFERROR(MATCH($D1823,'Transparency List 2017'!$L:$L,0),FALSE),IFERROR(MATCH(TRIM($G1823),'Transparency List 2017'!$C:$C,0),FALSE)),\"On the 2017 List\",\"-\")","v":"-"},{"$f":"IF(OR(IFERROR(MATCH($D1823,'Transparency List 2015'!$H:$H,0),FALSE),IFERROR(MATCH(TRIM($G1823),'Transparency List 2015'!$C:$C,0),FALSE)),\"On the 2015 List\",\"-\")","v":"-"}]
[null,null,4,"",null,null,null,"-",{"$f":"IF(OR(IFERROR(MATCH($D1824,'Transparency List 2018_10'!$L:$L,0),FALSE),IFERROR(MATCH(TRIM($G1824),'Transparency List 2018_10'!$D:$D,0),FALSE)),\"On the 2018_10 List\",\"-\")","v":"-"},{"$f":"IF(OR(IFERROR(MATCH($D1824,'Transparency List 2018_04'!$L:$L,0),FALSE),IFERROR(MATCH(TRIM($G1824),'Transparency List 2018_04'!$D:$D,0),FALSE)),\"On the 2018_04 List\",\"-\")","v":"-"},{"$f":"IF(OR(IFERROR(MATCH($D1824,'Transparency List 2017'!$L:$L,0),FALSE),IFERROR(MATCH(TRIM($G1824),'Transparency List 2017'!$C:$C,0),FALSE)),\"On the 2017 List\",\"-\")","v":"-"},{"$f":"IF(OR(IFERROR(MATCH($D1824,'Transparency List 2015'!$H:$H,0),FALSE),IFERROR(MATCH(TRIM($G1824),'Transparency List 2015'!$C:$C,0),FALSE)),\"On the 2015 List\",\"-\")","v":"-"}]
[null,null,4,"",null,null,null,"-",{"$f":"IF(OR(IFERROR(MATCH($D1825,'Transparency List 2018_10'!$L:$L,0),FALSE),IFERROR(MATCH(TRIM($G1825),'Transparency List 2018_10'!$D:$D,0),FALSE)),\"On the 2018_10 List\",\"-\")","v":"-"},{"$f":"IF(OR(IFERROR(MATCH($D1825,'Transparency List 2018_04'!$L:$L,0),FALSE),IFERROR(MATCH(TRIM($G1825),'Transparency List 2018_04'!$D:$D,0),FALSE)),\"On the 2018_04 List\",\"-\")","v":"-"},{"$f":"IF(OR(IFERROR(MATCH($D1825,'Transparency List 2017'!$L:$L,0),FALSE),IFERROR(MATCH(TRIM($G1825),'Transparency List 2017'!$C:$C,0),FALSE)),\"On the 2017 List\",\"-\")","v":"-"},{"$f":"IF(OR(IFERROR(MATCH($D1825,'Transparency List 2015'!$H:$H,0),FALSE),IFERROR(MATCH(TRIM($G1825),'Transparency List 2015'!$C:$C,0),FALSE)),\"On the 2015 List\",\"-\")","v":"-"}]
[null,null,4,"",null,null,null,"-",{"$f":"IF(OR(IFERROR(MATCH($D1826,'Transparency List 2018_10'!$L:$L,0),FALSE),IFERROR(MATCH(TRIM($G1826),'Transparency List 2018_10'!$D:$D,0),FALSE)),\"On the 2018_10 List\",\"-\")","v":"-"},{"$f":"IF(OR(IFERROR(MATCH($D1826,'Transparency List 2018_04'!$L:$L,0),FALSE),IFERROR(MATCH(TRIM($G1826),'Transparency List 2018_04'!$D:$D,0),FALSE)),\"On the 2018_04 List\",\"-\")","v":"-"},{"$f":"IF(OR(IFERROR(MATCH($D1826,'Transparency List 2017'!$L:$L,0),FALSE),IFERROR(MATCH(TRIM($G1826),'Transparency List 2017'!$C:$C,0),FALSE)),\"On the 2017 List\",\"-\")","v":"-"},{"$f":"IF(OR(IFERROR(MATCH($D1826,'Transparency List 2015'!$H:$H,0),FALSE),IFERROR(MATCH(TRIM($G1826),'Transparency List 2015'!$C:$C,0),FALSE)),\"On the 2015 List\",\"-\")","v":"-"}]
[null,null,4,"",null,null,null,"-",{"$f":"IF(OR(IFERROR(MATCH($D1827,'Transparency List 2018_10'!$L:$L,0),FALSE),IFERROR(MATCH(TRIM($G1827),'Transparency List 2018_10'!$D:$D,0),FALSE)),\"On the 2018_10 List\",\"-\")","v":"-"},{"$f":"IF(OR(IFERROR(MATCH($D1827,'Transparency List 2018_04'!$L:$L,0),FALSE),IFERROR(MATCH(TRIM($G1827),'Transparency List 2018_04'!$D:$D,0),FALSE)),\"On the 2018_04 List\",\"-\")","v":"-"},{"$f":"IF(OR(IFERROR(MATCH($D1827,'Transparency List 2017'!$L:$L,0),FALSE),IFERROR(MATCH(TRIM($G1827),'Transparency List 2017'!$C:$C,0),FALSE)),\"On the 2017 List\",\"-\")","v":"-"},{"$f":"IF(OR(IFERROR(MATCH($D1827,'Transparency List 2015'!$H:$H,0),FALSE),IFERROR(MATCH(TRIM($G1827),'Transparency List 2015'!$C:$C,0),FALSE)),\"On the 2015 List\",\"-\")","v":"-"}]
[null,null,4,"",null,null,null,"-",{"$f":"IF(OR(IFERROR(MATCH($D1828,'Transparency List 2018_10'!$L:$L,0),FALSE),IFERROR(MATCH(TRIM($G1828),'Transparency List 2018_10'!$D:$D,0),FALSE)),\"On the 2018_10 List\",\"-\")","v":"-"},{"$f":"IF(OR(IFERROR(MATCH($D1828,'Transparency List 2018_04'!$L:$L,0),FALSE),IFERROR(MATCH(TRIM($G1828),'Transparency List 2018_04'!$D:$D,0),FALSE)),\"On the 2018_04 List\",\"-\")","v":"-"},{"$f":"IF(OR(IFERROR(MATCH($D1828,'Transparency List 2017'!$L:$L,0),FALSE),IFERROR(MATCH(TRIM($G1828),'Transparency List 2017'!$C:$C,0),FALSE)),\"On the 2017 List\",\"-\")","v":"-"},{"$f":"IF(OR(IFERROR(MATCH($D1828,'Transparency List 2015'!$H:$H,0),FALSE),IFERROR(MATCH(TRIM($G1828),'Transparency List 2015'!$C:$C,0),FALSE)),\"On the 2015 List\",\"-\")","v":"-"}]
[null,null,4,"",null,null,null,"-",{"$f":"IF(OR(IFERROR(MATCH($D1829,'Transparency List 2018_10'!$L:$L,0),FALSE),IFERROR(MATCH(TRIM($G1829),'Transparency List 2018_10'!$D:$D,0),FALSE)),\"On the 2018_10 List\",\"-\")","v":"-"},{"$f":"IF(OR(IFERROR(MATCH($D1829,'Transparency List 2018_04'!$L:$L,0),FALSE),IFERROR(MATCH(TRIM($G1829),'Transparency List 2018_04'!$D:$D,0),FALSE)),\"On the 2018_04 List\",\"-\")","v":"-"},{"$f":"IF(OR(IFERROR(MATCH($D1829,'Transparency List 2017'!$L:$L,0),FALSE),IFERROR(MATCH(TRIM($G1829),'Transparency List 2017'!$C:$C,0),FALSE)),\"On the 2017 List\",\"-\")","v":"-"},{"$f":"IF(OR(IFERROR(MATCH($D1829,'Transparency List 2015'!$H:$H,0),FALSE),IFERROR(MATCH(TRIM($G1829),'Transparency List 2015'!$C:$C,0),FALSE)),\"On the 2015 List\",\"-\")","v":"-"}]
[null,null,4,"",null,null,null,"-",{"$f":"IF(OR(IFERROR(MATCH($D1830,'Transparency List 2018_10'!$L:$L,0),FALSE),IFERROR(MATCH(TRIM($G1830),'Transparency List 2018_10'!$D:$D,0),FALSE)),\"On the 2018_10 List\",\"-\")","v":"-"},{"$f":"IF(OR(IFERROR(MATCH($D1830,'Transparency List 2018_04'!$L:$L,0),FALSE),IFERROR(MATCH(TRIM($G1830),'Transparency List 2018_04'!$D:$D,0),FALSE)),\"On the 2018_04 List\",\"-\")","v":"-"},{"$f":"IF(OR(IFERROR(MATCH($D1830,'Transparency List 2017'!$L:$L,0),FALSE),IFERROR(MATCH(TRIM($G1830),'Transparency List 2017'!$C:$C,0),FALSE)),\"On the 2017 List\",\"-\")","v":"-"},{"$f":"IF(OR(IFERROR(MATCH($D1830,'Transparency List 2015'!$H:$H,0),FALSE),IFERROR(MATCH(TRIM($G1830),'Transparency List 2015'!$C:$C,0),FALSE)),\"On the 2015 List\",\"-\")","v":"-"}]
[null,null,4,"",null,null,null,"-",{"$f":"IF(OR(IFERROR(MATCH($D1831,'Transparency List 2018_10'!$L:$L,0),FALSE),IFERROR(MATCH(TRIM($G1831),'Transparency List 2018_10'!$D:$D,0),FALSE)),\"On the 2018_10 List\",\"-\")","v":"-"},{"$f":"IF(OR(IFERROR(MATCH($D1831,'Transparency List 2018_04'!$L:$L,0),FALSE),IFERROR(MATCH(TRIM($G1831),'Transparency List 2018_04'!$D:$D,0),FALSE)),\"On the 2018_04 List\",\"-\")","v":"-"},{"$f":"IF(OR(IFERROR(MATCH($D1831,'Transparency List 2017'!$L:$L,0),FALSE),IFERROR(MATCH(TRIM($G1831),'Transparency List 2017'!$C:$C,0),FALSE)),\"On the 2017 List\",\"-\")","v":"-"},{"$f":"IF(OR(IFERROR(MATCH($D1831,'Transparency List 2015'!$H:$H,0),FALSE),IFERROR(MATCH(TRIM($G1831),'Transparency List 2015'!$C:$C,0),FALSE)),\"On the 2015 List\",\"-\")","v":"-"}]
[null,null,4,"",null,null,null,"-",{"$f":"IF(OR(IFERROR(MATCH($D1832,'Transparency List 2018_10'!$L:$L,0),FALSE),IFERROR(MATCH(TRIM($G1832),'Transparency List 2018_10'!$D:$D,0),FALSE)),\"On the 2018_10 List\",\"-\")","v":"-"},{"$f":"IF(OR(IFERROR(MATCH($D1832,'Transparency List 2018_04'!$L:$L,0),FALSE),IFERROR(MATCH(TRIM($G1832),'Transparency List 2018_04'!$D:$D,0),FALSE)),\"On the 2018_04 List\",\"-\")","v":"-"},{"$f":"IF(OR(IFERROR(MATCH($D1832,'Transparency List 2017'!$L:$L,0),FALSE),IFERROR(MATCH(TRIM($G1832),'Transparency List 2017'!$C:$C,0),FALSE)),\"On the 2017 List\",\"-\")","v":"-"},{"$f":"IF(OR(IFERROR(MATCH($D1832,'Transparency List 2015'!$H:$H,0),FALSE),IFERROR(MATCH(TRIM($G1832),'Transparency List 2015'!$C:$C,0),FALSE)),\"On the 2015 List\",\"-\")","v":"-"}]
[null,null,4,"",null,null,null,"-",{"$f":"IF(OR(IFERROR(MATCH($D1833,'Transparency List 2018_10'!$L:$L,0),FALSE),IFERROR(MATCH(TRIM($G1833),'Transparency List 2018_10'!$D:$D,0),FALSE)),\"On the 2018_10 List\",\"-\")","v":"-"},{"$f":"IF(OR(IFERROR(MATCH($D1833,'Transparency List 2018_04'!$L:$L,0),FALSE),IFERROR(MATCH(TRIM($G1833),'Transparency List 2018_04'!$D:$D,0),FALSE)),\"On the 2018_04 List\",\"-\")","v":"-"},{"$f":"IF(OR(IFERROR(MATCH($D1833,'Transparency List 2017'!$L:$L,0),FALSE),IFERROR(MATCH(TRIM($G1833),'Transparency List 2017'!$C:$C,0),FALSE)),\"On the 2017 List\",\"-\")","v":"-"},{"$f":"IF(OR(IFERROR(MATCH($D1833,'Transparency List 2015'!$H:$H,0),FALSE),IFERROR(MATCH(TRIM($G1833),'Transparency List 2015'!$C:$C,0),FALSE)),\"On the 2015 List\",\"-\")","v":"-"}]
[null,null,4,"",null,null,null,"-",{"$f":"IF(OR(IFERROR(MATCH($D1834,'Transparency List 2018_10'!$L:$L,0),FALSE),IFERROR(MATCH(TRIM($G1834),'Transparency List 2018_10'!$D:$D,0),FALSE)),\"On the 2018_10 List\",\"-\")","v":"-"},{"$f":"IF(OR(IFERROR(MATCH($D1834,'Transparency List 2018_04'!$L:$L,0),FALSE),IFERROR(MATCH(TRIM($G1834),'Transparency List 2018_04'!$D:$D,0),FALSE)),\"On the 2018_04 List\",\"-\")","v":"-"},{"$f":"IF(OR(IFERROR(MATCH($D1834,'Transparency List 2017'!$L:$L,0),FALSE),IFERROR(MATCH(TRIM($G1834),'Transparency List 2017'!$C:$C,0),FALSE)),\"On the 2017 List\",\"-\")","v":"-"},{"$f":"IF(OR(IFERROR(MATCH($D1834,'Transparency List 2015'!$H:$H,0),FALSE),IFERROR(MATCH(TRIM($G1834),'Transparency List 2015'!$C:$C,0),FALSE)),\"On the 2015 List\",\"-\")","v":"-"}]
[null,null,4,"",null,null,null,"-",{"$f":"IF(OR(IFERROR(MATCH($D1835,'Transparency List 2018_10'!$L:$L,0),FALSE),IFERROR(MATCH(TRIM($G1835),'Transparency List 2018_10'!$D:$D,0),FALSE)),\"On the 2018_10 List\",\"-\")","v":"-"},{"$f":"IF(OR(IFERROR(MATCH($D1835,'Transparency List 2018_04'!$L:$L,0),FALSE),IFERROR(MATCH(TRIM($G1835),'Transparency List 2018_04'!$D:$D,0),FALSE)),\"On the 2018_04 List\",\"-\")","v":"-"},{"$f":"IF(OR(IFERROR(MATCH($D1835,'Transparency List 2017'!$L:$L,0),FALSE),IFERROR(MATCH(TRIM($G1835),'Transparency List 2017'!$C:$C,0),FALSE)),\"On the 2017 List\",\"-\")","v":"-"},{"$f":"IF(OR(IFERROR(MATCH($D1835,'Transparency List 2015'!$H:$H,0),FALSE),IFERROR(MATCH(TRIM($G1835),'Transparency List 2015'!$C:$C,0),FALSE)),\"On the 2015 List\",\"-\")","v":"-"}]
[null,null,4,"",null,null,null,"-",{"$f":"IF(OR(IFERROR(MATCH($D1836,'Transparency List 2018_10'!$L:$L,0),FALSE),IFERROR(MATCH(TRIM($G1836),'Transparency List 2018_10'!$D:$D,0),FALSE)),\"On the 2018_10 List\",\"-\")","v":"-"},{"$f":"IF(OR(IFERROR(MATCH($D1836,'Transparency List 2018_04'!$L:$L,0),FALSE),IFERROR(MATCH(TRIM($G1836),'Transparency List 2018_04'!$D:$D,0),FALSE)),\"On the 2018_04 List\",\"-\")","v":"-"},{"$f":"IF(OR(IFERROR(MATCH($D1836,'Transparency List 2017'!$L:$L,0),FALSE),IFERROR(MATCH(TRIM($G1836),'Transparency List 2017'!$C:$C,0),FALSE)),\"On the 2017 List\",\"-\")","v":"-"},{"$f":"IF(OR(IFERROR(MATCH($D1836,'Transparency List 2015'!$H:$H,0),FALSE),IFERROR(MATCH(TRIM($G1836),'Transparency List 2015'!$C:$C,0),FALSE)),\"On the 2015 List\",\"-\")","v":"-"}]
[null,null,4,"",null,null,null,"-",{"$f":"IF(OR(IFERROR(MATCH($D1837,'Transparency List 2018_10'!$L:$L,0),FALSE),IFERROR(MATCH(TRIM($G1837),'Transparency List 2018_10'!$D:$D,0),FALSE)),\"On the 2018_10 List\",\"-\")","v":"-"},{"$f":"IF(OR(IFERROR(MATCH($D1837,'Transparency List 2018_04'!$L:$L,0),FALSE),IFERROR(MATCH(TRIM($G1837),'Transparency List 2018_04'!$D:$D,0),FALSE)),\"On the 2018_04 List\",\"-\")","v":"-"},{"$f":"IF(OR(IFERROR(MATCH($D1837,'Transparency List 2017'!$L:$L,0),FALSE),IFERROR(MATCH(TRIM($G1837),'Transparency List 2017'!$C:$C,0),FALSE)),\"On the 2017 List\",\"-\")","v":"-"},{"$f":"IF(OR(IFERROR(MATCH($D1837,'Transparency List 2015'!$H:$H,0),FALSE),IFERROR(MATCH(TRIM($G1837),'Transparency List 2015'!$C:$C,0),FALSE)),\"On the 2015 List\",\"-\")","v":"-"}]
[null,null,4,"",null,null,null,"-",{"$f":"IF(OR(IFERROR(MATCH($D1838,'Transparency List 2018_10'!$L:$L,0),FALSE),IFERROR(MATCH(TRIM($G1838),'Transparency List 2018_10'!$D:$D,0),FALSE)),\"On the 2018_10 List\",\"-\")","v":"-"},{"$f":"IF(OR(IFERROR(MATCH($D1838,'Transparency List 2018_04'!$L:$L,0),FALSE),IFERROR(MATCH(TRIM($G1838),'Transparency List 2018_04'!$D:$D,0),FALSE)),\"On the 2018_04 List\",\"-\")","v":"-"},{"$f":"IF(OR(IFERROR(MATCH($D1838,'Transparency List 2017'!$L:$L,0),FALSE),IFERROR(MATCH(TRIM($G1838),'Transparency List 2017'!$C:$C,0),FALSE)),\"On the 2017 List\",\"-\")","v":"-"},{"$f":"IF(OR(IFERROR(MATCH($D1838,'Transparency List 2015'!$H:$H,0),FALSE),IFERROR(MATCH(TRIM($G1838),'Transparency List 2015'!$C:$C,0),FALSE)),\"On the 2015 List\",\"-\")","v":"-"}]
[null,null,4,"",null,null,null,"-",{"$f":"IF(OR(IFERROR(MATCH($D1839,'Transparency List 2018_10'!$L:$L,0),FALSE),IFERROR(MATCH(TRIM($G1839),'Transparency List 2018_10'!$D:$D,0),FALSE)),\"On the 2018_10 List\",\"-\")","v":"-"},{"$f":"IF(OR(IFERROR(MATCH($D1839,'Transparency List 2018_04'!$L:$L,0),FALSE),IFERROR(MATCH(TRIM($G1839),'Transparency List 2018_04'!$D:$D,0),FALSE)),\"On the 2018_04 List\",\"-\")","v":"-"},{"$f":"IF(OR(IFERROR(MATCH($D1839,'Transparency List 2017'!$L:$L,0),FALSE),IFERROR(MATCH(TRIM($G1839),'Transparency List 2017'!$C:$C,0),FALSE)),\"On the 2017 List\",\"-\")","v":"-"},{"$f":"IF(OR(IFERROR(MATCH($D1839,'Transparency List 2015'!$H:$H,0),FALSE),IFERROR(MATCH(TRIM($G1839),'Transparency List 2015'!$C:$C,0),FALSE)),\"On the 2015 List\",\"-\")","v":"-"}]
[null,null,4,"",null,null,null,"-",{"$f":"IF(OR(IFERROR(MATCH($D1840,'Transparency List 2018_10'!$L:$L,0),FALSE),IFERROR(MATCH(TRIM($G1840),'Transparency List 2018_10'!$D:$D,0),FALSE)),\"On the 2018_10 List\",\"-\")","v":"-"},{"$f":"IF(OR(IFERROR(MATCH($D1840,'Transparency List 2018_04'!$L:$L,0),FALSE),IFERROR(MATCH(TRIM($G1840),'Transparency List 2018_04'!$D:$D,0),FALSE)),\"On the 2018_04 List\",\"-\")","v":"-"},{"$f":"IF(OR(IFERROR(MATCH($D1840,'Transparency List 2017'!$L:$L,0),FALSE),IFERROR(MATCH(TRIM($G1840),'Transparency List 2017'!$C:$C,0),FALSE)),\"On the 2017 List\",\"-\")","v":"-"},{"$f":"IF(OR(IFERROR(MATCH($D1840,'Transparency List 2015'!$H:$H,0),FALSE),IFERROR(MATCH(TRIM($G1840),'Transparency List 2015'!$C:$C,0),FALSE)),\"On the 2015 List\",\"-\")","v":"-"}]
[null,null,4,"",null,null,null,"-",{"$f":"IF(OR(IFERROR(MATCH($D1841,'Transparency List 2018_10'!$L:$L,0),FALSE),IFERROR(MATCH(TRIM($G1841),'Transparency List 2018_10'!$D:$D,0),FALSE)),\"On the 2018_10 List\",\"-\")","v":"-"},{"$f":"IF(OR(IFERROR(MATCH($D1841,'Transparency List 2018_04'!$L:$L,0),FALSE),IFERROR(MATCH(TRIM($G1841),'Transparency List 2018_04'!$D:$D,0),FALSE)),\"On the 2018_04 List\",\"-\")","v":"-"},{"$f":"IF(OR(IFERROR(MATCH($D1841,'Transparency List 2017'!$L:$L,0),FALSE),IFERROR(MATCH(TRIM($G1841),'Transparency List 2017'!$C:$C,0),FALSE)),\"On the 2017 List\",\"-\")","v":"-"},{"$f":"IF(OR(IFERROR(MATCH($D1841,'Transparency List 2015'!$H:$H,0),FALSE),IFERROR(MATCH(TRIM($G1841),'Transparency List 2015'!$C:$C,0),FALSE)),\"On the 2015 List\",\"-\")","v":"-"}]
[null,null,4,"",null,null,null,"-",{"$f":"IF(OR(IFERROR(MATCH($D1842,'Transparency List 2018_10'!$L:$L,0),FALSE),IFERROR(MATCH(TRIM($G1842),'Transparency List 2018_10'!$D:$D,0),FALSE)),\"On the 2018_10 List\",\"-\")","v":"-"},{"$f":"IF(OR(IFERROR(MATCH($D1842,'Transparency List 2018_04'!$L:$L,0),FALSE),IFERROR(MATCH(TRIM($G1842),'Transparency List 2018_04'!$D:$D,0),FALSE)),\"On the 2018_04 List\",\"-\")","v":"-"},{"$f":"IF(OR(IFERROR(MATCH($D1842,'Transparency List 2017'!$L:$L,0),FALSE),IFERROR(MATCH(TRIM($G1842),'Transparency List 2017'!$C:$C,0),FALSE)),\"On the 2017 List\",\"-\")","v":"-"},{"$f":"IF(OR(IFERROR(MATCH($D1842,'Transparency List 2015'!$H:$H,0),FALSE),IFERROR(MATCH(TRIM($G1842),'Transparency List 2015'!$C:$C,0),FALSE)),\"On the 2015 List\",\"-\")","v":"-"}]
[null,null,4,"",null,null,null,"-",{"$f":"IF(OR(IFERROR(MATCH($D1843,'Transparency List 2018_10'!$L:$L,0),FALSE),IFERROR(MATCH(TRIM($G1843),'Transparency List 2018_10'!$D:$D,0),FALSE)),\"On the 2018_10 List\",\"-\")","v":"-"},{"$f":"IF(OR(IFERROR(MATCH($D1843,'Transparency List 2018_04'!$L:$L,0),FALSE),IFERROR(MATCH(TRIM($G1843),'Transparency List 2018_04'!$D:$D,0),FALSE)),\"On the 2018_04 List\",\"-\")","v":"-"},{"$f":"IF(OR(IFERROR(MATCH($D1843,'Transparency List 2017'!$L:$L,0),FALSE),IFERROR(MATCH(TRIM($G1843),'Transparency List 2017'!$C:$C,0),FALSE)),\"On the 2017 List\",\"-\")","v":"-"},{"$f":"IF(OR(IFERROR(MATCH($D1843,'Transparency List 2015'!$H:$H,0),FALSE),IFERROR(MATCH(TRIM($G1843),'Transparency List 2015'!$C:$C,0),FALSE)),\"On the 2015 List\",\"-\")","v":"-"}]
[null,null,4,"",null,null,null,"-",{"$f":"IF(OR(IFERROR(MATCH($D1844,'Transparency List 2018_10'!$L:$L,0),FALSE),IFERROR(MATCH(TRIM($G1844),'Transparency List 2018_10'!$D:$D,0),FALSE)),\"On the 2018_10 List\",\"-\")","v":"-"},{"$f":"IF(OR(IFERROR(MATCH($D1844,'Transparency List 2018_04'!$L:$L,0),FALSE),IFERROR(MATCH(TRIM($G1844),'Transparency List 2018_04'!$D:$D,0),FALSE)),\"On the 2018_04 List\",\"-\")","v":"-"},{"$f":"IF(OR(IFERROR(MATCH($D1844,'Transparency List 2017'!$L:$L,0),FALSE),IFERROR(MATCH(TRIM($G1844),'Transparency List 2017'!$C:$C,0),FALSE)),\"On the 2017 List\",\"-\")","v":"-"},{"$f":"IF(OR(IFERROR(MATCH($D1844,'Transparency List 2015'!$H:$H,0),FALSE),IFERROR(MATCH(TRIM($G1844),'Transparency List 2015'!$C:$C,0),FALSE)),\"On the 2015 List\",\"-\")","v":"-"}]
[null,null,4,"",null,null,null,"-",{"$f":"IF(OR(IFERROR(MATCH($D1845,'Transparency List 2018_10'!$L:$L,0),FALSE),IFERROR(MATCH(TRIM($G1845),'Transparency List 2018_10'!$D:$D,0),FALSE)),\"On the 2018_10 List\",\"-\")","v":"-"},{"$f":"IF(OR(IFERROR(MATCH($D1845,'Transparency List 2018_04'!$L:$L,0),FALSE),IFERROR(MATCH(TRIM($G1845),'Transparency List 2018_04'!$D:$D,0),FALSE)),\"On the 2018_04 List\",\"-\")","v":"-"},{"$f":"IF(OR(IFERROR(MATCH($D1845,'Transparency List 2017'!$L:$L,0),FALSE),IFERROR(MATCH(TRIM($G1845),'Transparency List 2017'!$C:$C,0),FALSE)),\"On the 2017 List\",\"-\")","v":"-"},{"$f":"IF(OR(IFERROR(MATCH($D1845,'Transparency List 2015'!$H:$H,0),FALSE),IFERROR(MATCH(TRIM($G1845),'Transparency List 2015'!$C:$C,0),FALSE)),\"On the 2015 List\",\"-\")","v":"-"}]
[null,null,4,"",null,null,null,"-",{"$f":"IF(OR(IFERROR(MATCH($D1846,'Transparency List 2018_10'!$L:$L,0),FALSE),IFERROR(MATCH(TRIM($G1846),'Transparency List 2018_10'!$D:$D,0),FALSE)),\"On the 2018_10 List\",\"-\")","v":"-"},{"$f":"IF(OR(IFERROR(MATCH($D1846,'Transparency List 2018_04'!$L:$L,0),FALSE),IFERROR(MATCH(TRIM($G1846),'Transparency List 2018_04'!$D:$D,0),FALSE)),\"On the 2018_04 List\",\"-\")","v":"-"},{"$f":"IF(OR(IFERROR(MATCH($D1846,'Transparency List 2017'!$L:$L,0),FALSE),IFERROR(MATCH(TRIM($G1846),'Transparency List 2017'!$C:$C,0),FALSE)),\"On the 2017 List\",\"-\")","v":"-"},{"$f":"IF(OR(IFERROR(MATCH($D1846,'Transparency List 2015'!$H:$H,0),FALSE),IFERROR(MATCH(TRIM($G1846),'Transparency List 2015'!$C:$C,0),FALSE)),\"On the 2015 List\",\"-\")","v":"-"}]
[null,null,4,"",null,null,null,"-",{"$f":"IF(OR(IFERROR(MATCH($D1847,'Transparency List 2018_10'!$L:$L,0),FALSE),IFERROR(MATCH(TRIM($G1847),'Transparency List 2018_10'!$D:$D,0),FALSE)),\"On the 2018_10 List\",\"-\")","v":"-"},{"$f":"IF(OR(IFERROR(MATCH($D1847,'Transparency List 2018_04'!$L:$L,0),FALSE),IFERROR(MATCH(TRIM($G1847),'Transparency List 2018_04'!$D:$D,0),FALSE)),\"On the 2018_04 List\",\"-\")","v":"-"},{"$f":"IF(OR(IFERROR(MATCH($D1847,'Transparency List 2017'!$L:$L,0),FALSE),IFERROR(MATCH(TRIM($G1847),'Transparency List 2017'!$C:$C,0),FALSE)),\"On the 2017 List\",\"-\")","v":"-"},{"$f":"IF(OR(IFERROR(MATCH($D1847,'Transparency List 2015'!$H:$H,0),FALSE),IFERROR(MATCH(TRIM($G1847),'Transparency List 2015'!$C:$C,0),FALSE)),\"On the 2015 List\",\"-\")","v":"-"}]
[null,null,4,"",null,null,null,"-",{"$f":"IF(OR(IFERROR(MATCH($D1848,'Transparency List 2018_10'!$L:$L,0),FALSE),IFERROR(MATCH(TRIM($G1848),'Transparency List 2018_10'!$D:$D,0),FALSE)),\"On the 2018_10 List\",\"-\")","v":"-"},{"$f":"IF(OR(IFERROR(MATCH($D1848,'Transparency List 2018_04'!$L:$L,0),FALSE),IFERROR(MATCH(TRIM($G1848),'Transparency List 2018_04'!$D:$D,0),FALSE)),\"On the 2018_04 List\",\"-\")","v":"-"},{"$f":"IF(OR(IFERROR(MATCH($D1848,'Transparency List 2017'!$L:$L,0),FALSE),IFERROR(MATCH(TRIM($G1848),'Transparency List 2017'!$C:$C,0),FALSE)),\"On the 2017 List\",\"-\")","v":"-"},{"$f":"IF(OR(IFERROR(MATCH($D1848,'Transparency List 2015'!$H:$H,0),FALSE),IFERROR(MATCH(TRIM($G1848),'Transparency List 2015'!$C:$C,0),FALSE)),\"On the 2015 List\",\"-\")","v":"-"}]
[null,null,4,"",null,null,null,"-",{"$f":"IF(OR(IFERROR(MATCH($D1849,'Transparency List 2018_10'!$L:$L,0),FALSE),IFERROR(MATCH(TRIM($G1849),'Transparency List 2018_10'!$D:$D,0),FALSE)),\"On the 2018_10 List\",\"-\")","v":"-"},{"$f":"IF(OR(IFERROR(MATCH($D1849,'Transparency List 2018_04'!$L:$L,0),FALSE),IFERROR(MATCH(TRIM($G1849),'Transparency List 2018_04'!$D:$D,0),FALSE)),\"On the 2018_04 List\",\"-\")","v":"-"},{"$f":"IF(OR(IFERROR(MATCH($D1849,'Transparency List 2017'!$L:$L,0),FALSE),IFERROR(MATCH(TRIM($G1849),'Transparency List 2017'!$C:$C,0),FALSE)),\"On the 2017 List\",\"-\")","v":"-"},{"$f":"IF(OR(IFERROR(MATCH($D1849,'Transparency List 2015'!$H:$H,0),FALSE),IFERROR(MATCH(TRIM($G1849),'Transparency List 2015'!$C:$C,0),FALSE)),\"On the 2015 List\",\"-\")","v":"-"}]
[null,null,4,"",null,null,null,"-",{"$f":"IF(OR(IFERROR(MATCH($D1850,'Transparency List 2018_10'!$L:$L,0),FALSE),IFERROR(MATCH(TRIM($G1850),'Transparency List 2018_10'!$D:$D,0),FALSE)),\"On the 2018_10 List\",\"-\")","v":"-"},{"$f":"IF(OR(IFERROR(MATCH($D1850,'Transparency List 2018_04'!$L:$L,0),FALSE),IFERROR(MATCH(TRIM($G1850),'Transparency List 2018_04'!$D:$D,0),FALSE)),\"On the 2018_04 List\",\"-\")","v":"-"},{"$f":"IF(OR(IFERROR(MATCH($D1850,'Transparency List 2017'!$L:$L,0),FALSE),IFERROR(MATCH(TRIM($G1850),'Transparency List 2017'!$C:$C,0),FALSE)),\"On the 2017 List\",\"-\")","v":"-"},{"$f":"IF(OR(IFERROR(MATCH($D1850,'Transparency List 2015'!$H:$H,0),FALSE),IFERROR(MATCH(TRIM($G1850),'Transparency List 2015'!$C:$C,0),FALSE)),\"On the 2015 List\",\"-\")","v":"-"}]
[null,null,4,"",null,null,null,"-",{"$f":"IF(OR(IFERROR(MATCH($D1851,'Transparency List 2018_10'!$L:$L,0),FALSE),IFERROR(MATCH(TRIM($G1851),'Transparency List 2018_10'!$D:$D,0),FALSE)),\"On the 2018_10 List\",\"-\")","v":"-"},{"$f":"IF(OR(IFERROR(MATCH($D1851,'Transparency List 2018_04'!$L:$L,0),FALSE),IFERROR(MATCH(TRIM($G1851),'Transparency List 2018_04'!$D:$D,0),FALSE)),\"On the 2018_04 List\",\"-\")","v":"-"},{"$f":"IF(OR(IFERROR(MATCH($D1851,'Transparency List 2017'!$L:$L,0),FALSE),IFERROR(MATCH(TRIM($G1851),'Transparency List 2017'!$C:$C,0),FALSE)),\"On the 2017 List\",\"-\")","v":"-"},{"$f":"IF(OR(IFERROR(MATCH($D1851,'Transparency List 2015'!$H:$H,0),FALSE),IFERROR(MATCH(TRIM($G1851),'Transparency List 2015'!$C:$C,0),FALSE)),\"On the 2015 List\",\"-\")","v":"-"}]
[null,null,4,"",null,null,null,"-",{"$f":"IF(OR(IFERROR(MATCH($D1852,'Transparency List 2018_10'!$L:$L,0),FALSE),IFERROR(MATCH(TRIM($G1852),'Transparency List 2018_10'!$D:$D,0),FALSE)),\"On the 2018_10 List\",\"-\")","v":"-"},{"$f":"IF(OR(IFERROR(MATCH($D1852,'Transparency List 2018_04'!$L:$L,0),FALSE),IFERROR(MATCH(TRIM($G1852),'Transparency List 2018_04'!$D:$D,0),FALSE)),\"On the 2018_04 List\",\"-\")","v":"-"},{"$f":"IF(OR(IFERROR(MATCH($D1852,'Transparency List 2017'!$L:$L,0),FALSE),IFERROR(MATCH(TRIM($G1852),'Transparency List 2017'!$C:$C,0),FALSE)),\"On the 2017 List\",\"-\")","v":"-"},{"$f":"IF(OR(IFERROR(MATCH($D1852,'Transparency List 2015'!$H:$H,0),FALSE),IFERROR(MATCH(TRIM($G1852),'Transparency List 2015'!$C:$C,0),FALSE)),\"On the 2015 List\",\"-\")","v":"-"}]
[null,null,4,"",null,null,null,"-",{"$f":"IF(OR(IFERROR(MATCH($D1853,'Transparency List 2018_10'!$L:$L,0),FALSE),IFERROR(MATCH(TRIM($G1853),'Transparency List 2018_10'!$D:$D,0),FALSE)),\"On the 2018_10 List\",\"-\")","v":"-"},{"$f":"IF(OR(IFERROR(MATCH($D1853,'Transparency List 2018_04'!$L:$L,0),FALSE),IFERROR(MATCH(TRIM($G1853),'Transparency List 2018_04'!$D:$D,0),FALSE)),\"On the 2018_04 List\",\"-\")","v":"-"},{"$f":"IF(OR(IFERROR(MATCH($D1853,'Transparency List 2017'!$L:$L,0),FALSE),IFERROR(MATCH(TRIM($G1853),'Transparency List 2017'!$C:$C,0),FALSE)),\"On the 2017 List\",\"-\")","v":"-"},{"$f":"IF(OR(IFERROR(MATCH($D1853,'Transparency List 2015'!$H:$H,0),FALSE),IFERROR(MATCH(TRIM($G1853),'Transparency List 2015'!$C:$C,0),FALSE)),\"On the 2015 List\",\"-\")","v":"-"}]
[null,null,4,"",null,null,null,"-",{"$f":"IF(OR(IFERROR(MATCH($D1854,'Transparency List 2018_10'!$L:$L,0),FALSE),IFERROR(MATCH(TRIM($G1854),'Transparency List 2018_10'!$D:$D,0),FALSE)),\"On the 2018_10 List\",\"-\")","v":"-"},{"$f":"IF(OR(IFERROR(MATCH($D1854,'Transparency List 2018_04'!$L:$L,0),FALSE),IFERROR(MATCH(TRIM($G1854),'Transparency List 2018_04'!$D:$D,0),FALSE)),\"On the 2018_04 List\",\"-\")","v":"-"},{"$f":"IF(OR(IFERROR(MATCH($D1854,'Transparency List 2017'!$L:$L,0),FALSE),IFERROR(MATCH(TRIM($G1854),'Transparency List 2017'!$C:$C,0),FALSE)),\"On the 2017 List\",\"-\")","v":"-"},{"$f":"IF(OR(IFERROR(MATCH($D1854,'Transparency List 2015'!$H:$H,0),FALSE),IFERROR(MATCH(TRIM($G1854),'Transparency List 2015'!$C:$C,0),FALSE)),\"On the 2015 List\",\"-\")","v":"-"}]
[null,null,4,"",null,null,null,"-",{"$f":"IF(OR(IFERROR(MATCH($D1855,'Transparency List 2018_10'!$L:$L,0),FALSE),IFERROR(MATCH(TRIM($G1855),'Transparency List 2018_10'!$D:$D,0),FALSE)),\"On the 2018_10 List\",\"-\")","v":"-"},{"$f":"IF(OR(IFERROR(MATCH($D1855,'Transparency List 2018_04'!$L:$L,0),FALSE),IFERROR(MATCH(TRIM($G1855),'Transparency List 2018_04'!$D:$D,0),FALSE)),\"On the 2018_04 List\",\"-\")","v":"-"},{"$f":"IF(OR(IFERROR(MATCH($D1855,'Transparency List 2017'!$L:$L,0),FALSE),IFERROR(MATCH(TRIM($G1855),'Transparency List 2017'!$C:$C,0),FALSE)),\"On the 2017 List\",\"-\")","v":"-"},{"$f":"IF(OR(IFERROR(MATCH($D1855,'Transparency List 2015'!$H:$H,0),FALSE),IFERROR(MATCH(TRIM($G1855),'Transparency List 2015'!$C:$C,0),FALSE)),\"On the 2015 List\",\"-\")","v":"-"}]
[null,null,4,"",null,null,null,"-",{"$f":"IF(OR(IFERROR(MATCH($D1856,'Transparency List 2018_10'!$L:$L,0),FALSE),IFERROR(MATCH(TRIM($G1856),'Transparency List 2018_10'!$D:$D,0),FALSE)),\"On the 2018_10 List\",\"-\")","v":"-"},{"$f":"IF(OR(IFERROR(MATCH($D1856,'Transparency List 2018_04'!$L:$L,0),FALSE),IFERROR(MATCH(TRIM($G1856),'Transparency List 2018_04'!$D:$D,0),FALSE)),\"On the 2018_04 List\",\"-\")","v":"-"},{"$f":"IF(OR(IFERROR(MATCH($D1856,'Transparency List 2017'!$L:$L,0),FALSE),IFERROR(MATCH(TRIM($G1856),'Transparency List 2017'!$C:$C,0),FALSE)),\"On the 2017 List\",\"-\")","v":"-"},{"$f":"IF(OR(IFERROR(MATCH($D1856,'Transparency List 2015'!$H:$H,0),FALSE),IFERROR(MATCH(TRIM($G1856),'Transparency List 2015'!$C:$C,0),FALSE)),\"On the 2015 List\",\"-\")","v":"-"}]
[null,null,4,"",null,null,null,"-",{"$f":"IF(OR(IFERROR(MATCH($D1857,'Transparency List 2018_10'!$L:$L,0),FALSE),IFERROR(MATCH(TRIM($G1857),'Transparency List 2018_10'!$D:$D,0),FALSE)),\"On the 2018_10 List\",\"-\")","v":"-"},{"$f":"IF(OR(IFERROR(MATCH($D1857,'Transparency List 2018_04'!$L:$L,0),FALSE),IFERROR(MATCH(TRIM($G1857),'Transparency List 2018_04'!$D:$D,0),FALSE)),\"On the 2018_04 List\",\"-\")","v":"-"},{"$f":"IF(OR(IFERROR(MATCH($D1857,'Transparency List 2017'!$L:$L,0),FALSE),IFERROR(MATCH(TRIM($G1857),'Transparency List 2017'!$C:$C,0),FALSE)),\"On the 2017 List\",\"-\")","v":"-"},{"$f":"IF(OR(IFERROR(MATCH($D1857,'Transparency List 2015'!$H:$H,0),FALSE),IFERROR(MATCH(TRIM($G1857),'Transparency List 2015'!$C:$C,0),FALSE)),\"On the 2015 List\",\"-\")","v":"-"}]
[null,null,4,"",null,null,null,"-",{"$f":"IF(OR(IFERROR(MATCH($D1858,'Transparency List 2018_10'!$L:$L,0),FALSE),IFERROR(MATCH(TRIM($G1858),'Transparency List 2018_10'!$D:$D,0),FALSE)),\"On the 2018_10 List\",\"-\")","v":"-"},{"$f":"IF(OR(IFERROR(MATCH($D1858,'Transparency List 2018_04'!$L:$L,0),FALSE),IFERROR(MATCH(TRIM($G1858),'Transparency List 2018_04'!$D:$D,0),FALSE)),\"On the 2018_04 List\",\"-\")","v":"-"},{"$f":"IF(OR(IFERROR(MATCH($D1858,'Transparency List 2017'!$L:$L,0),FALSE),IFERROR(MATCH(TRIM($G1858),'Transparency List 2017'!$C:$C,0),FALSE)),\"On the 2017 List\",\"-\")","v":"-"},{"$f":"IF(OR(IFERROR(MATCH($D1858,'Transparency List 2015'!$H:$H,0),FALSE),IFERROR(MATCH(TRIM($G1858),'Transparency List 2015'!$C:$C,0),FALSE)),\"On the 2015 List\",\"-\")","v":"-"}]
[null,null,4,"",null,null,null,"-",{"$f":"IF(OR(IFERROR(MATCH($D1859,'Transparency List 2018_10'!$L:$L,0),FALSE),IFERROR(MATCH(TRIM($G1859),'Transparency List 2018_10'!$D:$D,0),FALSE)),\"On the 2018_10 List\",\"-\")","v":"-"},{"$f":"IF(OR(IFERROR(MATCH($D1859,'Transparency List 2018_04'!$L:$L,0),FALSE),IFERROR(MATCH(TRIM($G1859),'Transparency List 2018_04'!$D:$D,0),FALSE)),\"On the 2018_04 List\",\"-\")","v":"-"},{"$f":"IF(OR(IFERROR(MATCH($D1859,'Transparency List 2017'!$L:$L,0),FALSE),IFERROR(MATCH(TRIM($G1859),'Transparency List 2017'!$C:$C,0),FALSE)),\"On the 2017 List\",\"-\")","v":"-"},{"$f":"IF(OR(IFERROR(MATCH($D1859,'Transparency List 2015'!$H:$H,0),FALSE),IFERROR(MATCH(TRIM($G1859),'Transparency List 2015'!$C:$C,0),FALSE)),\"On the 2015 List\",\"-\")","v":"-"}]
[null,null,4,"",null,null,null,"-",{"$f":"IF(OR(IFERROR(MATCH($D1860,'Transparency List 2018_10'!$L:$L,0),FALSE),IFERROR(MATCH(TRIM($G1860),'Transparency List 2018_10'!$D:$D,0),FALSE)),\"On the 2018_10 List\",\"-\")","v":"-"},{"$f":"IF(OR(IFERROR(MATCH($D1860,'Transparency List 2018_04'!$L:$L,0),FALSE),IFERROR(MATCH(TRIM($G1860),'Transparency List 2018_04'!$D:$D,0),FALSE)),\"On the 2018_04 List\",\"-\")","v":"-"},{"$f":"IF(OR(IFERROR(MATCH($D1860,'Transparency List 2017'!$L:$L,0),FALSE),IFERROR(MATCH(TRIM($G1860),'Transparency List 2017'!$C:$C,0),FALSE)),\"On the 2017 List\",\"-\")","v":"-"},{"$f":"IF(OR(IFERROR(MATCH($D1860,'Transparency List 2015'!$H:$H,0),FALSE),IFERROR(MATCH(TRIM($G1860),'Transparency List 2015'!$C:$C,0),FALSE)),\"On the 2015 List\",\"-\")","v":"-"}]
[null,null,4,"",null,null,null,"-",{"$f":"IF(OR(IFERROR(MATCH($D1861,'Transparency List 2018_10'!$L:$L,0),FALSE),IFERROR(MATCH(TRIM($G1861),'Transparency List 2018_10'!$D:$D,0),FALSE)),\"On the 2018_10 List\",\"-\")","v":"-"},{"$f":"IF(OR(IFERROR(MATCH($D1861,'Transparency List 2018_04'!$L:$L,0),FALSE),IFERROR(MATCH(TRIM($G1861),'Transparency List 2018_04'!$D:$D,0),FALSE)),\"On the 2018_04 List\",\"-\")","v":"-"},{"$f":"IF(OR(IFERROR(MATCH($D1861,'Transparency List 2017'!$L:$L,0),FALSE),IFERROR(MATCH(TRIM($G1861),'Transparency List 2017'!$C:$C,0),FALSE)),\"On the 2017 List\",\"-\")","v":"-"},{"$f":"IF(OR(IFERROR(MATCH($D1861,'Transparency List 2015'!$H:$H,0),FALSE),IFERROR(MATCH(TRIM($G1861),'Transparency List 2015'!$C:$C,0),FALSE)),\"On the 2015 List\",\"-\")","v":"-"}]
[null,null,4,"",null,null,null,"-",{"$f":"IF(OR(IFERROR(MATCH($D1862,'Transparency List 2018_10'!$L:$L,0),FALSE),IFERROR(MATCH(TRIM($G1862),'Transparency List 2018_10'!$D:$D,0),FALSE)),\"On the 2018_10 List\",\"-\")","v":"-"},{"$f":"IF(OR(IFERROR(MATCH($D1862,'Transparency List 2018_04'!$L:$L,0),FALSE),IFERROR(MATCH(TRIM($G1862),'Transparency List 2018_04'!$D:$D,0),FALSE)),\"On the 2018_04 List\",\"-\")","v":"-"},{"$f":"IF(OR(IFERROR(MATCH($D1862,'Transparency List 2017'!$L:$L,0),FALSE),IFERROR(MATCH(TRIM($G1862),'Transparency List 2017'!$C:$C,0),FALSE)),\"On the 2017 List\",\"-\")","v":"-"},{"$f":"IF(OR(IFERROR(MATCH($D1862,'Transparency List 2015'!$H:$H,0),FALSE),IFERROR(MATCH(TRIM($G1862),'Transparency List 2015'!$C:$C,0),FALSE)),\"On the 2015 List\",\"-\")","v":"-"}]
[null,null,4,"",null,null,null,"-",{"$f":"IF(OR(IFERROR(MATCH($D1863,'Transparency List 2018_10'!$L:$L,0),FALSE),IFERROR(MATCH(TRIM($G1863),'Transparency List 2018_10'!$D:$D,0),FALSE)),\"On the 2018_10 List\",\"-\")","v":"-"},{"$f":"IF(OR(IFERROR(MATCH($D1863,'Transparency List 2018_04'!$L:$L,0),FALSE),IFERROR(MATCH(TRIM($G1863),'Transparency List 2018_04'!$D:$D,0),FALSE)),\"On the 2018_04 List\",\"-\")","v":"-"},{"$f":"IF(OR(IFERROR(MATCH($D1863,'Transparency List 2017'!$L:$L,0),FALSE),IFERROR(MATCH(TRIM($G1863),'Transparency List 2017'!$C:$C,0),FALSE)),\"On the 2017 List\",\"-\")","v":"-"},{"$f":"IF(OR(IFERROR(MATCH($D1863,'Transparency List 2015'!$H:$H,0),FALSE),IFERROR(MATCH(TRIM($G1863),'Transparency List 2015'!$C:$C,0),FALSE)),\"On the 2015 List\",\"-\")","v":"-"}]
[null,null,4,"",null,null,null,"-",{"$f":"IF(OR(IFERROR(MATCH($D1864,'Transparency List 2018_10'!$L:$L,0),FALSE),IFERROR(MATCH(TRIM($G1864),'Transparency List 2018_10'!$D:$D,0),FALSE)),\"On the 2018_10 List\",\"-\")","v":"-"},{"$f":"IF(OR(IFERROR(MATCH($D1864,'Transparency List 2018_04'!$L:$L,0),FALSE),IFERROR(MATCH(TRIM($G1864),'Transparency List 2018_04'!$D:$D,0),FALSE)),\"On the 2018_04 List\",\"-\")","v":"-"},{"$f":"IF(OR(IFERROR(MATCH($D1864,'Transparency List 2017'!$L:$L,0),FALSE),IFERROR(MATCH(TRIM($G1864),'Transparency List 2017'!$C:$C,0),FALSE)),\"On the 2017 List\",\"-\")","v":"-"},{"$f":"IF(OR(IFERROR(MATCH($D1864,'Transparency List 2015'!$H:$H,0),FALSE),IFERROR(MATCH(TRIM($G1864),'Transparency List 2015'!$C:$C,0),FALSE)),\"On the 2015 List\",\"-\")","v":"-"}]
[null,null,4,"",null,null,null,"-",{"$f":"IF(OR(IFERROR(MATCH($D1865,'Transparency List 2018_10'!$L:$L,0),FALSE),IFERROR(MATCH(TRIM($G1865),'Transparency List 2018_10'!$D:$D,0),FALSE)),\"On the 2018_10 List\",\"-\")","v":"-"},{"$f":"IF(OR(IFERROR(MATCH($D1865,'Transparency List 2018_04'!$L:$L,0),FALSE),IFERROR(MATCH(TRIM($G1865),'Transparency List 2018_04'!$D:$D,0),FALSE)),\"On the 2018_04 List\",\"-\")","v":"-"},{"$f":"IF(OR(IFERROR(MATCH($D1865,'Transparency List 2017'!$L:$L,0),FALSE),IFERROR(MATCH(TRIM($G1865),'Transparency List 2017'!$C:$C,0),FALSE)),\"On the 2017 List\",\"-\")","v":"-"},{"$f":"IF(OR(IFERROR(MATCH($D1865,'Transparency List 2015'!$H:$H,0),FALSE),IFERROR(MATCH(TRIM($G1865),'Transparency List 2015'!$C:$C,0),FALSE)),\"On the 2015 List\",\"-\")","v":"-"}]
[null,null,4,"",null,null,null,"-",{"$f":"IF(OR(IFERROR(MATCH($D1866,'Transparency List 2018_10'!$L:$L,0),FALSE),IFERROR(MATCH(TRIM($G1866),'Transparency List 2018_10'!$D:$D,0),FALSE)),\"On the 2018_10 List\",\"-\")","v":"-"},{"$f":"IF(OR(IFERROR(MATCH($D1866,'Transparency List 2018_04'!$L:$L,0),FALSE),IFERROR(MATCH(TRIM($G1866),'Transparency List 2018_04'!$D:$D,0),FALSE)),\"On the 2018_04 List\",\"-\")","v":"-"},{"$f":"IF(OR(IFERROR(MATCH($D1866,'Transparency List 2017'!$L:$L,0),FALSE),IFERROR(MATCH(TRIM($G1866),'Transparency List 2017'!$C:$C,0),FALSE)),\"On the 2017 List\",\"-\")","v":"-"},{"$f":"IF(OR(IFERROR(MATCH($D1866,'Transparency List 2015'!$H:$H,0),FALSE),IFERROR(MATCH(TRIM($G1866),'Transparency List 2015'!$C:$C,0),FALSE)),\"On the 2015 List\",\"-\")","v":"-"}]
[null,null,4,"",null,null,null,"-",{"$f":"IF(OR(IFERROR(MATCH($D1867,'Transparency List 2018_10'!$L:$L,0),FALSE),IFERROR(MATCH(TRIM($G1867),'Transparency List 2018_10'!$D:$D,0),FALSE)),\"On the 2018_10 List\",\"-\")","v":"-"},{"$f":"IF(OR(IFERROR(MATCH($D1867,'Transparency List 2018_04'!$L:$L,0),FALSE),IFERROR(MATCH(TRIM($G1867),'Transparency List 2018_04'!$D:$D,0),FALSE)),\"On the 2018_04 List\",\"-\")","v":"-"},{"$f":"IF(OR(IFERROR(MATCH($D1867,'Transparency List 2017'!$L:$L,0),FALSE),IFERROR(MATCH(TRIM($G1867),'Transparency List 2017'!$C:$C,0),FALSE)),\"On the 2017 List\",\"-\")","v":"-"},{"$f":"IF(OR(IFERROR(MATCH($D1867,'Transparency List 2015'!$H:$H,0),FALSE),IFERROR(MATCH(TRIM($G1867),'Transparency List 2015'!$C:$C,0),FALSE)),\"On the 2015 List\",\"-\")","v":"-"}]
[null,null,4,"",null,null,null,"-",{"$f":"IF(OR(IFERROR(MATCH($D1868,'Transparency List 2018_10'!$L:$L,0),FALSE),IFERROR(MATCH(TRIM($G1868),'Transparency List 2018_10'!$D:$D,0),FALSE)),\"On the 2018_10 List\",\"-\")","v":"-"},{"$f":"IF(OR(IFERROR(MATCH($D1868,'Transparency List 2018_04'!$L:$L,0),FALSE),IFERROR(MATCH(TRIM($G1868),'Transparency List 2018_04'!$D:$D,0),FALSE)),\"On the 2018_04 List\",\"-\")","v":"-"},{"$f":"IF(OR(IFERROR(MATCH($D1868,'Transparency List 2017'!$L:$L,0),FALSE),IFERROR(MATCH(TRIM($G1868),'Transparency List 2017'!$C:$C,0),FALSE)),\"On the 2017 List\",\"-\")","v":"-"},{"$f":"IF(OR(IFERROR(MATCH($D1868,'Transparency List 2015'!$H:$H,0),FALSE),IFERROR(MATCH(TRIM($G1868),'Transparency List 2015'!$C:$C,0),FALSE)),\"On the 2015 List\",\"-\")","v":"-"}]
[null,null,4,"",null,null,null,"-",{"$f":"IF(OR(IFERROR(MATCH($D1869,'Transparency List 2018_10'!$L:$L,0),FALSE),IFERROR(MATCH(TRIM($G1869),'Transparency List 2018_10'!$D:$D,0),FALSE)),\"On the 2018_10 List\",\"-\")","v":"-"},{"$f":"IF(OR(IFERROR(MATCH($D1869,'Transparency List 2018_04'!$L:$L,0),FALSE),IFERROR(MATCH(TRIM($G1869),'Transparency List 2018_04'!$D:$D,0),FALSE)),\"On the 2018_04 List\",\"-\")","v":"-"},{"$f":"IF(OR(IFERROR(MATCH($D1869,'Transparency List 2017'!$L:$L,0),FALSE),IFERROR(MATCH(TRIM($G1869),'Transparency List 2017'!$C:$C,0),FALSE)),\"On the 2017 List\",\"-\")","v":"-"},{"$f":"IF(OR(IFERROR(MATCH($D1869,'Transparency List 2015'!$H:$H,0),FALSE),IFERROR(MATCH(TRIM($G1869),'Transparency List 2015'!$C:$C,0),FALSE)),\"On the 2015 List\",\"-\")","v":"-"}]
[null,null,4,"",null,null,null,"-",{"$f":"IF(OR(IFERROR(MATCH($D1870,'Transparency List 2018_10'!$L:$L,0),FALSE),IFERROR(MATCH(TRIM($G1870),'Transparency List 2018_10'!$D:$D,0),FALSE)),\"On the 2018_10 List\",\"-\")","v":"-"},{"$f":"IF(OR(IFERROR(MATCH($D1870,'Transparency List 2018_04'!$L:$L,0),FALSE),IFERROR(MATCH(TRIM($G1870),'Transparency List 2018_04'!$D:$D,0),FALSE)),\"On the 2018_04 List\",\"-\")","v":"-"},{"$f":"IF(OR(IFERROR(MATCH($D1870,'Transparency List 2017'!$L:$L,0),FALSE),IFERROR(MATCH(TRIM($G1870),'Transparency List 2017'!$C:$C,0),FALSE)),\"On the 2017 List\",\"-\")","v":"-"},{"$f":"IF(OR(IFERROR(MATCH($D1870,'Transparency List 2015'!$H:$H,0),FALSE),IFERROR(MATCH(TRIM($G1870),'Transparency List 2015'!$C:$C,0),FALSE)),\"On the 2015 List\",\"-\")","v":"-"}]
[null,null,4,"",null,null,null,"-",{"$f":"IF(OR(IFERROR(MATCH($D1871,'Transparency List 2018_10'!$L:$L,0),FALSE),IFERROR(MATCH(TRIM($G1871),'Transparency List 2018_10'!$D:$D,0),FALSE)),\"On the 2018_10 List\",\"-\")","v":"-"},{"$f":"IF(OR(IFERROR(MATCH($D1871,'Transparency List 2018_04'!$L:$L,0),FALSE),IFERROR(MATCH(TRIM($G1871),'Transparency List 2018_04'!$D:$D,0),FALSE)),\"On the 2018_04 List\",\"-\")","v":"-"},{"$f":"IF(OR(IFERROR(MATCH($D1871,'Transparency List 2017'!$L:$L,0),FALSE),IFERROR(MATCH(TRIM($G1871),'Transparency List 2017'!$C:$C,0),FALSE)),\"On the 2017 List\",\"-\")","v":"-"},{"$f":"IF(OR(IFERROR(MATCH($D1871,'Transparency List 2015'!$H:$H,0),FALSE),IFERROR(MATCH(TRIM($G1871),'Transparency List 2015'!$C:$C,0),FALSE)),\"On the 2015 List\",\"-\")","v":"-"}]
[null,null,4,"",null,null,null,"-",{"$f":"IF(OR(IFERROR(MATCH($D1872,'Transparency List 2018_10'!$L:$L,0),FALSE),IFERROR(MATCH(TRIM($G1872),'Transparency List 2018_10'!$D:$D,0),FALSE)),\"On the 2018_10 List\",\"-\")","v":"-"},{"$f":"IF(OR(IFERROR(MATCH($D1872,'Transparency List 2018_04'!$L:$L,0),FALSE),IFERROR(MATCH(TRIM($G1872),'Transparency List 2018_04'!$D:$D,0),FALSE)),\"On the 2018_04 List\",\"-\")","v":"-"},{"$f":"IF(OR(IFERROR(MATCH($D1872,'Transparency List 2017'!$L:$L,0),FALSE),IFERROR(MATCH(TRIM($G1872),'Transparency List 2017'!$C:$C,0),FALSE)),\"On the 2017 List\",\"-\")","v":"-"},{"$f":"IF(OR(IFERROR(MATCH($D1872,'Transparency List 2015'!$H:$H,0),FALSE),IFERROR(MATCH(TRIM($G1872),'Transparency List 2015'!$C:$C,0),FALSE)),\"On the 2015 List\",\"-\")","v":"-"}]
[null,null,4,"",null,null,null,"-",{"$f":"IF(OR(IFERROR(MATCH($D1873,'Transparency List 2018_10'!$L:$L,0),FALSE),IFERROR(MATCH(TRIM($G1873),'Transparency List 2018_10'!$D:$D,0),FALSE)),\"On the 2018_10 List\",\"-\")","v":"-"},{"$f":"IF(OR(IFERROR(MATCH($D1873,'Transparency List 2018_04'!$L:$L,0),FALSE),IFERROR(MATCH(TRIM($G1873),'Transparency List 2018_04'!$D:$D,0),FALSE)),\"On the 2018_04 List\",\"-\")","v":"-"},{"$f":"IF(OR(IFERROR(MATCH($D1873,'Transparency List 2017'!$L:$L,0),FALSE),IFERROR(MATCH(TRIM($G1873),'Transparency List 2017'!$C:$C,0),FALSE)),\"On the 2017 List\",\"-\")","v":"-"},{"$f":"IF(OR(IFERROR(MATCH($D1873,'Transparency List 2015'!$H:$H,0),FALSE),IFERROR(MATCH(TRIM($G1873),'Transparency List 2015'!$C:$C,0),FALSE)),\"On the 2015 List\",\"-\")","v":"-"}]
[null,null,4,"",null,null,null,"-",{"$f":"IF(OR(IFERROR(MATCH($D1874,'Transparency List 2018_10'!$L:$L,0),FALSE),IFERROR(MATCH(TRIM($G1874),'Transparency List 2018_10'!$D:$D,0),FALSE)),\"On the 2018_10 List\",\"-\")","v":"-"},{"$f":"IF(OR(IFERROR(MATCH($D1874,'Transparency List 2018_04'!$L:$L,0),FALSE),IFERROR(MATCH(TRIM($G1874),'Transparency List 2018_04'!$D:$D,0),FALSE)),\"On the 2018_04 List\",\"-\")","v":"-"},{"$f":"IF(OR(IFERROR(MATCH($D1874,'Transparency List 2017'!$L:$L,0),FALSE),IFERROR(MATCH(TRIM($G1874),'Transparency List 2017'!$C:$C,0),FALSE)),\"On the 2017 List\",\"-\")","v":"-"},{"$f":"IF(OR(IFERROR(MATCH($D1874,'Transparency List 2015'!$H:$H,0),FALSE),IFERROR(MATCH(TRIM($G1874),'Transparency List 2015'!$C:$C,0),FALSE)),\"On the 2015 List\",\"-\")","v":"-"}]
[null,null,4,"",null,null,null,"-",{"$f":"IF(OR(IFERROR(MATCH($D1875,'Transparency List 2018_10'!$L:$L,0),FALSE),IFERROR(MATCH(TRIM($G1875),'Transparency List 2018_10'!$D:$D,0),FALSE)),\"On the 2018_10 List\",\"-\")","v":"-"},{"$f":"IF(OR(IFERROR(MATCH($D1875,'Transparency List 2018_04'!$L:$L,0),FALSE),IFERROR(MATCH(TRIM($G1875),'Transparency List 2018_04'!$D:$D,0),FALSE)),\"On the 2018_04 List\",\"-\")","v":"-"},{"$f":"IF(OR(IFERROR(MATCH($D1875,'Transparency List 2017'!$L:$L,0),FALSE),IFERROR(MATCH(TRIM($G1875),'Transparency List 2017'!$C:$C,0),FALSE)),\"On the 2017 List\",\"-\")","v":"-"},{"$f":"IF(OR(IFERROR(MATCH($D1875,'Transparency List 2015'!$H:$H,0),FALSE),IFERROR(MATCH(TRIM($G1875),'Transparency List 2015'!$C:$C,0),FALSE)),\"On the 2015 List\",\"-\")","v":"-"}]
[null,null,4,"",null,null,null,"-",{"$f":"IF(OR(IFERROR(MATCH($D1876,'Transparency List 2018_10'!$L:$L,0),FALSE),IFERROR(MATCH(TRIM($G1876),'Transparency List 2018_10'!$D:$D,0),FALSE)),\"On the 2018_10 List\",\"-\")","v":"-"},{"$f":"IF(OR(IFERROR(MATCH($D1876,'Transparency List 2018_04'!$L:$L,0),FALSE),IFERROR(MATCH(TRIM($G1876),'Transparency List 2018_04'!$D:$D,0),FALSE)),\"On the 2018_04 List\",\"-\")","v":"-"},{"$f":"IF(OR(IFERROR(MATCH($D1876,'Transparency List 2017'!$L:$L,0),FALSE),IFERROR(MATCH(TRIM($G1876),'Transparency List 2017'!$C:$C,0),FALSE)),\"On the 2017 List\",\"-\")","v":"-"},{"$f":"IF(OR(IFERROR(MATCH($D1876,'Transparency List 2015'!$H:$H,0),FALSE),IFERROR(MATCH(TRIM($G1876),'Transparency List 2015'!$C:$C,0),FALSE)),\"On the 2015 List\",\"-\")","v":"-"}]
[null,null,4,"",null,null,null,"-",{"$f":"IF(OR(IFERROR(MATCH($D1877,'Transparency List 2018_10'!$L:$L,0),FALSE),IFERROR(MATCH(TRIM($G1877),'Transparency List 2018_10'!$D:$D,0),FALSE)),\"On the 2018_10 List\",\"-\")","v":"-"},{"$f":"IF(OR(IFERROR(MATCH($D1877,'Transparency List 2018_04'!$L:$L,0),FALSE),IFERROR(MATCH(TRIM($G1877),'Transparency List 2018_04'!$D:$D,0),FALSE)),\"On the 2018_04 List\",\"-\")","v":"-"},{"$f":"IF(OR(IFERROR(MATCH($D1877,'Transparency List 2017'!$L:$L,0),FALSE),IFERROR(MATCH(TRIM($G1877),'Transparency List 2017'!$C:$C,0),FALSE)),\"On the 2017 List\",\"-\")","v":"-"},{"$f":"IF(OR(IFERROR(MATCH($D1877,'Transparency List 2015'!$H:$H,0),FALSE),IFERROR(MATCH(TRIM($G1877),'Transparency List 2015'!$C:$C,0),FALSE)),\"On the 2015 List\",\"-\")","v":"-"}]
[null,null,4,"",null,null,null,"-",{"$f":"IF(OR(IFERROR(MATCH($D1878,'Transparency List 2018_10'!$L:$L,0),FALSE),IFERROR(MATCH(TRIM($G1878),'Transparency List 2018_10'!$D:$D,0),FALSE)),\"On the 2018_10 List\",\"-\")","v":"-"},{"$f":"IF(OR(IFERROR(MATCH($D1878,'Transparency List 2018_04'!$L:$L,0),FALSE),IFERROR(MATCH(TRIM($G1878),'Transparency List 2018_04'!$D:$D,0),FALSE)),\"On the 2018_04 List\",\"-\")","v":"-"},{"$f":"IF(OR(IFERROR(MATCH($D1878,'Transparency List 2017'!$L:$L,0),FALSE),IFERROR(MATCH(TRIM($G1878),'Transparency List 2017'!$C:$C,0),FALSE)),\"On the 2017 List\",\"-\")","v":"-"},{"$f":"IF(OR(IFERROR(MATCH($D1878,'Transparency List 2015'!$H:$H,0),FALSE),IFERROR(MATCH(TRIM($G1878),'Transparency List 2015'!$C:$C,0),FALSE)),\"On the 2015 List\",\"-\")","v":"-"}]
[null,null,4,"",null,null,null,"-",{"$f":"IF(OR(IFERROR(MATCH($D1879,'Transparency List 2018_10'!$L:$L,0),FALSE),IFERROR(MATCH(TRIM($G1879),'Transparency List 2018_10'!$D:$D,0),FALSE)),\"On the 2018_10 List\",\"-\")","v":"-"},{"$f":"IF(OR(IFERROR(MATCH($D1879,'Transparency List 2018_04'!$L:$L,0),FALSE),IFERROR(MATCH(TRIM($G1879),'Transparency List 2018_04'!$D:$D,0),FALSE)),\"On the 2018_04 List\",\"-\")","v":"-"},{"$f":"IF(OR(IFERROR(MATCH($D1879,'Transparency List 2017'!$L:$L,0),FALSE),IFERROR(MATCH(TRIM($G1879),'Transparency List 2017'!$C:$C,0),FALSE)),\"On the 2017 List\",\"-\")","v":"-"},{"$f":"IF(OR(IFERROR(MATCH($D1879,'Transparency List 2015'!$H:$H,0),FALSE),IFERROR(MATCH(TRIM($G1879),'Transparency List 2015'!$C:$C,0),FALSE)),\"On the 2015 List\",\"-\")","v":"-"}]
[null,null,4,"",null,null,null,"-",{"$f":"IF(OR(IFERROR(MATCH($D1880,'Transparency List 2018_10'!$L:$L,0),FALSE),IFERROR(MATCH(TRIM($G1880),'Transparency List 2018_10'!$D:$D,0),FALSE)),\"On the 2018_10 List\",\"-\")","v":"-"},{"$f":"IF(OR(IFERROR(MATCH($D1880,'Transparency List 2018_04'!$L:$L,0),FALSE),IFERROR(MATCH(TRIM($G1880),'Transparency List 2018_04'!$D:$D,0),FALSE)),\"On the 2018_04 List\",\"-\")","v":"-"},{"$f":"IF(OR(IFERROR(MATCH($D1880,'Transparency List 2017'!$L:$L,0),FALSE),IFERROR(MATCH(TRIM($G1880),'Transparency List 2017'!$C:$C,0),FALSE)),\"On the 2017 List\",\"-\")","v":"-"},{"$f":"IF(OR(IFERROR(MATCH($D1880,'Transparency List 2015'!$H:$H,0),FALSE),IFERROR(MATCH(TRIM($G1880),'Transparency List 2015'!$C:$C,0),FALSE)),\"On the 2015 List\",\"-\")","v":"-"}]
[null,null,4,"",null,null,null,"-",{"$f":"IF(OR(IFERROR(MATCH($D1881,'Transparency List 2018_10'!$L:$L,0),FALSE),IFERROR(MATCH(TRIM($G1881),'Transparency List 2018_10'!$D:$D,0),FALSE)),\"On the 2018_10 List\",\"-\")","v":"-"},{"$f":"IF(OR(IFERROR(MATCH($D1881,'Transparency List 2018_04'!$L:$L,0),FALSE),IFERROR(MATCH(TRIM($G1881),'Transparency List 2018_04'!$D:$D,0),FALSE)),\"On the 2018_04 List\",\"-\")","v":"-"},{"$f":"IF(OR(IFERROR(MATCH($D1881,'Transparency List 2017'!$L:$L,0),FALSE),IFERROR(MATCH(TRIM($G1881),'Transparency List 2017'!$C:$C,0),FALSE)),\"On the 2017 List\",\"-\")","v":"-"},{"$f":"IF(OR(IFERROR(MATCH($D1881,'Transparency List 2015'!$H:$H,0),FALSE),IFERROR(MATCH(TRIM($G1881),'Transparency List 2015'!$C:$C,0),FALSE)),\"On the 2015 List\",\"-\")","v":"-"}]
[null,null,4,"",null,null,null,"-",{"$f":"IF(OR(IFERROR(MATCH($D1882,'Transparency List 2018_10'!$L:$L,0),FALSE),IFERROR(MATCH(TRIM($G1882),'Transparency List 2018_10'!$D:$D,0),FALSE)),\"On the 2018_10 List\",\"-\")","v":"-"},{"$f":"IF(OR(IFERROR(MATCH($D1882,'Transparency List 2018_04'!$L:$L,0),FALSE),IFERROR(MATCH(TRIM($G1882),'Transparency List 2018_04'!$D:$D,0),FALSE)),\"On the 2018_04 List\",\"-\")","v":"-"},{"$f":"IF(OR(IFERROR(MATCH($D1882,'Transparency List 2017'!$L:$L,0),FALSE),IFERROR(MATCH(TRIM($G1882),'Transparency List 2017'!$C:$C,0),FALSE)),\"On the 2017 List\",\"-\")","v":"-"},{"$f":"IF(OR(IFERROR(MATCH($D1882,'Transparency List 2015'!$H:$H,0),FALSE),IFERROR(MATCH(TRIM($G1882),'Transparency List 2015'!$C:$C,0),FALSE)),\"On the 2015 List\",\"-\")","v":"-"}]
[null,null,4,"",null,null,null,"-",{"$f":"IF(OR(IFERROR(MATCH($D1883,'Transparency List 2018_10'!$L:$L,0),FALSE),IFERROR(MATCH(TRIM($G1883),'Transparency List 2018_10'!$D:$D,0),FALSE)),\"On the 2018_10 List\",\"-\")","v":"-"},{"$f":"IF(OR(IFERROR(MATCH($D1883,'Transparency List 2018_04'!$L:$L,0),FALSE),IFERROR(MATCH(TRIM($G1883),'Transparency List 2018_04'!$D:$D,0),FALSE)),\"On the 2018_04 List\",\"-\")","v":"-"},{"$f":"IF(OR(IFERROR(MATCH($D1883,'Transparency List 2017'!$L:$L,0),FALSE),IFERROR(MATCH(TRIM($G1883),'Transparency List 2017'!$C:$C,0),FALSE)),\"On the 2017 List\",\"-\")","v":"-"},{"$f":"IF(OR(IFERROR(MATCH($D1883,'Transparency List 2015'!$H:$H,0),FALSE),IFERROR(MATCH(TRIM($G1883),'Transparency List 2015'!$C:$C,0),FALSE)),\"On the 2015 List\",\"-\")","v":"-"}]
[null,null,4,"",null,null,null,"-",{"$f":"IF(OR(IFERROR(MATCH($D1884,'Transparency List 2018_10'!$L:$L,0),FALSE),IFERROR(MATCH(TRIM($G1884),'Transparency List 2018_10'!$D:$D,0),FALSE)),\"On the 2018_10 List\",\"-\")","v":"-"},{"$f":"IF(OR(IFERROR(MATCH($D1884,'Transparency List 2018_04'!$L:$L,0),FALSE),IFERROR(MATCH(TRIM($G1884),'Transparency List 2018_04'!$D:$D,0),FALSE)),\"On the 2018_04 List\",\"-\")","v":"-"},{"$f":"IF(OR(IFERROR(MATCH($D1884,'Transparency List 2017'!$L:$L,0),FALSE),IFERROR(MATCH(TRIM($G1884),'Transparency List 2017'!$C:$C,0),FALSE)),\"On the 2017 List\",\"-\")","v":"-"},{"$f":"IF(OR(IFERROR(MATCH($D1884,'Transparency List 2015'!$H:$H,0),FALSE),IFERROR(MATCH(TRIM($G1884),'Transparency List 2015'!$C:$C,0),FALSE)),\"On the 2015 List\",\"-\")","v":"-"}]
[null,null,4,"",null,null,null,"-",{"$f":"IF(OR(IFERROR(MATCH($D1885,'Transparency List 2018_10'!$L:$L,0),FALSE),IFERROR(MATCH(TRIM($G1885),'Transparency List 2018_10'!$D:$D,0),FALSE)),\"On the 2018_10 List\",\"-\")","v":"-"},{"$f":"IF(OR(IFERROR(MATCH($D1885,'Transparency List 2018_04'!$L:$L,0),FALSE),IFERROR(MATCH(TRIM($G1885),'Transparency List 2018_04'!$D:$D,0),FALSE)),\"On the 2018_04 List\",\"-\")","v":"-"},{"$f":"IF(OR(IFERROR(MATCH($D1885,'Transparency List 2017'!$L:$L,0),FALSE),IFERROR(MATCH(TRIM($G1885),'Transparency List 2017'!$C:$C,0),FALSE)),\"On the 2017 List\",\"-\")","v":"-"},{"$f":"IF(OR(IFERROR(MATCH($D1885,'Transparency List 2015'!$H:$H,0),FALSE),IFERROR(MATCH(TRIM($G1885),'Transparency List 2015'!$C:$C,0),FALSE)),\"On the 2015 List\",\"-\")","v":"-"}]
[null,null,4,"",null,null,null,"-",{"$f":"IF(OR(IFERROR(MATCH($D1886,'Transparency List 2018_10'!$L:$L,0),FALSE),IFERROR(MATCH(TRIM($G1886),'Transparency List 2018_10'!$D:$D,0),FALSE)),\"On the 2018_10 List\",\"-\")","v":"-"},{"$f":"IF(OR(IFERROR(MATCH($D1886,'Transparency List 2018_04'!$L:$L,0),FALSE),IFERROR(MATCH(TRIM($G1886),'Transparency List 2018_04'!$D:$D,0),FALSE)),\"On the 2018_04 List\",\"-\")","v":"-"},{"$f":"IF(OR(IFERROR(MATCH($D1886,'Transparency List 2017'!$L:$L,0),FALSE),IFERROR(MATCH(TRIM($G1886),'Transparency List 2017'!$C:$C,0),FALSE)),\"On the 2017 List\",\"-\")","v":"-"},{"$f":"IF(OR(IFERROR(MATCH($D1886,'Transparency List 2015'!$H:$H,0),FALSE),IFERROR(MATCH(TRIM($G1886),'Transparency List 2015'!$C:$C,0),FALSE)),\"On the 2015 List\",\"-\")","v":"-"}]
[null,null,{"$f":"COUNTIF($I1887:$L1887,\"-\")","v":4},{"$f":"SUBSTITUTE(SUBSTITUTE(SUBSTITUTE(SUBSTITUTE($G1887,\" \",\"\"),\".\",\"\"),\"-\",\"\"),\"/\",\"\")","v":""},null,null,null,{"$f":"IFERROR(IF($C1887=4,\"-\",\"Risk Farmer - Please conduct further steps\"),)","v":"-"},{"$f":"IF(OR(IFERROR(MATCH($D1887,'Transparency List 2018_10'!$L:$L,0),FALSE),IFERROR(MATCH(TRIM($G1887),'Transparency List 2018_10'!$D:$D,0),FALSE)),\"On the 2018_10 List\",\"-\")","v":"-"},{"$f":"IF(OR(IFERROR(MATCH($D1887,'Transparency List 2018_04'!$L:$L,0),FALSE),IFERROR(MATCH(TRIM($G1887),'Transparency List 2018_04'!$D:$D,0),FALSE)),\"On the 2018_04 List\",\"-\")","v":"-"},{"$f":"IF(OR(IFERROR(MATCH($D1887,'Transparency List 2017'!$L:$L,0),FALSE),IFERROR(MATCH(TRIM($G1887),'Transparency List 2017'!$C:$C,0),FALSE)),\"On the 2017 List\",\"-\")","v":"-"},{"$f":"IF(OR(IFERROR(MATCH($D1887,'Transparency List 2015'!$H:$H,0),FALSE),IFERROR(MATCH(TRIM($G1887),'Transparency List 2015'!$C:$C,0),FALSE)),\"On the 2015 List\",\"-\")","v":"-"}]
[null,null,4,"",null,null,null,"-",{"$f":"IF(OR(IFERROR(MATCH($D1888,'Transparency List 2018_10'!$L:$L,0),FALSE),IFERROR(MATCH(TRIM($G1888),'Transparency List 2018_10'!$D:$D,0),FALSE)),\"On the 2018_10 List\",\"-\")","v":"-"},{"$f":"IF(OR(IFERROR(MATCH($D1888,'Transparency List 2018_04'!$L:$L,0),FALSE),IFERROR(MATCH(TRIM($G1888),'Transparency List 2018_04'!$D:$D,0),FALSE)),\"On the 2018_04 List\",\"-\")","v":"-"},{"$f":"IF(OR(IFERROR(MATCH($D1888,'Transparency List 2017'!$L:$L,0),FALSE),IFERROR(MATCH(TRIM($G1888),'Transparency List 2017'!$C:$C,0),FALSE)),\"On the 2017 List\",\"-\")","v":"-"},{"$f":"IF(OR(IFERROR(MATCH($D1888,'Transparency List 2015'!$H:$H,0),FALSE),IFERROR(MATCH(TRIM($G1888),'Transparency List 2015'!$C:$C,0),FALSE)),\"On the 2015 List\",\"-\")","v":"-"}]
[null,null,4,"",null,null,null,"-",{"$f":"IF(OR(IFERROR(MATCH($D1889,'Transparency List 2018_10'!$L:$L,0),FALSE),IFERROR(MATCH(TRIM($G1889),'Transparency List 2018_10'!$D:$D,0),FALSE)),\"On the 2018_10 List\",\"-\")","v":"-"},{"$f":"IF(OR(IFERROR(MATCH($D1889,'Transparency List 2018_04'!$L:$L,0),FALSE),IFERROR(MATCH(TRIM($G1889),'Transparency List 2018_04'!$D:$D,0),FALSE)),\"On the 2018_04 List\",\"-\")","v":"-"},{"$f":"IF(OR(IFERROR(MATCH($D1889,'Transparency List 2017'!$L:$L,0),FALSE),IFERROR(MATCH(TRIM($G1889),'Transparency List 2017'!$C:$C,0),FALSE)),\"On the 2017 List\",\"-\")","v":"-"},{"$f":"IF(OR(IFERROR(MATCH($D1889,'Transparency List 2015'!$H:$H,0),FALSE),IFERROR(MATCH(TRIM($G1889),'Transparency List 2015'!$C:$C,0),FALSE)),\"On the 2015 List\",\"-\")","v":"-"}]
[null,null,4,"",null,null,null,"-",{"$f":"IF(OR(IFERROR(MATCH($D1890,'Transparency List 2018_10'!$L:$L,0),FALSE),IFERROR(MATCH(TRIM($G1890),'Transparency List 2018_10'!$D:$D,0),FALSE)),\"On the 2018_10 List\",\"-\")","v":"-"},{"$f":"IF(OR(IFERROR(MATCH($D1890,'Transparency List 2018_04'!$L:$L,0),FALSE),IFERROR(MATCH(TRIM($G1890),'Transparency List 2018_04'!$D:$D,0),FALSE)),\"On the 2018_04 List\",\"-\")","v":"-"},{"$f":"IF(OR(IFERROR(MATCH($D1890,'Transparency List 2017'!$L:$L,0),FALSE),IFERROR(MATCH(TRIM($G1890),'Transparency List 2017'!$C:$C,0),FALSE)),\"On the 2017 List\",\"-\")","v":"-"},{"$f":"IF(OR(IFERROR(MATCH($D1890,'Transparency List 2015'!$H:$H,0),FALSE),IFERROR(MATCH(TRIM($G1890),'Transparency List 2015'!$C:$C,0),FALSE)),\"On the 2015 List\",\"-\")","v":"-"}]
[null,null,4,"",null,null,null,"-",{"$f":"IF(OR(IFERROR(MATCH($D1891,'Transparency List 2018_10'!$L:$L,0),FALSE),IFERROR(MATCH(TRIM($G1891),'Transparency List 2018_10'!$D:$D,0),FALSE)),\"On the 2018_10 List\",\"-\")","v":"-"},{"$f":"IF(OR(IFERROR(MATCH($D1891,'Transparency List 2018_04'!$L:$L,0),FALSE),IFERROR(MATCH(TRIM($G1891),'Transparency List 2018_04'!$D:$D,0),FALSE)),\"On the 2018_04 List\",\"-\")","v":"-"},{"$f":"IF(OR(IFERROR(MATCH($D1891,'Transparency List 2017'!$L:$L,0),FALSE),IFERROR(MATCH(TRIM($G1891),'Transparency List 2017'!$C:$C,0),FALSE)),\"On the 2017 List\",\"-\")","v":"-"},{"$f":"IF(OR(IFERROR(MATCH($D1891,'Transparency List 2015'!$H:$H,0),FALSE),IFERROR(MATCH(TRIM($G1891),'Transparency List 2015'!$C:$C,0),FALSE)),\"On the 2015 List\",\"-\")","v":"-"}]
[null,null,4,"",null,null,null,"-",{"$f":"IF(OR(IFERROR(MATCH($D1892,'Transparency List 2018_10'!$L:$L,0),FALSE),IFERROR(MATCH(TRIM($G1892),'Transparency List 2018_10'!$D:$D,0),FALSE)),\"On the 2018_10 List\",\"-\")","v":"-"},{"$f":"IF(OR(IFERROR(MATCH($D1892,'Transparency List 2018_04'!$L:$L,0),FALSE),IFERROR(MATCH(TRIM($G1892),'Transparency List 2018_04'!$D:$D,0),FALSE)),\"On the 2018_04 List\",\"-\")","v":"-"},{"$f":"IF(OR(IFERROR(MATCH($D1892,'Transparency List 2017'!$L:$L,0),FALSE),IFERROR(MATCH(TRIM($G1892),'Transparency List 2017'!$C:$C,0),FALSE)),\"On the 2017 List\",\"-\")","v":"-"},{"$f":"IF(OR(IFERROR(MATCH($D1892,'Transparency List 2015'!$H:$H,0),FALSE),IFERROR(MATCH(TRIM($G1892),'Transparency List 2015'!$C:$C,0),FALSE)),\"On the 2015 List\",\"-\")","v":"-"}]
[null,null,4,"",null,null,null,"-",{"$f":"IF(OR(IFERROR(MATCH($D1893,'Transparency List 2018_10'!$L:$L,0),FALSE),IFERROR(MATCH(TRIM($G1893),'Transparency List 2018_10'!$D:$D,0),FALSE)),\"On the 2018_10 List\",\"-\")","v":"-"},{"$f":"IF(OR(IFERROR(MATCH($D1893,'Transparency List 2018_04'!$L:$L,0),FALSE),IFERROR(MATCH(TRIM($G1893),'Transparency List 2018_04'!$D:$D,0),FALSE)),\"On the 2018_04 List\",\"-\")","v":"-"},{"$f":"IF(OR(IFERROR(MATCH($D1893,'Transparency List 2017'!$L:$L,0),FALSE),IFERROR(MATCH(TRIM($G1893),'Transparency List 2017'!$C:$C,0),FALSE)),\"On the 2017 List\",\"-\")","v":"-"},{"$f":"IF(OR(IFERROR(MATCH($D1893,'Transparency List 2015'!$H:$H,0),FALSE),IFERROR(MATCH(TRIM($G1893),'Transparency List 2015'!$C:$C,0),FALSE)),\"On the 2015 List\",\"-\")","v":"-"}]
[null,null,4,"",null,null,null,"-",{"$f":"IF(OR(IFERROR(MATCH($D1894,'Transparency List 2018_10'!$L:$L,0),FALSE),IFERROR(MATCH(TRIM($G1894),'Transparency List 2018_10'!$D:$D,0),FALSE)),\"On the 2018_10 List\",\"-\")","v":"-"},{"$f":"IF(OR(IFERROR(MATCH($D1894,'Transparency List 2018_04'!$L:$L,0),FALSE),IFERROR(MATCH(TRIM($G1894),'Transparency List 2018_04'!$D:$D,0),FALSE)),\"On the 2018_04 List\",\"-\")","v":"-"},{"$f":"IF(OR(IFERROR(MATCH($D1894,'Transparency List 2017'!$L:$L,0),FALSE),IFERROR(MATCH(TRIM($G1894),'Transparency List 2017'!$C:$C,0),FALSE)),\"On the 2017 List\",\"-\")","v":"-"},{"$f":"IF(OR(IFERROR(MATCH($D1894,'Transparency List 2015'!$H:$H,0),FALSE),IFERROR(MATCH(TRIM($G1894),'Transparency List 2015'!$C:$C,0),FALSE)),\"On the 2015 List\",\"-\")","v":"-"}]
[null,null,4,"",null,null,null,"-",{"$f":"IF(OR(IFERROR(MATCH($D1895,'Transparency List 2018_10'!$L:$L,0),FALSE),IFERROR(MATCH(TRIM($G1895),'Transparency List 2018_10'!$D:$D,0),FALSE)),\"On the 2018_10 List\",\"-\")","v":"-"},{"$f":"IF(OR(IFERROR(MATCH($D1895,'Transparency List 2018_04'!$L:$L,0),FALSE),IFERROR(MATCH(TRIM($G1895),'Transparency List 2018_04'!$D:$D,0),FALSE)),\"On the 2018_04 List\",\"-\")","v":"-"},{"$f":"IF(OR(IFERROR(MATCH($D1895,'Transparency List 2017'!$L:$L,0),FALSE),IFERROR(MATCH(TRIM($G1895),'Transparency List 2017'!$C:$C,0),FALSE)),\"On the 2017 List\",\"-\")","v":"-"},{"$f":"IF(OR(IFERROR(MATCH($D1895,'Transparency List 2015'!$H:$H,0),FALSE),IFERROR(MATCH(TRIM($G1895),'Transparency List 2015'!$C:$C,0),FALSE)),\"On the 2015 List\",\"-\")","v":"-"}]
[null,null,4,"",null,null,null,"-",{"$f":"IF(OR(IFERROR(MATCH($D1896,'Transparency List 2018_10'!$L:$L,0),FALSE),IFERROR(MATCH(TRIM($G1896),'Transparency List 2018_10'!$D:$D,0),FALSE)),\"On the 2018_10 List\",\"-\")","v":"-"},{"$f":"IF(OR(IFERROR(MATCH($D1896,'Transparency List 2018_04'!$L:$L,0),FALSE),IFERROR(MATCH(TRIM($G1896),'Transparency List 2018_04'!$D:$D,0),FALSE)),\"On the 2018_04 List\",\"-\")","v":"-"},{"$f":"IF(OR(IFERROR(MATCH($D1896,'Transparency List 2017'!$L:$L,0),FALSE),IFERROR(MATCH(TRIM($G1896),'Transparency List 2017'!$C:$C,0),FALSE)),\"On the 2017 List\",\"-\")","v":"-"},{"$f":"IF(OR(IFERROR(MATCH($D1896,'Transparency List 2015'!$H:$H,0),FALSE),IFERROR(MATCH(TRIM($G1896),'Transparency List 2015'!$C:$C,0),FALSE)),\"On the 2015 List\",\"-\")","v":"-"}]
[null,null,4,"",null,null,null,"-",{"$f":"IF(OR(IFERROR(MATCH($D1897,'Transparency List 2018_10'!$L:$L,0),FALSE),IFERROR(MATCH(TRIM($G1897),'Transparency List 2018_10'!$D:$D,0),FALSE)),\"On the 2018_10 List\",\"-\")","v":"-"},{"$f":"IF(OR(IFERROR(MATCH($D1897,'Transparency List 2018_04'!$L:$L,0),FALSE),IFERROR(MATCH(TRIM($G1897),'Transparency List 2018_04'!$D:$D,0),FALSE)),\"On the 2018_04 List\",\"-\")","v":"-"},{"$f":"IF(OR(IFERROR(MATCH($D1897,'Transparency List 2017'!$L:$L,0),FALSE),IFERROR(MATCH(TRIM($G1897),'Transparency List 2017'!$C:$C,0),FALSE)),\"On the 2017 List\",\"-\")","v":"-"},{"$f":"IF(OR(IFERROR(MATCH($D1897,'Transparency List 2015'!$H:$H,0),FALSE),IFERROR(MATCH(TRIM($G1897),'Transparency List 2015'!$C:$C,0),FALSE)),\"On the 2015 List\",\"-\")","v":"-"}]
[null,null,4,"",null,null,null,"-",{"$f":"IF(OR(IFERROR(MATCH($D1898,'Transparency List 2018_10'!$L:$L,0),FALSE),IFERROR(MATCH(TRIM($G1898),'Transparency List 2018_10'!$D:$D,0),FALSE)),\"On the 2018_10 List\",\"-\")","v":"-"},{"$f":"IF(OR(IFERROR(MATCH($D1898,'Transparency List 2018_04'!$L:$L,0),FALSE),IFERROR(MATCH(TRIM($G1898),'Transparency List 2018_04'!$D:$D,0),FALSE)),\"On the 2018_04 List\",\"-\")","v":"-"},{"$f":"IF(OR(IFERROR(MATCH($D1898,'Transparency List 2017'!$L:$L,0),FALSE),IFERROR(MATCH(TRIM($G1898),'Transparency List 2017'!$C:$C,0),FALSE)),\"On the 2017 List\",\"-\")","v":"-"},{"$f":"IF(OR(IFERROR(MATCH($D1898,'Transparency List 2015'!$H:$H,0),FALSE),IFERROR(MATCH(TRIM($G1898),'Transparency List 2015'!$C:$C,0),FALSE)),\"On the 2015 List\",\"-\")","v":"-"}]
[null,null,4,"",null,null,null,"-",{"$f":"IF(OR(IFERROR(MATCH($D1899,'Transparency List 2018_10'!$L:$L,0),FALSE),IFERROR(MATCH(TRIM($G1899),'Transparency List 2018_10'!$D:$D,0),FALSE)),\"On the 2018_10 List\",\"-\")","v":"-"},{"$f":"IF(OR(IFERROR(MATCH($D1899,'Transparency List 2018_04'!$L:$L,0),FALSE),IFERROR(MATCH(TRIM($G1899),'Transparency List 2018_04'!$D:$D,0),FALSE)),\"On the 2018_04 List\",\"-\")","v":"-"},{"$f":"IF(OR(IFERROR(MATCH($D1899,'Transparency List 2017'!$L:$L,0),FALSE),IFERROR(MATCH(TRIM($G1899),'Transparency List 2017'!$C:$C,0),FALSE)),\"On the 2017 List\",\"-\")","v":"-"},{"$f":"IF(OR(IFERROR(MATCH($D1899,'Transparency List 2015'!$H:$H,0),FALSE),IFERROR(MATCH(TRIM($G1899),'Transparency List 2015'!$C:$C,0),FALSE)),\"On the 2015 List\",\"-\")","v":"-"}]
[null,null,4,"",null,null,null,"-",{"$f":"IF(OR(IFERROR(MATCH($D1900,'Transparency List 2018_10'!$L:$L,0),FALSE),IFERROR(MATCH(TRIM($G1900),'Transparency List 2018_10'!$D:$D,0),FALSE)),\"On the 2018_10 List\",\"-\")","v":"-"},{"$f":"IF(OR(IFERROR(MATCH($D1900,'Transparency List 2018_04'!$L:$L,0),FALSE),IFERROR(MATCH(TRIM($G1900),'Transparency List 2018_04'!$D:$D,0),FALSE)),\"On the 2018_04 List\",\"-\")","v":"-"},{"$f":"IF(OR(IFERROR(MATCH($D1900,'Transparency List 2017'!$L:$L,0),FALSE),IFERROR(MATCH(TRIM($G1900),'Transparency List 2017'!$C:$C,0),FALSE)),\"On the 2017 List\",\"-\")","v":"-"},{"$f":"IF(OR(IFERROR(MATCH($D1900,'Transparency List 2015'!$H:$H,0),FALSE),IFERROR(MATCH(TRIM($G1900),'Transparency List 2015'!$C:$C,0),FALSE)),\"On the 2015 List\",\"-\")","v":"-"}]
[null,null,4,"",null,null,null,"-",{"$f":"IF(OR(IFERROR(MATCH($D1901,'Transparency List 2018_10'!$L:$L,0),FALSE),IFERROR(MATCH(TRIM($G1901),'Transparency List 2018_10'!$D:$D,0),FALSE)),\"On the 2018_10 List\",\"-\")","v":"-"},{"$f":"IF(OR(IFERROR(MATCH($D1901,'Transparency List 2018_04'!$L:$L,0),FALSE),IFERROR(MATCH(TRIM($G1901),'Transparency List 2018_04'!$D:$D,0),FALSE)),\"On the 2018_04 List\",\"-\")","v":"-"},{"$f":"IF(OR(IFERROR(MATCH($D1901,'Transparency List 2017'!$L:$L,0),FALSE),IFERROR(MATCH(TRIM($G1901),'Transparency List 2017'!$C:$C,0),FALSE)),\"On the 2017 List\",\"-\")","v":"-"},{"$f":"IF(OR(IFERROR(MATCH($D1901,'Transparency List 2015'!$H:$H,0),FALSE),IFERROR(MATCH(TRIM($G1901),'Transparency List 2015'!$C:$C,0),FALSE)),\"On the 2015 List\",\"-\")","v":"-"}]
[null,null,4,"",null,null,null,"-",{"$f":"IF(OR(IFERROR(MATCH($D1902,'Transparency List 2018_10'!$L:$L,0),FALSE),IFERROR(MATCH(TRIM($G1902),'Transparency List 2018_10'!$D:$D,0),FALSE)),\"On the 2018_10 List\",\"-\")","v":"-"},{"$f":"IF(OR(IFERROR(MATCH($D1902,'Transparency List 2018_04'!$L:$L,0),FALSE),IFERROR(MATCH(TRIM($G1902),'Transparency List 2018_04'!$D:$D,0),FALSE)),\"On the 2018_04 List\",\"-\")","v":"-"},{"$f":"IF(OR(IFERROR(MATCH($D1902,'Transparency List 2017'!$L:$L,0),FALSE),IFERROR(MATCH(TRIM($G1902),'Transparency List 2017'!$C:$C,0),FALSE)),\"On the 2017 List\",\"-\")","v":"-"},{"$f":"IF(OR(IFERROR(MATCH($D1902,'Transparency List 2015'!$H:$H,0),FALSE),IFERROR(MATCH(TRIM($G1902),'Transparency List 2015'!$C:$C,0),FALSE)),\"On the 2015 List\",\"-\")","v":"-"}]
[null,null,4,"",null,null,null,"-",{"$f":"IF(OR(IFERROR(MATCH($D1903,'Transparency List 2018_10'!$L:$L,0),FALSE),IFERROR(MATCH(TRIM($G1903),'Transparency List 2018_10'!$D:$D,0),FALSE)),\"On the 2018_10 List\",\"-\")","v":"-"},{"$f":"IF(OR(IFERROR(MATCH($D1903,'Transparency List 2018_04'!$L:$L,0),FALSE),IFERROR(MATCH(TRIM($G1903),'Transparency List 2018_04'!$D:$D,0),FALSE)),\"On the 2018_04 List\",\"-\")","v":"-"},{"$f":"IF(OR(IFERROR(MATCH($D1903,'Transparency List 2017'!$L:$L,0),FALSE),IFERROR(MATCH(TRIM($G1903),'Transparency List 2017'!$C:$C,0),FALSE)),\"On the 2017 List\",\"-\")","v":"-"},{"$f":"IF(OR(IFERROR(MATCH($D1903,'Transparency List 2015'!$H:$H,0),FALSE),IFERROR(MATCH(TRIM($G1903),'Transparency List 2015'!$C:$C,0),FALSE)),\"On the 2015 List\",\"-\")","v":"-"}]
[null,null,4,"",null,null,null,"-",{"$f":"IF(OR(IFERROR(MATCH($D1904,'Transparency List 2018_10'!$L:$L,0),FALSE),IFERROR(MATCH(TRIM($G1904),'Transparency List 2018_10'!$D:$D,0),FALSE)),\"On the 2018_10 List\",\"-\")","v":"-"},{"$f":"IF(OR(IFERROR(MATCH($D1904,'Transparency List 2018_04'!$L:$L,0),FALSE),IFERROR(MATCH(TRIM($G1904),'Transparency List 2018_04'!$D:$D,0),FALSE)),\"On the 2018_04 List\",\"-\")","v":"-"},{"$f":"IF(OR(IFERROR(MATCH($D1904,'Transparency List 2017'!$L:$L,0),FALSE),IFERROR(MATCH(TRIM($G1904),'Transparency List 2017'!$C:$C,0),FALSE)),\"On the 2017 List\",\"-\")","v":"-"},{"$f":"IF(OR(IFERROR(MATCH($D1904,'Transparency List 2015'!$H:$H,0),FALSE),IFERROR(MATCH(TRIM($G1904),'Transparency List 2015'!$C:$C,0),FALSE)),\"On the 2015 List\",\"-\")","v":"-"}]
[null,null,4,"",null,null,null,"-",{"$f":"IF(OR(IFERROR(MATCH($D1905,'Transparency List 2018_10'!$L:$L,0),FALSE),IFERROR(MATCH(TRIM($G1905),'Transparency List 2018_10'!$D:$D,0),FALSE)),\"On the 2018_10 List\",\"-\")","v":"-"},{"$f":"IF(OR(IFERROR(MATCH($D1905,'Transparency List 2018_04'!$L:$L,0),FALSE),IFERROR(MATCH(TRIM($G1905),'Transparency List 2018_04'!$D:$D,0),FALSE)),\"On the 2018_04 List\",\"-\")","v":"-"},{"$f":"IF(OR(IFERROR(MATCH($D1905,'Transparency List 2017'!$L:$L,0),FALSE),IFERROR(MATCH(TRIM($G1905),'Transparency List 2017'!$C:$C,0),FALSE)),\"On the 2017 List\",\"-\")","v":"-"},{"$f":"IF(OR(IFERROR(MATCH($D1905,'Transparency List 2015'!$H:$H,0),FALSE),IFERROR(MATCH(TRIM($G1905),'Transparency List 2015'!$C:$C,0),FALSE)),\"On the 2015 List\",\"-\")","v":"-"}]
[null,null,4,"",null,null,null,"-",{"$f":"IF(OR(IFERROR(MATCH($D1906,'Transparency List 2018_10'!$L:$L,0),FALSE),IFERROR(MATCH(TRIM($G1906),'Transparency List 2018_10'!$D:$D,0),FALSE)),\"On the 2018_10 List\",\"-\")","v":"-"},{"$f":"IF(OR(IFERROR(MATCH($D1906,'Transparency List 2018_04'!$L:$L,0),FALSE),IFERROR(MATCH(TRIM($G1906),'Transparency List 2018_04'!$D:$D,0),FALSE)),\"On the 2018_04 List\",\"-\")","v":"-"},{"$f":"IF(OR(IFERROR(MATCH($D1906,'Transparency List 2017'!$L:$L,0),FALSE),IFERROR(MATCH(TRIM($G1906),'Transparency List 2017'!$C:$C,0),FALSE)),\"On the 2017 List\",\"-\")","v":"-"},{"$f":"IF(OR(IFERROR(MATCH($D1906,'Transparency List 2015'!$H:$H,0),FALSE),IFERROR(MATCH(TRIM($G1906),'Transparency List 2015'!$C:$C,0),FALSE)),\"On the 2015 List\",\"-\")","v":"-"}]
[null,null,4,"",null,null,null,"-",{"$f":"IF(OR(IFERROR(MATCH($D1907,'Transparency List 2018_10'!$L:$L,0),FALSE),IFERROR(MATCH(TRIM($G1907),'Transparency List 2018_10'!$D:$D,0),FALSE)),\"On the 2018_10 List\",\"-\")","v":"-"},{"$f":"IF(OR(IFERROR(MATCH($D1907,'Transparency List 2018_04'!$L:$L,0),FALSE),IFERROR(MATCH(TRIM($G1907),'Transparency List 2018_04'!$D:$D,0),FALSE)),\"On the 2018_04 List\",\"-\")","v":"-"},{"$f":"IF(OR(IFERROR(MATCH($D1907,'Transparency List 2017'!$L:$L,0),FALSE),IFERROR(MATCH(TRIM($G1907),'Transparency List 2017'!$C:$C,0),FALSE)),\"On the 2017 List\",\"-\")","v":"-"},{"$f":"IF(OR(IFERROR(MATCH($D1907,'Transparency List 2015'!$H:$H,0),FALSE),IFERROR(MATCH(TRIM($G1907),'Transparency List 2015'!$C:$C,0),FALSE)),\"On the 2015 List\",\"-\")","v":"-"}]
[null,null,4,"",null,null,null,"-",{"$f":"IF(OR(IFERROR(MATCH($D1908,'Transparency List 2018_10'!$L:$L,0),FALSE),IFERROR(MATCH(TRIM($G1908),'Transparency List 2018_10'!$D:$D,0),FALSE)),\"On the 2018_10 List\",\"-\")","v":"-"},{"$f":"IF(OR(IFERROR(MATCH($D1908,'Transparency List 2018_04'!$L:$L,0),FALSE),IFERROR(MATCH(TRIM($G1908),'Transparency List 2018_04'!$D:$D,0),FALSE)),\"On the 2018_04 List\",\"-\")","v":"-"},{"$f":"IF(OR(IFERROR(MATCH($D1908,'Transparency List 2017'!$L:$L,0),FALSE),IFERROR(MATCH(TRIM($G1908),'Transparency List 2017'!$C:$C,0),FALSE)),\"On the 2017 List\",\"-\")","v":"-"},{"$f":"IF(OR(IFERROR(MATCH($D1908,'Transparency List 2015'!$H:$H,0),FALSE),IFERROR(MATCH(TRIM($G1908),'Transparency List 2015'!$C:$C,0),FALSE)),\"On the 2015 List\",\"-\")","v":"-"}]
[null,null,4,"",null,null,null,"-",{"$f":"IF(OR(IFERROR(MATCH($D1909,'Transparency List 2018_10'!$L:$L,0),FALSE),IFERROR(MATCH(TRIM($G1909),'Transparency List 2018_10'!$D:$D,0),FALSE)),\"On the 2018_10 List\",\"-\")","v":"-"},{"$f":"IF(OR(IFERROR(MATCH($D1909,'Transparency List 2018_04'!$L:$L,0),FALSE),IFERROR(MATCH(TRIM($G1909),'Transparency List 2018_04'!$D:$D,0),FALSE)),\"On the 2018_04 List\",\"-\")","v":"-"},{"$f":"IF(OR(IFERROR(MATCH($D1909,'Transparency List 2017'!$L:$L,0),FALSE),IFERROR(MATCH(TRIM($G1909),'Transparency List 2017'!$C:$C,0),FALSE)),\"On the 2017 List\",\"-\")","v":"-"},{"$f":"IF(OR(IFERROR(MATCH($D1909,'Transparency List 2015'!$H:$H,0),FALSE),IFERROR(MATCH(TRIM($G1909),'Transparency List 2015'!$C:$C,0),FALSE)),\"On the 2015 List\",\"-\")","v":"-"}]
[null,null,4,"",null,null,null,"-",{"$f":"IF(OR(IFERROR(MATCH($D1910,'Transparency List 2018_10'!$L:$L,0),FALSE),IFERROR(MATCH(TRIM($G1910),'Transparency List 2018_10'!$D:$D,0),FALSE)),\"On the 2018_10 List\",\"-\")","v":"-"},{"$f":"IF(OR(IFERROR(MATCH($D1910,'Transparency List 2018_04'!$L:$L,0),FALSE),IFERROR(MATCH(TRIM($G1910),'Transparency List 2018_04'!$D:$D,0),FALSE)),\"On the 2018_04 List\",\"-\")","v":"-"},{"$f":"IF(OR(IFERROR(MATCH($D1910,'Transparency List 2017'!$L:$L,0),FALSE),IFERROR(MATCH(TRIM($G1910),'Transparency List 2017'!$C:$C,0),FALSE)),\"On the 2017 List\",\"-\")","v":"-"},{"$f":"IF(OR(IFERROR(MATCH($D1910,'Transparency List 2015'!$H:$H,0),FALSE),IFERROR(MATCH(TRIM($G1910),'Transparency List 2015'!$C:$C,0),FALSE)),\"On the 2015 List\",\"-\")","v":"-"}]
[null,null,4,"",null,null,null,"-",{"$f":"IF(OR(IFERROR(MATCH($D1911,'Transparency List 2018_10'!$L:$L,0),FALSE),IFERROR(MATCH(TRIM($G1911),'Transparency List 2018_10'!$D:$D,0),FALSE)),\"On the 2018_10 List\",\"-\")","v":"-"},{"$f":"IF(OR(IFERROR(MATCH($D1911,'Transparency List 2018_04'!$L:$L,0),FALSE),IFERROR(MATCH(TRIM($G1911),'Transparency List 2018_04'!$D:$D,0),FALSE)),\"On the 2018_04 List\",\"-\")","v":"-"},{"$f":"IF(OR(IFERROR(MATCH($D1911,'Transparency List 2017'!$L:$L,0),FALSE),IFERROR(MATCH(TRIM($G1911),'Transparency List 2017'!$C:$C,0),FALSE)),\"On the 2017 List\",\"-\")","v":"-"},{"$f":"IF(OR(IFERROR(MATCH($D1911,'Transparency List 2015'!$H:$H,0),FALSE),IFERROR(MATCH(TRIM($G1911),'Transparency List 2015'!$C:$C,0),FALSE)),\"On the 2015 List\",\"-\")","v":"-"}]
[null,null,4,"",null,null,null,"-",{"$f":"IF(OR(IFERROR(MATCH($D1912,'Transparency List 2018_10'!$L:$L,0),FALSE),IFERROR(MATCH(TRIM($G1912),'Transparency List 2018_10'!$D:$D,0),FALSE)),\"On the 2018_10 List\",\"-\")","v":"-"},{"$f":"IF(OR(IFERROR(MATCH($D1912,'Transparency List 2018_04'!$L:$L,0),FALSE),IFERROR(MATCH(TRIM($G1912),'Transparency List 2018_04'!$D:$D,0),FALSE)),\"On the 2018_04 List\",\"-\")","v":"-"},{"$f":"IF(OR(IFERROR(MATCH($D1912,'Transparency List 2017'!$L:$L,0),FALSE),IFERROR(MATCH(TRIM($G1912),'Transparency List 2017'!$C:$C,0),FALSE)),\"On the 2017 List\",\"-\")","v":"-"},{"$f":"IF(OR(IFERROR(MATCH($D1912,'Transparency List 2015'!$H:$H,0),FALSE),IFERROR(MATCH(TRIM($G1912),'Transparency List 2015'!$C:$C,0),FALSE)),\"On the 2015 List\",\"-\")","v":"-"}]
[null,null,4,"",null,null,null,"-",{"$f":"IF(OR(IFERROR(MATCH($D1913,'Transparency List 2018_10'!$L:$L,0),FALSE),IFERROR(MATCH(TRIM($G1913),'Transparency List 2018_10'!$D:$D,0),FALSE)),\"On the 2018_10 List\",\"-\")","v":"-"},{"$f":"IF(OR(IFERROR(MATCH($D1913,'Transparency List 2018_04'!$L:$L,0),FALSE),IFERROR(MATCH(TRIM($G1913),'Transparency List 2018_04'!$D:$D,0),FALSE)),\"On the 2018_04 List\",\"-\")","v":"-"},{"$f":"IF(OR(IFERROR(MATCH($D1913,'Transparency List 2017'!$L:$L,0),FALSE),IFERROR(MATCH(TRIM($G1913),'Transparency List 2017'!$C:$C,0),FALSE)),\"On the 2017 List\",\"-\")","v":"-"},{"$f":"IF(OR(IFERROR(MATCH($D1913,'Transparency List 2015'!$H:$H,0),FALSE),IFERROR(MATCH(TRIM($G1913),'Transparency List 2015'!$C:$C,0),FALSE)),\"On the 2015 List\",\"-\")","v":"-"}]
[null,null,4,"",null,null,null,"-",{"$f":"IF(OR(IFERROR(MATCH($D1914,'Transparency List 2018_10'!$L:$L,0),FALSE),IFERROR(MATCH(TRIM($G1914),'Transparency List 2018_10'!$D:$D,0),FALSE)),\"On the 2018_10 List\",\"-\")","v":"-"},{"$f":"IF(OR(IFERROR(MATCH($D1914,'Transparency List 2018_04'!$L:$L,0),FALSE),IFERROR(MATCH(TRIM($G1914),'Transparency List 2018_04'!$D:$D,0),FALSE)),\"On the 2018_04 List\",\"-\")","v":"-"},{"$f":"IF(OR(IFERROR(MATCH($D1914,'Transparency List 2017'!$L:$L,0),FALSE),IFERROR(MATCH(TRIM($G1914),'Transparency List 2017'!$C:$C,0),FALSE)),\"On the 2017 List\",\"-\")","v":"-"},{"$f":"IF(OR(IFERROR(MATCH($D1914,'Transparency List 2015'!$H:$H,0),FALSE),IFERROR(MATCH(TRIM($G1914),'Transparency List 2015'!$C:$C,0),FALSE)),\"On the 2015 List\",\"-\")","v":"-"}]
[null,null,4,"",null,null,null,"-",{"$f":"IF(OR(IFERROR(MATCH($D1915,'Transparency List 2018_10'!$L:$L,0),FALSE),IFERROR(MATCH(TRIM($G1915),'Transparency List 2018_10'!$D:$D,0),FALSE)),\"On the 2018_10 List\",\"-\")","v":"-"},{"$f":"IF(OR(IFERROR(MATCH($D1915,'Transparency List 2018_04'!$L:$L,0),FALSE),IFERROR(MATCH(TRIM($G1915),'Transparency List 2018_04'!$D:$D,0),FALSE)),\"On the 2018_04 List\",\"-\")","v":"-"},{"$f":"IF(OR(IFERROR(MATCH($D1915,'Transparency List 2017'!$L:$L,0),FALSE),IFERROR(MATCH(TRIM($G1915),'Transparency List 2017'!$C:$C,0),FALSE)),\"On the 2017 List\",\"-\")","v":"-"},{"$f":"IF(OR(IFERROR(MATCH($D1915,'Transparency List 2015'!$H:$H,0),FALSE),IFERROR(MATCH(TRIM($G1915),'Transparency List 2015'!$C:$C,0),FALSE)),\"On the 2015 List\",\"-\")","v":"-"}]
[null,null,4,"",null,null,null,"-",{"$f":"IF(OR(IFERROR(MATCH($D1916,'Transparency List 2018_10'!$L:$L,0),FALSE),IFERROR(MATCH(TRIM($G1916),'Transparency List 2018_10'!$D:$D,0),FALSE)),\"On the 2018_10 List\",\"-\")","v":"-"},{"$f":"IF(OR(IFERROR(MATCH($D1916,'Transparency List 2018_04'!$L:$L,0),FALSE),IFERROR(MATCH(TRIM($G1916),'Transparency List 2018_04'!$D:$D,0),FALSE)),\"On the 2018_04 List\",\"-\")","v":"-"},{"$f":"IF(OR(IFERROR(MATCH($D1916,'Transparency List 2017'!$L:$L,0),FALSE),IFERROR(MATCH(TRIM($G1916),'Transparency List 2017'!$C:$C,0),FALSE)),\"On the 2017 List\",\"-\")","v":"-"},{"$f":"IF(OR(IFERROR(MATCH($D1916,'Transparency List 2015'!$H:$H,0),FALSE),IFERROR(MATCH(TRIM($G1916),'Transparency List 2015'!$C:$C,0),FALSE)),\"On the 2015 List\",\"-\")","v":"-"}]
[null,null,4,"",null,null,null,"-",{"$f":"IF(OR(IFERROR(MATCH($D1917,'Transparency List 2018_10'!$L:$L,0),FALSE),IFERROR(MATCH(TRIM($G1917),'Transparency List 2018_10'!$D:$D,0),FALSE)),\"On the 2018_10 List\",\"-\")","v":"-"},{"$f":"IF(OR(IFERROR(MATCH($D1917,'Transparency List 2018_04'!$L:$L,0),FALSE),IFERROR(MATCH(TRIM($G1917),'Transparency List 2018_04'!$D:$D,0),FALSE)),\"On the 2018_04 List\",\"-\")","v":"-"},{"$f":"IF(OR(IFERROR(MATCH($D1917,'Transparency List 2017'!$L:$L,0),FALSE),IFERROR(MATCH(TRIM($G1917),'Transparency List 2017'!$C:$C,0),FALSE)),\"On the 2017 List\",\"-\")","v":"-"},{"$f":"IF(OR(IFERROR(MATCH($D1917,'Transparency List 2015'!$H:$H,0),FALSE),IFERROR(MATCH(TRIM($G1917),'Transparency List 2015'!$C:$C,0),FALSE)),\"On the 2015 List\",\"-\")","v":"-"}]
[null,null,4,"",null,null,null,"-",{"$f":"IF(OR(IFERROR(MATCH($D1918,'Transparency List 2018_10'!$L:$L,0),FALSE),IFERROR(MATCH(TRIM($G1918),'Transparency List 2018_10'!$D:$D,0),FALSE)),\"On the 2018_10 List\",\"-\")","v":"-"},{"$f":"IF(OR(IFERROR(MATCH($D1918,'Transparency List 2018_04'!$L:$L,0),FALSE),IFERROR(MATCH(TRIM($G1918),'Transparency List 2018_04'!$D:$D,0),FALSE)),\"On the 2018_04 List\",\"-\")","v":"-"},{"$f":"IF(OR(IFERROR(MATCH($D1918,'Transparency List 2017'!$L:$L,0),FALSE),IFERROR(MATCH(TRIM($G1918),'Transparency List 2017'!$C:$C,0),FALSE)),\"On the 2017 List\",\"-\")","v":"-"},{"$f":"IF(OR(IFERROR(MATCH($D1918,'Transparency List 2015'!$H:$H,0),FALSE),IFERROR(MATCH(TRIM($G1918),'Transparency List 2015'!$C:$C,0),FALSE)),\"On the 2015 List\",\"-\")","v":"-"}]
[null,null,4,"",null,null,null,"-",{"$f":"IF(OR(IFERROR(MATCH($D1919,'Transparency List 2018_10'!$L:$L,0),FALSE),IFERROR(MATCH(TRIM($G1919),'Transparency List 2018_10'!$D:$D,0),FALSE)),\"On the 2018_10 List\",\"-\")","v":"-"},{"$f":"IF(OR(IFERROR(MATCH($D1919,'Transparency List 2018_04'!$L:$L,0),FALSE),IFERROR(MATCH(TRIM($G1919),'Transparency List 2018_04'!$D:$D,0),FALSE)),\"On the 2018_04 List\",\"-\")","v":"-"},{"$f":"IF(OR(IFERROR(MATCH($D1919,'Transparency List 2017'!$L:$L,0),FALSE),IFERROR(MATCH(TRIM($G1919),'Transparency List 2017'!$C:$C,0),FALSE)),\"On the 2017 List\",\"-\")","v":"-"},{"$f":"IF(OR(IFERROR(MATCH($D1919,'Transparency List 2015'!$H:$H,0),FALSE),IFERROR(MATCH(TRIM($G1919),'Transparency List 2015'!$C:$C,0),FALSE)),\"On the 2015 List\",\"-\")","v":"-"}]
[null,null,4,"",null,null,null,"-",{"$f":"IF(OR(IFERROR(MATCH($D1920,'Transparency List 2018_10'!$L:$L,0),FALSE),IFERROR(MATCH(TRIM($G1920),'Transparency List 2018_10'!$D:$D,0),FALSE)),\"On the 2018_10 List\",\"-\")","v":"-"},{"$f":"IF(OR(IFERROR(MATCH($D1920,'Transparency List 2018_04'!$L:$L,0),FALSE),IFERROR(MATCH(TRIM($G1920),'Transparency List 2018_04'!$D:$D,0),FALSE)),\"On the 2018_04 List\",\"-\")","v":"-"},{"$f":"IF(OR(IFERROR(MATCH($D1920,'Transparency List 2017'!$L:$L,0),FALSE),IFERROR(MATCH(TRIM($G1920),'Transparency List 2017'!$C:$C,0),FALSE)),\"On the 2017 List\",\"-\")","v":"-"},{"$f":"IF(OR(IFERROR(MATCH($D1920,'Transparency List 2015'!$H:$H,0),FALSE),IFERROR(MATCH(TRIM($G1920),'Transparency List 2015'!$C:$C,0),FALSE)),\"On the 2015 List\",\"-\")","v":"-"}]
[null,null,4,"",null,null,null,"-",{"$f":"IF(OR(IFERROR(MATCH($D1921,'Transparency List 2018_10'!$L:$L,0),FALSE),IFERROR(MATCH(TRIM($G1921),'Transparency List 2018_10'!$D:$D,0),FALSE)),\"On the 2018_10 List\",\"-\")","v":"-"},{"$f":"IF(OR(IFERROR(MATCH($D1921,'Transparency List 2018_04'!$L:$L,0),FALSE),IFERROR(MATCH(TRIM($G1921),'Transparency List 2018_04'!$D:$D,0),FALSE)),\"On the 2018_04 List\",\"-\")","v":"-"},{"$f":"IF(OR(IFERROR(MATCH($D1921,'Transparency List 2017'!$L:$L,0),FALSE),IFERROR(MATCH(TRIM($G1921),'Transparency List 2017'!$C:$C,0),FALSE)),\"On the 2017 List\",\"-\")","v":"-"},{"$f":"IF(OR(IFERROR(MATCH($D1921,'Transparency List 2015'!$H:$H,0),FALSE),IFERROR(MATCH(TRIM($G1921),'Transparency List 2015'!$C:$C,0),FALSE)),\"On the 2015 List\",\"-\")","v":"-"}]
[null,null,4,"",null,null,null,"-",{"$f":"IF(OR(IFERROR(MATCH($D1922,'Transparency List 2018_10'!$L:$L,0),FALSE),IFERROR(MATCH(TRIM($G1922),'Transparency List 2018_10'!$D:$D,0),FALSE)),\"On the 2018_10 List\",\"-\")","v":"-"},{"$f":"IF(OR(IFERROR(MATCH($D1922,'Transparency List 2018_04'!$L:$L,0),FALSE),IFERROR(MATCH(TRIM($G1922),'Transparency List 2018_04'!$D:$D,0),FALSE)),\"On the 2018_04 List\",\"-\")","v":"-"},{"$f":"IF(OR(IFERROR(MATCH($D1922,'Transparency List 2017'!$L:$L,0),FALSE),IFERROR(MATCH(TRIM($G1922),'Transparency List 2017'!$C:$C,0),FALSE)),\"On the 2017 List\",\"-\")","v":"-"},{"$f":"IF(OR(IFERROR(MATCH($D1922,'Transparency List 2015'!$H:$H,0),FALSE),IFERROR(MATCH(TRIM($G1922),'Transparency List 2015'!$C:$C,0),FALSE)),\"On the 2015 List\",\"-\")","v":"-"}]
[null,null,4,"",null,null,null,"-",{"$f":"IF(OR(IFERROR(MATCH($D1923,'Transparency List 2018_10'!$L:$L,0),FALSE),IFERROR(MATCH(TRIM($G1923),'Transparency List 2018_10'!$D:$D,0),FALSE)),\"On the 2018_10 List\",\"-\")","v":"-"},{"$f":"IF(OR(IFERROR(MATCH($D1923,'Transparency List 2018_04'!$L:$L,0),FALSE),IFERROR(MATCH(TRIM($G1923),'Transparency List 2018_04'!$D:$D,0),FALSE)),\"On the 2018_04 List\",\"-\")","v":"-"},{"$f":"IF(OR(IFERROR(MATCH($D1923,'Transparency List 2017'!$L:$L,0),FALSE),IFERROR(MATCH(TRIM($G1923),'Transparency List 2017'!$C:$C,0),FALSE)),\"On the 2017 List\",\"-\")","v":"-"},{"$f":"IF(OR(IFERROR(MATCH($D1923,'Transparency List 2015'!$H:$H,0),FALSE),IFERROR(MATCH(TRIM($G1923),'Transparency List 2015'!$C:$C,0),FALSE)),\"On the 2015 List\",\"-\")","v":"-"}]
[null,null,4,"",null,null,null,"-",{"$f":"IF(OR(IFERROR(MATCH($D1924,'Transparency List 2018_10'!$L:$L,0),FALSE),IFERROR(MATCH(TRIM($G1924),'Transparency List 2018_10'!$D:$D,0),FALSE)),\"On the 2018_10 List\",\"-\")","v":"-"},{"$f":"IF(OR(IFERROR(MATCH($D1924,'Transparency List 2018_04'!$L:$L,0),FALSE),IFERROR(MATCH(TRIM($G1924),'Transparency List 2018_04'!$D:$D,0),FALSE)),\"On the 2018_04 List\",\"-\")","v":"-"},{"$f":"IF(OR(IFERROR(MATCH($D1924,'Transparency List 2017'!$L:$L,0),FALSE),IFERROR(MATCH(TRIM($G1924),'Transparency List 2017'!$C:$C,0),FALSE)),\"On the 2017 List\",\"-\")","v":"-"},{"$f":"IF(OR(IFERROR(MATCH($D1924,'Transparency List 2015'!$H:$H,0),FALSE),IFERROR(MATCH(TRIM($G1924),'Transparency List 2015'!$C:$C,0),FALSE)),\"On the 2015 List\",\"-\")","v":"-"}]
[null,null,4,"",null,null,null,"-",{"$f":"IF(OR(IFERROR(MATCH($D1925,'Transparency List 2018_10'!$L:$L,0),FALSE),IFERROR(MATCH(TRIM($G1925),'Transparency List 2018_10'!$D:$D,0),FALSE)),\"On the 2018_10 List\",\"-\")","v":"-"},{"$f":"IF(OR(IFERROR(MATCH($D1925,'Transparency List 2018_04'!$L:$L,0),FALSE),IFERROR(MATCH(TRIM($G1925),'Transparency List 2018_04'!$D:$D,0),FALSE)),\"On the 2018_04 List\",\"-\")","v":"-"},{"$f":"IF(OR(IFERROR(MATCH($D1925,'Transparency List 2017'!$L:$L,0),FALSE),IFERROR(MATCH(TRIM($G1925),'Transparency List 2017'!$C:$C,0),FALSE)),\"On the 2017 List\",\"-\")","v":"-"},{"$f":"IF(OR(IFERROR(MATCH($D1925,'Transparency List 2015'!$H:$H,0),FALSE),IFERROR(MATCH(TRIM($G1925),'Transparency List 2015'!$C:$C,0),FALSE)),\"On the 2015 List\",\"-\")","v":"-"}]
[null,null,4,"",null,null,null,"-",{"$f":"IF(OR(IFERROR(MATCH($D1926,'Transparency List 2018_10'!$L:$L,0),FALSE),IFERROR(MATCH(TRIM($G1926),'Transparency List 2018_10'!$D:$D,0),FALSE)),\"On the 2018_10 List\",\"-\")","v":"-"},{"$f":"IF(OR(IFERROR(MATCH($D1926,'Transparency List 2018_04'!$L:$L,0),FALSE),IFERROR(MATCH(TRIM($G1926),'Transparency List 2018_04'!$D:$D,0),FALSE)),\"On the 2018_04 List\",\"-\")","v":"-"},{"$f":"IF(OR(IFERROR(MATCH($D1926,'Transparency List 2017'!$L:$L,0),FALSE),IFERROR(MATCH(TRIM($G1926),'Transparency List 2017'!$C:$C,0),FALSE)),\"On the 2017 List\",\"-\")","v":"-"},{"$f":"IF(OR(IFERROR(MATCH($D1926,'Transparency List 2015'!$H:$H,0),FALSE),IFERROR(MATCH(TRIM($G1926),'Transparency List 2015'!$C:$C,0),FALSE)),\"On the 2015 List\",\"-\")","v":"-"}]
[null,null,4,"",null,null,null,"-",{"$f":"IF(OR(IFERROR(MATCH($D1927,'Transparency List 2018_10'!$L:$L,0),FALSE),IFERROR(MATCH(TRIM($G1927),'Transparency List 2018_10'!$D:$D,0),FALSE)),\"On the 2018_10 List\",\"-\")","v":"-"},{"$f":"IF(OR(IFERROR(MATCH($D1927,'Transparency List 2018_04'!$L:$L,0),FALSE),IFERROR(MATCH(TRIM($G1927),'Transparency List 2018_04'!$D:$D,0),FALSE)),\"On the 2018_04 List\",\"-\")","v":"-"},{"$f":"IF(OR(IFERROR(MATCH($D1927,'Transparency List 2017'!$L:$L,0),FALSE),IFERROR(MATCH(TRIM($G1927),'Transparency List 2017'!$C:$C,0),FALSE)),\"On the 2017 List\",\"-\")","v":"-"},{"$f":"IF(OR(IFERROR(MATCH($D1927,'Transparency List 2015'!$H:$H,0),FALSE),IFERROR(MATCH(TRIM($G1927),'Transparency List 2015'!$C:$C,0),FALSE)),\"On the 2015 List\",\"-\")","v":"-"}]
[null,null,4,"",null,null,null,"-",{"$f":"IF(OR(IFERROR(MATCH($D1928,'Transparency List 2018_10'!$L:$L,0),FALSE),IFERROR(MATCH(TRIM($G1928),'Transparency List 2018_10'!$D:$D,0),FALSE)),\"On the 2018_10 List\",\"-\")","v":"-"},{"$f":"IF(OR(IFERROR(MATCH($D1928,'Transparency List 2018_04'!$L:$L,0),FALSE),IFERROR(MATCH(TRIM($G1928),'Transparency List 2018_04'!$D:$D,0),FALSE)),\"On the 2018_04 List\",\"-\")","v":"-"},{"$f":"IF(OR(IFERROR(MATCH($D1928,'Transparency List 2017'!$L:$L,0),FALSE),IFERROR(MATCH(TRIM($G1928),'Transparency List 2017'!$C:$C,0),FALSE)),\"On the 2017 List\",\"-\")","v":"-"},{"$f":"IF(OR(IFERROR(MATCH($D1928,'Transparency List 2015'!$H:$H,0),FALSE),IFERROR(MATCH(TRIM($G1928),'Transparency List 2015'!$C:$C,0),FALSE)),\"On the 2015 List\",\"-\")","v":"-"}]
[null,null,4,"",null,null,null,"-",{"$f":"IF(OR(IFERROR(MATCH($D1929,'Transparency List 2018_10'!$L:$L,0),FALSE),IFERROR(MATCH(TRIM($G1929),'Transparency List 2018_10'!$D:$D,0),FALSE)),\"On the 2018_10 List\",\"-\")","v":"-"},{"$f":"IF(OR(IFERROR(MATCH($D1929,'Transparency List 2018_04'!$L:$L,0),FALSE),IFERROR(MATCH(TRIM($G1929),'Transparency List 2018_04'!$D:$D,0),FALSE)),\"On the 2018_04 List\",\"-\")","v":"-"},{"$f":"IF(OR(IFERROR(MATCH($D1929,'Transparency List 2017'!$L:$L,0),FALSE),IFERROR(MATCH(TRIM($G1929),'Transparency List 2017'!$C:$C,0),FALSE)),\"On the 2017 List\",\"-\")","v":"-"},{"$f":"IF(OR(IFERROR(MATCH($D1929,'Transparency List 2015'!$H:$H,0),FALSE),IFERROR(MATCH(TRIM($G1929),'Transparency List 2015'!$C:$C,0),FALSE)),\"On the 2015 List\",\"-\")","v":"-"}]
[null,null,4,"",null,null,null,"-",{"$f":"IF(OR(IFERROR(MATCH($D1930,'Transparency List 2018_10'!$L:$L,0),FALSE),IFERROR(MATCH(TRIM($G1930),'Transparency List 2018_10'!$D:$D,0),FALSE)),\"On the 2018_10 List\",\"-\")","v":"-"},{"$f":"IF(OR(IFERROR(MATCH($D1930,'Transparency List 2018_04'!$L:$L,0),FALSE),IFERROR(MATCH(TRIM($G1930),'Transparency List 2018_04'!$D:$D,0),FALSE)),\"On the 2018_04 List\",\"-\")","v":"-"},{"$f":"IF(OR(IFERROR(MATCH($D1930,'Transparency List 2017'!$L:$L,0),FALSE),IFERROR(MATCH(TRIM($G1930),'Transparency List 2017'!$C:$C,0),FALSE)),\"On the 2017 List\",\"-\")","v":"-"},{"$f":"IF(OR(IFERROR(MATCH($D1930,'Transparency List 2015'!$H:$H,0),FALSE),IFERROR(MATCH(TRIM($G1930),'Transparency List 2015'!$C:$C,0),FALSE)),\"On the 2015 List\",\"-\")","v":"-"}]
[null,null,4,"",null,null,null,"-",{"$f":"IF(OR(IFERROR(MATCH($D1931,'Transparency List 2018_10'!$L:$L,0),FALSE),IFERROR(MATCH(TRIM($G1931),'Transparency List 2018_10'!$D:$D,0),FALSE)),\"On the 2018_10 List\",\"-\")","v":"-"},{"$f":"IF(OR(IFERROR(MATCH($D1931,'Transparency List 2018_04'!$L:$L,0),FALSE),IFERROR(MATCH(TRIM($G1931),'Transparency List 2018_04'!$D:$D,0),FALSE)),\"On the 2018_04 List\",\"-\")","v":"-"},{"$f":"IF(OR(IFERROR(MATCH($D1931,'Transparency List 2017'!$L:$L,0),FALSE),IFERROR(MATCH(TRIM($G1931),'Transparency List 2017'!$C:$C,0),FALSE)),\"On the 2017 List\",\"-\")","v":"-"},{"$f":"IF(OR(IFERROR(MATCH($D1931,'Transparency List 2015'!$H:$H,0),FALSE),IFERROR(MATCH(TRIM($G1931),'Transparency List 2015'!$C:$C,0),FALSE)),\"On the 2015 List\",\"-\")","v":"-"}]
[null,null,4,"",null,null,null,"-",{"$f":"IF(OR(IFERROR(MATCH($D1932,'Transparency List 2018_10'!$L:$L,0),FALSE),IFERROR(MATCH(TRIM($G1932),'Transparency List 2018_10'!$D:$D,0),FALSE)),\"On the 2018_10 List\",\"-\")","v":"-"},{"$f":"IF(OR(IFERROR(MATCH($D1932,'Transparency List 2018_04'!$L:$L,0),FALSE),IFERROR(MATCH(TRIM($G1932),'Transparency List 2018_04'!$D:$D,0),FALSE)),\"On the 2018_04 List\",\"-\")","v":"-"},{"$f":"IF(OR(IFERROR(MATCH($D1932,'Transparency List 2017'!$L:$L,0),FALSE),IFERROR(MATCH(TRIM($G1932),'Transparency List 2017'!$C:$C,0),FALSE)),\"On the 2017 List\",\"-\")","v":"-"},{"$f":"IF(OR(IFERROR(MATCH($D1932,'Transparency List 2015'!$H:$H,0),FALSE),IFERROR(MATCH(TRIM($G1932),'Transparency List 2015'!$C:$C,0),FALSE)),\"On the 2015 List\",\"-\")","v":"-"}]
[null,null,4,"",null,null,null,"-",{"$f":"IF(OR(IFERROR(MATCH($D1933,'Transparency List 2018_10'!$L:$L,0),FALSE),IFERROR(MATCH(TRIM($G1933),'Transparency List 2018_10'!$D:$D,0),FALSE)),\"On the 2018_10 List\",\"-\")","v":"-"},{"$f":"IF(OR(IFERROR(MATCH($D1933,'Transparency List 2018_04'!$L:$L,0),FALSE),IFERROR(MATCH(TRIM($G1933),'Transparency List 2018_04'!$D:$D,0),FALSE)),\"On the 2018_04 List\",\"-\")","v":"-"},{"$f":"IF(OR(IFERROR(MATCH($D1933,'Transparency List 2017'!$L:$L,0),FALSE),IFERROR(MATCH(TRIM($G1933),'Transparency List 2017'!$C:$C,0),FALSE)),\"On the 2017 List\",\"-\")","v":"-"},{"$f":"IF(OR(IFERROR(MATCH($D1933,'Transparency List 2015'!$H:$H,0),FALSE),IFERROR(MATCH(TRIM($G1933),'Transparency List 2015'!$C:$C,0),FALSE)),\"On the 2015 List\",\"-\")","v":"-"}]
[null,null,4,"",null,null,null,"-",{"$f":"IF(OR(IFERROR(MATCH($D1934,'Transparency List 2018_10'!$L:$L,0),FALSE),IFERROR(MATCH(TRIM($G1934),'Transparency List 2018_10'!$D:$D,0),FALSE)),\"On the 2018_10 List\",\"-\")","v":"-"},{"$f":"IF(OR(IFERROR(MATCH($D1934,'Transparency List 2018_04'!$L:$L,0),FALSE),IFERROR(MATCH(TRIM($G1934),'Transparency List 2018_04'!$D:$D,0),FALSE)),\"On the 2018_04 List\",\"-\")","v":"-"},{"$f":"IF(OR(IFERROR(MATCH($D1934,'Transparency List 2017'!$L:$L,0),FALSE),IFERROR(MATCH(TRIM($G1934),'Transparency List 2017'!$C:$C,0),FALSE)),\"On the 2017 List\",\"-\")","v":"-"},{"$f":"IF(OR(IFERROR(MATCH($D1934,'Transparency List 2015'!$H:$H,0),FALSE),IFERROR(MATCH(TRIM($G1934),'Transparency List 2015'!$C:$C,0),FALSE)),\"On the 2015 List\",\"-\")","v":"-"}]
[null,null,4,"",null,null,null,"-",{"$f":"IF(OR(IFERROR(MATCH($D1935,'Transparency List 2018_10'!$L:$L,0),FALSE),IFERROR(MATCH(TRIM($G1935),'Transparency List 2018_10'!$D:$D,0),FALSE)),\"On the 2018_10 List\",\"-\")","v":"-"},{"$f":"IF(OR(IFERROR(MATCH($D1935,'Transparency List 2018_04'!$L:$L,0),FALSE),IFERROR(MATCH(TRIM($G1935),'Transparency List 2018_04'!$D:$D,0),FALSE)),\"On the 2018_04 List\",\"-\")","v":"-"},{"$f":"IF(OR(IFERROR(MATCH($D1935,'Transparency List 2017'!$L:$L,0),FALSE),IFERROR(MATCH(TRIM($G1935),'Transparency List 2017'!$C:$C,0),FALSE)),\"On the 2017 List\",\"-\")","v":"-"},{"$f":"IF(OR(IFERROR(MATCH($D1935,'Transparency List 2015'!$H:$H,0),FALSE),IFERROR(MATCH(TRIM($G1935),'Transparency List 2015'!$C:$C,0),FALSE)),\"On the 2015 List\",\"-\")","v":"-"}]
[null,null,4,"",null,null,null,"-",{"$f":"IF(OR(IFERROR(MATCH($D1936,'Transparency List 2018_10'!$L:$L,0),FALSE),IFERROR(MATCH(TRIM($G1936),'Transparency List 2018_10'!$D:$D,0),FALSE)),\"On the 2018_10 List\",\"-\")","v":"-"},{"$f":"IF(OR(IFERROR(MATCH($D1936,'Transparency List 2018_04'!$L:$L,0),FALSE),IFERROR(MATCH(TRIM($G1936),'Transparency List 2018_04'!$D:$D,0),FALSE)),\"On the 2018_04 List\",\"-\")","v":"-"},{"$f":"IF(OR(IFERROR(MATCH($D1936,'Transparency List 2017'!$L:$L,0),FALSE),IFERROR(MATCH(TRIM($G1936),'Transparency List 2017'!$C:$C,0),FALSE)),\"On the 2017 List\",\"-\")","v":"-"},{"$f":"IF(OR(IFERROR(MATCH($D1936,'Transparency List 2015'!$H:$H,0),FALSE),IFERROR(MATCH(TRIM($G1936),'Transparency List 2015'!$C:$C,0),FALSE)),\"On the 2015 List\",\"-\")","v":"-"}]
[null,null,4,"",null,null,null,"-",{"$f":"IF(OR(IFERROR(MATCH($D1937,'Transparency List 2018_10'!$L:$L,0),FALSE),IFERROR(MATCH(TRIM($G1937),'Transparency List 2018_10'!$D:$D,0),FALSE)),\"On the 2018_10 List\",\"-\")","v":"-"},{"$f":"IF(OR(IFERROR(MATCH($D1937,'Transparency List 2018_04'!$L:$L,0),FALSE),IFERROR(MATCH(TRIM($G1937),'Transparency List 2018_04'!$D:$D,0),FALSE)),\"On the 2018_04 List\",\"-\")","v":"-"},{"$f":"IF(OR(IFERROR(MATCH($D1937,'Transparency List 2017'!$L:$L,0),FALSE),IFERROR(MATCH(TRIM($G1937),'Transparency List 2017'!$C:$C,0),FALSE)),\"On the 2017 List\",\"-\")","v":"-"},{"$f":"IF(OR(IFERROR(MATCH($D1937,'Transparency List 2015'!$H:$H,0),FALSE),IFERROR(MATCH(TRIM($G1937),'Transparency List 2015'!$C:$C,0),FALSE)),\"On the 2015 List\",\"-\")","v":"-"}]
[null,null,4,"",null,null,null,"-",{"$f":"IF(OR(IFERROR(MATCH($D1938,'Transparency List 2018_10'!$L:$L,0),FALSE),IFERROR(MATCH(TRIM($G1938),'Transparency List 2018_10'!$D:$D,0),FALSE)),\"On the 2018_10 List\",\"-\")","v":"-"},{"$f":"IF(OR(IFERROR(MATCH($D1938,'Transparency List 2018_04'!$L:$L,0),FALSE),IFERROR(MATCH(TRIM($G1938),'Transparency List 2018_04'!$D:$D,0),FALSE)),\"On the 2018_04 List\",\"-\")","v":"-"},{"$f":"IF(OR(IFERROR(MATCH($D1938,'Transparency List 2017'!$L:$L,0),FALSE),IFERROR(MATCH(TRIM($G1938),'Transparency List 2017'!$C:$C,0),FALSE)),\"On the 2017 List\",\"-\")","v":"-"},{"$f":"IF(OR(IFERROR(MATCH($D1938,'Transparency List 2015'!$H:$H,0),FALSE),IFERROR(MATCH(TRIM($G1938),'Transparency List 2015'!$C:$C,0),FALSE)),\"On the 2015 List\",\"-\")","v":"-"}]
[null,null,4,"",null,null,null,"-",{"$f":"IF(OR(IFERROR(MATCH($D1939,'Transparency List 2018_10'!$L:$L,0),FALSE),IFERROR(MATCH(TRIM($G1939),'Transparency List 2018_10'!$D:$D,0),FALSE)),\"On the 2018_10 List\",\"-\")","v":"-"},{"$f":"IF(OR(IFERROR(MATCH($D1939,'Transparency List 2018_04'!$L:$L,0),FALSE),IFERROR(MATCH(TRIM($G1939),'Transparency List 2018_04'!$D:$D,0),FALSE)),\"On the 2018_04 List\",\"-\")","v":"-"},{"$f":"IF(OR(IFERROR(MATCH($D1939,'Transparency List 2017'!$L:$L,0),FALSE),IFERROR(MATCH(TRIM($G1939),'Transparency List 2017'!$C:$C,0),FALSE)),\"On the 2017 List\",\"-\")","v":"-"},{"$f":"IF(OR(IFERROR(MATCH($D1939,'Transparency List 2015'!$H:$H,0),FALSE),IFERROR(MATCH(TRIM($G1939),'Transparency List 2015'!$C:$C,0),FALSE)),\"On the 2015 List\",\"-\")","v":"-"}]
[null,null,4,"",null,null,null,"-",{"$f":"IF(OR(IFERROR(MATCH($D1940,'Transparency List 2018_10'!$L:$L,0),FALSE),IFERROR(MATCH(TRIM($G1940),'Transparency List 2018_10'!$D:$D,0),FALSE)),\"On the 2018_10 List\",\"-\")","v":"-"},{"$f":"IF(OR(IFERROR(MATCH($D1940,'Transparency List 2018_04'!$L:$L,0),FALSE),IFERROR(MATCH(TRIM($G1940),'Transparency List 2018_04'!$D:$D,0),FALSE)),\"On the 2018_04 List\",\"-\")","v":"-"},{"$f":"IF(OR(IFERROR(MATCH($D1940,'Transparency List 2017'!$L:$L,0),FALSE),IFERROR(MATCH(TRIM($G1940),'Transparency List 2017'!$C:$C,0),FALSE)),\"On the 2017 List\",\"-\")","v":"-"},{"$f":"IF(OR(IFERROR(MATCH($D1940,'Transparency List 2015'!$H:$H,0),FALSE),IFERROR(MATCH(TRIM($G1940),'Transparency List 2015'!$C:$C,0),FALSE)),\"On the 2015 List\",\"-\")","v":"-"}]
[null,null,4,"",null,null,null,"-",{"$f":"IF(OR(IFERROR(MATCH($D1941,'Transparency List 2018_10'!$L:$L,0),FALSE),IFERROR(MATCH(TRIM($G1941),'Transparency List 2018_10'!$D:$D,0),FALSE)),\"On the 2018_10 List\",\"-\")","v":"-"},{"$f":"IF(OR(IFERROR(MATCH($D1941,'Transparency List 2018_04'!$L:$L,0),FALSE),IFERROR(MATCH(TRIM($G1941),'Transparency List 2018_04'!$D:$D,0),FALSE)),\"On the 2018_04 List\",\"-\")","v":"-"},{"$f":"IF(OR(IFERROR(MATCH($D1941,'Transparency List 2017'!$L:$L,0),FALSE),IFERROR(MATCH(TRIM($G1941),'Transparency List 2017'!$C:$C,0),FALSE)),\"On the 2017 List\",\"-\")","v":"-"},{"$f":"IF(OR(IFERROR(MATCH($D1941,'Transparency List 2015'!$H:$H,0),FALSE),IFERROR(MATCH(TRIM($G1941),'Transparency List 2015'!$C:$C,0),FALSE)),\"On the 2015 List\",\"-\")","v":"-"}]
[null,null,4,"",null,null,null,"-",{"$f":"IF(OR(IFERROR(MATCH($D1942,'Transparency List 2018_10'!$L:$L,0),FALSE),IFERROR(MATCH(TRIM($G1942),'Transparency List 2018_10'!$D:$D,0),FALSE)),\"On the 2018_10 List\",\"-\")","v":"-"},{"$f":"IF(OR(IFERROR(MATCH($D1942,'Transparency List 2018_04'!$L:$L,0),FALSE),IFERROR(MATCH(TRIM($G1942),'Transparency List 2018_04'!$D:$D,0),FALSE)),\"On the 2018_04 List\",\"-\")","v":"-"},{"$f":"IF(OR(IFERROR(MATCH($D1942,'Transparency List 2017'!$L:$L,0),FALSE),IFERROR(MATCH(TRIM($G1942),'Transparency List 2017'!$C:$C,0),FALSE)),\"On the 2017 List\",\"-\")","v":"-"},{"$f":"IF(OR(IFERROR(MATCH($D1942,'Transparency List 2015'!$H:$H,0),FALSE),IFERROR(MATCH(TRIM($G1942),'Transparency List 2015'!$C:$C,0),FALSE)),\"On the 2015 List\",\"-\")","v":"-"}]
[null,null,4,"",null,null,null,"-",{"$f":"IF(OR(IFERROR(MATCH($D1943,'Transparency List 2018_10'!$L:$L,0),FALSE),IFERROR(MATCH(TRIM($G1943),'Transparency List 2018_10'!$D:$D,0),FALSE)),\"On the 2018_10 List\",\"-\")","v":"-"},{"$f":"IF(OR(IFERROR(MATCH($D1943,'Transparency List 2018_04'!$L:$L,0),FALSE),IFERROR(MATCH(TRIM($G1943),'Transparency List 2018_04'!$D:$D,0),FALSE)),\"On the 2018_04 List\",\"-\")","v":"-"},{"$f":"IF(OR(IFERROR(MATCH($D1943,'Transparency List 2017'!$L:$L,0),FALSE),IFERROR(MATCH(TRIM($G1943),'Transparency List 2017'!$C:$C,0),FALSE)),\"On the 2017 List\",\"-\")","v":"-"},{"$f":"IF(OR(IFERROR(MATCH($D1943,'Transparency List 2015'!$H:$H,0),FALSE),IFERROR(MATCH(TRIM($G1943),'Transparency List 2015'!$C:$C,0),FALSE)),\"On the 2015 List\",\"-\")","v":"-"}]
[null,null,4,"",null,null,null,"-",{"$f":"IF(OR(IFERROR(MATCH($D1944,'Transparency List 2018_10'!$L:$L,0),FALSE),IFERROR(MATCH(TRIM($G1944),'Transparency List 2018_10'!$D:$D,0),FALSE)),\"On the 2018_10 List\",\"-\")","v":"-"},{"$f":"IF(OR(IFERROR(MATCH($D1944,'Transparency List 2018_04'!$L:$L,0),FALSE),IFERROR(MATCH(TRIM($G1944),'Transparency List 2018_04'!$D:$D,0),FALSE)),\"On the 2018_04 List\",\"-\")","v":"-"},{"$f":"IF(OR(IFERROR(MATCH($D1944,'Transparency List 2017'!$L:$L,0),FALSE),IFERROR(MATCH(TRIM($G1944),'Transparency List 2017'!$C:$C,0),FALSE)),\"On the 2017 List\",\"-\")","v":"-"},{"$f":"IF(OR(IFERROR(MATCH($D1944,'Transparency List 2015'!$H:$H,0),FALSE),IFERROR(MATCH(TRIM($G1944),'Transparency List 2015'!$C:$C,0),FALSE)),\"On the 2015 List\",\"-\")","v":"-"}]
[null,null,4,"",null,null,null,"-",{"$f":"IF(OR(IFERROR(MATCH($D1945,'Transparency List 2018_10'!$L:$L,0),FALSE),IFERROR(MATCH(TRIM($G1945),'Transparency List 2018_10'!$D:$D,0),FALSE)),\"On the 2018_10 List\",\"-\")","v":"-"},{"$f":"IF(OR(IFERROR(MATCH($D1945,'Transparency List 2018_04'!$L:$L,0),FALSE),IFERROR(MATCH(TRIM($G1945),'Transparency List 2018_04'!$D:$D,0),FALSE)),\"On the 2018_04 List\",\"-\")","v":"-"},{"$f":"IF(OR(IFERROR(MATCH($D1945,'Transparency List 2017'!$L:$L,0),FALSE),IFERROR(MATCH(TRIM($G1945),'Transparency List 2017'!$C:$C,0),FALSE)),\"On the 2017 List\",\"-\")","v":"-"},{"$f":"IF(OR(IFERROR(MATCH($D1945,'Transparency List 2015'!$H:$H,0),FALSE),IFERROR(MATCH(TRIM($G1945),'Transparency List 2015'!$C:$C,0),FALSE)),\"On the 2015 List\",\"-\")","v":"-"}]
[null,null,4,"",null,null,null,"-",{"$f":"IF(OR(IFERROR(MATCH($D1946,'Transparency List 2018_10'!$L:$L,0),FALSE),IFERROR(MATCH(TRIM($G1946),'Transparency List 2018_10'!$D:$D,0),FALSE)),\"On the 2018_10 List\",\"-\")","v":"-"},{"$f":"IF(OR(IFERROR(MATCH($D1946,'Transparency List 2018_04'!$L:$L,0),FALSE),IFERROR(MATCH(TRIM($G1946),'Transparency List 2018_04'!$D:$D,0),FALSE)),\"On the 2018_04 List\",\"-\")","v":"-"},{"$f":"IF(OR(IFERROR(MATCH($D1946,'Transparency List 2017'!$L:$L,0),FALSE),IFERROR(MATCH(TRIM($G1946),'Transparency List 2017'!$C:$C,0),FALSE)),\"On the 2017 List\",\"-\")","v":"-"},{"$f":"IF(OR(IFERROR(MATCH($D1946,'Transparency List 2015'!$H:$H,0),FALSE),IFERROR(MATCH(TRIM($G1946),'Transparency List 2015'!$C:$C,0),FALSE)),\"On the 2015 List\",\"-\")","v":"-"}]
[null,null,4,"",null,null,null,"-",{"$f":"IF(OR(IFERROR(MATCH($D1947,'Transparency List 2018_10'!$L:$L,0),FALSE),IFERROR(MATCH(TRIM($G1947),'Transparency List 2018_10'!$D:$D,0),FALSE)),\"On the 2018_10 List\",\"-\")","v":"-"},{"$f":"IF(OR(IFERROR(MATCH($D1947,'Transparency List 2018_04'!$L:$L,0),FALSE),IFERROR(MATCH(TRIM($G1947),'Transparency List 2018_04'!$D:$D,0),FALSE)),\"On the 2018_04 List\",\"-\")","v":"-"},{"$f":"IF(OR(IFERROR(MATCH($D1947,'Transparency List 2017'!$L:$L,0),FALSE),IFERROR(MATCH(TRIM($G1947),'Transparency List 2017'!$C:$C,0),FALSE)),\"On the 2017 List\",\"-\")","v":"-"},{"$f":"IF(OR(IFERROR(MATCH($D1947,'Transparency List 2015'!$H:$H,0),FALSE),IFERROR(MATCH(TRIM($G1947),'Transparency List 2015'!$C:$C,0),FALSE)),\"On the 2015 List\",\"-\")","v":"-"}]
[null,null,4,"",null,null,null,"-",{"$f":"IF(OR(IFERROR(MATCH($D1948,'Transparency List 2018_10'!$L:$L,0),FALSE),IFERROR(MATCH(TRIM($G1948),'Transparency List 2018_10'!$D:$D,0),FALSE)),\"On the 2018_10 List\",\"-\")","v":"-"},{"$f":"IF(OR(IFERROR(MATCH($D1948,'Transparency List 2018_04'!$L:$L,0),FALSE),IFERROR(MATCH(TRIM($G1948),'Transparency List 2018_04'!$D:$D,0),FALSE)),\"On the 2018_04 List\",\"-\")","v":"-"},{"$f":"IF(OR(IFERROR(MATCH($D1948,'Transparency List 2017'!$L:$L,0),FALSE),IFERROR(MATCH(TRIM($G1948),'Transparency List 2017'!$C:$C,0),FALSE)),\"On the 2017 List\",\"-\")","v":"-"},{"$f":"IF(OR(IFERROR(MATCH($D1948,'Transparency List 2015'!$H:$H,0),FALSE),IFERROR(MATCH(TRIM($G1948),'Transparency List 2015'!$C:$C,0),FALSE)),\"On the 2015 List\",\"-\")","v":"-"}]
[null,null,4,"",null,null,null,"-",{"$f":"IF(OR(IFERROR(MATCH($D1949,'Transparency List 2018_10'!$L:$L,0),FALSE),IFERROR(MATCH(TRIM($G1949),'Transparency List 2018_10'!$D:$D,0),FALSE)),\"On the 2018_10 List\",\"-\")","v":"-"},{"$f":"IF(OR(IFERROR(MATCH($D1949,'Transparency List 2018_04'!$L:$L,0),FALSE),IFERROR(MATCH(TRIM($G1949),'Transparency List 2018_04'!$D:$D,0),FALSE)),\"On the 2018_04 List\",\"-\")","v":"-"},{"$f":"IF(OR(IFERROR(MATCH($D1949,'Transparency List 2017'!$L:$L,0),FALSE),IFERROR(MATCH(TRIM($G1949),'Transparency List 2017'!$C:$C,0),FALSE)),\"On the 2017 List\",\"-\")","v":"-"},{"$f":"IF(OR(IFERROR(MATCH($D1949,'Transparency List 2015'!$H:$H,0),FALSE),IFERROR(MATCH(TRIM($G1949),'Transparency List 2015'!$C:$C,0),FALSE)),\"On the 2015 List\",\"-\")","v":"-"}]
[null,null,4,"",null,null,null,"-",{"$f":"IF(OR(IFERROR(MATCH($D1950,'Transparency List 2018_10'!$L:$L,0),FALSE),IFERROR(MATCH(TRIM($G1950),'Transparency List 2018_10'!$D:$D,0),FALSE)),\"On the 2018_10 List\",\"-\")","v":"-"},{"$f":"IF(OR(IFERROR(MATCH($D1950,'Transparency List 2018_04'!$L:$L,0),FALSE),IFERROR(MATCH(TRIM($G1950),'Transparency List 2018_04'!$D:$D,0),FALSE)),\"On the 2018_04 List\",\"-\")","v":"-"},{"$f":"IF(OR(IFERROR(MATCH($D1950,'Transparency List 2017'!$L:$L,0),FALSE),IFERROR(MATCH(TRIM($G1950),'Transparency List 2017'!$C:$C,0),FALSE)),\"On the 2017 List\",\"-\")","v":"-"},{"$f":"IF(OR(IFERROR(MATCH($D1950,'Transparency List 2015'!$H:$H,0),FALSE),IFERROR(MATCH(TRIM($G1950),'Transparency List 2015'!$C:$C,0),FALSE)),\"On the 2015 List\",\"-\")","v":"-"}]
[null,null,{"$f":"COUNTIF($I1951:$L1951,\"-\")","v":4},{"$f":"SUBSTITUTE(SUBSTITUTE(SUBSTITUTE(SUBSTITUTE($G1951,\" \",\"\"),\".\",\"\"),\"-\",\"\"),\"/\",\"\")","v":""},null,null,null,{"$f":"IFERROR(IF($C1951=4,\"-\",\"Risk Farmer - Please conduct further steps\"),)","v":"-"},{"$f":"IF(OR(IFERROR(MATCH($D1951,'Transparency List 2018_10'!$L:$L,0),FALSE),IFERROR(MATCH(TRIM($G1951),'Transparency List 2018_10'!$D:$D,0),FALSE)),\"On the 2018_10 List\",\"-\")","v":"-"},{"$f":"IF(OR(IFERROR(MATCH($D1951,'Transparency List 2018_04'!$L:$L,0),FALSE),IFERROR(MATCH(TRIM($G1951),'Transparency List 2018_04'!$D:$D,0),FALSE)),\"On the 2018_04 List\",\"-\")","v":"-"},{"$f":"IF(OR(IFERROR(MATCH($D1951,'Transparency List 2017'!$L:$L,0),FALSE),IFERROR(MATCH(TRIM($G1951),'Transparency List 2017'!$C:$C,0),FALSE)),\"On the 2017 List\",\"-\")","v":"-"},{"$f":"IF(OR(IFERROR(MATCH($D1951,'Transparency List 2015'!$H:$H,0),FALSE),IFERROR(MATCH(TRIM($G1951),'Transparency List 2015'!$C:$C,0),FALSE)),\"On the 2015 List\",\"-\")","v":"-"}]
[null,null,4,"",null,null,null,"-",{"$f":"IF(OR(IFERROR(MATCH($D1952,'Transparency List 2018_10'!$L:$L,0),FALSE),IFERROR(MATCH(TRIM($G1952),'Transparency List 2018_10'!$D:$D,0),FALSE)),\"On the 2018_10 List\",\"-\")","v":"-"},{"$f":"IF(OR(IFERROR(MATCH($D1952,'Transparency List 2018_04'!$L:$L,0),FALSE),IFERROR(MATCH(TRIM($G1952),'Transparency List 2018_04'!$D:$D,0),FALSE)),\"On the 2018_04 List\",\"-\")","v":"-"},{"$f":"IF(OR(IFERROR(MATCH($D1952,'Transparency List 2017'!$L:$L,0),FALSE),IFERROR(MATCH(TRIM($G1952),'Transparency List 2017'!$C:$C,0),FALSE)),\"On the 2017 List\",\"-\")","v":"-"},{"$f":"IF(OR(IFERROR(MATCH($D1952,'Transparency List 2015'!$H:$H,0),FALSE),IFERROR(MATCH(TRIM($G1952),'Transparency List 2015'!$C:$C,0),FALSE)),\"On the 2015 List\",\"-\")","v":"-"}]
[null,null,4,"",null,null,null,"-",{"$f":"IF(OR(IFERROR(MATCH($D1953,'Transparency List 2018_10'!$L:$L,0),FALSE),IFERROR(MATCH(TRIM($G1953),'Transparency List 2018_10'!$D:$D,0),FALSE)),\"On the 2018_10 List\",\"-\")","v":"-"},{"$f":"IF(OR(IFERROR(MATCH($D1953,'Transparency List 2018_04'!$L:$L,0),FALSE),IFERROR(MATCH(TRIM($G1953),'Transparency List 2018_04'!$D:$D,0),FALSE)),\"On the 2018_04 List\",\"-\")","v":"-"},{"$f":"IF(OR(IFERROR(MATCH($D1953,'Transparency List 2017'!$L:$L,0),FALSE),IFERROR(MATCH(TRIM($G1953),'Transparency List 2017'!$C:$C,0),FALSE)),\"On the 2017 List\",\"-\")","v":"-"},{"$f":"IF(OR(IFERROR(MATCH($D1953,'Transparency List 2015'!$H:$H,0),FALSE),IFERROR(MATCH(TRIM($G1953),'Transparency List 2015'!$C:$C,0),FALSE)),\"On the 2015 List\",\"-\")","v":"-"}]
[null,null,4,"",null,null,null,"-",{"$f":"IF(OR(IFERROR(MATCH($D1954,'Transparency List 2018_10'!$L:$L,0),FALSE),IFERROR(MATCH(TRIM($G1954),'Transparency List 2018_10'!$D:$D,0),FALSE)),\"On the 2018_10 List\",\"-\")","v":"-"},{"$f":"IF(OR(IFERROR(MATCH($D1954,'Transparency List 2018_04'!$L:$L,0),FALSE),IFERROR(MATCH(TRIM($G1954),'Transparency List 2018_04'!$D:$D,0),FALSE)),\"On the 2018_04 List\",\"-\")","v":"-"},{"$f":"IF(OR(IFERROR(MATCH($D1954,'Transparency List 2017'!$L:$L,0),FALSE),IFERROR(MATCH(TRIM($G1954),'Transparency List 2017'!$C:$C,0),FALSE)),\"On the 2017 List\",\"-\")","v":"-"},{"$f":"IF(OR(IFERROR(MATCH($D1954,'Transparency List 2015'!$H:$H,0),FALSE),IFERROR(MATCH(TRIM($G1954),'Transparency List 2015'!$C:$C,0),FALSE)),\"On the 2015 List\",\"-\")","v":"-"}]
[null,null,4,"",null,null,null,"-",{"$f":"IF(OR(IFERROR(MATCH($D1955,'Transparency List 2018_10'!$L:$L,0),FALSE),IFERROR(MATCH(TRIM($G1955),'Transparency List 2018_10'!$D:$D,0),FALSE)),\"On the 2018_10 List\",\"-\")","v":"-"},{"$f":"IF(OR(IFERROR(MATCH($D1955,'Transparency List 2018_04'!$L:$L,0),FALSE),IFERROR(MATCH(TRIM($G1955),'Transparency List 2018_04'!$D:$D,0),FALSE)),\"On the 2018_04 List\",\"-\")","v":"-"},{"$f":"IF(OR(IFERROR(MATCH($D1955,'Transparency List 2017'!$L:$L,0),FALSE),IFERROR(MATCH(TRIM($G1955),'Transparency List 2017'!$C:$C,0),FALSE)),\"On the 2017 List\",\"-\")","v":"-"},{"$f":"IF(OR(IFERROR(MATCH($D1955,'Transparency List 2015'!$H:$H,0),FALSE),IFERROR(MATCH(TRIM($G1955),'Transparency List 2015'!$C:$C,0),FALSE)),\"On the 2015 List\",\"-\")","v":"-"}]
[null,null,4,"",null,null,null,"-",{"$f":"IF(OR(IFERROR(MATCH($D1956,'Transparency List 2018_10'!$L:$L,0),FALSE),IFERROR(MATCH(TRIM($G1956),'Transparency List 2018_10'!$D:$D,0),FALSE)),\"On the 2018_10 List\",\"-\")","v":"-"},{"$f":"IF(OR(IFERROR(MATCH($D1956,'Transparency List 2018_04'!$L:$L,0),FALSE),IFERROR(MATCH(TRIM($G1956),'Transparency List 2018_04'!$D:$D,0),FALSE)),\"On the 2018_04 List\",\"-\")","v":"-"},{"$f":"IF(OR(IFERROR(MATCH($D1956,'Transparency List 2017'!$L:$L,0),FALSE),IFERROR(MATCH(TRIM($G1956),'Transparency List 2017'!$C:$C,0),FALSE)),\"On the 2017 List\",\"-\")","v":"-"},{"$f":"IF(OR(IFERROR(MATCH($D1956,'Transparency List 2015'!$H:$H,0),FALSE),IFERROR(MATCH(TRIM($G1956),'Transparency List 2015'!$C:$C,0),FALSE)),\"On the 2015 List\",\"-\")","v":"-"}]
[null,null,4,"",null,null,null,"-",{"$f":"IF(OR(IFERROR(MATCH($D1957,'Transparency List 2018_10'!$L:$L,0),FALSE),IFERROR(MATCH(TRIM($G1957),'Transparency List 2018_10'!$D:$D,0),FALSE)),\"On the 2018_10 List\",\"-\")","v":"-"},{"$f":"IF(OR(IFERROR(MATCH($D1957,'Transparency List 2018_04'!$L:$L,0),FALSE),IFERROR(MATCH(TRIM($G1957),'Transparency List 2018_04'!$D:$D,0),FALSE)),\"On the 2018_04 List\",\"-\")","v":"-"},{"$f":"IF(OR(IFERROR(MATCH($D1957,'Transparency List 2017'!$L:$L,0),FALSE),IFERROR(MATCH(TRIM($G1957),'Transparency List 2017'!$C:$C,0),FALSE)),\"On the 2017 List\",\"-\")","v":"-"},{"$f":"IF(OR(IFERROR(MATCH($D1957,'Transparency List 2015'!$H:$H,0),FALSE),IFERROR(MATCH(TRIM($G1957),'Transparency List 2015'!$C:$C,0),FALSE)),\"On the 2015 List\",\"-\")","v":"-"}]
[null,null,4,"",null,null,null,"-",{"$f":"IF(OR(IFERROR(MATCH($D1958,'Transparency List 2018_10'!$L:$L,0),FALSE),IFERROR(MATCH(TRIM($G1958),'Transparency List 2018_10'!$D:$D,0),FALSE)),\"On the 2018_10 List\",\"-\")","v":"-"},{"$f":"IF(OR(IFERROR(MATCH($D1958,'Transparency List 2018_04'!$L:$L,0),FALSE),IFERROR(MATCH(TRIM($G1958),'Transparency List 2018_04'!$D:$D,0),FALSE)),\"On the 2018_04 List\",\"-\")","v":"-"},{"$f":"IF(OR(IFERROR(MATCH($D1958,'Transparency List 2017'!$L:$L,0),FALSE),IFERROR(MATCH(TRIM($G1958),'Transparency List 2017'!$C:$C,0),FALSE)),\"On the 2017 List\",\"-\")","v":"-"},{"$f":"IF(OR(IFERROR(MATCH($D1958,'Transparency List 2015'!$H:$H,0),FALSE),IFERROR(MATCH(TRIM($G1958),'Transparency List 2015'!$C:$C,0),FALSE)),\"On the 2015 List\",\"-\")","v":"-"}]
[null,null,4,"",null,null,null,"-",{"$f":"IF(OR(IFERROR(MATCH($D1959,'Transparency List 2018_10'!$L:$L,0),FALSE),IFERROR(MATCH(TRIM($G1959),'Transparency List 2018_10'!$D:$D,0),FALSE)),\"On the 2018_10 List\",\"-\")","v":"-"},{"$f":"IF(OR(IFERROR(MATCH($D1959,'Transparency List 2018_04'!$L:$L,0),FALSE),IFERROR(MATCH(TRIM($G1959),'Transparency List 2018_04'!$D:$D,0),FALSE)),\"On the 2018_04 List\",\"-\")","v":"-"},{"$f":"IF(OR(IFERROR(MATCH($D1959,'Transparency List 2017'!$L:$L,0),FALSE),IFERROR(MATCH(TRIM($G1959),'Transparency List 2017'!$C:$C,0),FALSE)),\"On the 2017 List\",\"-\")","v":"-"},{"$f":"IF(OR(IFERROR(MATCH($D1959,'Transparency List 2015'!$H:$H,0),FALSE),IFERROR(MATCH(TRIM($G1959),'Transparency List 2015'!$C:$C,0),FALSE)),\"On the 2015 List\",\"-\")","v":"-"}]
[null,null,4,"",null,null,null,"-",{"$f":"IF(OR(IFERROR(MATCH($D1960,'Transparency List 2018_10'!$L:$L,0),FALSE),IFERROR(MATCH(TRIM($G1960),'Transparency List 2018_10'!$D:$D,0),FALSE)),\"On the 2018_10 List\",\"-\")","v":"-"},{"$f":"IF(OR(IFERROR(MATCH($D1960,'Transparency List 2018_04'!$L:$L,0),FALSE),IFERROR(MATCH(TRIM($G1960),'Transparency List 2018_04'!$D:$D,0),FALSE)),\"On the 2018_04 List\",\"-\")","v":"-"},{"$f":"IF(OR(IFERROR(MATCH($D1960,'Transparency List 2017'!$L:$L,0),FALSE),IFERROR(MATCH(TRIM($G1960),'Transparency List 2017'!$C:$C,0),FALSE)),\"On the 2017 List\",\"-\")","v":"-"},{"$f":"IF(OR(IFERROR(MATCH($D1960,'Transparency List 2015'!$H:$H,0),FALSE),IFERROR(MATCH(TRIM($G1960),'Transparency List 2015'!$C:$C,0),FALSE)),\"On the 2015 List\",\"-\")","v":"-"}]
[null,null,4,"",null,null,null,"-",{"$f":"IF(OR(IFERROR(MATCH($D1961,'Transparency List 2018_10'!$L:$L,0),FALSE),IFERROR(MATCH(TRIM($G1961),'Transparency List 2018_10'!$D:$D,0),FALSE)),\"On the 2018_10 List\",\"-\")","v":"-"},{"$f":"IF(OR(IFERROR(MATCH($D1961,'Transparency List 2018_04'!$L:$L,0),FALSE),IFERROR(MATCH(TRIM($G1961),'Transparency List 2018_04'!$D:$D,0),FALSE)),\"On the 2018_04 List\",\"-\")","v":"-"},{"$f":"IF(OR(IFERROR(MATCH($D1961,'Transparency List 2017'!$L:$L,0),FALSE),IFERROR(MATCH(TRIM($G1961),'Transparency List 2017'!$C:$C,0),FALSE)),\"On the 2017 List\",\"-\")","v":"-"},{"$f":"IF(OR(IFERROR(MATCH($D1961,'Transparency List 2015'!$H:$H,0),FALSE),IFERROR(MATCH(TRIM($G1961),'Transparency List 2015'!$C:$C,0),FALSE)),\"On the 2015 List\",\"-\")","v":"-"}]
[null,null,4,"",null,null,null,"-",{"$f":"IF(OR(IFERROR(MATCH($D1962,'Transparency List 2018_10'!$L:$L,0),FALSE),IFERROR(MATCH(TRIM($G1962),'Transparency List 2018_10'!$D:$D,0),FALSE)),\"On the 2018_10 List\",\"-\")","v":"-"},{"$f":"IF(OR(IFERROR(MATCH($D1962,'Transparency List 2018_04'!$L:$L,0),FALSE),IFERROR(MATCH(TRIM($G1962),'Transparency List 2018_04'!$D:$D,0),FALSE)),\"On the 2018_04 List\",\"-\")","v":"-"},{"$f":"IF(OR(IFERROR(MATCH($D1962,'Transparency List 2017'!$L:$L,0),FALSE),IFERROR(MATCH(TRIM($G1962),'Transparency List 2017'!$C:$C,0),FALSE)),\"On the 2017 List\",\"-\")","v":"-"},{"$f":"IF(OR(IFERROR(MATCH($D1962,'Transparency List 2015'!$H:$H,0),FALSE),IFERROR(MATCH(TRIM($G1962),'Transparency List 2015'!$C:$C,0),FALSE)),\"On the 2015 List\",\"-\")","v":"-"}]
[null,null,4,"",null,null,null,"-",{"$f":"IF(OR(IFERROR(MATCH($D1963,'Transparency List 2018_10'!$L:$L,0),FALSE),IFERROR(MATCH(TRIM($G1963),'Transparency List 2018_10'!$D:$D,0),FALSE)),\"On the 2018_10 List\",\"-\")","v":"-"},{"$f":"IF(OR(IFERROR(MATCH($D1963,'Transparency List 2018_04'!$L:$L,0),FALSE),IFERROR(MATCH(TRIM($G1963),'Transparency List 2018_04'!$D:$D,0),FALSE)),\"On the 2018_04 List\",\"-\")","v":"-"},{"$f":"IF(OR(IFERROR(MATCH($D1963,'Transparency List 2017'!$L:$L,0),FALSE),IFERROR(MATCH(TRIM($G1963),'Transparency List 2017'!$C:$C,0),FALSE)),\"On the 2017 List\",\"-\")","v":"-"},{"$f":"IF(OR(IFERROR(MATCH($D1963,'Transparency List 2015'!$H:$H,0),FALSE),IFERROR(MATCH(TRIM($G1963),'Transparency List 2015'!$C:$C,0),FALSE)),\"On the 2015 List\",\"-\")","v":"-"}]
[null,null,4,"",null,null,null,"-",{"$f":"IF(OR(IFERROR(MATCH($D1964,'Transparency List 2018_10'!$L:$L,0),FALSE),IFERROR(MATCH(TRIM($G1964),'Transparency List 2018_10'!$D:$D,0),FALSE)),\"On the 2018_10 List\",\"-\")","v":"-"},{"$f":"IF(OR(IFERROR(MATCH($D1964,'Transparency List 2018_04'!$L:$L,0),FALSE),IFERROR(MATCH(TRIM($G1964),'Transparency List 2018_04'!$D:$D,0),FALSE)),\"On the 2018_04 List\",\"-\")","v":"-"},{"$f":"IF(OR(IFERROR(MATCH($D1964,'Transparency List 2017'!$L:$L,0),FALSE),IFERROR(MATCH(TRIM($G1964),'Transparency List 2017'!$C:$C,0),FALSE)),\"On the 2017 List\",\"-\")","v":"-"},{"$f":"IF(OR(IFERROR(MATCH($D1964,'Transparency List 2015'!$H:$H,0),FALSE),IFERROR(MATCH(TRIM($G1964),'Transparency List 2015'!$C:$C,0),FALSE)),\"On the 2015 List\",\"-\")","v":"-"}]
[null,null,4,"",null,null,null,"-",{"$f":"IF(OR(IFERROR(MATCH($D1965,'Transparency List 2018_10'!$L:$L,0),FALSE),IFERROR(MATCH(TRIM($G1965),'Transparency List 2018_10'!$D:$D,0),FALSE)),\"On the 2018_10 List\",\"-\")","v":"-"},{"$f":"IF(OR(IFERROR(MATCH($D1965,'Transparency List 2018_04'!$L:$L,0),FALSE),IFERROR(MATCH(TRIM($G1965),'Transparency List 2018_04'!$D:$D,0),FALSE)),\"On the 2018_04 List\",\"-\")","v":"-"},{"$f":"IF(OR(IFERROR(MATCH($D1965,'Transparency List 2017'!$L:$L,0),FALSE),IFERROR(MATCH(TRIM($G1965),'Transparency List 2017'!$C:$C,0),FALSE)),\"On the 2017 List\",\"-\")","v":"-"},{"$f":"IF(OR(IFERROR(MATCH($D1965,'Transparency List 2015'!$H:$H,0),FALSE),IFERROR(MATCH(TRIM($G1965),'Transparency List 2015'!$C:$C,0),FALSE)),\"On the 2015 List\",\"-\")","v":"-"}]
[null,null,4,"",null,null,null,"-",{"$f":"IF(OR(IFERROR(MATCH($D1966,'Transparency List 2018_10'!$L:$L,0),FALSE),IFERROR(MATCH(TRIM($G1966),'Transparency List 2018_10'!$D:$D,0),FALSE)),\"On the 2018_10 List\",\"-\")","v":"-"},{"$f":"IF(OR(IFERROR(MATCH($D1966,'Transparency List 2018_04'!$L:$L,0),FALSE),IFERROR(MATCH(TRIM($G1966),'Transparency List 2018_04'!$D:$D,0),FALSE)),\"On the 2018_04 List\",\"-\")","v":"-"},{"$f":"IF(OR(IFERROR(MATCH($D1966,'Transparency List 2017'!$L:$L,0),FALSE),IFERROR(MATCH(TRIM($G1966),'Transparency List 2017'!$C:$C,0),FALSE)),\"On the 2017 List\",\"-\")","v":"-"},{"$f":"IF(OR(IFERROR(MATCH($D1966,'Transparency List 2015'!$H:$H,0),FALSE),IFERROR(MATCH(TRIM($G1966),'Transparency List 2015'!$C:$C,0),FALSE)),\"On the 2015 List\",\"-\")","v":"-"}]
[null,null,4,"",null,null,null,"-",{"$f":"IF(OR(IFERROR(MATCH($D1967,'Transparency List 2018_10'!$L:$L,0),FALSE),IFERROR(MATCH(TRIM($G1967),'Transparency List 2018_10'!$D:$D,0),FALSE)),\"On the 2018_10 List\",\"-\")","v":"-"},{"$f":"IF(OR(IFERROR(MATCH($D1967,'Transparency List 2018_04'!$L:$L,0),FALSE),IFERROR(MATCH(TRIM($G1967),'Transparency List 2018_04'!$D:$D,0),FALSE)),\"On the 2018_04 List\",\"-\")","v":"-"},{"$f":"IF(OR(IFERROR(MATCH($D1967,'Transparency List 2017'!$L:$L,0),FALSE),IFERROR(MATCH(TRIM($G1967),'Transparency List 2017'!$C:$C,0),FALSE)),\"On the 2017 List\",\"-\")","v":"-"},{"$f":"IF(OR(IFERROR(MATCH($D1967,'Transparency List 2015'!$H:$H,0),FALSE),IFERROR(MATCH(TRIM($G1967),'Transparency List 2015'!$C:$C,0),FALSE)),\"On the 2015 List\",\"-\")","v":"-"}]
[null,null,4,"",null,null,null,"-",{"$f":"IF(OR(IFERROR(MATCH($D1968,'Transparency List 2018_10'!$L:$L,0),FALSE),IFERROR(MATCH(TRIM($G1968),'Transparency List 2018_10'!$D:$D,0),FALSE)),\"On the 2018_10 List\",\"-\")","v":"-"},{"$f":"IF(OR(IFERROR(MATCH($D1968,'Transparency List 2018_04'!$L:$L,0),FALSE),IFERROR(MATCH(TRIM($G1968),'Transparency List 2018_04'!$D:$D,0),FALSE)),\"On the 2018_04 List\",\"-\")","v":"-"},{"$f":"IF(OR(IFERROR(MATCH($D1968,'Transparency List 2017'!$L:$L,0),FALSE),IFERROR(MATCH(TRIM($G1968),'Transparency List 2017'!$C:$C,0),FALSE)),\"On the 2017 List\",\"-\")","v":"-"},{"$f":"IF(OR(IFERROR(MATCH($D1968,'Transparency List 2015'!$H:$H,0),FALSE),IFERROR(MATCH(TRIM($G1968),'Transparency List 2015'!$C:$C,0),FALSE)),\"On the 2015 List\",\"-\")","v":"-"}]
[null,null,4,"",null,null,null,"-",{"$f":"IF(OR(IFERROR(MATCH($D1969,'Transparency List 2018_10'!$L:$L,0),FALSE),IFERROR(MATCH(TRIM($G1969),'Transparency List 2018_10'!$D:$D,0),FALSE)),\"On the 2018_10 List\",\"-\")","v":"-"},{"$f":"IF(OR(IFERROR(MATCH($D1969,'Transparency List 2018_04'!$L:$L,0),FALSE),IFERROR(MATCH(TRIM($G1969),'Transparency List 2018_04'!$D:$D,0),FALSE)),\"On the 2018_04 List\",\"-\")","v":"-"},{"$f":"IF(OR(IFERROR(MATCH($D1969,'Transparency List 2017'!$L:$L,0),FALSE),IFERROR(MATCH(TRIM($G1969),'Transparency List 2017'!$C:$C,0),FALSE)),\"On the 2017 List\",\"-\")","v":"-"},{"$f":"IF(OR(IFERROR(MATCH($D1969,'Transparency List 2015'!$H:$H,0),FALSE),IFERROR(MATCH(TRIM($G1969),'Transparency List 2015'!$C:$C,0),FALSE)),\"On the 2015 List\",\"-\")","v":"-"}]
[null,null,4,"",null,null,null,"-",{"$f":"IF(OR(IFERROR(MATCH($D1970,'Transparency List 2018_10'!$L:$L,0),FALSE),IFERROR(MATCH(TRIM($G1970),'Transparency List 2018_10'!$D:$D,0),FALSE)),\"On the 2018_10 List\",\"-\")","v":"-"},{"$f":"IF(OR(IFERROR(MATCH($D1970,'Transparency List 2018_04'!$L:$L,0),FALSE),IFERROR(MATCH(TRIM($G1970),'Transparency List 2018_04'!$D:$D,0),FALSE)),\"On the 2018_04 List\",\"-\")","v":"-"},{"$f":"IF(OR(IFERROR(MATCH($D1970,'Transparency List 2017'!$L:$L,0),FALSE),IFERROR(MATCH(TRIM($G1970),'Transparency List 2017'!$C:$C,0),FALSE)),\"On the 2017 List\",\"-\")","v":"-"},{"$f":"IF(OR(IFERROR(MATCH($D1970,'Transparency List 2015'!$H:$H,0),FALSE),IFERROR(MATCH(TRIM($G1970),'Transparency List 2015'!$C:$C,0),FALSE)),\"On the 2015 List\",\"-\")","v":"-"}]
[null,null,4,"",null,null,null,"-",{"$f":"IF(OR(IFERROR(MATCH($D1971,'Transparency List 2018_10'!$L:$L,0),FALSE),IFERROR(MATCH(TRIM($G1971),'Transparency List 2018_10'!$D:$D,0),FALSE)),\"On the 2018_10 List\",\"-\")","v":"-"},{"$f":"IF(OR(IFERROR(MATCH($D1971,'Transparency List 2018_04'!$L:$L,0),FALSE),IFERROR(MATCH(TRIM($G1971),'Transparency List 2018_04'!$D:$D,0),FALSE)),\"On the 2018_04 List\",\"-\")","v":"-"},{"$f":"IF(OR(IFERROR(MATCH($D1971,'Transparency List 2017'!$L:$L,0),FALSE),IFERROR(MATCH(TRIM($G1971),'Transparency List 2017'!$C:$C,0),FALSE)),\"On the 2017 List\",\"-\")","v":"-"},{"$f":"IF(OR(IFERROR(MATCH($D1971,'Transparency List 2015'!$H:$H,0),FALSE),IFERROR(MATCH(TRIM($G1971),'Transparency List 2015'!$C:$C,0),FALSE)),\"On the 2015 List\",\"-\")","v":"-"}]
[null,null,4,"",null,null,null,"-",{"$f":"IF(OR(IFERROR(MATCH($D1972,'Transparency List 2018_10'!$L:$L,0),FALSE),IFERROR(MATCH(TRIM($G1972),'Transparency List 2018_10'!$D:$D,0),FALSE)),\"On the 2018_10 List\",\"-\")","v":"-"},{"$f":"IF(OR(IFERROR(MATCH($D1972,'Transparency List 2018_04'!$L:$L,0),FALSE),IFERROR(MATCH(TRIM($G1972),'Transparency List 2018_04'!$D:$D,0),FALSE)),\"On the 2018_04 List\",\"-\")","v":"-"},{"$f":"IF(OR(IFERROR(MATCH($D1972,'Transparency List 2017'!$L:$L,0),FALSE),IFERROR(MATCH(TRIM($G1972),'Transparency List 2017'!$C:$C,0),FALSE)),\"On the 2017 List\",\"-\")","v":"-"},{"$f":"IF(OR(IFERROR(MATCH($D1972,'Transparency List 2015'!$H:$H,0),FALSE),IFERROR(MATCH(TRIM($G1972),'Transparency List 2015'!$C:$C,0),FALSE)),\"On the 2015 List\",\"-\")","v":"-"}]
[null,null,4,"",null,null,null,"-",{"$f":"IF(OR(IFERROR(MATCH($D1973,'Transparency List 2018_10'!$L:$L,0),FALSE),IFERROR(MATCH(TRIM($G1973),'Transparency List 2018_10'!$D:$D,0),FALSE)),\"On the 2018_10 List\",\"-\")","v":"-"},{"$f":"IF(OR(IFERROR(MATCH($D1973,'Transparency List 2018_04'!$L:$L,0),FALSE),IFERROR(MATCH(TRIM($G1973),'Transparency List 2018_04'!$D:$D,0),FALSE)),\"On the 2018_04 List\",\"-\")","v":"-"},{"$f":"IF(OR(IFERROR(MATCH($D1973,'Transparency List 2017'!$L:$L,0),FALSE),IFERROR(MATCH(TRIM($G1973),'Transparency List 2017'!$C:$C,0),FALSE)),\"On the 2017 List\",\"-\")","v":"-"},{"$f":"IF(OR(IFERROR(MATCH($D1973,'Transparency List 2015'!$H:$H,0),FALSE),IFERROR(MATCH(TRIM($G1973),'Transparency List 2015'!$C:$C,0),FALSE)),\"On the 2015 List\",\"-\")","v":"-"}]
[null,null,4,"",null,null,null,"-",{"$f":"IF(OR(IFERROR(MATCH($D1974,'Transparency List 2018_10'!$L:$L,0),FALSE),IFERROR(MATCH(TRIM($G1974),'Transparency List 2018_10'!$D:$D,0),FALSE)),\"On the 2018_10 List\",\"-\")","v":"-"},{"$f":"IF(OR(IFERROR(MATCH($D1974,'Transparency List 2018_04'!$L:$L,0),FALSE),IFERROR(MATCH(TRIM($G1974),'Transparency List 2018_04'!$D:$D,0),FALSE)),\"On the 2018_04 List\",\"-\")","v":"-"},{"$f":"IF(OR(IFERROR(MATCH($D1974,'Transparency List 2017'!$L:$L,0),FALSE),IFERROR(MATCH(TRIM($G1974),'Transparency List 2017'!$C:$C,0),FALSE)),\"On the 2017 List\",\"-\")","v":"-"},{"$f":"IF(OR(IFERROR(MATCH($D1974,'Transparency List 2015'!$H:$H,0),FALSE),IFERROR(MATCH(TRIM($G1974),'Transparency List 2015'!$C:$C,0),FALSE)),\"On the 2015 List\",\"-\")","v":"-"}]
[null,null,4,"",null,null,null,"-",{"$f":"IF(OR(IFERROR(MATCH($D1975,'Transparency List 2018_10'!$L:$L,0),FALSE),IFERROR(MATCH(TRIM($G1975),'Transparency List 2018_10'!$D:$D,0),FALSE)),\"On the 2018_10 List\",\"-\")","v":"-"},{"$f":"IF(OR(IFERROR(MATCH($D1975,'Transparency List 2018_04'!$L:$L,0),FALSE),IFERROR(MATCH(TRIM($G1975),'Transparency List 2018_04'!$D:$D,0),FALSE)),\"On the 2018_04 List\",\"-\")","v":"-"},{"$f":"IF(OR(IFERROR(MATCH($D1975,'Transparency List 2017'!$L:$L,0),FALSE),IFERROR(MATCH(TRIM($G1975),'Transparency List 2017'!$C:$C,0),FALSE)),\"On the 2017 List\",\"-\")","v":"-"},{"$f":"IF(OR(IFERROR(MATCH($D1975,'Transparency List 2015'!$H:$H,0),FALSE),IFERROR(MATCH(TRIM($G1975),'Transparency List 2015'!$C:$C,0),FALSE)),\"On the 2015 List\",\"-\")","v":"-"}]
[null,null,4,"",null,null,null,"-",{"$f":"IF(OR(IFERROR(MATCH($D1976,'Transparency List 2018_10'!$L:$L,0),FALSE),IFERROR(MATCH(TRIM($G1976),'Transparency List 2018_10'!$D:$D,0),FALSE)),\"On the 2018_10 List\",\"-\")","v":"-"},{"$f":"IF(OR(IFERROR(MATCH($D1976,'Transparency List 2018_04'!$L:$L,0),FALSE),IFERROR(MATCH(TRIM($G1976),'Transparency List 2018_04'!$D:$D,0),FALSE)),\"On the 2018_04 List\",\"-\")","v":"-"},{"$f":"IF(OR(IFERROR(MATCH($D1976,'Transparency List 2017'!$L:$L,0),FALSE),IFERROR(MATCH(TRIM($G1976),'Transparency List 2017'!$C:$C,0),FALSE)),\"On the 2017 List\",\"-\")","v":"-"},{"$f":"IF(OR(IFERROR(MATCH($D1976,'Transparency List 2015'!$H:$H,0),FALSE),IFERROR(MATCH(TRIM($G1976),'Transparency List 2015'!$C:$C,0),FALSE)),\"On the 2015 List\",\"-\")","v":"-"}]
[null,null,4,"",null,null,null,"-",{"$f":"IF(OR(IFERROR(MATCH($D1977,'Transparency List 2018_10'!$L:$L,0),FALSE),IFERROR(MATCH(TRIM($G1977),'Transparency List 2018_10'!$D:$D,0),FALSE)),\"On the 2018_10 List\",\"-\")","v":"-"},{"$f":"IF(OR(IFERROR(MATCH($D1977,'Transparency List 2018_04'!$L:$L,0),FALSE),IFERROR(MATCH(TRIM($G1977),'Transparency List 2018_04'!$D:$D,0),FALSE)),\"On the 2018_04 List\",\"-\")","v":"-"},{"$f":"IF(OR(IFERROR(MATCH($D1977,'Transparency List 2017'!$L:$L,0),FALSE),IFERROR(MATCH(TRIM($G1977),'Transparency List 2017'!$C:$C,0),FALSE)),\"On the 2017 List\",\"-\")","v":"-"},{"$f":"IF(OR(IFERROR(MATCH($D1977,'Transparency List 2015'!$H:$H,0),FALSE),IFERROR(MATCH(TRIM($G1977),'Transparency List 2015'!$C:$C,0),FALSE)),\"On the 2015 List\",\"-\")","v":"-"}]
[null,null,4,"",null,null,null,"-",{"$f":"IF(OR(IFERROR(MATCH($D1978,'Transparency List 2018_10'!$L:$L,0),FALSE),IFERROR(MATCH(TRIM($G1978),'Transparency List 2018_10'!$D:$D,0),FALSE)),\"On the 2018_10 List\",\"-\")","v":"-"},{"$f":"IF(OR(IFERROR(MATCH($D1978,'Transparency List 2018_04'!$L:$L,0),FALSE),IFERROR(MATCH(TRIM($G1978),'Transparency List 2018_04'!$D:$D,0),FALSE)),\"On the 2018_04 List\",\"-\")","v":"-"},{"$f":"IF(OR(IFERROR(MATCH($D1978,'Transparency List 2017'!$L:$L,0),FALSE),IFERROR(MATCH(TRIM($G1978),'Transparency List 2017'!$C:$C,0),FALSE)),\"On the 2017 List\",\"-\")","v":"-"},{"$f":"IF(OR(IFERROR(MATCH($D1978,'Transparency List 2015'!$H:$H,0),FALSE),IFERROR(MATCH(TRIM($G1978),'Transparency List 2015'!$C:$C,0),FALSE)),\"On the 2015 List\",\"-\")","v":"-"}]
[null,null,4,"",null,null,null,"-",{"$f":"IF(OR(IFERROR(MATCH($D1979,'Transparency List 2018_10'!$L:$L,0),FALSE),IFERROR(MATCH(TRIM($G1979),'Transparency List 2018_10'!$D:$D,0),FALSE)),\"On the 2018_10 List\",\"-\")","v":"-"},{"$f":"IF(OR(IFERROR(MATCH($D1979,'Transparency List 2018_04'!$L:$L,0),FALSE),IFERROR(MATCH(TRIM($G1979),'Transparency List 2018_04'!$D:$D,0),FALSE)),\"On the 2018_04 List\",\"-\")","v":"-"},{"$f":"IF(OR(IFERROR(MATCH($D1979,'Transparency List 2017'!$L:$L,0),FALSE),IFERROR(MATCH(TRIM($G1979),'Transparency List 2017'!$C:$C,0),FALSE)),\"On the 2017 List\",\"-\")","v":"-"},{"$f":"IF(OR(IFERROR(MATCH($D1979,'Transparency List 2015'!$H:$H,0),FALSE),IFERROR(MATCH(TRIM($G1979),'Transparency List 2015'!$C:$C,0),FALSE)),\"On the 2015 List\",\"-\")","v":"-"}]
[null,null,4,"",null,null,null,"-",{"$f":"IF(OR(IFERROR(MATCH($D1980,'Transparency List 2018_10'!$L:$L,0),FALSE),IFERROR(MATCH(TRIM($G1980),'Transparency List 2018_10'!$D:$D,0),FALSE)),\"On the 2018_10 List\",\"-\")","v":"-"},{"$f":"IF(OR(IFERROR(MATCH($D1980,'Transparency List 2018_04'!$L:$L,0),FALSE),IFERROR(MATCH(TRIM($G1980),'Transparency List 2018_04'!$D:$D,0),FALSE)),\"On the 2018_04 List\",\"-\")","v":"-"},{"$f":"IF(OR(IFERROR(MATCH($D1980,'Transparency List 2017'!$L:$L,0),FALSE),IFERROR(MATCH(TRIM($G1980),'Transparency List 2017'!$C:$C,0),FALSE)),\"On the 2017 List\",\"-\")","v":"-"},{"$f":"IF(OR(IFERROR(MATCH($D1980,'Transparency List 2015'!$H:$H,0),FALSE),IFERROR(MATCH(TRIM($G1980),'Transparency List 2015'!$C:$C,0),FALSE)),\"On the 2015 List\",\"-\")","v":"-"}]
[null,null,4,"",null,null,null,"-",{"$f":"IF(OR(IFERROR(MATCH($D1981,'Transparency List 2018_10'!$L:$L,0),FALSE),IFERROR(MATCH(TRIM($G1981),'Transparency List 2018_10'!$D:$D,0),FALSE)),\"On the 2018_10 List\",\"-\")","v":"-"},{"$f":"IF(OR(IFERROR(MATCH($D1981,'Transparency List 2018_04'!$L:$L,0),FALSE),IFERROR(MATCH(TRIM($G1981),'Transparency List 2018_04'!$D:$D,0),FALSE)),\"On the 2018_04 List\",\"-\")","v":"-"},{"$f":"IF(OR(IFERROR(MATCH($D1981,'Transparency List 2017'!$L:$L,0),FALSE),IFERROR(MATCH(TRIM($G1981),'Transparency List 2017'!$C:$C,0),FALSE)),\"On the 2017 List\",\"-\")","v":"-"},{"$f":"IF(OR(IFERROR(MATCH($D1981,'Transparency List 2015'!$H:$H,0),FALSE),IFERROR(MATCH(TRIM($G1981),'Transparency List 2015'!$C:$C,0),FALSE)),\"On the 2015 List\",\"-\")","v":"-"}]
[null,null,4,"",null,null,null,"-",{"$f":"IF(OR(IFERROR(MATCH($D1982,'Transparency List 2018_10'!$L:$L,0),FALSE),IFERROR(MATCH(TRIM($G1982),'Transparency List 2018_10'!$D:$D,0),FALSE)),\"On the 2018_10 List\",\"-\")","v":"-"},{"$f":"IF(OR(IFERROR(MATCH($D1982,'Transparency List 2018_04'!$L:$L,0),FALSE),IFERROR(MATCH(TRIM($G1982),'Transparency List 2018_04'!$D:$D,0),FALSE)),\"On the 2018_04 List\",\"-\")","v":"-"},{"$f":"IF(OR(IFERROR(MATCH($D1982,'Transparency List 2017'!$L:$L,0),FALSE),IFERROR(MATCH(TRIM($G1982),'Transparency List 2017'!$C:$C,0),FALSE)),\"On the 2017 List\",\"-\")","v":"-"},{"$f":"IF(OR(IFERROR(MATCH($D1982,'Transparency List 2015'!$H:$H,0),FALSE),IFERROR(MATCH(TRIM($G1982),'Transparency List 2015'!$C:$C,0),FALSE)),\"On the 2015 List\",\"-\")","v":"-"}]
[null,null,4,"",null,null,null,"-",{"$f":"IF(OR(IFERROR(MATCH($D1983,'Transparency List 2018_10'!$L:$L,0),FALSE),IFERROR(MATCH(TRIM($G1983),'Transparency List 2018_10'!$D:$D,0),FALSE)),\"On the 2018_10 List\",\"-\")","v":"-"},{"$f":"IF(OR(IFERROR(MATCH($D1983,'Transparency List 2018_04'!$L:$L,0),FALSE),IFERROR(MATCH(TRIM($G1983),'Transparency List 2018_04'!$D:$D,0),FALSE)),\"On the 2018_04 List\",\"-\")","v":"-"},{"$f":"IF(OR(IFERROR(MATCH($D1983,'Transparency List 2017'!$L:$L,0),FALSE),IFERROR(MATCH(TRIM($G1983),'Transparency List 2017'!$C:$C,0),FALSE)),\"On the 2017 List\",\"-\")","v":"-"},{"$f":"IF(OR(IFERROR(MATCH($D1983,'Transparency List 2015'!$H:$H,0),FALSE),IFERROR(MATCH(TRIM($G1983),'Transparency List 2015'!$C:$C,0),FALSE)),\"On the 2015 List\",\"-\")","v":"-"}]
[null,null,4,"",null,null,null,"-",{"$f":"IF(OR(IFERROR(MATCH($D1984,'Transparency List 2018_10'!$L:$L,0),FALSE),IFERROR(MATCH(TRIM($G1984),'Transparency List 2018_10'!$D:$D,0),FALSE)),\"On the 2018_10 List\",\"-\")","v":"-"},{"$f":"IF(OR(IFERROR(MATCH($D1984,'Transparency List 2018_04'!$L:$L,0),FALSE),IFERROR(MATCH(TRIM($G1984),'Transparency List 2018_04'!$D:$D,0),FALSE)),\"On the 2018_04 List\",\"-\")","v":"-"},{"$f":"IF(OR(IFERROR(MATCH($D1984,'Transparency List 2017'!$L:$L,0),FALSE),IFERROR(MATCH(TRIM($G1984),'Transparency List 2017'!$C:$C,0),FALSE)),\"On the 2017 List\",\"-\")","v":"-"},{"$f":"IF(OR(IFERROR(MATCH($D1984,'Transparency List 2015'!$H:$H,0),FALSE),IFERROR(MATCH(TRIM($G1984),'Transparency List 2015'!$C:$C,0),FALSE)),\"On the 2015 List\",\"-\")","v":"-"}]
[null,null,4,"",null,null,null,"-",{"$f":"IF(OR(IFERROR(MATCH($D1985,'Transparency List 2018_10'!$L:$L,0),FALSE),IFERROR(MATCH(TRIM($G1985),'Transparency List 2018_10'!$D:$D,0),FALSE)),\"On the 2018_10 List\",\"-\")","v":"-"},{"$f":"IF(OR(IFERROR(MATCH($D1985,'Transparency List 2018_04'!$L:$L,0),FALSE),IFERROR(MATCH(TRIM($G1985),'Transparency List 2018_04'!$D:$D,0),FALSE)),\"On the 2018_04 List\",\"-\")","v":"-"},{"$f":"IF(OR(IFERROR(MATCH($D1985,'Transparency List 2017'!$L:$L,0),FALSE),IFERROR(MATCH(TRIM($G1985),'Transparency List 2017'!$C:$C,0),FALSE)),\"On the 2017 List\",\"-\")","v":"-"},{"$f":"IF(OR(IFERROR(MATCH($D1985,'Transparency List 2015'!$H:$H,0),FALSE),IFERROR(MATCH(TRIM($G1985),'Transparency List 2015'!$C:$C,0),FALSE)),\"On the 2015 List\",\"-\")","v":"-"}]
[null,null,4,"",null,null,null,"-",{"$f":"IF(OR(IFERROR(MATCH($D1986,'Transparency List 2018_10'!$L:$L,0),FALSE),IFERROR(MATCH(TRIM($G1986),'Transparency List 2018_10'!$D:$D,0),FALSE)),\"On the 2018_10 List\",\"-\")","v":"-"},{"$f":"IF(OR(IFERROR(MATCH($D1986,'Transparency List 2018_04'!$L:$L,0),FALSE),IFERROR(MATCH(TRIM($G1986),'Transparency List 2018_04'!$D:$D,0),FALSE)),\"On the 2018_04 List\",\"-\")","v":"-"},{"$f":"IF(OR(IFERROR(MATCH($D1986,'Transparency List 2017'!$L:$L,0),FALSE),IFERROR(MATCH(TRIM($G1986),'Transparency List 2017'!$C:$C,0),FALSE)),\"On the 2017 List\",\"-\")","v":"-"},{"$f":"IF(OR(IFERROR(MATCH($D1986,'Transparency List 2015'!$H:$H,0),FALSE),IFERROR(MATCH(TRIM($G1986),'Transparency List 2015'!$C:$C,0),FALSE)),\"On the 2015 List\",\"-\")","v":"-"}]
[null,null,4,"",null,null,null,"-",{"$f":"IF(OR(IFERROR(MATCH($D1987,'Transparency List 2018_10'!$L:$L,0),FALSE),IFERROR(MATCH(TRIM($G1987),'Transparency List 2018_10'!$D:$D,0),FALSE)),\"On the 2018_10 List\",\"-\")","v":"-"},{"$f":"IF(OR(IFERROR(MATCH($D1987,'Transparency List 2018_04'!$L:$L,0),FALSE),IFERROR(MATCH(TRIM($G1987),'Transparency List 2018_04'!$D:$D,0),FALSE)),\"On the 2018_04 List\",\"-\")","v":"-"},{"$f":"IF(OR(IFERROR(MATCH($D1987,'Transparency List 2017'!$L:$L,0),FALSE),IFERROR(MATCH(TRIM($G1987),'Transparency List 2017'!$C:$C,0),FALSE)),\"On the 2017 List\",\"-\")","v":"-"},{"$f":"IF(OR(IFERROR(MATCH($D1987,'Transparency List 2015'!$H:$H,0),FALSE),IFERROR(MATCH(TRIM($G1987),'Transparency List 2015'!$C:$C,0),FALSE)),\"On the 2015 List\",\"-\")","v":"-"}]
[null,null,4,"",null,null,null,"-",{"$f":"IF(OR(IFERROR(MATCH($D1988,'Transparency List 2018_10'!$L:$L,0),FALSE),IFERROR(MATCH(TRIM($G1988),'Transparency List 2018_10'!$D:$D,0),FALSE)),\"On the 2018_10 List\",\"-\")","v":"-"},{"$f":"IF(OR(IFERROR(MATCH($D1988,'Transparency List 2018_04'!$L:$L,0),FALSE),IFERROR(MATCH(TRIM($G1988),'Transparency List 2018_04'!$D:$D,0),FALSE)),\"On the 2018_04 List\",\"-\")","v":"-"},{"$f":"IF(OR(IFERROR(MATCH($D1988,'Transparency List 2017'!$L:$L,0),FALSE),IFERROR(MATCH(TRIM($G1988),'Transparency List 2017'!$C:$C,0),FALSE)),\"On the 2017 List\",\"-\")","v":"-"},{"$f":"IF(OR(IFERROR(MATCH($D1988,'Transparency List 2015'!$H:$H,0),FALSE),IFERROR(MATCH(TRIM($G1988),'Transparency List 2015'!$C:$C,0),FALSE)),\"On the 2015 List\",\"-\")","v":"-"}]
[null,null,4,"",null,null,null,"-",{"$f":"IF(OR(IFERROR(MATCH($D1989,'Transparency List 2018_10'!$L:$L,0),FALSE),IFERROR(MATCH(TRIM($G1989),'Transparency List 2018_10'!$D:$D,0),FALSE)),\"On the 2018_10 List\",\"-\")","v":"-"},{"$f":"IF(OR(IFERROR(MATCH($D1989,'Transparency List 2018_04'!$L:$L,0),FALSE),IFERROR(MATCH(TRIM($G1989),'Transparency List 2018_04'!$D:$D,0),FALSE)),\"On the 2018_04 List\",\"-\")","v":"-"},{"$f":"IF(OR(IFERROR(MATCH($D1989,'Transparency List 2017'!$L:$L,0),FALSE),IFERROR(MATCH(TRIM($G1989),'Transparency List 2017'!$C:$C,0),FALSE)),\"On the 2017 List\",\"-\")","v":"-"},{"$f":"IF(OR(IFERROR(MATCH($D1989,'Transparency List 2015'!$H:$H,0),FALSE),IFERROR(MATCH(TRIM($G1989),'Transparency List 2015'!$C:$C,0),FALSE)),\"On the 2015 List\",\"-\")","v":"-"}]
[null,null,4,"",null,null,null,"-",{"$f":"IF(OR(IFERROR(MATCH($D1990,'Transparency List 2018_10'!$L:$L,0),FALSE),IFERROR(MATCH(TRIM($G1990),'Transparency List 2018_10'!$D:$D,0),FALSE)),\"On the 2018_10 List\",\"-\")","v":"-"},{"$f":"IF(OR(IFERROR(MATCH($D1990,'Transparency List 2018_04'!$L:$L,0),FALSE),IFERROR(MATCH(TRIM($G1990),'Transparency List 2018_04'!$D:$D,0),FALSE)),\"On the 2018_04 List\",\"-\")","v":"-"},{"$f":"IF(OR(IFERROR(MATCH($D1990,'Transparency List 2017'!$L:$L,0),FALSE),IFERROR(MATCH(TRIM($G1990),'Transparency List 2017'!$C:$C,0),FALSE)),\"On the 2017 List\",\"-\")","v":"-"},{"$f":"IF(OR(IFERROR(MATCH($D1990,'Transparency List 2015'!$H:$H,0),FALSE),IFERROR(MATCH(TRIM($G1990),'Transparency List 2015'!$C:$C,0),FALSE)),\"On the 2015 List\",\"-\")","v":"-"}]
[null,null,4,"",null,null,null,"-",{"$f":"IF(OR(IFERROR(MATCH($D1991,'Transparency List 2018_10'!$L:$L,0),FALSE),IFERROR(MATCH(TRIM($G1991),'Transparency List 2018_10'!$D:$D,0),FALSE)),\"On the 2018_10 List\",\"-\")","v":"-"},{"$f":"IF(OR(IFERROR(MATCH($D1991,'Transparency List 2018_04'!$L:$L,0),FALSE),IFERROR(MATCH(TRIM($G1991),'Transparency List 2018_04'!$D:$D,0),FALSE)),\"On the 2018_04 List\",\"-\")","v":"-"},{"$f":"IF(OR(IFERROR(MATCH($D1991,'Transparency List 2017'!$L:$L,0),FALSE),IFERROR(MATCH(TRIM($G1991),'Transparency List 2017'!$C:$C,0),FALSE)),\"On the 2017 List\",\"-\")","v":"-"},{"$f":"IF(OR(IFERROR(MATCH($D1991,'Transparency List 2015'!$H:$H,0),FALSE),IFERROR(MATCH(TRIM($G1991),'Transparency List 2015'!$C:$C,0),FALSE)),\"On the 2015 List\",\"-\")","v":"-"}]
[null,null,4,"",null,null,null,"-",{"$f":"IF(OR(IFERROR(MATCH($D1992,'Transparency List 2018_10'!$L:$L,0),FALSE),IFERROR(MATCH(TRIM($G1992),'Transparency List 2018_10'!$D:$D,0),FALSE)),\"On the 2018_10 List\",\"-\")","v":"-"},{"$f":"IF(OR(IFERROR(MATCH($D1992,'Transparency List 2018_04'!$L:$L,0),FALSE),IFERROR(MATCH(TRIM($G1992),'Transparency List 2018_04'!$D:$D,0),FALSE)),\"On the 2018_04 List\",\"-\")","v":"-"},{"$f":"IF(OR(IFERROR(MATCH($D1992,'Transparency List 2017'!$L:$L,0),FALSE),IFERROR(MATCH(TRIM($G1992),'Transparency List 2017'!$C:$C,0),FALSE)),\"On the 2017 List\",\"-\")","v":"-"},{"$f":"IF(OR(IFERROR(MATCH($D1992,'Transparency List 2015'!$H:$H,0),FALSE),IFERROR(MATCH(TRIM($G1992),'Transparency List 2015'!$C:$C,0),FALSE)),\"On the 2015 List\",\"-\")","v":"-"}]
[null,null,4,"",null,null,null,"-",{"$f":"IF(OR(IFERROR(MATCH($D1993,'Transparency List 2018_10'!$L:$L,0),FALSE),IFERROR(MATCH(TRIM($G1993),'Transparency List 2018_10'!$D:$D,0),FALSE)),\"On the 2018_10 List\",\"-\")","v":"-"},{"$f":"IF(OR(IFERROR(MATCH($D1993,'Transparency List 2018_04'!$L:$L,0),FALSE),IFERROR(MATCH(TRIM($G1993),'Transparency List 2018_04'!$D:$D,0),FALSE)),\"On the 2018_04 List\",\"-\")","v":"-"},{"$f":"IF(OR(IFERROR(MATCH($D1993,'Transparency List 2017'!$L:$L,0),FALSE),IFERROR(MATCH(TRIM($G1993),'Transparency List 2017'!$C:$C,0),FALSE)),\"On the 2017 List\",\"-\")","v":"-"},{"$f":"IF(OR(IFERROR(MATCH($D1993,'Transparency List 2015'!$H:$H,0),FALSE),IFERROR(MATCH(TRIM($G1993),'Transparency List 2015'!$C:$C,0),FALSE)),\"On the 2015 List\",\"-\")","v":"-"}]
[null,null,4,"",null,null,null,"-",{"$f":"IF(OR(IFERROR(MATCH($D1994,'Transparency List 2018_10'!$L:$L,0),FALSE),IFERROR(MATCH(TRIM($G1994),'Transparency List 2018_10'!$D:$D,0),FALSE)),\"On the 2018_10 List\",\"-\")","v":"-"},{"$f":"IF(OR(IFERROR(MATCH($D1994,'Transparency List 2018_04'!$L:$L,0),FALSE),IFERROR(MATCH(TRIM($G1994),'Transparency List 2018_04'!$D:$D,0),FALSE)),\"On the 2018_04 List\",\"-\")","v":"-"},{"$f":"IF(OR(IFERROR(MATCH($D1994,'Transparency List 2017'!$L:$L,0),FALSE),IFERROR(MATCH(TRIM($G1994),'Transparency List 2017'!$C:$C,0),FALSE)),\"On the 2017 List\",\"-\")","v":"-"},{"$f":"IF(OR(IFERROR(MATCH($D1994,'Transparency List 2015'!$H:$H,0),FALSE),IFERROR(MATCH(TRIM($G1994),'Transparency List 2015'!$C:$C,0),FALSE)),\"On the 2015 List\",\"-\")","v":"-"}]
[null,null,4,"",null,null,null,"-",{"$f":"IF(OR(IFERROR(MATCH($D1995,'Transparency List 2018_10'!$L:$L,0),FALSE),IFERROR(MATCH(TRIM($G1995),'Transparency List 2018_10'!$D:$D,0),FALSE)),\"On the 2018_10 List\",\"-\")","v":"-"},{"$f":"IF(OR(IFERROR(MATCH($D1995,'Transparency List 2018_04'!$L:$L,0),FALSE),IFERROR(MATCH(TRIM($G1995),'Transparency List 2018_04'!$D:$D,0),FALSE)),\"On the 2018_04 List\",\"-\")","v":"-"},{"$f":"IF(OR(IFERROR(MATCH($D1995,'Transparency List 2017'!$L:$L,0),FALSE),IFERROR(MATCH(TRIM($G1995),'Transparency List 2017'!$C:$C,0),FALSE)),\"On the 2017 List\",\"-\")","v":"-"},{"$f":"IF(OR(IFERROR(MATCH($D1995,'Transparency List 2015'!$H:$H,0),FALSE),IFERROR(MATCH(TRIM($G1995),'Transparency List 2015'!$C:$C,0),FALSE)),\"On the 2015 List\",\"-\")","v":"-"}]
[null,null,4,"",null,null,null,"-",{"$f":"IF(OR(IFERROR(MATCH($D1996,'Transparency List 2018_10'!$L:$L,0),FALSE),IFERROR(MATCH(TRIM($G1996),'Transparency List 2018_10'!$D:$D,0),FALSE)),\"On the 2018_10 List\",\"-\")","v":"-"},{"$f":"IF(OR(IFERROR(MATCH($D1996,'Transparency List 2018_04'!$L:$L,0),FALSE),IFERROR(MATCH(TRIM($G1996),'Transparency List 2018_04'!$D:$D,0),FALSE)),\"On the 2018_04 List\",\"-\")","v":"-"},{"$f":"IF(OR(IFERROR(MATCH($D1996,'Transparency List 2017'!$L:$L,0),FALSE),IFERROR(MATCH(TRIM($G1996),'Transparency List 2017'!$C:$C,0),FALSE)),\"On the 2017 List\",\"-\")","v":"-"},{"$f":"IF(OR(IFERROR(MATCH($D1996,'Transparency List 2015'!$H:$H,0),FALSE),IFERROR(MATCH(TRIM($G1996),'Transparency List 2015'!$C:$C,0),FALSE)),\"On the 2015 List\",\"-\")","v":"-"}]
[null,null,4,"",null,null,null,"-",{"$f":"IF(OR(IFERROR(MATCH($D1997,'Transparency List 2018_10'!$L:$L,0),FALSE),IFERROR(MATCH(TRIM($G1997),'Transparency List 2018_10'!$D:$D,0),FALSE)),\"On the 2018_10 List\",\"-\")","v":"-"},{"$f":"IF(OR(IFERROR(MATCH($D1997,'Transparency List 2018_04'!$L:$L,0),FALSE),IFERROR(MATCH(TRIM($G1997),'Transparency List 2018_04'!$D:$D,0),FALSE)),\"On the 2018_04 List\",\"-\")","v":"-"},{"$f":"IF(OR(IFERROR(MATCH($D1997,'Transparency List 2017'!$L:$L,0),FALSE),IFERROR(MATCH(TRIM($G1997),'Transparency List 2017'!$C:$C,0),FALSE)),\"On the 2017 List\",\"-\")","v":"-"},{"$f":"IF(OR(IFERROR(MATCH($D1997,'Transparency List 2015'!$H:$H,0),FALSE),IFERROR(MATCH(TRIM($G1997),'Transparency List 2015'!$C:$C,0),FALSE)),\"On the 2015 List\",\"-\")","v":"-"}]
[null,null,4,"",null,null,null,"-",{"$f":"IF(OR(IFERROR(MATCH($D1998,'Transparency List 2018_10'!$L:$L,0),FALSE),IFERROR(MATCH(TRIM($G1998),'Transparency List 2018_10'!$D:$D,0),FALSE)),\"On the 2018_10 List\",\"-\")","v":"-"},{"$f":"IF(OR(IFERROR(MATCH($D1998,'Transparency List 2018_04'!$L:$L,0),FALSE),IFERROR(MATCH(TRIM($G1998),'Transparency List 2018_04'!$D:$D,0),FALSE)),\"On the 2018_04 List\",\"-\")","v":"-"},{"$f":"IF(OR(IFERROR(MATCH($D1998,'Transparency List 2017'!$L:$L,0),FALSE),IFERROR(MATCH(TRIM($G1998),'Transparency List 2017'!$C:$C,0),FALSE)),\"On the 2017 List\",\"-\")","v":"-"},{"$f":"IF(OR(IFERROR(MATCH($D1998,'Transparency List 2015'!$H:$H,0),FALSE),IFERROR(MATCH(TRIM($G1998),'Transparency List 2015'!$C:$C,0),FALSE)),\"On the 2015 List\",\"-\")","v":"-"}]
[null,null,4,"",null,null,null,"-",{"$f":"IF(OR(IFERROR(MATCH($D1999,'Transparency List 2018_10'!$L:$L,0),FALSE),IFERROR(MATCH(TRIM($G1999),'Transparency List 2018_10'!$D:$D,0),FALSE)),\"On the 2018_10 List\",\"-\")","v":"-"},{"$f":"IF(OR(IFERROR(MATCH($D1999,'Transparency List 2018_04'!$L:$L,0),FALSE),IFERROR(MATCH(TRIM($G1999),'Transparency List 2018_04'!$D:$D,0),FALSE)),\"On the 2018_04 List\",\"-\")","v":"-"},{"$f":"IF(OR(IFERROR(MATCH($D1999,'Transparency List 2017'!$L:$L,0),FALSE),IFERROR(MATCH(TRIM($G1999),'Transparency List 2017'!$C:$C,0),FALSE)),\"On the 2017 List\",\"-\")","v":"-"},{"$f":"IF(OR(IFERROR(MATCH($D1999,'Transparency List 2015'!$H:$H,0),FALSE),IFERROR(MATCH(TRIM($G1999),'Transparency List 2015'!$C:$C,0),FALSE)),\"On the 2015 List\",\"-\")","v":"-"}]
[null,null,4,"",null,null,null,"-",{"$f":"IF(OR(IFERROR(MATCH($D2000,'Transparency List 2018_10'!$L:$L,0),FALSE),IFERROR(MATCH(TRIM($G2000),'Transparency List 2018_10'!$D:$D,0),FALSE)),\"On the 2018_10 List\",\"-\")","v":"-"},{"$f":"IF(OR(IFERROR(MATCH($D2000,'Transparency List 2018_04'!$L:$L,0),FALSE),IFERROR(MATCH(TRIM($G2000),'Transparency List 2018_04'!$D:$D,0),FALSE)),\"On the 2018_04 List\",\"-\")","v":"-"},{"$f":"IF(OR(IFERROR(MATCH($D2000,'Transparency List 2017'!$L:$L,0),FALSE),IFERROR(MATCH(TRIM($G2000),'Transparency List 2017'!$C:$C,0),FALSE)),\"On the 2017 List\",\"-\")","v":"-"},{"$f":"IF(OR(IFERROR(MATCH($D2000,'Transparency List 2015'!$H:$H,0),FALSE),IFERROR(MATCH(TRIM($G2000),'Transparency List 2015'!$C:$C,0),FALSE)),\"On the 2015 List\",\"-\")","v":"-"}]
[null,null,4,"",null,null,null,"-",{"$f":"IF(OR(IFERROR(MATCH($D2001,'Transparency List 2018_10'!$L:$L,0),FALSE),IFERROR(MATCH(TRIM($G2001),'Transparency List 2018_10'!$D:$D,0),FALSE)),\"On the 2018_10 List\",\"-\")","v":"-"},{"$f":"IF(OR(IFERROR(MATCH($D2001,'Transparency List 2018_04'!$L:$L,0),FALSE),IFERROR(MATCH(TRIM($G2001),'Transparency List 2018_04'!$D:$D,0),FALSE)),\"On the 2018_04 List\",\"-\")","v":"-"},{"$f":"IF(OR(IFERROR(MATCH($D2001,'Transparency List 2017'!$L:$L,0),FALSE),IFERROR(MATCH(TRIM($G2001),'Transparency List 2017'!$C:$C,0),FALSE)),\"On the 2017 List\",\"-\")","v":"-"},{"$f":"IF(OR(IFERROR(MATCH($D2001,'Transparency List 2015'!$H:$H,0),FALSE),IFERROR(MATCH(TRIM($G2001),'Transparency List 2015'!$C:$C,0),FALSE)),\"On the 2015 List\",\"-\")","v":"-"}]
[null,null,4,"",null,null,null,"-",{"$f":"IF(OR(IFERROR(MATCH($D2002,'Transparency List 2018_10'!$L:$L,0),FALSE),IFERROR(MATCH(TRIM($G2002),'Transparency List 2018_10'!$D:$D,0),FALSE)),\"On the 2018_10 List\",\"-\")","v":"-"},{"$f":"IF(OR(IFERROR(MATCH($D2002,'Transparency List 2018_04'!$L:$L,0),FALSE),IFERROR(MATCH(TRIM($G2002),'Transparency List 2018_04'!$D:$D,0),FALSE)),\"On the 2018_04 List\",\"-\")","v":"-"},{"$f":"IF(OR(IFERROR(MATCH($D2002,'Transparency List 2017'!$L:$L,0),FALSE),IFERROR(MATCH(TRIM($G2002),'Transparency List 2017'!$C:$C,0),FALSE)),\"On the 2017 List\",\"-\")","v":"-"},{"$f":"IF(OR(IFERROR(MATCH($D2002,'Transparency List 2015'!$H:$H,0),FALSE),IFERROR(MATCH(TRIM($G2002),'Transparency List 2015'!$C:$C,0),FALSE)),\"On the 2015 List\",\"-\")","v":"-"}]
[null,null,4,"",null,null,null,"-",{"$f":"IF(OR(IFERROR(MATCH($D2003,'Transparency List 2018_10'!$L:$L,0),FALSE),IFERROR(MATCH(TRIM($G2003),'Transparency List 2018_10'!$D:$D,0),FALSE)),\"On the 2018_10 List\",\"-\")","v":"-"},{"$f":"IF(OR(IFERROR(MATCH($D2003,'Transparency List 2018_04'!$L:$L,0),FALSE),IFERROR(MATCH(TRIM($G2003),'Transparency List 2018_04'!$D:$D,0),FALSE)),\"On the 2018_04 List\",\"-\")","v":"-"},{"$f":"IF(OR(IFERROR(MATCH($D2003,'Transparency List 2017'!$L:$L,0),FALSE),IFERROR(MATCH(TRIM($G2003),'Transparency List 2017'!$C:$C,0),FALSE)),\"On the 2017 List\",\"-\")","v":"-"},{"$f":"IF(OR(IFERROR(MATCH($D2003,'Transparency List 2015'!$H:$H,0),FALSE),IFERROR(MATCH(TRIM($G2003),'Transparency List 2015'!$C:$C,0),FALSE)),\"On the 2015 List\",\"-\")","v":"-"}]
[null,null,4,"",null,null,null,"-",{"$f":"IF(OR(IFERROR(MATCH($D2004,'Transparency List 2018_10'!$L:$L,0),FALSE),IFERROR(MATCH(TRIM($G2004),'Transparency List 2018_10'!$D:$D,0),FALSE)),\"On the 2018_10 List\",\"-\")","v":"-"},{"$f":"IF(OR(IFERROR(MATCH($D2004,'Transparency List 2018_04'!$L:$L,0),FALSE),IFERROR(MATCH(TRIM($G2004),'Transparency List 2018_04'!$D:$D,0),FALSE)),\"On the 2018_04 List\",\"-\")","v":"-"},{"$f":"IF(OR(IFERROR(MATCH($D2004,'Transparency List 2017'!$L:$L,0),FALSE),IFERROR(MATCH(TRIM($G2004),'Transparency List 2017'!$C:$C,0),FALSE)),\"On the 2017 List\",\"-\")","v":"-"},{"$f":"IF(OR(IFERROR(MATCH($D2004,'Transparency List 2015'!$H:$H,0),FALSE),IFERROR(MATCH(TRIM($G2004),'Transparency List 2015'!$C:$C,0),FALSE)),\"On the 2015 List\",\"-\")","v":"-"}]
[null,null,4,"",null,null,null,"-",{"$f":"IF(OR(IFERROR(MATCH($D2005,'Transparency List 2018_10'!$L:$L,0),FALSE),IFERROR(MATCH(TRIM($G2005),'Transparency List 2018_10'!$D:$D,0),FALSE)),\"On the 2018_10 List\",\"-\")","v":"-"},{"$f":"IF(OR(IFERROR(MATCH($D2005,'Transparency List 2018_04'!$L:$L,0),FALSE),IFERROR(MATCH(TRIM($G2005),'Transparency List 2018_04'!$D:$D,0),FALSE)),\"On the 2018_04 List\",\"-\")","v":"-"},{"$f":"IF(OR(IFERROR(MATCH($D2005,'Transparency List 2017'!$L:$L,0),FALSE),IFERROR(MATCH(TRIM($G2005),'Transparency List 2017'!$C:$C,0),FALSE)),\"On the 2017 List\",\"-\")","v":"-"},{"$f":"IF(OR(IFERROR(MATCH($D2005,'Transparency List 2015'!$H:$H,0),FALSE),IFERROR(MATCH(TRIM($G2005),'Transparency List 2015'!$C:$C,0),FALSE)),\"On the 2015 List\",\"-\")","v":"-"}]
[null,null,4,"",null,null,null,"-",{"$f":"IF(OR(IFERROR(MATCH($D2006,'Transparency List 2018_10'!$L:$L,0),FALSE),IFERROR(MATCH(TRIM($G2006),'Transparency List 2018_10'!$D:$D,0),FALSE)),\"On the 2018_10 List\",\"-\")","v":"-"},{"$f":"IF(OR(IFERROR(MATCH($D2006,'Transparency List 2018_04'!$L:$L,0),FALSE),IFERROR(MATCH(TRIM($G2006),'Transparency List 2018_04'!$D:$D,0),FALSE)),\"On the 2018_04 List\",\"-\")","v":"-"},{"$f":"IF(OR(IFERROR(MATCH($D2006,'Transparency List 2017'!$L:$L,0),FALSE),IFERROR(MATCH(TRIM($G2006),'Transparency List 2017'!$C:$C,0),FALSE)),\"On the 2017 List\",\"-\")","v":"-"},{"$f":"IF(OR(IFERROR(MATCH($D2006,'Transparency List 2015'!$H:$H,0),FALSE),IFERROR(MATCH(TRIM($G2006),'Transparency List 2015'!$C:$C,0),FALSE)),\"On the 2015 List\",\"-\")","v":"-"}]
[null,null,4,"",null,null,null,"-",{"$f":"IF(OR(IFERROR(MATCH($D2007,'Transparency List 2018_10'!$L:$L,0),FALSE),IFERROR(MATCH(TRIM($G2007),'Transparency List 2018_10'!$D:$D,0),FALSE)),\"On the 2018_10 List\",\"-\")","v":"-"},{"$f":"IF(OR(IFERROR(MATCH($D2007,'Transparency List 2018_04'!$L:$L,0),FALSE),IFERROR(MATCH(TRIM($G2007),'Transparency List 2018_04'!$D:$D,0),FALSE)),\"On the 2018_04 List\",\"-\")","v":"-"},{"$f":"IF(OR(IFERROR(MATCH($D2007,'Transparency List 2017'!$L:$L,0),FALSE),IFERROR(MATCH(TRIM($G2007),'Transparency List 2017'!$C:$C,0),FALSE)),\"On the 2017 List\",\"-\")","v":"-"},{"$f":"IF(OR(IFERROR(MATCH($D2007,'Transparency List 2015'!$H:$H,0),FALSE),IFERROR(MATCH(TRIM($G2007),'Transparency List 2015'!$C:$C,0),FALSE)),\"On the 2015 List\",\"-\")","v":"-"}]
[null,null,4,"",null,null,null,"-",{"$f":"IF(OR(IFERROR(MATCH($D2008,'Transparency List 2018_10'!$L:$L,0),FALSE),IFERROR(MATCH(TRIM($G2008),'Transparency List 2018_10'!$D:$D,0),FALSE)),\"On the 2018_10 List\",\"-\")","v":"-"},{"$f":"IF(OR(IFERROR(MATCH($D2008,'Transparency List 2018_04'!$L:$L,0),FALSE),IFERROR(MATCH(TRIM($G2008),'Transparency List 2018_04'!$D:$D,0),FALSE)),\"On the 2018_04 List\",\"-\")","v":"-"},{"$f":"IF(OR(IFERROR(MATCH($D2008,'Transparency List 2017'!$L:$L,0),FALSE),IFERROR(MATCH(TRIM($G2008),'Transparency List 2017'!$C:$C,0),FALSE)),\"On the 2017 List\",\"-\")","v":"-"},{"$f":"IF(OR(IFERROR(MATCH($D2008,'Transparency List 2015'!$H:$H,0),FALSE),IFERROR(MATCH(TRIM($G2008),'Transparency List 2015'!$C:$C,0),FALSE)),\"On the 2015 List\",\"-\")","v":"-"}]
[null,null,4,"",null,null,null,"-",{"$f":"IF(OR(IFERROR(MATCH($D2009,'Transparency List 2018_10'!$L:$L,0),FALSE),IFERROR(MATCH(TRIM($G2009),'Transparency List 2018_10'!$D:$D,0),FALSE)),\"On the 2018_10 List\",\"-\")","v":"-"},{"$f":"IF(OR(IFERROR(MATCH($D2009,'Transparency List 2018_04'!$L:$L,0),FALSE),IFERROR(MATCH(TRIM($G2009),'Transparency List 2018_04'!$D:$D,0),FALSE)),\"On the 2018_04 List\",\"-\")","v":"-"},{"$f":"IF(OR(IFERROR(MATCH($D2009,'Transparency List 2017'!$L:$L,0),FALSE),IFERROR(MATCH(TRIM($G2009),'Transparency List 2017'!$C:$C,0),FALSE)),\"On the 2017 List\",\"-\")","v":"-"},{"$f":"IF(OR(IFERROR(MATCH($D2009,'Transparency List 2015'!$H:$H,0),FALSE),IFERROR(MATCH(TRIM($G2009),'Transparency List 2015'!$C:$C,0),FALSE)),\"On the 2015 List\",\"-\")","v":"-"}]
[null,null,4,"",null,null,null,"-",{"$f":"IF(OR(IFERROR(MATCH($D2010,'Transparency List 2018_10'!$L:$L,0),FALSE),IFERROR(MATCH(TRIM($G2010),'Transparency List 2018_10'!$D:$D,0),FALSE)),\"On the 2018_10 List\",\"-\")","v":"-"},{"$f":"IF(OR(IFERROR(MATCH($D2010,'Transparency List 2018_04'!$L:$L,0),FALSE),IFERROR(MATCH(TRIM($G2010),'Transparency List 2018_04'!$D:$D,0),FALSE)),\"On the 2018_04 List\",\"-\")","v":"-"},{"$f":"IF(OR(IFERROR(MATCH($D2010,'Transparency List 2017'!$L:$L,0),FALSE),IFERROR(MATCH(TRIM($G2010),'Transparency List 2017'!$C:$C,0),FALSE)),\"On the 2017 List\",\"-\")","v":"-"},{"$f":"IF(OR(IFERROR(MATCH($D2010,'Transparency List 2015'!$H:$H,0),FALSE),IFERROR(MATCH(TRIM($G2010),'Transparency List 2015'!$C:$C,0),FALSE)),\"On the 2015 List\",\"-\")","v":"-"}]
[null,null,4,"",null,null,null,"-",{"$f":"IF(OR(IFERROR(MATCH($D2011,'Transparency List 2018_10'!$L:$L,0),FALSE),IFERROR(MATCH(TRIM($G2011),'Transparency List 2018_10'!$D:$D,0),FALSE)),\"On the 2018_10 List\",\"-\")","v":"-"},{"$f":"IF(OR(IFERROR(MATCH($D2011,'Transparency List 2018_04'!$L:$L,0),FALSE),IFERROR(MATCH(TRIM($G2011),'Transparency List 2018_04'!$D:$D,0),FALSE)),\"On the 2018_04 List\",\"-\")","v":"-"},{"$f":"IF(OR(IFERROR(MATCH($D2011,'Transparency List 2017'!$L:$L,0),FALSE),IFERROR(MATCH(TRIM($G2011),'Transparency List 2017'!$C:$C,0),FALSE)),\"On the 2017 List\",\"-\")","v":"-"},{"$f":"IF(OR(IFERROR(MATCH($D2011,'Transparency List 2015'!$H:$H,0),FALSE),IFERROR(MATCH(TRIM($G2011),'Transparency List 2015'!$C:$C,0),FALSE)),\"On the 2015 List\",\"-\")","v":"-"}]
[null,null,4,"",null,null,null,"-",{"$f":"IF(OR(IFERROR(MATCH($D2012,'Transparency List 2018_10'!$L:$L,0),FALSE),IFERROR(MATCH(TRIM($G2012),'Transparency List 2018_10'!$D:$D,0),FALSE)),\"On the 2018_10 List\",\"-\")","v":"-"},{"$f":"IF(OR(IFERROR(MATCH($D2012,'Transparency List 2018_04'!$L:$L,0),FALSE),IFERROR(MATCH(TRIM($G2012),'Transparency List 2018_04'!$D:$D,0),FALSE)),\"On the 2018_04 List\",\"-\")","v":"-"},{"$f":"IF(OR(IFERROR(MATCH($D2012,'Transparency List 2017'!$L:$L,0),FALSE),IFERROR(MATCH(TRIM($G2012),'Transparency List 2017'!$C:$C,0),FALSE)),\"On the 2017 List\",\"-\")","v":"-"},{"$f":"IF(OR(IFERROR(MATCH($D2012,'Transparency List 2015'!$H:$H,0),FALSE),IFERROR(MATCH(TRIM($G2012),'Transparency List 2015'!$C:$C,0),FALSE)),\"On the 2015 List\",\"-\")","v":"-"}]
[null,null,4,"",null,null,null,"-",{"$f":"IF(OR(IFERROR(MATCH($D2013,'Transparency List 2018_10'!$L:$L,0),FALSE),IFERROR(MATCH(TRIM($G2013),'Transparency List 2018_10'!$D:$D,0),FALSE)),\"On the 2018_10 List\",\"-\")","v":"-"},{"$f":"IF(OR(IFERROR(MATCH($D2013,'Transparency List 2018_04'!$L:$L,0),FALSE),IFERROR(MATCH(TRIM($G2013),'Transparency List 2018_04'!$D:$D,0),FALSE)),\"On the 2018_04 List\",\"-\")","v":"-"},{"$f":"IF(OR(IFERROR(MATCH($D2013,'Transparency List 2017'!$L:$L,0),FALSE),IFERROR(MATCH(TRIM($G2013),'Transparency List 2017'!$C:$C,0),FALSE)),\"On the 2017 List\",\"-\")","v":"-"},{"$f":"IF(OR(IFERROR(MATCH($D2013,'Transparency List 2015'!$H:$H,0),FALSE),IFERROR(MATCH(TRIM($G2013),'Transparency List 2015'!$C:$C,0),FALSE)),\"On the 2015 List\",\"-\")","v":"-"}]
[null,null,4,"",null,null,null,"-",{"$f":"IF(OR(IFERROR(MATCH($D2014,'Transparency List 2018_10'!$L:$L,0),FALSE),IFERROR(MATCH(TRIM($G2014),'Transparency List 2018_10'!$D:$D,0),FALSE)),\"On the 2018_10 List\",\"-\")","v":"-"},{"$f":"IF(OR(IFERROR(MATCH($D2014,'Transparency List 2018_04'!$L:$L,0),FALSE),IFERROR(MATCH(TRIM($G2014),'Transparency List 2018_04'!$D:$D,0),FALSE)),\"On the 2018_04 List\",\"-\")","v":"-"},{"$f":"IF(OR(IFERROR(MATCH($D2014,'Transparency List 2017'!$L:$L,0),FALSE),IFERROR(MATCH(TRIM($G2014),'Transparency List 2017'!$C:$C,0),FALSE)),\"On the 2017 List\",\"-\")","v":"-"},{"$f":"IF(OR(IFERROR(MATCH($D2014,'Transparency List 2015'!$H:$H,0),FALSE),IFERROR(MATCH(TRIM($G2014),'Transparency List 2015'!$C:$C,0),FALSE)),\"On the 2015 List\",\"-\")","v":"-"}]
[null,null,{"$f":"COUNTIF($I2015:$L2015,\"-\")","v":4},{"$f":"SUBSTITUTE(SUBSTITUTE(SUBSTITUTE(SUBSTITUTE($G2015,\" \",\"\"),\".\",\"\"),\"-\",\"\"),\"/\",\"\")","v":""},null,null,null,{"$f":"IFERROR(IF($C2015=4,\"-\",\"Risk Farmer - Please conduct further steps\"),)","v":"-"},{"$f":"IF(OR(IFERROR(MATCH($D2015,'Transparency List 2018_10'!$L:$L,0),FALSE),IFERROR(MATCH(TRIM($G2015),'Transparency List 2018_10'!$D:$D,0),FALSE)),\"On the 2018_10 List\",\"-\")","v":"-"},{"$f":"IF(OR(IFERROR(MATCH($D2015,'Transparency List 2018_04'!$L:$L,0),FALSE),IFERROR(MATCH(TRIM($G2015),'Transparency List 2018_04'!$D:$D,0),FALSE)),\"On the 2018_04 List\",\"-\")","v":"-"},{"$f":"IF(OR(IFERROR(MATCH($D2015,'Transparency List 2017'!$L:$L,0),FALSE),IFERROR(MATCH(TRIM($G2015),'Transparency List 2017'!$C:$C,0),FALSE)),\"On the 2017 List\",\"-\")","v":"-"},{"$f":"IF(OR(IFERROR(MATCH($D2015,'Transparency List 2015'!$H:$H,0),FALSE),IFERROR(MATCH(TRIM($G2015),'Transparency List 2015'!$C:$C,0),FALSE)),\"On the 2015 List\",\"-\")","v":"-"}]
[null,null,4,"",null,null,null,"-",{"$f":"IF(OR(IFERROR(MATCH($D2016,'Transparency List 2018_10'!$L:$L,0),FALSE),IFERROR(MATCH(TRIM($G2016),'Transparency List 2018_10'!$D:$D,0),FALSE)),\"On the 2018_10 List\",\"-\")","v":"-"},{"$f":"IF(OR(IFERROR(MATCH($D2016,'Transparency List 2018_04'!$L:$L,0),FALSE),IFERROR(MATCH(TRIM($G2016),'Transparency List 2018_04'!$D:$D,0),FALSE)),\"On the 2018_04 List\",\"-\")","v":"-"},{"$f":"IF(OR(IFERROR(MATCH($D2016,'Transparency List 2017'!$L:$L,0),FALSE),IFERROR(MATCH(TRIM($G2016),'Transparency List 2017'!$C:$C,0),FALSE)),\"On the 2017 List\",\"-\")","v":"-"},{"$f":"IF(OR(IFERROR(MATCH($D2016,'Transparency List 2015'!$H:$H,0),FALSE),IFERROR(MATCH(TRIM($G2016),'Transparency List 2015'!$C:$C,0),FALSE)),\"On the 2015 List\",\"-\")","v":"-"}]
[null,null,4,"",null,null,null,"-",{"$f":"IF(OR(IFERROR(MATCH($D2017,'Transparency List 2018_10'!$L:$L,0),FALSE),IFERROR(MATCH(TRIM($G2017),'Transparency List 2018_10'!$D:$D,0),FALSE)),\"On the 2018_10 List\",\"-\")","v":"-"},{"$f":"IF(OR(IFERROR(MATCH($D2017,'Transparency List 2018_04'!$L:$L,0),FALSE),IFERROR(MATCH(TRIM($G2017),'Transparency List 2018_04'!$D:$D,0),FALSE)),\"On the 2018_04 List\",\"-\")","v":"-"},{"$f":"IF(OR(IFERROR(MATCH($D2017,'Transparency List 2017'!$L:$L,0),FALSE),IFERROR(MATCH(TRIM($G2017),'Transparency List 2017'!$C:$C,0),FALSE)),\"On the 2017 List\",\"-\")","v":"-"},{"$f":"IF(OR(IFERROR(MATCH($D2017,'Transparency List 2015'!$H:$H,0),FALSE),IFERROR(MATCH(TRIM($G2017),'Transparency List 2015'!$C:$C,0),FALSE)),\"On the 2015 List\",\"-\")","v":"-"}]
[null,null,4,"",null,null,null,"-",{"$f":"IF(OR(IFERROR(MATCH($D2018,'Transparency List 2018_10'!$L:$L,0),FALSE),IFERROR(MATCH(TRIM($G2018),'Transparency List 2018_10'!$D:$D,0),FALSE)),\"On the 2018_10 List\",\"-\")","v":"-"},{"$f":"IF(OR(IFERROR(MATCH($D2018,'Transparency List 2018_04'!$L:$L,0),FALSE),IFERROR(MATCH(TRIM($G2018),'Transparency List 2018_04'!$D:$D,0),FALSE)),\"On the 2018_04 List\",\"-\")","v":"-"},{"$f":"IF(OR(IFERROR(MATCH($D2018,'Transparency List 2017'!$L:$L,0),FALSE),IFERROR(MATCH(TRIM($G2018),'Transparency List 2017'!$C:$C,0),FALSE)),\"On the 2017 List\",\"-\")","v":"-"},{"$f":"IF(OR(IFERROR(MATCH($D2018,'Transparency List 2015'!$H:$H,0),FALSE),IFERROR(MATCH(TRIM($G2018),'Transparency List 2015'!$C:$C,0),FALSE)),\"On the 2015 List\",\"-\")","v":"-"}]
[null,null,4,"",null,null,null,"-",{"$f":"IF(OR(IFERROR(MATCH($D2019,'Transparency List 2018_10'!$L:$L,0),FALSE),IFERROR(MATCH(TRIM($G2019),'Transparency List 2018_10'!$D:$D,0),FALSE)),\"On the 2018_10 List\",\"-\")","v":"-"},{"$f":"IF(OR(IFERROR(MATCH($D2019,'Transparency List 2018_04'!$L:$L,0),FALSE),IFERROR(MATCH(TRIM($G2019),'Transparency List 2018_04'!$D:$D,0),FALSE)),\"On the 2018_04 List\",\"-\")","v":"-"},{"$f":"IF(OR(IFERROR(MATCH($D2019,'Transparency List 2017'!$L:$L,0),FALSE),IFERROR(MATCH(TRIM($G2019),'Transparency List 2017'!$C:$C,0),FALSE)),\"On the 2017 List\",\"-\")","v":"-"},{"$f":"IF(OR(IFERROR(MATCH($D2019,'Transparency List 2015'!$H:$H,0),FALSE),IFERROR(MATCH(TRIM($G2019),'Transparency List 2015'!$C:$C,0),FALSE)),\"On the 2015 List\",\"-\")","v":"-"}]
[null,null,4,"",null,null,null,"-",{"$f":"IF(OR(IFERROR(MATCH($D2020,'Transparency List 2018_10'!$L:$L,0),FALSE),IFERROR(MATCH(TRIM($G2020),'Transparency List 2018_10'!$D:$D,0),FALSE)),\"On the 2018_10 List\",\"-\")","v":"-"},{"$f":"IF(OR(IFERROR(MATCH($D2020,'Transparency List 2018_04'!$L:$L,0),FALSE),IFERROR(MATCH(TRIM($G2020),'Transparency List 2018_04'!$D:$D,0),FALSE)),\"On the 2018_04 List\",\"-\")","v":"-"},{"$f":"IF(OR(IFERROR(MATCH($D2020,'Transparency List 2017'!$L:$L,0),FALSE),IFERROR(MATCH(TRIM($G2020),'Transparency List 2017'!$C:$C,0),FALSE)),\"On the 2017 List\",\"-\")","v":"-"},{"$f":"IF(OR(IFERROR(MATCH($D2020,'Transparency List 2015'!$H:$H,0),FALSE),IFERROR(MATCH(TRIM($G2020),'Transparency List 2015'!$C:$C,0),FALSE)),\"On the 2015 List\",\"-\")","v":"-"}]
[null,null,4,"",null,null,null,"-",{"$f":"IF(OR(IFERROR(MATCH($D2021,'Transparency List 2018_10'!$L:$L,0),FALSE),IFERROR(MATCH(TRIM($G2021),'Transparency List 2018_10'!$D:$D,0),FALSE)),\"On the 2018_10 List\",\"-\")","v":"-"},{"$f":"IF(OR(IFERROR(MATCH($D2021,'Transparency List 2018_04'!$L:$L,0),FALSE),IFERROR(MATCH(TRIM($G2021),'Transparency List 2018_04'!$D:$D,0),FALSE)),\"On the 2018_04 List\",\"-\")","v":"-"},{"$f":"IF(OR(IFERROR(MATCH($D2021,'Transparency List 2017'!$L:$L,0),FALSE),IFERROR(MATCH(TRIM($G2021),'Transparency List 2017'!$C:$C,0),FALSE)),\"On the 2017 List\",\"-\")","v":"-"},{"$f":"IF(OR(IFERROR(MATCH($D2021,'Transparency List 2015'!$H:$H,0),FALSE),IFERROR(MATCH(TRIM($G2021),'Transparency List 2015'!$C:$C,0),FALSE)),\"On the 2015 List\",\"-\")","v":"-"}]
[null,null,4,"",null,null,null,"-",{"$f":"IF(OR(IFERROR(MATCH($D2022,'Transparency List 2018_10'!$L:$L,0),FALSE),IFERROR(MATCH(TRIM($G2022),'Transparency List 2018_10'!$D:$D,0),FALSE)),\"On the 2018_10 List\",\"-\")","v":"-"},{"$f":"IF(OR(IFERROR(MATCH($D2022,'Transparency List 2018_04'!$L:$L,0),FALSE),IFERROR(MATCH(TRIM($G2022),'Transparency List 2018_04'!$D:$D,0),FALSE)),\"On the 2018_04 List\",\"-\")","v":"-"},{"$f":"IF(OR(IFERROR(MATCH($D2022,'Transparency List 2017'!$L:$L,0),FALSE),IFERROR(MATCH(TRIM($G2022),'Transparency List 2017'!$C:$C,0),FALSE)),\"On the 2017 List\",\"-\")","v":"-"},{"$f":"IF(OR(IFERROR(MATCH($D2022,'Transparency List 2015'!$H:$H,0),FALSE),IFERROR(MATCH(TRIM($G2022),'Transparency List 2015'!$C:$C,0),FALSE)),\"On the 2015 List\",\"-\")","v":"-"}]
[null,null,4,"",null,null,null,"-",{"$f":"IF(OR(IFERROR(MATCH($D2023,'Transparency List 2018_10'!$L:$L,0),FALSE),IFERROR(MATCH(TRIM($G2023),'Transparency List 2018_10'!$D:$D,0),FALSE)),\"On the 2018_10 List\",\"-\")","v":"-"},{"$f":"IF(OR(IFERROR(MATCH($D2023,'Transparency List 2018_04'!$L:$L,0),FALSE),IFERROR(MATCH(TRIM($G2023),'Transparency List 2018_04'!$D:$D,0),FALSE)),\"On the 2018_04 List\",\"-\")","v":"-"},{"$f":"IF(OR(IFERROR(MATCH($D2023,'Transparency List 2017'!$L:$L,0),FALSE),IFERROR(MATCH(TRIM($G2023),'Transparency List 2017'!$C:$C,0),FALSE)),\"On the 2017 List\",\"-\")","v":"-"},{"$f":"IF(OR(IFERROR(MATCH($D2023,'Transparency List 2015'!$H:$H,0),FALSE),IFERROR(MATCH(TRIM($G2023),'Transparency List 2015'!$C:$C,0),FALSE)),\"On the 2015 List\",\"-\")","v":"-"}]
[null,null,4,"",null,null,null,"-",{"$f":"IF(OR(IFERROR(MATCH($D2024,'Transparency List 2018_10'!$L:$L,0),FALSE),IFERROR(MATCH(TRIM($G2024),'Transparency List 2018_10'!$D:$D,0),FALSE)),\"On the 2018_10 List\",\"-\")","v":"-"},{"$f":"IF(OR(IFERROR(MATCH($D2024,'Transparency List 2018_04'!$L:$L,0),FALSE),IFERROR(MATCH(TRIM($G2024),'Transparency List 2018_04'!$D:$D,0),FALSE)),\"On the 2018_04 List\",\"-\")","v":"-"},{"$f":"IF(OR(IFERROR(MATCH($D2024,'Transparency List 2017'!$L:$L,0),FALSE),IFERROR(MATCH(TRIM($G2024),'Transparency List 2017'!$C:$C,0),FALSE)),\"On the 2017 List\",\"-\")","v":"-"},{"$f":"IF(OR(IFERROR(MATCH($D2024,'Transparency List 2015'!$H:$H,0),FALSE),IFERROR(MATCH(TRIM($G2024),'Transparency List 2015'!$C:$C,0),FALSE)),\"On the 2015 List\",\"-\")","v":"-"}]

{"sheet":"Transparency List 2018_10","index":1,"n_rows":219,"n_cols":12,"rows_kept":219,"cut":false,"hidden":false,"merged":[[6,0,6,9],[7,0,7,9],[218,0,218,9]]}
["Cadastro de Empregadores que tenham submetido trabalhadores a condições análogas à de escravo"]
[]
["(Portaria Interministerial MTPS/MMIRDH no 4 de 11/05/2016)"]
[]
[]
[]
["Atualização periódica de 3/10/2018. Cadastro atualizado em 8/10/2018."]
["I- PUBLICAÇÃO DA RELAÇÃO DE EMPREGADORES PREVISTA NO ARTIGO 2º, CAPUT, DA PORTARIA INTERMINISTERIAL Nº 4, DE 11 DE MAIO DE 2016"]
["ID","Ano da ação fiscal","UF","Empregador","CNPJ/CPF","Estabelecimento","Trabalhadores envolvidos","CNAE","Decisão\nadministrativa de procedência (irrecorribilidade)","Inclusão no Cadastro de Empregadores",null,"clean CNPJ/CPF"]
[1,2016,"RS","Adalberto Braz de Souza","884.400.954-49","Rod. BR 386, bairro Olarias/Conventos, Lajeado/RS",17,"4789-0/99","2017-04-13","2017-10-27",null,{"$f":"SUBSTITUTE(SUBSTITUTE(SUBSTITUTE(SUBSTITUTE($E10,\" \",\"\"),\".\",\"\"),\"-\",\"\"),\"/\",\"\")","v":"88440095449"}]
[2,2014,"MG","Ademir Andrade de Oliveira","705.704.936-68","Fazenda Santa Helena/Chácara Vargem Bonita - zona rural, Ibiraci/MG",11,"0134-2/00","2015-02-05","2017-03-23",null,{"$f":"SUBSTITUTE(SUBSTITUTE(SUBSTITUTE(SUBSTITUTE($E11,\" \",\"\"),\".\",\"\"),\"-\",\"\"),\"/\",\"\")","v":"70570493668"}]
[3,2015,"MG","AEV Empreendimentos Imobiliários SPE Ltda","20.288.137/0001-09","Obra Residencial American Garden I - Rua Lindolfo de Azevedo, 1.184, Jardim América, Belo Horizonte/MG",9,"4110-7/00","2016-07-07","2017-03-23",null,"20288137000109"]
[4,2014,"GO","Agenor Tibúrcio da Silva","375.056.961-49","Fazenda Bagre - Região do Marimbondo, zona rural, Caldas Novas/MG",3,"0899-1/99","2015-05-05","2017-03-23",null,"37505696149"]
[5,2015,"SC","Agrícola Fraiburgo Indústria e Comércio Ltda","02.478.883/0001-75","Localidade de Rio Crioulas, s/n, Urubici/SC",18,"0133-4/07","2018-03-23","2018-10-08",null,"02478883000175"]
[6,2014,"SC","Airton Luiz Cobalchini","828.271.339-20","Viveiro de Mudas e Serraria - Rua Pedro Damo, 87, Formosa, Campo Erê/SC",1,"0210-1/03","2014-12-03","2017-03-23",null,"82827133920"]
[7,2016,"GO","Alex Teixeira de Oliveira Santos","949.176.121-87","Rua 47, Quadra 116, Lote 3, Jardim Tiradentes, Aparecida de Goiânia/GO",11,"3212-4/00","2017-02-27","2017-10-27",null,"94917612187"]
[8,2014,"MA","Alexandre Vieira Lins","360.426.924-53","Fazena Sara - Rod. BR 135, km 122, Miranda do Norte/MA",4,"0151-2/01","2014-12-10","2017-03-23",null,"36042692453"]
[9,2014,"AC","Amândio Celestino Cogo","120.299.399-00","Fazenda Perseverança - Ramal Jorge Kalume, km 16, Rio Branco/AC",3,"0151-2/01","2015-07-28","2017-03-23",null,"12029939900"]
[10,2016,"PI","Ancelmo Gomes Gonçalves","819.832.803-30","Área de extração de carnaúba - Povoado Areal, zona rural, Santa Cruz do Piauí/PI",18,"0220-9/99","2017-04-07","2017-10-27",null,"81983280330"]
[11,2011,"PA","Angelin Ório","150.731.739-53","Fazenda Campos Altos/Garimpo Casarão - Rod. PA 279, km 80, zona rural, Água Azul do Norte/PA",13,"0724-3/01","2015-11-06","2017-03-23",null,"15073173953"]
[12,2016,"PA","Antônio Amaro da Silva","100.970.231-91","Fazenda Vale Grande - Vicinal do Sapo, km 43, São Félix do Xingu/PA",4,"4120-4/00","2017-06-28","2018-04-10",null,"10097023191"]
[13,2013,"MA","Antônio Calixto dos Santos","004.089.055-49","Fazenda Grapia - Estrada de acesso à ferrovia de Carajás, linhão da Eletronorte, São Pedro da Água Branca/MA",1,"0151-2/01","2014-08-21","2017-03-23",null,"00408905549"]
[14,2013,"MT","Antônio Carlos Zanin","528.530.049-53","Fazendas Flexas e Piuva - Rod. BR 163, km 70, Santo Antônio do Laverger/MT",4,"0151-2/01","2014-10-06","2017-10-27",null,"52853004953"]
[15,2012,"PA","Antônio Francisco Oliveira Rosa","504.888.133-87","Fazenda Três Irmãos - Rod. PA 150, km 65, zona rural, Conceição do Araguaia/PA",2,"0159-8/99","2014-08-07","2017-03-23",null,"50488813387"]
[16,2015,"SC","Antônio José Bezerra","172.953.514-34","Estrada Geral Antas Gordas, Vidal Ramos/SC",5,"0119-9/04","2018-06-13","2018-10-08",null,"17295351434"]
[17,2017,"MG","Antônio Libério Machado","477.072.246-04","Fazenda Campos Domingo Pereira, zona rural, São Gotardo/MG",3,"0210-1/08","2017-11-06","2018-10-08",null,"47707224604"]
[18,2012,"PA","Antônio Luiz Sanches Felipe","948.566.642-04","Fazenda Leandra - vicinal Lontrão, km 26, Gleba Empenho, Pacajá/PA",2,"0151-2/01","2015-04-02","2017-03-23",null,"94856664204"]
[19,2015,"BA","Associação Comunitária Cultural e Recreativa do Distrito Stela Dubois","07.006.061/0001-05","Obra de construção de casas populares - Assentamento Vila PA, região do Beira Rio, zona rural, Santa Rita de Cássia/BA",6,"4120-4/00","2017-04-10","2017-10-27",null,"07006061000105"]
[20,2016,"RJ","Bar e Lanchonete Recanto da Vila da Penha Ltda","07.563.985/0001-02","Pastelaria - Av. Vicente de Carvalho, 995, Loja Q, Vila da Penha, Rio de Janeiro/RJ",2,"5611-2/03","2017-05-10","2018-04-10",null,"07563985000102"]
[21,2016,"SP","Blackpool Indústria e Comércio Ltda","17.789.952/0001-39","Oficinas de costura - Rua Coronel Macedo, 245, Parque Paraíso Cajamar/SP",16,"1412-6/01","2017-02-09","2017-10-27",null,"17789952000139"]
[22,2013,"BA","C S O Engenharia Ltda","33.870.809/0001-23","Obra Parque dos Coqueiros - Rua Arapuana, s/n, Asa Branca, Feira de Santana/BA",24,"4120-4/00","2018-01-12","2018-04-10",null,"33870809000123"]
[23,2016,"RJ","Caldo de Cana Kau Ltda","42.114.637/0001-59","Lanchonete - Rua da Estrela, 109, Rio Comprido, Rio de Janeiro/RJ",5,"5611-2/03","2017-04-17","2018-04-10",null,"42114637000159"]
[24,2016,"MT","Carlos Alberto Lopes","307.341.009-06","Obra - Rod. MT 251, Estrada para Chapada dos Guimarães, margens do Córrego Mutuca, Cuiabá/MT",4,"0220-9/01","2017-05-29","2017-10-27",null,"30734100906"]
[25,2015,"MG","Carlos da Silveira Dumont","250.533.106-53","Fazenda da Várzea - zona rural, Serro/MG",9,"0151-2/02","2015-07-06","2017-03-23",null,"25053310653"]
[26,2011,"PA","Carlos Fernandes de Araújo","511.556.562-53","Carvoaria do Carlinhos - Rod. PA 150, Estrada Santo Antônio, km 21, Goianésia do Pará/PA",11,"0220-9/02","2014-12-04","2017-03-23",null,"51155656253"]
[27,2014,"MG","CCM - Construtora Centro Minas Ltda","23.998.438/0001-06","Obra - Rua São Vicente, 155, Granja de Freitas, Belo Horizonte/MG",40,"4120-4/00","2015-03-18","2017-03-23",null,"23998438000106"]
[28,2014,"PA","Celestino Alécio Fuchina Facco","131.358.210-72","Fazenda São Lucas - Rod. BR 010/PA 125, km 8, zona rural, Ulianópolis/PA",14,"0115-6/00","2015-10-16","2017-03-23",null,"13135821072"]
[29,2016,"PI","Celso de Sousa Mendes Filho","154.372.724-72","Fazenda Jacaré - zona rural, São Francisco do Piauí/PI",18,"0220-9/99","2017-03-22","2017-10-27",null,"15437272472"]
[30,2016,"RJ","Chapa Lima Gás Reparos Especializados Ltda","06.881.559/0001-54","Alojamento - Rua Miguel Cervantes, 442, Cachambi, Rio de Janeiro/RJ",1,"4322-3/01","2017-12-01","2018-10-08",null,"06881559000154"]
[31,2015,"RJ","Cone Brasil Comércio de Alimentos Ltda","09.519.635/0001-74","Cidade do Rock - Jacarepaguá, Rio de Janeiro/RJ",17,"4930-2/02","2017-10-23","2018-04-10",null,"09519635000174"]
[32,2016,"SP","Confecções Delícia EIRELI","01.857.667/0001-78","Oficina de costura - Av. Alberto Byington, 902, Vila Maria Alta, São Paulo/SP",6,"1412-6/01","2017-02-02","2017-10-27",null,"01857667000178"]
[33,2017,"SP","Confecções Ukil Ltda","05.280.828/0001-64","Oficina de costura - Rua Miller, 102 a 104, Brás, São Paulo/SP",15,"1412-6/01","2017-09-14","2018-04-10",null,"05280828000164"]
[34,2015,"SP","Construcentro Ltda","03.657.261/0001-77","Obra Residencial Pirajussara - Rua Quênia, s/n°, Pirajussara, Embu das Artes/SP",27,"4120-4/00","2016-01-28","2017-03-23",null,"03657261000177"]
[35,2014,"RO","Construtora e Instaladora Rondonorte Ltda","06.042.126/0001-05","Obra do Espaço Alternativo de Porto Velho - Av. Lauro Sodré, Porto Velho/RO",3,"4221-9/03","2016-03-28","2017-03-23",null,"06042126000105"]
[36,2015,"MG","Construtora Império Ltda","04.565.082/0001-72","Obra Pref. Mun. Lagoa Santa - Rua José de Magalhães Pinto, 426, Ouvídio Guerra, Lagoa Santa/MG",14,"4120-4/00","2016-03-09","2017-10-27",null,"04565082000172"]
[37,2014,"MG","Construtora Modelo Ltda","41.801.440/0001-25","Fazenda Jardim - São Sebastião do Bom Sucesso, Conceição do Mato Dentro/MG",19,"4120-4/00","2015-07-15","2017-03-23",null,"41801440000125"]
[38,2014,"GO","Cooperativa dos Beneficiadores de Algodão de Mineiros Ltda","09.511.278/0001-06","Comfibra Cotton - Rod. BR 364, km 309, zona rural, Mineiros/GO",52,"1311-1/00","2016-02-22","2017-10-27",null,"09511278000106"]
[39,2017,"PA","Copnérios Cooperativa dos Extratores de Minérios do Sul do Pará","07.715.130/0001-50","Garimpo da Fazenda Santa Lúcia, Distrito de Casa de Tábua, Santa Maria das Barreiras/PA",12,"0724-3/01","2018-06-15","2018-10-08",null,"07715130000150"]
[40,2017,"MG","Corcina Soares Neta","083.257.196-21","Praça Firmino Alves, 148, Distrito de Itapiru, Rubim/MG",1,"9700-5/00","2018-03-28","2018-10-08",null,"08325719621"]
[41,2015,"RJ","Dan Xin Guo Lanches Ltda","06.284.872/0001-05","Lanchonete - Rua Figueira de Melo, 366, São Cristóvão, Rio de Janeiro/RJ",4,"5611-2/03","2017-10-18","2018-04-10",null,"06284872000105"]
[42,2011,"PA","Delfino Francisco Kehrnvalt","015.982.879-15","Fazenda Água Limpa - zona rural, Santa Maria das Barreiras/PA",4,"0151-2/01","2014-12-05","2017-03-23",null,"01598287915"]
[43,2015,"TO","Delfino Pereira Martins","360.828.991-72","Fazenda Ana Thaíra - zona rural, Dois Irmãos/TO",3,"0151-2/01","2016-06-14","2017-03-23",null,"36082899172"]
[44,2013,"MG","Diedro Construções e Serviços Ltda","00.817.206/0001-09","Canteiro de obras - Jardim Bouganville, Conceição do Mato Dentro/MG",173,"4120-4/00","2015-06-30","2017-10-27",null,"00817206000109"]
[45,2015,"MG","Dirceu José da Silva","078.202.916-72","Fazenda Canabrava - Rod. LMG 628, km 73, à direita, 36 km, Unaí/MG",6,"0151-2/02","2016-01-07","2017-03-23",null,"07820291672"]
[46,2017,"RO","Dorvalino Netto Borges","080.213.921-34","Travessão 40, Lote 23, zona rural, Candeias do Jamari/RO",2,"0151-2/01","2017-12-28","2018-04-10",null,"08021392134"]
[47,2016,"MG","Éder Murilo Antunes Ruas Costa","113.746.496-86","Fazenda Seco - Estrada do Veredão, 13 km, zona rural, Águas Vermelhas/MG",1,"0210-1/07","2016-08-31","23/03/17 a 23/03/17\ne 25/04/17",null,"11374649686"]
[48,2016,"ES","Edileuza Regina Uliana","031.528.107-33","Sitio Córrego do Pavão - zona rural, Brejetuba/ES",12,"0134-2/00","2016-12-05","2017-10-27",null,"03152810733"]
[49,2011,"MG","Edílio Peron Ferrari","300.359.709-44","Fazendas Giramundo e Guariroba - Zona Rural do Municipio de Paracatu, MG",5,"0119-9/05","2015-03-09","2017-03-23",null,"30035970944"]
[50,2016,"PA","Edivam Carvalho Pereira","336.550.901-10","Chácara Saudades de Minas e Fazenda Abaram - Vila São Sebastião, zona rural, Itupiranga/PA",1,"0151-2/02","2017-05-04","2017-10-27",null,"33655090110"]
[51,2017,"MA","Edmilson Aragão da Cunha","001.784.103-81","Carnaubais situados no Povoado São Benedito, zona rural, Vargem Grande/MA",6,"0220-9/99","2017-12-11","2018-10-08",null,"00178410381"]
[52,2014,"MG","Ednei Oliveira Gomes","014.524.686-80","Fazenda São João Cachoeira da Extrema - zona rural, Coração de Jesus/MG",10,"0220-9/02","2015-01-28","2017-03-23",null,"01452468680"]
[53,2016,"MS","Edvaldo Zagatto","046.891.598-23","Fazenda São Luís - zona rural, Aquidauana/MS",6,"0151-2/01","2017-05-15","2017-10-27",null,"04689159823"]
[54,2016,"GO","Elias José Vilaça","132.445.231-53","Sítio Vilaça - zona rural, Minaçu/GO",1,"0151-2/01","2017-02-09","2017-10-27",null,"13244523153"]
[55,2017,"MT","Elimar Barros Ribeiro","507.699.871-68","Fazenda Nossa Senhora Aparecida, rodovia BR-080, km 131, zona rural, São Félix do Araguaia/MT",4,"0115-6/00","2018-06-14","2018-10-08",null,"50769987168"]
[56,2015,"MG","Emídio Alves Madeira","028.661.376-04","Fazenda Santa Efigênia - zona rural, Bom Jesus da Penha/MG",60,"0134-2/00","2016-01-06","2017-03-23",null,"02866137604"]
[57,2016,"MG","Emídio Alves Madeira","028.661.376-04","Fazendas Boa Vista e Cafundó - zona rural, Bom Jesus da Penha/MG",14,"0134-2/00","2017-02-06","2017-10-27",null,"02866137604"]
[58,2017,"SP","Engetal Engenharia e Construções Ltda","57.632.705/0001-49","Obras ETEC e FATEC - Rua Cristóbal Cláudio Elilo, Guarulhos/SP",21,"4120-4/00","2017-09-05","2018-04-10",null,"57632705000149"]
[59,2016,"TO","Eronice de Souza Borges","015.296.841-53","Fazenda Umuarama, sentido Aliança/Dueré, km 14 à esquerda, zona rural, Aliança do Tocantins/TO",1,"0151-2/01","2018-02-16","2018-10-08",null,"01529684153"]
[60,2014,"SC","Ervateira Cavalo Branco Ltda","09.457.742/0001-15","Extração de Erva Mate - Linha Boa Vista, Pinhalzinho/SC",5,"1099-6/05","2015-02-13","2017-03-23",null,"09457742000115"]
[61,2016,"PA","Eudemberto Sampaio de Souza","649.120.513-49","Área de mata - Vicinal do Macapuxi, Uruará/PA",7,"0220-9/01","2017-06-12","2017-10-27",null,"64912051349"]
[62,2017,"RO","Eurico Sebastião de Castro","133.117.354-04","Fazenda KZN - Linha 21 de Abril, km 17, Gleba Aliança, zona rural, Porto Velho/RO",1,"0152-1/02","2017-11-10","2018-04-10",null,"13311735404"]
[63,2011,"MG","Eustachio de Araújo Passos","000.790.651-04","Fazenda Fetal - zona rural, Distrito de Serra Bonita, Buritis/MG",15,"0210-1/01","2014-11-27","2017-03-23",null,"00079065104"]
[64,2014,"AC","Felipe Joel Veras Pinheiro","867.845.522-53","Fazenda Estância Guanabara - Rod. AC 90, km 8, zona rural, Rio Branco/AC",15,"0151-2/01","2015-08-10","2017-10-27",null,"86784552253"]
[65,2017,"CE","Francisco Alkimir Lima - ME","20.606.916/0001-05","Rua da Upa, s/n, Vila de Jericoacoara, Jijoca de Jericoacoara/CE",2,"4120-4/00","2018-04-13","2018-10-08",null,"20606916000105"]
[66,2016,"PI","Francisco Damasceno da Páscoa","420.598.363-87","Área de extração de carnaúba - Povoado Caraíbas, zona rural, Esperantina/PI",26,"0220-9/99","2017-04-13","2017-10-27",null,{"$f":"SUBSTITUTE(SUBSTITUTE(SUBSTITUTE(SUBSTITUTE($E75,\" \",\"\"),\".\",\"\"),\"-\",\"\"),\"/\",\"\")","v":"42059836387"}]
[67,2017,"MA","Francisco José Aguiar Lopes","275.892.423-49","Carnaubal situado no Povoado Alto Bonito, zona rural, Vargem Grande/MA",19,"0220-9/99","2018-06-25","2018-10-08",null,"27589242349"]
[68,2018,"MG","Francisco Ludovico de Medeiros","089.189.886-72","Fazenda Santa Helena I, região da Fazenda Diamante, zona rural, Pompéu/MG",26,"0210-1/08","2018-07-24","2018-10-08",null,"08918988672"]
[69,2016,"MG","Francisco Mozart da Silva","346.789.996-04","Sitio Andorinhas II - Bairro Perobeiras, Poço Fundo/MG",12,"0134-2/00","2016-11-08","2017-10-27",null,"34678999604"]
[70,2017,"CE","Francisco Valdeci Almeida de Araújo","971.913.103-91","Fazenda Lagoa do Mato, localidade de Sítios Novos, zona rural, Caucaia/CE",7,"0220-9/01","2018-07-09","2018-10-08",null,"97191310391"]
[71,2013,"MT","Frares Comércio de Madeiras Ltda EPP","05.655.250/0002-64","Fazenda cachoeira, rodovia BR 299, km 66, zona rural, Itiquira/MT",3,"0210-1/07","2018-05-11","2018-10-08",null,"05655250000264"]
[72,2015,"MG","Garra Engenharia e Planejamento Ltda","04.781.388/0001-66","Obra - Rua Gustavo Pena, 183, Horto, Belo Horizonte/MG",5,"4120-4/00","2015-10-02","2017-03-23",null,"04781388000166"]
[73,2016,"MG","Gaspar Souza","219.631.426-91","Fazenda Chapadão - zona rural, Pratinha/MG",19,"0134-2/00","2016-12-09","23/03/17 a 23/03/17\ne 25/04/17",null,"21963142691"]
[74,2014,"SP","Genaldo Antônio Raimundo da Silva","17.205.230/0001-90","Fazenda Santo Antônio - Estrada Morro Azul, km 8, bairro Morro Azul, Paraibuna/SP",17,"0210-1/01","2016-06-17","2017-03-23",null,"17205230000190"]
[75,2015,"MG","Geraldo Marcial","349.565.306-68","Fazenda Palmeiras, comunidade de Landinho, zona rural, Rio Vermelho/MG",2,"0810-0/99","2018-02-26","2018-10-08",null,"34956530668"]
[76,2015,"MG","Gilberto Beinotti","715.041.848-15","Fazendas Araras e Dois Irmãos - zona rural, Presidente Olegário/MG",13,"0210-1/08","2017-10-03","2018-04-10",null,"71504184815"]
[77,2014,"RO","Giovani Luiz Minosso","408.509.272-34","Linha 17, s/n, Poste 185, zona rural, Canutama, Porto Velho/RO",2,"0151-2/01","2015-09-24","2017-03-23",null,"40850927234"]
[78,2017,"MS","Gregório da Costa Soares","051.185.901-59","Fazenda Baía do Cambará Redondo - zona rural, Corumbá/MS",4,"0151-2/01","2017-10-09","2018-04-10",null,"05118590159"]
[79,2015,"SC","Guilherme Martins Proença","961.251.879-34","Fazenda de Solon Alves - Localidade Caveirinhas, Painel/SC",11,"0133-4/07","2016-07-25","23/03/17 a 23/03/17\ne 25/04/17",null,"96125187934"]
[80,2016,"BA","Haroldo Gusmão Cunha","017.144.305-53","Fazenda Rancho Fundo - Região do Capinal, zona rural, Vitória da Conquista/BA",5,"0152-1/02","2017-09-14","2018-04-10",null,"01714430553"]
[81,2016,"MT","Hélio Cavalcanti Garcia","003.743.001-78","Fazenda Rio Dourado - Rod. MT 383, Paraíso do Leste sentido Jarudore, 6 km, Poxoréo/MT",5,"0151-2/01","2017-05-29","2017-10-27",null,"00374300178"]
[82,2012,"BA","Helmuth Rieger","175.673.949-87","Fazenda Flor da Esperança - Rod. BA 462, km 27, Sítio Grande, Povoado de Estiva, zona rural, São Desidério/BA",9,"0115-6/00","2015-09-24","2017-03-23",null,"17567394987"]
[83,2016,"MA","Humberto Melo Carneiro","138.487.986-20","Fazenda Rancho Rico, rodovia MA 008, km 30, zona rural, Arame/MA",5,"0151-2/01","2018-01-01","2018-10-08",null,"13848798620"]
[84,2016,"PA","Ivontônio Queiroz dos Santos","802.552.481-72","Fazenda Fé em Deus - Rod. BR 230, Vicinal 185, após Vila Canaã, Altamira/PA",4,"0151-2/01","2017-07-06","2018-04-10",null,"80255248172"]
[85,2015,"MT","J M Armazéns Gerais Ltda","08.876.921/0001-24","Fazenda Colorado - Rod. MT 404, km 80, Sorriso/MT",4,"0115-6/00","2016-05-09","2017-03-23",null,"08876921000124"]
[86,2016,"PI","J. Chaves Cavalcante & Cia Ltda","05.113.425/0001-20","Fazenda Santa Angélica - Rod. Altos a Coivaras, km 6, zona rural, Altos/PI",8,"0810-0/99","2017-03-15","2017-10-27",null,"05113425000120"]
[87,2017,"MG","Janot Alberto Ribeiro","058.893.676-68","Fazenda São Jerônimo - Rod. BR 265, km 310,2 + 3,4 km à direita, Itutinga/MG",3,"0151-2/02","2017-06-23","2018-04-10",null,"05889367668"]
[88,2017,"GO","JB Construção e Serviços Ltda","08.773.592/0001-96","Obra Minha Casa Minha Vida - Rua Cinco, esquina com Rua 3, Chácara São Pedro, Aparecida de Goiânia/GO",20,"4120-4/00","2017-10-05","2018-04-10",null,"08773592000196"]
[89,2015,"MG","João Batista Campos","413.952.206-20","Sítios Ebenézer e Maranata - Bairro Córrego do Rosário, Machado/MG",14,"0134-2/00","2015-12-18","2017-03-23",null,"41395220620"]
[90,2014,"MG","João Carlos Buranelli","503.155.958-68","Fazenda Santa Bárbara - Chácara Vargem Bonita, zona rural, Ibiraci/MG",13,"0134-2/00","2014-10-23","2017-03-23",null,"50315595868"]
[91,2016,"BA","João das Graças Dias","206.765.225-72","Fazenda Lagoa do Severiano - zona rural, Presidente Jânio Quadros/BA",1,"0119-9/06","2017-09-28","2018-04-10",null,"20676522572"]
[92,2016,"PI","João de Deus Gonzaga","183.163.283-72","Área de extração de carnaúba - Povoado Grotões, zona rural, Cajazeiras do Piauí/PI",13,"0220-9/99","2017-04-06","2017-10-27",null,"18316328372"]
[93,2013,"MT","João Fidelis Neto","173.834.639-00","Fazenda Boa Esperança - Linha da Pedreira, Flor da Serra, zona rural de Maputá/MT",15,"0724-3/01","2014-10-27","2017-03-23",null,"17383463900"]
[94,2009,"PA","João Vicente Ferreira do Vale","262.357.812-53","Fazenda Manelão - zona rural de Anapu/PA",7,"0724-3/01","2014-08-07","2017-03-23",null,"26235781253"]
[95,2017,"TO","Joaquim Bahia Evangelista","031.947.871-87","Fazenda 4 de Outubro, Vila Reunidas, zona rural, Aragominas/TO",1,"0151-2/01","2017-10-12","2018-10-08",null,"03194787187"]
[96,2017,"TO","Joaquim Henrique Elias Soares","744.760.096-20","Fazenda Pontal, rodovia TO 230,  sentido Pau D'Árco, km 26, zona rural, Arapoema/TO",7,"0151-2/01","2018-03-15","2018-10-08",null,"74476009620"]
[97,2014,"SC","Joel Márcio Hames","020.978.609-40","Área de cultivo - Linha Geral Alto Garrafão, Imbuia/SC",22,"0119-9/04","2016-07-25","23/03/17 a 23/03/17\ne 25/04/17",null,"02097860940"]
[98,2017,"PA","Jomar Antônio de Mesquita Teixeira","301.305.067-53","Fazenda Estrela D'Alva, rodovia PA 150, km 60, zona rural, Jacundá/PA",3,"0151-2/01","2018-04-02","2018-10-08",null,"30130506753"]
[99,2015,"RS","José Adair Moraes","657.846.180-91","Fazenda Capão Ralo - Estrada para a Barragem do Salto, São Francisco de Paula/RS",13,"0119-9/03","2015-07-10","2017-03-23",null,"65784618091"]
[100,2016,"MG","José Alves de Freitas Valente","004.603.446-33","Sítio Varginha, zona rural, Porto Firme/MG",1,"0151-2/00","2018-07-18","2018-10-08",null,"00460344633"]
[101,2017,"MG","José Aparecido Teixeira","096.536.436-49","Sítio Retiro, bairro Santa Cruz, zona rural, Albertina-MG",7,"0134-2/00","2018-03-07","2018-10-08",null,"09653643649"]
[102,2016,"AC","José Armando de Souza","227.535.406-91","Fazenda Antimary, rodovia AC 90, Km 115, zona rural, Sena Madureira/AC",10,"0151-2/01","2018-05-04","2018-10-08",null,"22753540691"]
[103,2017,"PR","José Bueno Stresser & Cia Ltda","01.097.327/0001-96","Fazenda Lança - Povoado São Pedro do Capiru, zona rural, Rio Branco do Sul/PR",12,"0210-1/07","2017-05-24","2017-10-27",null,"01097327000196"]
[104,2011,"BA","José Carlos Arrighi","235.501.986-04","Fazenda Barcelona - Rod. BR 262, Povoado Lagoa do Oscar, 20 km, zona rural, Cristópolis/BA",7,"0220-9/02","2016-04-20","2017-03-23",null,"23550198604"]
[105,2016,"MA","José Carlos Nobre Monteiro","159.208.952-68","Fazenda Tremendal - Estrada Coco a Feitoria, 50 km após Povoado Baú, zona rural, Parnarama/MA",9,"0151-2/03","2017-08-14","2018-04-10",null,"15920895268"]
[106,2016,"MG","José Cazelato Sobrinho","030.929.176-34","Fazenda Candeias - Região do Palmital, Carmo da Cachoeira/MG",7,"0134-2/00","2016-12-22","23/03/17 a 23/03/17\ne 25/04/17",null,"03092917634"]
[107,2017,"PA","José de Souza Veloso","161.181.543-68","Fazenda Vitória, vicinal 45, povoado Quatro Bocas, zona rural, Novo Repartimento/PA",10,"0151-2/01","2018-06-28","2018-10-08",null,"16118154368"]
[108,2014,"MG","José Manoel Soares Nunes","629.009.357-68","Fazenda Gondarim - Estrada São Bento s/, zona rural, Passa Quatro/MG",3,"0133-4/09","2014-11-27","2017-03-23",null,"62900935768"]
[109,2016,"AM","José Milton Onofre dos Santos","316.712.412-15","Fazenda Pau d'alho - Ramal do Ouro, km 58, Comunidade Morada Nova, Boca do Acre/AM",2,"0151-2/01","2017-05-25","2017-10-27",null,"31671241215"]
[110,2017,"GO","José Pires Monteiro","772.106.628-04","Fazenda São Domingos, região Santa Úrsula, rodovia GO 444, Km 51, zona rural, Paraúna-GO",9,"0151-2/03","2018-03-13","2018-10-08",null,"77210662804"]
[111,2016,"MA","José Rodrigues dos Santos","021.651.635-87","Fazenda Lago Azul - Povoado Balanço, zona rural, Brejo de Areia/MA",22,"0151-2/01","2016-11-16","2017-10-27",null,"02165163587"]
[112,2016,"PA","José Ronan Martins da Cunha","360.094.151-87","Fazenda JK Garimpo II - Vila Canopus, Vicinal Jabá, 25 km, Altamira/PA",5,"0724-3/01","2016-11-28","23/03/17 a 23/03/17\ne 25/04/17",null,"36009415187"]
[113,2014,"MG","José Wilson Silvério da Silva","334.681.336-34","Fazenda Boa Vista - Cabeceira do Jacutinga, Distrito de Santa Luzia, Caratinga/MG",20,"0134-2/00","2014-12-11","2017-03-23",null,"33468133634"]
[114,2017,"MS","Josias Rosa Guimarães","181.932.341-20","Fazenda Boqueirão, zona rural, Corumbá/MS",2,"0151-2/01","2018-05-24","2018-10-08",null,"18193234120"]
[115,2016,"TO","Juarez Antônio Arantes","572.266.449-91","Fazenda Marambaia - Rod. TO 181, km 364, zona rural, Sandolândia/TO",13,"0151-2/01","2016-12-02","23/03/17 a 23/03/17\ne 25/04/17",null,"57226644991"]
[116,2017,"PR","Juliano Aparecido de Carvalho","076.810.529-33","Pedreira Ponte Queimada - Rod. PR 488, km 49, Linha Ponte Queimada, zona rural, Diamante d'Oeste/PR",2,"0810-0/06","2017-10-02","2018-04-10",null,"07681052933"]
[117,2016,"RJ","K.W. 172 Lanchonete Ltda - ME","07.135.947/0001-59","Rua Senador Pompeu, 172, loja, Rio de Janeiro/RJ",2,"5611-2/03","2018-06-04","2018-10-08",null,"07135947000159"]
[118,2014,"MG","Kasser Wadih Dib","043.551.808-91","Fazenda Bela Vista - zona rural, Ibiraci/MG",33,"0134-2/00","2014-10-21","2017-03-23",null,"04355180891"]
[119,2014,"RJ","Lanches Servverde Ltda","14.032.243/0001-16","Rua Dalila Dias Borges, s/n, Lote 796, Muriqui/RJ",1,"5611-2/03","2016-09-05","23/03/17 a 23/03/17\ne 25/04/17",null,"14032243000116"]
[120,2016,"RJ","Lanchonete Beleza do Forte Ltda","20.588.705/0001-89","Lanchonete - Rua Francisco Otaviano, 52, Loja A, Copacabana, Rio de Janeiro/RJ",3,"5611-2/03","2017-11-23","2018-04-10",null,"20588705000189"]
[121,2017,"MG","Leanderson José Moreira Anastácio - ME","26.522.886/0001-27","Lanchonete Come Lanches - Av. Bias Fortes , 1122, loja 3 e 5, Belo Horizonte/MG",8,"5611-2/03","2018-01-01","2018-10-08",null,"26522886000127"]
[122,2013,"MT","Lucas Willian Frares","034.625.041-26","Fazenda Cachoeira - Rod. BR 299, km 66, direita, 6 km, Itiquira/MT",12,"0210-1/07","2017-08-04","2017-10-27",null,"03462504126"]
[123,2017,"PA","Lúcio de Cássio Vieira de Oliveira","517.237.352-72","Fazenda Cássios e Marias, vicinal do Jeremias, Km 66, Projeto de Assentamento Rainha da Paz, gleba Catitú, lotes 35, 36 e 39, zona rural, Rondon do Pará/PA",14,"0151-2/01","2017-12-11","2018-10-08",null,"51723735272"]
[124,2015,"MG","Luiz Eduardo Guerra de Castro","000.544.826-31","Fazenda da Pedra, zona rural, Carmo de Minas/MG",22,"0134-2/00","2018-05-24","2018-10-08",null,"00054482631"]
[125,2014,"MG","Luseanna-Ex Transportes Rodoviários\nLtda (atual: Luseanna-Ex Transportes e Armazenagem Ltda)","05.310.304/0002-50","Rua Estrela Dalva, 109, Jardim Riacho das Pedras, Contagem/MG",5,"4930-2/02","2018-07-03","2018-10-08",null,"05310304000250"]
[126,2016,"PA","M A de Sousa Madeireira","63.822.746/0001-09","Madeireira São Lucas - Vicinal do Rio do Peixe, margens do Rio Tutuí, Uruará/PA",5,"1610-2/01","2017-07-06","2018-04-10",null,"63822746000109"]
[127,2013,"SP","Machado & Machado Telecomunicações\nLtda (atual: Machado & Machado Engenharia Ltda)","04.025.959/0001-32","Obra data center - Rua Giuseppe Maximo Scolfaro, Gleba 75, Geraldo, Campinas/SP",27,"4321-5/00","2017-05-22","2017-10-27",null,"04025959000132"]
[128,2015,"SC","Maison May","050.097.999-52","Lavoura de cebolas - Estrada Geral Antas Gordas, Vidal Ramos/SC",5,"0119-9/04","2015-08-03","2017-03-23",null,"05009799952"]
[129,2011,"PA","Manoel Alves de Sousa","074.703.043-04","Fazenda Maria de Jesus - Estrada do Rio Preto, km 220, Estrada da Vicinal de Valência, zona rural, Marabá/PA",6,"0151-2/01","2014-10-29","2017-03-23",null,"07470304304"]
[130,2013,"AP","Manoel Lopes Lourinho","056.989.102-78","Embarcação Manuel Júnior de Igarapé-Miri - Mar territorial brasileiro, após foz do Rio Oiapoque/AP",23,"0311-6/01","2016-12-28","23/03/17 a 23/03/17\ne 25/04/17",null,{"$f":"SUBSTITUTE(SUBSTITUTE(SUBSTITUTE(SUBSTITUTE($E139,\" \",\"\"),\".\",\"\"),\"-\",\"\"),\"/\",\"\")","v":"05698910278"}]
[131,2014,"RS","Marcelo Ferreira Horn","333.493.980-49","Fazenda Formosa - Localidade de João Rodrigues, zona rural, Rio Pardo/RS",1,"0151-2/01","2015-05-04","2017-03-23",null,"33349398049"]
[132,2016,"BA","Márcia Nascimento Dias","890.517.774-34","Fazenda Eldorado, Distrito de Vila Brasil, Una/BA",3,"0135-1/00","2017-12-21","2018-10-08",null,"89051777434"]
[133,2017,"RO","Márcio de Souza","009.823.942-25","Rodovia 421, linha C-50, Km 38, lote 09, Gleba 08, zona rural, Monte Negro/RO",5,"0722-7/01","2018-01-04","2018-10-08",null,"00982394225"]
[134,2012,"PE","Marco Antônio Moura de Arruda Falcão","531.567.814-87","Engenho Corriente - Parcelas 5 e 13, zona rural, Água Preta/PE",19,"0113-0/00","2015-02-06","2017-10-27",null,"53156781487"]
[135,2017,"MG","Marco Antônio Quiroga - ME","01.267.034/0002-90","Fazenda Bom Sucesso, Lagoa do Jacaré, s/n, Distrito de São Sebastião do Pontal, Carneirinho/MG",4,"2342-7/02","2018-04-04","2018-10-08",null,"01267034000290"]
[136,2013,"BA","Marcondes Antônio Tavares de Farias","224.068.324-49","Fazenda MF1 - Rod. BR 242, km 830, à direita no sentido Luís Eduardo Magalhães, 16km, Barreiras/BA",33,"0155-5/01","2015-09-04","2017-03-23",null,"22406832449"]
[137,2016,"MG","Marcos Aparecido Feltrin","076.398.078-16","Fazenda Terras Santo Antônio - Estrada Januária a Verdinha do Coxá, km 100, Bonito de Minas/MG",24,"0210-1/01","2017-06-02","2017-10-27",null,"07639807816"]
[138,2016,"BA","Marcos José Souza Lima","480.386.795-04","Rodeio 100 limites, São José do Jacuípe/BA",9,"9001-9/05","2017-12-21","2018-10-08",null,"48038679504"]
[139,2013,"RS","Marcos Suélio Dantas","362.699.132-68","Rua Primo Postali, 190/06, Esplanada, Caxias do Sul/RS",6,"4762-8/00","2015-03-20","2017-03-23",null,"36269913268"]
[140,2014,"GO","Maria Dolores Machado","883.713.101-10","Fazenda Paraíso - Rod. BR 060, km 435, 3 km à direita, Rio Verde/GO",7,"0210-1/01","2015-05-04","2017-03-23",null,"88371310110"]
[141,2016,"BA","Maria Elena Martins","660.311.765-72","Fazenda Marília - Povoado Matinha, Distrito de Inhobim, zona rural, Vitória da Conquista/BA",1,"0134-2/00","2017-08-16","2018-04-10",null,"66031176572"]
[142,2005,"PA","Mário Tavares de Lira","016.522.142-91","Fazenda Boa Vista - Rod. PA 153, km 22, zona rural, São Domingos do Araguaia/PA",11,"0151-2/01","2014-09-01","2017-03-23",null,"01652214291"]
[143,2016,"SP","Mektrefe Jeans Comércio de Roupas Ltda","09.086.437/0001-64","Oficina de costura - Rua Coronel Macedo, 364, Cajamar/SP",5,"1412-6/01","2017-05-19","2018-04-10",null,"09086437000164"]
[144,2016,"PA","Miguel Gomes Filho","066.174.412-49","Fazenda Abaram, vicinal São Sebastião, zona rural, Itupiranga/PA",9,"0151-2/03","2018-08-17","2018-10-08",null,"06617441249"]
[145,2017,"CE","Miguel Murilo de Castro","220.776.773-68","BR-222, localidade de Sítios Novos, zona rural, Caucaia/CE",6,"0220-9/01","2018-01-24","2018-10-08",null,"22077677368"]
[146,2014,"GO","Moreira Osvando","044.743.171-49","Fazenda Moreira - Rod. GO 164, km 775, zona rural, Mundo Novo/GO",10,"0151-2/01","2014-12-19","2017-03-23",null,"04474317149"]
[147,2013,"AC","Mozar Marcondes Filho","335.740.909-78","Fazenda Agropecuária Sorriso - Rod. AC 90, Ramal do Caipora, km 42, Rio Branco/AC",13,"0151-2/01","2017-10-09","2018-04-10",null,"33574090978"]
[148,2014,"MG","Murilo Rezende Faria","031.364.181-15","Fazenda Alegre - zona rural, Pintópolis/MG",4,"0220-9/02","2015-04-17","2017-03-23",null,"03136418115"]
[149,2013,"MT","Natal Bragatti","197.469.469-00","Fazenda Bragatti III - Gleba Mandacaru, zona rural, Paranaíta/MT",8,"0151-2/01","2014-09-30","2017-10-27",null,"19746946900"]
[150,2012,"BA","Nelson Astor Pooter","059.957.109-82","Fazenda Novos Tempos I - Rod. BA 462, km 27, Povoado da Estiva, São Desidério/BA",10,"0151-2/01","2016-03-14","2017-03-23",null,"05995710982"]
[151,2016,"PR","Nelson Luís Slaviero","253.843.929-91","Fazenda Planalto - Rod. PR 471, margens do Rio Piquiri, Distrito Guaporé, zona rural, Guaraniaçu/PR",19,"0151-2/01","2016-11-03","23/03/17 a 23/03/17\ne 25/04/17",null,"25384392991"]
[152,2017,"PR","Niciel Rosa Gomes","855.630.309-97","Pedreira Ponte Queimada - Rod. PR 488, km 49, Linha Ponte Queimada, zona rural, Diamante d'Oeste/PR",2,"0810-0/06","2017-10-09","2018-04-10",null,"85563030997"]
[153,2015,"MG","Nova Santa Rita Empreendimentos Imobiliários SPE Ltda","16.577.605/0001-80","Fazenda do Retiro - Estrada Mendes a São Sebastião das Águas Claras, Nova Lima/MG",1,"6462-0/00","2015-07-24","2017-03-23",null,"16577605000180"]
[154,2013,"GO","Odilon Ferreira Garcia","087.759.581-04","Fazenda Curralinho - Rod. BR 153, km 370, à direita, BR 070, 6 km, zona rural, Jaraguá/GO",11,"0119-9/99","2016-12-20","23/03/17 a 23/03/17\ne 25/04/17",null,"08775958104"]
[155,2015,"MG","Odir Brandelero","272.396.858-88","Fazenda Bom Sucesso/Brumado dos Pavôes - zona rural, Tapira/MG",6,"0210-1/08","2016-04-28","2017-03-23",null,"27239685888"]
[156,2017,"TO","Osemar Cruz Mouzinho","626.341.191-00","Fazendas Senhor do Bonfim, Casa Verde e  Roquinho, BR 230, entre os Km 128 e 130, zona rural, Araguatins/TO",8,"0151-2/03","2018-05-23","2018-10-08",null,"62634119100"]
[157,2017,"PA","Otaviano Aparecido Ferreira Caldas","300.271.792-49","Fazendas União, Arataú, Silvestre e Castanheira - Vicinal 220 Sul, Vila União, Vicinal Capivara, 10 km, Novo Repartimento/PA",7,"0151-2/01","2017-06-08","2017-10-27",null,"30027179249"]
[158,2016,"BA","Passos 3 Construções e Serviços LTDA - EPP","04.595.360/0001-34","Obras de manutenção predial no Porto de Ilhéus e Alojamento para trabalhadores situado na Rua Rotary, Cidade Nova, Ilhéus/BA",5,"4313-4/00","2017-12-21","2018-10-08",null,"04595360000134"]
[159,2016,"RJ","Pastelaria Chang Ren Carvalho Ltda","10.942.057/0001-63","Pastelaria - Av. Vicente de Carvalho, 995, Loja D, Vila da Penha, Rio de Janeiro/RJ",2,"5611-2/03","2017-06-02","2018-04-10",null,"10942057000163"]
[160,2015,"RJ","Pastelaria Copacabana Ltda","33.995.994/0001-82","Patelaria - Rua Figueiredo de Magalhães, 344, Loja D, Copacabana, Rio de Janeiro/RJ",3,"5611-2/01","2017-08-17","2018-04-10",null,"33995994000182"]
[161,2015,"RJ","Pastelaria Koong Ltda","05.882.270/0001-97","Pastelaria - Rua Camerino, 8, Lojas 1, 2, 3, Saúde, Rio de Janeiro/RJ",2,"5611-2/03","2017-08-16","2018-04-10",null,"05882270000197"]
[162,2015,"RJ","Pastelaria Mais Dez de Vista Alegre Ltda","06.699.221/0001-86","Pastelaria - Rua Ponta Porã, 10, Loja A, Vista Alegre, Rio de Janeiro/RJ",1,"5611-2/03","2017-10-13","2018-04-10",null,"06699221000186"]
[163,2017,"RS","Paulino Peruchin","539.637.760-72","Estrada municipal São Valentin, s/n, Sexta Légua, Caxias do Sul/RS",4,"0133-4/07","2017-12-27","2018-10-08",null,"53963776072"]
[164,2013,"MG","Paulo Alves de Lima","192.094.526-15","Fazenda Real Paraíso - zona rural, Campanha/MG",1,"0134-2/00","2014-08-25","2017-03-23",null,"19209452615"]
[165,2015,"RS","Paulo Cezar Dameda","10.854.538/0001-17","Frente de trabalho de extração de madeira - Linha Gruta, zona rural, Doutor Ricardo/RS",5,"0210-1/07","2016-07-18","2017-03-23",null,"10854538000117"]
[166,2015,"MT","Pedro Gomes Filho","292.647.788-02","Fazenda União III - Rod. MT 130, sentido Santiago do Norte, 50 km, à esquerda 20 km, à direita 80 km, Paranatinga/MT",1,"0151-2/01","2016-03-23","2017-03-23",null,{"$f":"SUBSTITUTE(SUBSTITUTE(SUBSTITUTE(SUBSTITUTE($E175,\" \",\"\"),\".\",\"\"),\"-\",\"\"),\"/\",\"\")","v":"29264778802"}]
[167,2014,"MG","Pedro Ribeiro da Silva Filho","053.529.736-03","Fazenda Mangues - zona rural, estrada de terra entre Pintópolis/Urucais, 25 km, Pintópolis/MG",4,"0220-9/02","2015-03-26","2017-03-23",null,{"$f":"SUBSTITUTE(SUBSTITUTE(SUBSTITUTE(SUBSTITUTE($E176,\" \",\"\"),\".\",\"\"),\"-\",\"\"),\"/\",\"\")","v":"05352973603"}]
[168,2014,"MS","Prestadora de Serviços e Comércio de Madeiras Benites","04.680.548/0001-80","Fazenda Santo Antônio - Zona rural de Dourados/MS",4,"0161-0/03","2014-09-05","2017-03-23",null,"04680548000180"]
[169,2016,"RJ","Quatro Sabores Pizzaria e Massas Ltda","08.735.436/0001-30","KW Lanchonete - Av. Nossa Senhora de Copacabana, 86, Copacabana, Rio de Janeiro/RJ",1,"5611-2/03","2017-11-08","2018-04-10",null,"08735436000130"]
[170,2017,"SP","Raje Ivoli - Comércio de Modas Ltda","05.680.421/0001-24","Oficina de costura - Rua Itamonte, 96, Vila Medeiros, São Paulo/SP",4,"4781-4/00","2017-05-24","2017-10-27",null,"05680421000124"]
[171,2015,"RJ","Restaurante Boizão de Tere Ltda","13.397.579/0001-10","Churrascaria - Av. Oliveira Botelho, 721, Teresópolis/RJ",4,"5611-2/01","2017-04-05","2017-10-27",null,"13397579000110"]
[172,2017,"MT","Rio Pocinho Mineradora EIRELI - ME","08.325.909/0001-21","Fazenda Ariranha e Fazenda Flor da Mata, zona rural, Nova Santa Helena/MT",20,"0724-3/01","2018-03-28","2018-10-08",null,"08325909000121"]
[173,2016,"SP","RM Empreiteira e Locadora - EIRELI","24.633.766/0001-71","Obra - Rua Magarinos Torres, 773/775, Vila Maria, São Paulo/SP",8,"4120-4/00","2016-10-20","23/03/17 a 23/03/17\ne 25/04/17",null,"24633766000171"]
[174,2014,"TO","Roberto Manoel Ferreira","529.201.786-87","Fazenda São José - Rod. TO 496, km 22, à esquerda mais 7 km, Jaú do Tocantins/TO",5,"0220-9/02","2014-12-01","2017-03-23",null,"52920178687"]
[175,2014,"SC","Ronaldo Dalmolin Martinello","007.757.729-92","Área de cultivo de batatas - Encruzilhada da Rod. Governador Jorge Lacerda com Rod. SC 108, Criciúma/SC",14,"0119-9/03","2015-10-07","2017-03-23",null,"00775772992"]
[176,2016,"MG","Rovilso Aparecida Ferreira","973.408.806-82","Fazenda das Palmeiras - Bairro Cedro, zona rural, Conceição da Aparecida/MG",16,"0134-2/00","2017-03-06","2017-10-27",null,"97340880682"]
[177,2014,"MG","Ruby Bar Ltda","19.458.119/0001-30","Rua Curitiba, 319, 2º andar, Centro, Belo Horizonte/MG",1,"5611-2/01","2015-01-23","2017-03-23",null,"19458119000130"]
[178,2012,"PR","Sabarálcool S. A. - Açúcar e Álcool","76.509.611/0003-93","Usina - Rod. PR 486, km 96, lote rural 13 N-2, Perobal/PR",125,"1931-4/00","2017-05-17","2017-10-27",null,"76509611000393"]
[179,2018,"MG","Samarte Engenharia Construções e Incorporações Ltda","21.317.426/0001-43","Rua 15 de Novembro, 405, bairro Nacional, Contagem/MG",5,"4120-4/00","2018-08-03","2018-10-08",null,"21317426000143"]
[180,2016,"BA","Sandiney Ferreira de Souza","325.204.175-87","Fazenda Prazeres - Distrito de Monte Alegre, zona rural, Riachão das Neves/BA",6,"0151-2/01","2017-09-14","2018-04-10",null,"32520417587"]
[181,2014,"GO","Santa Bárbara Futebol Clube","13.184.787/0001-30","Clube de futebol - Rua 04, quadra 05, Lote 15, Setor Neves Barbosa, Santa Bárbara de Goiás/GO",29,"9312-3/00","2017-03-17","2017-10-27",null,"13184787000130"]
[182,2016,"PA","Saulo dos Santos Chaves","980.805.472-20","Fazenda Mula Perdida - Estrada do Riozinho II, 40 km do Distrito de Pista Branca, zona rural, Bannach/PA",4,"0151-2/01","2017-03-06","2017-10-27",null,"98080547220"]
[183,2016,"PA","Sebastião Ferreira Cunha","548.640.461-15","Fazenda JK - Região da Vila Canopus, Vicinal Jabá, km 25, zona rural, São Félix do Xingu/PA",4,"0724-3/01","2018-02-02","2018-04-10",null,"54864046115"]
[184,2016,"MG","Sebastião Honório Pedroso","474.436.506-04","Sitio Três Cedros - zona rural, Nepomuceno/MG",5,"0134-2/00","2016-12-02","23/03/17 a 23/03/17\ne 25/04/17",null,"47443650604"]
[185,2016,"MG","Sérgio Roberto de Lima Dias","375.545.906-00","Fazenda Santa Helena - Rod. BR 267, km 449, à direita, 2 km, Machado/MG",4,"0134-2/00","2016-11-07","23/03/17 a 23/03/17\ne 25/04/17",null,"37554590600"]
[186,2016,"MG","Silvano Almir de Souza","973.084.046-68","Fazenda Santa Rita - Bairro São Bartolomeu, zona rural, Jesuânia/MG",10,"0134-2/00","2017-02-06","2017-10-27",null,"97308404668"]
[187,2017,"MA","Sinval Batista dos Santos","093.877.226-00","Fazenda Serra Verde - Rdo. BR 222, km 646, a 12 km da margem, zona rural, Açailândia/MA",1,"0151-2/02","2017-11-20","2018-04-10",null,"09387722600"]
[188,2016,"BA","Soebe Construção e Pavimentação S. A.","43.677.822/0001-14","Alojamento Estrada de Rainha e Alojamento Rua da Lama, Salvador/BA",10,"4211-1/01","2018-07-11","2018-10-08",null,"43677822000114"]
[189,2013,"PA","Sônia Mara Catuxo Barbosa","130.843.992-04","Fazenda Catuxo, Colônia Paulo Fonteles, Estrada Santa Cruz, Km 41, zona rural, Parauapebas/PA",6,"0151-2/01","2018-05-22","2018-10-08",null,"13084399204"]
[190,2016,"MG","Spal Indústria Brasileira de Bebidas S.A.","61.186.888/0019-12","Unidade Universitários - Rod. Anel Rodoviário Celso de Mello Azevedo, 20.300, Maria Virgínia, Belo Horizonte/MG",66,"4635-4/02","2018-03-27","2018-10-08",null,"61186888001912"]
[191,2015,"MG","Tadeu Dias de Castro","450.292.886-00","Fazenda Lagoa/São Luiz, zona rural, Carmo de Minas/MG",19,"0134-2/00","2018-04-18","2018-10-08",null,"45029288600"]
[192,2015,"MG","Tapuirama Comércio de Energia SPE Ltda","13.295.323/0001-00","Fazenda Registro - Rod. BR 452, km 176, vicinal, 1 km, Distrito de Tapuirama, Uberlândia/MG",5,"3513-1/00","2015-07-20","2017-10-27",null,"13295323000100"]
[193,2017,"SP","Tea Hoon Choi","14.293.977/0001-59","Rua Cachoeira 1837-1849, Catumbi, São Paulo/SP",7,"1412-6/01","2018-03-09","2018-10-08",null,"14293977000159"]
[194,2017,"SP","Telecall Paz e Amor EIRELI","23.869.317/0001-64","Restaurante Coma Bem - Rua Doutor Francisco Ribeiro Arantes, 108, Vila Tortelli, Sorocaba/SP",1,"5611-2/03","2017-05-22","2018-04-10",null,"23869317000164"]
[195,2013,"SP","Tércio Ferreira Junqueira","894.051.708-30","Sítio Aparecida - Estrada municipal de Divinolândia ao bairro Ribeirão Santo Antônio, Divinolândia/SP",7,"0134-2/00","2016-08-22","2017-10-27",null,"89405170830"]
[196,2012,"MT","Terra Viva Carvão e Reflorestamento Ltda","02.584.988/0002-90","Fazenda Alan - Rod. MT 338, km 182, Vila Simioni, Itanhangá/MT",7,"0220-9/02","2014-10-09","2017-03-23",null,"02584988000290"]
[197,2016,"MG","TF Construtores Ltda","24.522.494/0001-32","Obra Fundação Jardim Botânico - Jardim Botânico, Poços de Caldas/MG",8,"4120-4/00","2017-03-27","2017-10-27",null,"24522494000132"]
[198,2013,"MG","União Agropecuária Novo Horizonte S. A.","12.586.453/0001-20","Fazenda Um Canto de Paz e outras - São Vicente de Minas, Andrelândia, Madre de Deus de Minas e Minduri/MG",348,"4633-8/01","2016-12-28","23/03/17 a 23/03/17\ne 25/04/17",null,"12586453000120"]
[199,2017,"PA","Ustulin & Caravieri Ltda - EPP","02.816.796/0002-61","Fazenda Triunfo, estrada do Rio Preto, Km 02, próximo da Vila Três Poderes, zona rural, Marabá/PA",3,"0220-9/05","2017-12-06","2018-10-08",null,"02816796000261"]
[200,2016,"MG","Valério Ribeiro de Andrade","850.058.948-53","Fazendas Santana e Barra da Babilônia- Rod. BR 381, km 664,2, a 10 km da margem esquerda, zona rural, Bom Sucesso/MG",10,"0134-2/00","2017-01-31","2017-10-27",null,"85005894853"]
[201,2017,"ES","Vanderlei Cesconetti","073.158.257-89","Localidade Broa Preta, Distrito de Alto Silveira - Brejetuba/ES",3,"0119-9/09","2018-01-05","2018-10-08",null,"07315825789"]
[202,2014,"RS","Vanderlei Meurer","456.209.979-87","Área de cultivo de tabaco - Linha Antunes Braga, Grão Pará/SC",5,"0114-8/00","2015-08-14","2017-03-23",null,"45620997987"]
[203,2012,"PA","Vanderson Ayres da Silva","650.452.202-25","Fazenda Serra Dourada - Estrada da Cutia, vicinal da estrada Primavera, a 22 km da Vila Central, zona rural, São Felix do Xingu/PA",11,"0151-2/01","2014-11-12","2017-03-23",null,"65045220225"]
[204,2016,"SP","Via Veneto Roupas Ltda","47.100.110/0001-99","Rua Uvilha, 202, Santa Maria, São Paulo/SP",5,"4781-4/00","2018-05-28","2018-10-08",null,"47100110000199"]
[205,2016,"PI","Vicente Pereira Fontenele Neto","395.219.903-68","Área de extração de carnaúba - Rod. PI 212, km 5, Localidade Marumba, zona rural, Barras/PI",15,"0220-9/99","2017-04-17","2017-10-27",null,"39521990368"]
[206,2015,"MG","Violeta Martins Canabrava","455.917.506-30","Fazenda da Prata, estrada de Paraopeba a Cordisburg s/n, zona rural, Paraopeba/MG",1,"0151-2/01","2018-07-03","2018-10-08",null,"45591750630"]
[207,2016,"PA","Wanderson Batista da Silva","004.752.092-22","Fazenda Maria Eduarda (Serra Dourada) - Vila Central, Vicinal Cotia, 20 km, São Félix do Xingu/PA",11,"0151-2/02","2017-01-23","2017-10-27",null,"00475209222"]
[208,2015,"MG","Zafer Engenharia Construção e Locação","11.781.112/0001-43","Rua Bonança, 288, Betânia, Belo Horizonte/MG",3,"4299-5/99","2015-12-14","2017-03-23",null,"11781112000143"]
[209,2014,"MA","Zurc - Saneamento e Construções Ltda","07.073.558/0001-46","Obra da UFMA - Avenida da Universidade, Bom Jesus, Imperatriz/MA",17,"4120-4/00","2015-08-17","2017-03-23",null,"07073558000146"]
["II- PUBLICAÇÃO DA RELAÇÃO DE EMPREGADORES PREVISTA NO ARTIGO 5º, § 3º, DA PORTARIA INTERMINISTERIAL Nº 4, DE 11 DE MAIO DE 2016"]

{"sheet":"Transparency List 2018_04","index":2,"n_rows":176,"n_cols":12,"rows_kept":176,"cut":false,"hidden":false,"merged":[]}
["Cadastro de Empregadores que tenham submetido trabalhadores a condições análogas à de escravo "]
[]
["(Portaria Interministerial MTPS/MMIRDH no 4 de 11/05/2016) "]
[]
[]
[]
["Atualização periódica de 6/4/2018. Cadastro atualizado em 10/4/2018."]
["I- PUBLICAÇÃO DA RELAÇÃO DE EMPREGADORES PREVISTA NO ARTIGO 2º, CAPUT, DA PORTARIA INTERMINISTERIAL Nº 4, DE 11 DE MAIO DE 2016"]
["ID","Ano da ação fiscal","UF","Empregador","CNPJ/CPF","Estabelecimento","Trabalhadores envolvidos","CNAE","Decisão\nadministrativa de procedência (irrecorribilidade)","Inclusão no Cadastro de Empregadores",null,"clean CNPJ/CPF"]
[1,2016,"RS","Adalberto Braz de Souza","884.400.954-49","Rod. BR 386, bairro Olarias/Conventos, Lajeado/RS",17,"4789-0/99","2017-04-13","2017-10-27",null,{"$f":"SUBSTITUTE(SUBSTITUTE(SUBSTITUTE(SUBSTITUTE($E10,\" \",\"\"),\".\",\"\"),\"-\",\"\"),\"/\",\"\")","v":"88440095449"}]
[2,2014,"MG","Ademir Andrade de Oliveira","705.704.936-68","Fazenda Santa Helena/Chácara Vargem Bonita - zona rural, Ibiraci/MG",11,"0134-2/00","2015-02-05","2017-03-23",null,{"$f":"SUBSTITUTE(SUBSTITUTE(SUBSTITUTE(SUBSTITUTE($E11,\" \",\"\"),\".\",\"\"),\"-\",\"\"),\"/\",\"\")","v":"70570493668"}]
[3,2015,"MG","AEV Empreendimentos Imobiliários SPE Ltda","20.288.137/0001-09","Obra Residencial American Garden I - Rua Lindolfo de Azevedo, 1.184, Jardim América, Belo Horizonte/MG",9,"4110-7/00","2016-07-07","2017-03-23",null,"20288137000109"]
[4,2014,"GO","Agenor Tibúrcio da Silva","375.056.961-49","Fazenda Bagre - Região do Marimbondo, zona rural, Caldas Novas/MG",3,"0899-1/99","2015-05-05","2017-03-23",null,"37505696149"]
[5,2014,"SC","Airton Luiz Cobalchini","828.271.339-20","Viveiro de Mudas e Serraria - Rua Pedro Damo, 87, Formosa, Campo Erê/SC",1,"0210-1/03","2014-12-03","2017-03-23",null,"82827133920"]
[6,2016,"GO","Alex Teixeira de Oliveira Santos","949.176.121-87","Rua 47, Quadra 116, Lote 3, Jardim Tiradentes, Aparecida de Goiânia/GO",11,"3212-4/00","2017-02-27","2017-10-27",null,"94917612187"]
[7,2014,"MA","Alexandre Vieira Lins","360.426.924-53","Fazena Sara - Rod. BR 135, km 122, Miranda do Norte/MA",4,"0151-2/01","2014-12-10","2017-03-23",null,"36042692453"]
[8,2010,"SP","ALL - América Latina Logística Malha\nPaulista S.A. (atual: RUMO MALHA PAULISTA S.A.)","02.502.844/0001-66","Linha férrea Santos a Mairinque - Pátio de cruzamento Ferraz, km 75, Serra de Santos,Embú-Guaçú/SP",51,"4911-6/00","2015-07-20","2018-04-10",null,"02502844000166"]
[9,2014,"AC","Amândio Celestino Cogo","120.299.399-00","Fazenda Perseverança - Ramal Jorge Kalume, km 16, Rio Branco/AC",3,"0151-2/01","2015-07-28","2017-03-23",null,"12029939900"]
[10,2016,"PI","Ancelmo Gomes Gonçalves","819.832.803-30","Área de extração de carnaúba - Povoado Areal, zona rural, Santa Cruz do Piauí/PI",18,"0220-9/99","2017-04-07","2017-10-27",null,"81983280330"]
[11,2011,"PA","Angelin Ório","150.731.739-53","Fazenda Campos Altos/Garimpo Casarão - Rod. PA 279, km 80, zona rural, Água Azul do Norte/PA",13,"0724-3/01","2015-11-06","2017-03-23",null,"15073173953"]
[12,2016,"PA","Antônio Amaro da Silva","100.970.231-91","Fazenda Vale Grande - Vicinal do Sapo, km 43, São Félix do Xingu/PA",4,"4120-4/00","2017-06-28","2018-04-10",null,"10097023191"]
[13,2013,"MA","Antônio Calixto dos Santos","004.089.055-49","Fazenda Grapia - Estrada de acesso à ferrovia de Carajás, linhão da Eletronorte, São Pedro da Água Branca/MA",1,"0151-2/01","2014-08-21","2017-03-23",null,"00408905549"]
[14,2013,"MT","Antônio Carlos Zanin","528.530.049-53","Fazendas Flexas e Piuva - Rod. BR 163, km 70, Santo Antônio do Laverger/MT",4,"0151-2/01","2014-10-06","2017-10-27",null,"52853004953"]
[15,2012,"PA","Antônio Francisco Oliveira Rosa","504.888.133-87","Fazenda Três Irmãos - Rod. PA 150, km 65, zona rural, Conceição do Araguaia/PA",2,"0159-8/99","2014-08-07","2017-03-23",null,"50488813387"]
[16,2012,"PA","Antônio Luiz Sanches Felipe","948.566.642-04","Fazenda Leandra - vicinal Lontrão, km 26, Gleba Empenho, Pacajá/PA",2,"0151-2/01","2015-04-02","2017-03-23",null,"94856664204"]
[17,2015,"BA","Associação Comunitária Cultural e Recreativa do Distrito Stela Dubois","07.006.061/0001-05","Obra de construção de casas populares - Assentamento Vila PA, região do Beira Rio, zona rural, Santa Rita de Cássia/BA",6,"4120-4/00","2017-04-10","2017-10-27",null,"07006061000105"]
[18,2016,"RJ","Bar e Lanchonete Recanto da Vila da Penha Ltda","07.563.985/0001-02","Pastelaria - Av. Vicente de Carvalho, 995, Loja Q, Vila da Penha, Rio de Janeiro/RJ",2,"5611-2/03","2017-05-10","2018-04-10",null,"07563985000102"]
[19,2016,"SP","Blackpool Indústria e Comércio Ltda","17.789.952/0001-39","Oficinas de costura - Rua Coronel Macedo, 245, Parque Paraíso Cajamar/SP",16,"1412-6/01","2017-02-09","2017-10-27",null,"17789952000139"]
[20,2013,"BA","C S O Engenharia Ltda","33.870.809/0001-23","Obra Parque dos Coqueiros - Rua Arapuana, s/n, Asa Branca, Feira de Santana/BA",24,"4120-4/00","2018-01-12","2018-04-10",null,"33870809000123"]
[21,2016,"RJ","Caldo de Cana Kau Ltda","42.114.637/0001-59","Lanchonete - Rua da Estrela, 109, Rio Comprido, Rio de Janeiro/RJ",5,"5611-2/03","2017-04-17","2018-04-10",null,"42114637000159"]
[22,2016,"MT","Carlos Alberto Lopes","307.341.009-06","Obra - Rod. MT 251, Estrada para Chapada dos Guimarães, margens do Córrego Mutuca, Cuiabá/MT",4,"0220-9/01","2017-05-29","2017-10-27",null,"30734100906"]
[23,2015,"MG","Carlos da Silveira Dumont","250.533.106-53","Fazenda da Várzea - zona rural, Serro/MG",9,"0151-2/02","2015-07-06","2017-03-23",null,"25053310653"]
[24,2011,"PA","Carlos Fernandes de Araújo","511.556.562-53","Carvoaria do Carlinhos - Rod. PA 150, Estrada Santo Antônio, km 21, Goianésia do Pará/PA",11,"0220-9/02","2014-12-04","2017-03-23",null,"51155656253"]
[25,2014,"MG","CCM - Construtora Centro Minas Ltda","23.998.438/0001-06","Obra - Rua São Vicente, 155, Granja de Freitas, Belo Horizonte/MG",40,"4120-4/00","2015-03-18","2017-03-23",null,"23998438000106"]
[26,2014,"PA","Celestino Alécio Fuchina Facco","131.358.210-72","Fazenda São Lucas - Rod. BR 010/PA 125, km 8, zona rural, Ulianópolis/PA",14,"0115-6/00","2015-10-16","2017-03-23",null,"13135821072"]
[27,2016,"PI","Celso de Sousa Mendes Filho","154.372.724-72","Fazenda Jacaré - zona rural, São Francisco do Piauí/PI",18,"0220-9/99","2017-03-22","2017-10-27",null,"15437272472"]
[28,2012,"MT","Clayton Grassioto","851.933.211-00","Gleba lote 313b - Rodovia MT-225, zona rural de Feliz Natal/MT",8,"0115-6/00","2014-09-12","2017-03-23",null,"85193321100"]
[29,2015,"RJ","Cone Brasil Comércio de Alimentos Ltda","09.519.635/0001-74","Cidade do Rock - Jacarepaguá, Rio de Janeiro/RJ",17,"4930-2/02","2017-10-23","2018-04-10",null,"09519635000174"]
[30,2016,"SP","Confecções Delícia EIRELI","01.857.667/0001-78","Oficina de costura - Av. Alberto Byington, 902, Vila Maria Alta, São Paulo/SP",6,"1412-6/01","2017-02-02","2017-10-27",null,"01857667000178"]
[31,2017,"SP","Confecções Ukil Ltda","05.280.828/0001-64","Oficina de costura - Rua Miller, 102 a 104, Brás, São Paulo/SP",15,"1412-6/01","2017-09-14","2018-04-10",null,"05280828000164"]
[32,2015,"SP","Construcentro Ltda","03.657.261/0001-77","Obra Residencial Pirajussara - Rua Quênia, s/n°, Pirajussara, Embu das Artes/SP",27,"4120-4/00","2016-01-28","2017-03-23",null,"03657261000177"]
[33,2014,"RO","Construtora e Instaladora Rondonorte Ltda","06.042.126/0001-05","Obra do Espaço Alternativo de Porto Velho - Av. Lauro Sodré, Porto Velho/RO",3,"4221-9/03","2016-03-28","2017-03-23",null,"06042126000105"]
[34,2015,"MG","Construtora Império Ltda","04.565.082/0001-72","Obra Pref. Mun. Lagoa Santa - Rua José de Magalhães Pinto, 426, Ouvídio Guerra, Lagoa Santa/MG",14,"4120-4/00","2016-03-09","2017-10-27",null,"04565082000172"]
[35,2014,"MG","Construtora Modelo Ltda","41.801.440/0001-25","Fazenda Jardim - São Sebastião do Bom Sucesso, Conceição do Mato Dentro/MG",19,"4120-4/00","2015-07-15","2017-03-23",null,"41801440000125"]
[36,2014,"GO","Cooperativa dos Beneficiadores de Algodão de Mineiros Ltda","09.511.278/0001-06","Comfibra Cotton - Rod. BR 364, km 309, zona rural, Mineiros/GO",52,"1311-1/00","2016-02-22","2017-10-27",null,"09511278000106"]
[37,2015,"RJ","Dan Xin Guo Lanches Ltda","06.284.872/0001-05","Lanchonete - Rua Figueira de Melo, 366, São Cristóvão, Rio de Janeiro/RJ",4,"5611-2/03","2017-10-18","2018-04-10",null,"06284872000105"]
[38,2011,"PA","Delfino Francisco Kehrnvalt","015.982.879-15","Fazenda Água Limpa - zona rural, Santa Maria das Barreiras/PA",4,"0151-2/01","2014-12-05","2017-03-23",null,"01598287915"]
[39,2015,"TO","Delfino Pereira Martins","360.828.991-72","Fazenda Ana Thaíra - zona rural, Dois Irmãos/TO",3,"0151-2/01","2016-06-14","2017-03-23",null,"36082899172"]
[40,2013,"MG","Diedro Construções e Serviços Ltda","00.817.206/0001-09","Canteiro de obras - Jardim Bouganville, Conceição do Mato Dentro/MG",173,"4120-4/00","2015-06-30","2017-10-27",null,"00817206000109"]
[41,2015,"MG","Dirceu José da Silva","078.202.916-72","Fazenda Canabrava - Rod. LMG 628, km 73, à direita, 36 km, Unaí/MG",6,"0151-2/02","2016-01-07","2017-03-23",null,"07820291672"]
[42,2017,"RO","Dorvalino Netto Borges","080.213.921-34","Travessão 40, Lote 23, zona rural, Candeias do Jamari/RO",2,"0151-2/01","2017-12-28","2018-04-10",null,"08021392134"]
[43,2016,"MG","Éder Murilo Antunes Ruas Costa","113.746.496-86","Fazenda Seco - Estrada do Veredão, 13 km, zona rural, Águas Vermelhas/MG",1,"0210-1/07","2016-08-31","23/03/17 a 23/03/17\ne 25/04/17",null,"11374649686"]
[44,2016,"ES","Edileuza Regina Uliana","031.528.107-33","Sitio Córrego do Pavão - zona rural, Brejetuba/ES",12,"0134-2/00","2016-12-05","2017-10-27",null,"03152810733"]
[45,2011,"MG","Edílio Peron Ferrari","300.359.709-44","Fazendas Giramundo e Guariroba - Zona Rural do Municipio de Paracatu, MG",5,"0119-9/05","2015-03-09","2017-03-23",null,"30035970944"]
[46,2016,"PA","Edivam Carvalho Pereira","336.550.901-10","Chácara Saudades de Minas e Fazenda Abaram - Vila São Sebastião, zona rural, Itupiranga/PA",1,"0151-2/02","2017-05-04","2017-10-27",null,"33655090110"]
[47,2014,"MG","Ednei Oliveira Gomes","014.524.686-80","Fazenda São João Cachoeira da Extrema - zona rural, Coração de Jesus/MG",10,"0220-9/02","2015-01-28","2017-03-23",null,"01452468680"]
[48,2016,"MS","Edvaldo Zagatto","046.891.598-23","Fazenda São Luís - zona rural, Aquidauana/MS",6,"0151-2/01","2017-05-15","2017-10-27",null,"04689159823"]
[49,2016,"GO","Elias José Vilaça","132.445.231-53","Sítio Vilaça - zona rural, Minaçu/GO",1,"0151-2/01","2017-02-09","2017-10-27",null,"13244523153"]
[50,2015,"MG","Emídio Alves Madeira","028.661.376-04","Fazenda Santa Efigênia - zona rural, Bom Jesus da Penha/MG",60,"0134-2/00","2016-01-06","2017-03-23",null,"02866137604"]
[51,2016,"MG","Emídio Alves Madeira","028.661.376-04","Fazendas Boa Vista e Cafundó - zona rural, Bom Jesus da Penha/MG",14,"0134-2/00","2017-02-06","2017-10-27",null,"02866137604"]
[52,2017,"SP","Engetal Engenharia e Construções Ltda","57.632.705/0001-49","Obras ETEC e FATEC - Rua Cristóbal Cláudio Elilo, Guarulhos/SP",21,"4120-4/00","2017-09-05","2018-04-10",null,"57632705000149"]
[53,2014,"SC","Ervateira Cavalo Branco Ltda","09.457.742/0001-15","Extração de Erva Mate - Linha Boa Vista, Pinhalzinho/SC",5,"1099-6/05","2015-02-13","2017-03-23",null,"09457742000115"]
[54,2016,"PA","Eudemberto Sampaio de Souza","649.120.513-49","Área de mata - Vicinal do Macapuxi, Uruará/PA",7,"0220-9/01","2017-06-12","2017-10-27",null,"64912051349"]
[55,2017,"RO","Eurico Sebastião de Castro","133.117.354-04","Fazenda KZN - Linha 21 de Abril, km 17, Gleba Aliança, zona rural, Porto Velho/RO",1,"0152-1/02","2017-11-10","2018-04-10",null,"13311735404"]
[56,2011,"MG","Eustachio de Araújo Passos","000.790.651-04","Fazenda Fetal - zona rural, Distrito de Serra Bonita, Buritis/MG",15,"0210-1/01","2014-11-27","2017-03-23",null,"00079065104"]
[57,2014,"AC","Felipe Joel Veras Pinheiro","867.845.522-53","Fazenda Estância Guanabara - Rod. AC 90, km 8, zona rural, Rio Branco/AC",15,"0151-2/01","2015-08-10","2017-10-27",null,"86784552253"]
[58,2016,"PI","Francisco Damasceno da Páscoa","420.598.363-87","Área de extração de carnaúba - Povoado Caraíbas, zona rural, Esperantina/PI",26,"0220-9/99","2017-04-13","2017-10-27",null,"42059836387"]
[59,2016,"MG","Francisco Mozart da Silva","346.789.996-04","Sitio Andorinhas II - Bairro Perobeiras, Poço Fundo/MG",12,"0134-2/00","2016-11-08","2017-10-27",null,"34678999604"]
[60,2015,"MG","Garra Engenharia e Planejamento Ltda","04.781.388/0001-66","Obra - Rua Gustavo Pena, 183, Horto, Belo Horizonte/MG",5,"4120-4/00","2015-10-02","2017-03-23",null,"04781388000166"]
[61,2016,"MG","Gaspar Souza","219.631.426-91","Fazenda Chapadão - zona rural, Pratinha/MG",19,"0134-2/00","2016-12-09","23/03/17 a 23/03/17\ne 25/04/17",null,"21963142691"]
[62,2014,"SP","Genaldo Antônio Raimundo da Silva","17.205.230/0001-90","Fazenda Santo Antônio - Estrada Morro Azul, km 8, bairro Morro Azul, Paraibuna/SP",17,"0210-1/01","2016-06-17","2017-03-23",null,"17205230000190"]
[63,2015,"MG","Gilberto Beinotti","715.041.848-15","Fazendas Araras e Dois Irmãos - zona rural, Presidente Olegário/MG",13,"0210-1/08","2017-10-03","2018-04-10",null,"71504184815"]
[64,2014,"RO","Giovani Luiz Minosso","408.509.272-34","Linha 17, s/n, Poste 185, zona rural, Canutama, Porto Velho/RO",2,"0151-2/01","2015-09-24","2017-03-23",null,"40850927234"]
[65,2017,"MS","Gregório da Costa Soares","051.185.901-59","Fazenda Baía do Cambará Redondo - zona rural, Corumbá/MS",4,"0151-2/01","2017-10-09","2018-04-10",null,"05118590159"]
[66,2015,"SC","Guilherme Martins Proença","961.251.879-34","Fazenda de Solon Alves - Localidade Caveirinhas, Painel/SC",11,"0133-4/07","2016-07-25","23/03/17 a 23/03/17\ne 25/04/17",null,{"$f":"SUBSTITUTE(SUBSTITUTE(SUBSTITUTE(SUBSTITUTE($E75,\" \",\"\"),\".\",\"\"),\"-\",\"\"),\"/\",\"\")","v":"96125187934"}]
[67,2016,"BA","Haroldo Gusmão Cunha","017.144.305-53","Fazenda Rancho Fundo - Região do Capinal, zona rural, Vitória da Conquista/BA",5,"0152-1/02","2017-09-14","2018-04-10",null,"01714430553"]
[68,2016,"MT","Hélio Cavalcanti Garcia","003.743.001-78","Fazenda Rio Dourado - Rod. MT 383, Paraíso do Leste sentido Jarudore, 6 km, Poxoréo/MT",5,"0151-2/01","2017-05-29","2017-10-27",null,"00374300178"]
[69,2012,"BA","Helmuth Rieger","175.673.949-87","Fazenda Flor da Esperança - Rod. BA 462, km 27, Sítio Grande, Povoado de Estiva, zona rural, São Desidério/BA",9,"0115-6/00","2015-09-24","2017-03-23",null,"17567394987"]
[70,2016,"PA","Ivontônio Queiroz dos Santos","802.552.481-72","Fazenda Fé em Deus - Rod. BR 230, Vicinal 185, após Vila Canaã, Altamira/PA",4,"0151-2/01","2017-07-06","2018-04-10",null,"80255248172"]
[71,2015,"MT","J M Armazéns Gerais Ltda","08.876.921/0001-24","Fazenda Colorado - Rod. MT 404, km 80, Sorriso/MT",4,"0115-6/00","2016-05-09","2017-03-23",null,"08876921000124"]
[72,2016,"PI","J. Chaves Cavalcante & Cia Ltda","05.113.425/0001-20","Fazenda Santa Angélica - Rod. Altos a Coivaras, km 6, zona rural, Altos/PI",8,"0810-0/99","2017-03-15","2017-10-27",null,"05113425000120"]
[73,2017,"MG","Janot Alberto Ribeiro","058.893.676-68","Fazenda São Jerônimo - Rod. BR 265, km 310,2 + 3,4 km à direita, Itutinga/MG",3,"0151-2/02","2017-06-23","2018-04-10",null,"05889367668"]
[74,2017,"GO","JB Construção e Serviços Ltda","08.773.592/0001-96","Obra Minha Casa Minha Vida - Rua Cinco, esquina com Rua 3, Chácara São Pedro, Aparecida de Goiânia/GO",20,"4120-4/00","2017-10-05","2018-04-10",null,"08773592000196"]
[75,2015,"MG","João Batista Campos","413.952.206-20","Sítios Ebenézer e Maranata - Bairro Córrego do Rosário, Machado/MG",14,"0134-2/00","2015-12-18","2017-03-23",null,"41395220620"]
[76,2014,"MG","João Carlos Buranelli","503.155.958-68","Fazenda Santa Bárbara - Chácara Vargem Bonita, zona rural, Ibiraci/MG",13,"0134-2/00","2014-10-23","2017-03-23",null,"50315595868"]
[77,2016,"BA","João das Graças Dias","206.765.225-72","Fazenda Lagoa do Severiano - zona rural, Presidente Jânio Quadros/BA",1,"0119-9/06","2017-09-28","2018-04-10",null,"20676522572"]
[78,2016,"PI","João de Deus Gonzaga","183.163.283-72","Área de extração de carnaúba - Povoado Grotões, zona rural, Cajazeiras do Piauí/PI",13,"0220-9/99","2017-04-06","2017-10-27",null,"18316328372"]
[79,2013,"MT","João Fidelis Neto","173.834.639-00","Fazenda Boa Esperança - Linha da Pedreira, Flor da Serra, zona rural de Maputá/MT",15,"0724-3/01","2014-10-27","2017-03-23",null,"17383463900"]
[80,2009,"PA","João Vicente Ferreira do Vale","262.357.812-53","Fazenda Manelão - zona rural de Anapu/PA",7,"0724-3/01","2014-08-07","2017-03-23",null,"26235781253"]
[81,2014,"SC","Joel Márcio Hames","020.978.609-40","Área de cultivo - Linha Geral Alto Garrafão, Imbuia/SC",22,"0119-9/04","2016-07-25","23/03/17 a 23/03/17\ne 25/04/17",null,"02097860940"]
[82,2015,"RS","José Adair Moraes","657.846.180-91","Fazenda Capão Ralo - Estrada para a Barragem do Salto, São Francisco de Paula/RS",13,"0119-9/03","2015-07-10","2017-03-23",null,"65784618091"]
[83,2017,"PR","José Bueno Stresser & Cia Ltda","01.097.327/0001-96","Fazenda Lança - Povoado São Pedro do Capiru, zona rural, Rio Branco do Sul/PR",12,"0210-1/07","2017-05-24","2017-10-27",null,"01097327000196"]
[84,2011,"BA","José Carlos Arrighi","235.501.986-04","Fazenda Barcelona - Rod. BR 262, Povoado Lagoa do Oscar, 20 km, zona rural, Cristópolis/BA",7,"0220-9/02","2016-04-20","2017-03-23",null,"23550198604"]
[85,2016,"MA","José Carlos Nobre Monteiro","159.208.952-68","Fazenda Tremendal - Estrada Coco a Feitoria, 50 km após Povoado Baú, zona rural, Parnarama/MA",9,"0151-2/03","2017-08-14","2018-04-10",null,"15920895268"]
[86,2016,"MG","José Cazelato Sobrinho","030.929.176-34","Fazenda Candeias - Região do Palmital, Carmo da Cachoeira/MG",7,"0134-2/00","2016-12-22","23/03/17 a 23/03/17\ne 25/04/17",null,"03092917634"]
[87,2014,"MG","José Manoel Soares Nunes","629.009.357-68","Fazenda Gondarim - Estrada São Bento s/, zona rural, Passa Quatro/MG",3,"0133-4/09","2014-11-27","2017-03-23",null,"62900935768"]
[88,2016,"AM","José Milton Onofre dos Santos","316.712.412-15","Fazenda Pau d'alho - Ramal do Ouro, km 58, Comunidade Morada Nova, Boca do Acre/AM",2,"0151-2/01","2017-05-25","2017-10-27",null,"31671241215"]
[89,2016,"MA","José Rodrigues dos Santos","021.651.635-87","Fazenda Lago Azul - Povoado Balanço, zona rural, Brejo de Areia/MA",22,"0151-2/01","2016-11-16","2017-10-27",null,"02165163587"]
[90,2016,"PA","José Ronan Martins da Cunha","360.094.151-87","Fazenda JK Garimpo II - Vila Canopus, Vicinal Jabá, 25 km, Altamira/PA",5,"0724-3/01","2016-11-28","23/03/17 a 23/03/17\ne 25/04/17",null,"36009415187"]
[91,2014,"MG","José Wilson Silvério da Silva","334.681.336-34","Fazenda Boa Vista - Cabeceira do Jacutinga, Distrito de Santa Luzia, Caratinga/MG",20,"0134-2/00","2014-12-11","2017-03-23",null,"33468133634"]
[92,2016,"TO","Juarez Antônio Arantes","572.266.449-91","Fazenda Marambaia - Rod. TO 181, km 364, zona rural, Sandolândia/TO",13,"0151-2/01","2016-12-02","23/03/17 a 23/03/17\ne 25/04/17",null,"57226644991"]
[93,2017,"PR","Juliano Aparecido de Carvalho","076.810.529-33","Pedreira Ponte Queimada - Rod. PR 488, km 49, Linha Ponte Queimada, zona rural, Diamante d'Oeste/PR",2,"0810-0/06","2017-10-02","2018-04-10",null,"07681052933"]
[94,2014,"MG","Kasser Wadih Dib","043.551.808-91","Fazenda Bela Vista - zona rural, Ibiraci/MG",33,"0134-2/00","2014-10-21","2017-03-23",null,"04355180891"]
[95,2014,"RJ","Lanches Servverde Ltda","14.032.243/0001-16","Rua Dalila Dias Borges, s/n, Lote 796, Muriqui/RJ",1,"5611-2/03","2016-09-05","23/03/17 a 23/03/17\ne 25/04/17",null,"14032243000116"]
[96,2016,"RJ","Lanchonete Beleza do Forte Ltda","20.588.705/0001-89","Lanchonete - Rua Francisco Otaviano, 52, Loja A, Copacabana, Rio de Janeiro/RJ",3,"5611-2/03","2017-11-23","2018-04-10",null,"20588705000189"]
[97,2013,"MT","Lucas Willian Frares","034.625.041-26","Fazenda Cachoeira - Rod. BR 299, km 66, direita, 6 km, Itiquira/MT",12,"0210-1/07","2017-08-04","2017-10-27",null,"03462504126"]
[98,2015,"TO","Luciano Rosa do Nascimento","518.737.029-49","Fazenda Castelo - Rod. TO 080, km 33, à direita, 9 km, Loteamento Santa Luzia, Porto Nacional/TO",9,"0220-9/02","2015-11-13","2017-03-23",null,"51873702949"]
[99,2016,"PA","M A de Sousa Madeireira","63.822.746/0001-09","Madeireira São Lucas - Vicinal do Rio do Peixe, margens do Rio Tutuí, Uruará/PA",5,"1610-2/01","2017-07-06","2018-04-10",null,"63822746000109"]
[100,2013,"SP","Machado & Machado Telecomunicações\nLtda (atual: Machado & Machado Engenharia Ltda)","04.025.959/0001-32","Obra data center - Rua Giuseppe Maximo Scolfaro, Gleba 75, Geraldo, Campinas/SP",27,"4321-5/00","2017-05-22","2017-10-27",null,"04025959000132"]
[101,2015,"SC","Maison May","050.097.999-52","Lavoura de cebolas - Estrada Geral Antas Gordas, Vidal Ramos/SC",5,"0119-9/04","2015-08-03","2017-03-23",null,"05009799952"]
[102,2011,"PA","Manoel Alves de Sousa","074.703.043-04","Fazenda Maria de Jesus - Estrada do Rio Preto, km 220, Estrada da Vicinal de Valência, zona rural, Marabá/PA",6,"0151-2/01","2014-10-29","2017-03-23",null,"07470304304"]
[103,2013,"AP","Manoel Lopes Lourinho","056.989.102-78","Embarcação Manuel Júnior de Igarapé-Miri - Mar territorial brasileiro, após foz do Rio Oiapoque/AP",23,"0311-6/01","2016-12-28","23/03/17 a 23/03/17\ne 25/04/17",null,"05698910278"]
[104,2014,"RS","Marcelo Ferreira Horn","333.493.980-49","Fazenda Formosa - Localidade de João Rodrigues, zona rural, Rio Pardo/RS",1,"0151-2/01","2015-05-04","2017-03-23",null,"33349398049"]
[105,2012,"PE","Marco Antônio Moura de Arruda Falcão","531.567.814-87","Engenho Corriente - Parcelas 5 e 13, zona rural, Água Preta/PE",19,"0113-0/00","2015-02-06","2017-10-27",null,"53156781487"]
[106,2013,"BA","Marcondes Antônio Tavares de Farias","224.068.324-49","Fazenda MF1 - Rod. BR 242, km 830, à direita no sentido Luís Eduardo Magalhães, 16km, Barreiras/BA",33,"0155-5/01","2015-09-04","2017-03-23",null,"22406832449"]
[107,2016,"MG","Marcos Aparecido Feltrin","076.398.078-16","Fazenda Terras Santo Antônio - Estrada Januária a Verdinha do Coxá, km 100, Bonito de Minas/MG",24,"0210-1/01","2017-06-02","2017-10-27",null,"07639807816"]
[108,2013,"RS","Marcos Suélio Dantas","362.699.132-68","Rua Primo Postali, 190/06, Esplanada, Caxias do Sul/RS",6,"4762-8/00","2015-03-20","2017-03-23",null,"36269913268"]
[109,2014,"GO","Maria Dolores Machado","883.713.101-10","Fazenda Paraíso - Rod. BR 060, km 435, 3 km à direita, Rio Verde/GO",7,"0210-1/01","2015-05-04","2017-03-23",null,"88371310110"]
[110,2016,"BA","Maria Elena Martins","660.311.765-72","Fazenda Marília - Povoado Matinha, Distrito de Inhobim, zona rural, Vitória da Conquista/BA",1,"0134-2/00","2017-08-16","2018-04-10",null,"66031176572"]
[111,2005,"PA","Mário Tavares de Lira","016.522.142-91","Fazenda Boa Vista - Rod. PA 153, km 22, zona rural, São Domingos do Araguaia/PA",11,"0151-2/01","2014-09-01","2017-03-23",null,"01652214291"]
[112,2016,"SP","Mektrefe Jeans Comércio de Roupas Ltda","09.086.437/0001-64","Oficina de costura - Rua Coronel Macedo, 364, Cajamar/SP",5,"1412-6/01","2017-05-19","2018-04-10",null,"09086437000164"]
[113,2014,"GO","Moreira Osvando","044.743.171-49","Fazenda Moreira - Rod. GO 164, km 775, zona rural, Mundo Novo/GO",10,"0151-2/01","2014-12-19","2017-03-23",null,"04474317149"]
[114,2013,"AC","Mozar Marcondes Filho","335.740.909-78","Fazenda Agropecuária Sorriso - Rod. AC 90, Ramal do Caipora, km 42, Rio Branco/AC",13,"0151-2/01","2017-10-09","2018-04-10",null,"33574090978"]
[115,2014,"MG","Murilo Rezende Faria","031.364.181-15","Fazenda Alegre - zona rural, Pintópolis/MG",4,"0220-9/02","2015-04-17","2017-03-23",null,"03136418115"]
[116,2013,"MT","Natal Bragatti","197.469.469-00","Fazenda Bragatti III - Gleba Mandacaru, zona rural, Paranaíta/MT",8,"0151-2/01","2014-09-30","2017-10-27",null,"19746946900"]
[117,2012,"BA","Nelson Astor Pooter","059.957.109-82","Fazenda Novos Tempos I - Rod. BA 462, km 27, Povoado da Estiva, São Desidério/BA",10,"0151-2/01","2016-03-14","2017-03-23",null,"05995710982"]
[118,2016,"PR","Nelson Luís Slaviero","253.843.929-91","Fazenda Planalto - Rod. PR 471, margens do Rio Piquiri, Distrito Guaporé, zona rural, Guaraniaçu/PR",19,"0151-2/01","2016-11-03","23/03/17 a 23/03/17\ne 25/04/17",null,"25384392991"]
[119,2017,"PR","Niciel Rosa Gomes","855.630.309-97","Pedreira Ponte Queimada - Rod. PR 488, km 49, Linha Ponte Queimada, zona rural, Diamante d'Oeste/PR",2,"0810-0/06","2017-10-09","2018-04-10",null,"85563030997"]
[120,2015,"MG","Nova Santa Rita Empreendimentos Imobiliários SPE Ltda","16.577.605/0001-80","Fazenda do Retiro - Estrada Mendes a São Sebastião das Águas Claras, Nova Lima/MG",1,"6462-0/00","2015-07-24","2017-03-23",null,"16577605000180"]
[121,2013,"GO","Odilon Ferreira Garcia","087.759.581-04","Fazenda Curralinho - Rod. BR 153, km 370, à direita, BR 070, 6 km, zona rural, Jaraguá/GO",11,"0119-9/99","2016-12-20","23/03/17 a 23/03/17\ne 25/04/17",null,"08775958104"]
[122,2015,"MG","Odir Brandelero","272.396.858-88","Fazenda Bom Sucesso/Brumado dos Pavôes - zona rural, Tapira/MG",6,"0210-1/08","2016-04-28","2017-03-23",null,"27239685888"]
[123,2017,"PA","Otaviano Aparecido Ferreira Caldas","300.271.792-49","Fazendas União, Arataú, Silvestre e Castanheira - Vicinal 220 Sul, Vila União, Vicinal Capivara, 10 km, Novo Repartimento/PA",7,"0151-2/01","2017-06-08","2017-10-27",null,"30027179249"]
[124,2016,"RJ","Pastelaria Chang Ren Carvalho Ltda","10.942.057/0001-63","Pastelaria - Av. Vicente de Carvalho, 995, Loja D, Vila da Penha, Rio de Janeiro/RJ",2,"5611-2/03","2017-06-02","2018-04-10",null,"10942057000163"]
[125,2015,"RJ","Pastelaria Copacabana Ltda","33.995.994/0001-82","Patelaria - Rua Figueiredo de Magalhães, 344, Loja D, Copacabana, Rio de Janeiro/RJ",3,"5611-2/01","2017-08-17","2018-04-10",null,"33995994000182"]
[126,2015,"RJ","Pastelaria Koong Ltda","05.882.270/0001-97","Pastelaria - Rua Camerino, 8, Lojas 1, 2, 3, Saúde, Rio de Janeiro/RJ",2,"5611-2/03","2017-08-16","2018-04-10",null,"05882270000197"]
[127,2015,"RJ","Pastelaria Mais Dez de Vista Alegre Ltda","06.699.221/0001-86","Pastelaria - Rua Ponta Porã, 10, Loja A, Vista Alegre, Rio de Janeiro/RJ",1,"5611-2/03","2017-10-13","2018-04-10",null,"06699221000186"]
[128,2013,"MG","Paulo Alves de Lima","192.094.526-15","Fazenda Real Paraíso - zona rural, Campanha/MG",1,"0134-2/00","2014-08-25","2017-03-23",null,"19209452615"]
[129,2015,"RS","Paulo Cezar Dameda","10.854.538/0001-17","Frente de trabalho de extração de madeira - Linha Gruta, zona rural, Doutor Ricardo/RS",5,"0210-1/07","2016-07-18","2017-03-23",null,"10854538000117"]
[130,2015,"MT","Pedro Gomes Filho","292.647.788-02","Fazenda União III - Rod. MT 130, sentido Santiago do Norte, 50 km, à esquerda 20 km, à direita 80 km, Paranatinga/MT",1,"0151-2/01","2016-03-23","2017-03-23",null,{"$f":"SUBSTITUTE(SUBSTITUTE(SUBSTITUTE(SUBSTITUTE($E139,\" \",\"\"),\".\",\"\"),\"-\",\"\"),\"/\",\"\")","v":"29264778802"}]
[131,2014,"MG","Pedro Ribeiro da Silva Filho","053.529.736-03","Fazenda Mangues - zona rural, estrada de terra entre Pintópolis/Urucais, 25 km, Pintópolis/MG",4,"0220-9/02","2015-03-26","2017-03-23",null,"05352973603"]
[132,2014,"MS","Prestadora de Serviços e Comércio de Madeiras Benites","04.680.548/0001-80","Fazenda Santo Antônio - Zona rural de Dourados/MS",4,"0161-0/03","2014-09-05","2017-03-23",null,"04680548000180"]
[133,2016,"RJ","Quatro Sabores Pizzaria e Massas Ltda","08.735.436/0001-30","KW Lanchonete - Av. Nossa Senhora de Copacabana, 86, Copacabana, Rio de Janeiro/RJ",1,"5611-2/03","2017-11-08","2018-04-10",null,"08735436000130"]
[134,2017,"SP","Raje Ivoli - Comércio de Modas Ltda","05.680.421/0001-24","Oficina de costura - Rua Itamonte, 96, Vila Medeiros, São Paulo/SP",4,"4781-4/00","2017-05-24","2017-10-27",null,"05680421000124"]
[135,2015,"RJ","Restaurante Boizão de Tere Ltda","13.397.579/0001-10","Churrascaria - Av. Oliveira Botelho, 721, Teresópolis/RJ",4,"5611-2/01","2017-04-05","2017-10-27",null,"13397579000110"]
[136,2016,"SP","RM Empreiteira e Locadora - EIRELI","24.633.766/0001-71","Obra - Rua Magarinos Torres, 773/775, Vila Maria, São Paulo/SP",8,"4120-4/00","2016-10-20","23/03/17 a 23/03/17\ne 25/04/17",null,"24633766000171"]
[137,2014,"TO","Roberto Manoel Ferreira","529.201.786-87","Fazenda São José - Rod. TO 496, km 22, à esquerda mais 7 km, Jaú do Tocantins/TO",5,"0220-9/02","2014-12-01","2017-03-23",null,"52920178687"]
[138,2014,"SC","Ronaldo Dalmolin Martinello","007.757.729-92","Área de cultivo de batatas - Encruzilhada da Rod. Governador Jorge Lacerda com Rod. SC 108, Criciúma/SC",14,"0119-9/03","2015-10-07","2017-03-23",null,"00775772992"]
[139,2016,"MG","Rovilso Aparecida Ferreira","973.408.806-82","Fazenda das Palmeiras - Bairro Cedro, zona rural, Conceição da Aparecida/MG",16,"0134-2/00","2017-03-06","2017-10-27",null,"97340880682"]
[140,2014,"MG","Ruby Bar Ltda","19.458.119/0001-30","Rua Curitiba, 319, 2º andar, Centro, Belo Horizonte/MG",1,"5611-2/01","2015-01-23","2017-03-23",null,"19458119000130"]
[141,2012,"PR","Sabarálcool S. A. - Açúcar e Álcool","76.509.611/0003-93","Usina - Rod. PR 486, km 96, lote rural 13 N-2, Perobal/PR",125,"1931-4/00","2017-05-17","2017-10-27",null,"76509611000393"]
[142,2016,"BA","Sandiney Ferreira de Souza","325.204.175-87","Fazenda Prazeres - Distrito de Monte Alegre, zona rural, Riachão das Neves/BA",6,"0151-2/01","2017-09-14","2018-04-10",null,"32520417587"]
[143,2014,"GO","Santa Bárbara Futebol Clube","13.184.787/0001-30","Clube de futebol - Rua 04, quadra 05, Lote 15, Setor Neves Barbosa, Santa Bárbara de Goiás/GO",29,"9312-3/00","2017-03-17","2017-10-27",null,"13184787000130"]
[144,2016,"PA","Saulo dos Santos Chaves","980.805.472-20","Fazenda Mula Perdida - Estrada do Riozinho II, 40 km do Distrito de Pista Branca, zona rural, Bannach/PA",4,"0151-2/01","2017-03-06","2017-10-27",null,"98080547220"]
[145,2016,"PA","Sebastião Ferreira Cunha","548.640.461-15","Fazenda JK - Região da Vila Canopus, Vicinal Jabá, km 25, zona rural, São Félix do Xingu/PA",4,"0724-3/01","2018-02-02","2018-04-10",null,"54864046115"]
[146,2016,"MG","Sebastião Honório Pedroso","474.436.506-04","Sitio Três Cedros - zona rural, Nepomuceno/MG",5,"0134-2/00","2016-12-02","23/03/17 a 23/03/17\ne 25/04/17",null,"47443650604"]
[147,2016,"MG","Sérgio Roberto de Lima Dias","375.545.906-00","Fazenda Santa Helena - Rod. BR 267, km 449, à direita, 2 km, Machado/MG",4,"0134-2/00","2016-11-07","23/03/17 a 23/03/17\ne 25/04/17",null,"37554590600"]
[148,2015,"RJ","Sertenge S/A","13.959.986/0001-73","Obra Minha Casa Minha Vida - bairro Itaipuaçu, Maricá/RJ",5,"4120-4/00","2017-05-26","2018-04-10",null,"13959986000173"]
[149,2016,"MG","Silvano Almir de Souza","973.084.046-68","Fazenda Santa Rita - Bairro São Bartolomeu, zona rural, Jesuânia/MG",10,"0134-2/00","2017-02-06","2017-10-27",null,"97308404668"]
[150,2017,"MA","Sinval Batista dos Santos","093.877.226-00","Fazenda Serra Verde - Rdo. BR 222, km 646, a 12 km da margem, zona rural, Açailândia/MA",1,"0151-2/02","2017-11-20","2018-04-10",null,"09387722600"]
[151,2013,"MG","Sucocítrico Cutrale Ltda","61.649.810/0111-00","Fazenda Vale Verde - Rod. BR 153, km 164, zona rural, Comendador Gomes/MG",23,"0131-8/00","2015-01-09","2017-10-27",null,"61649810011100"]
[152,2015,"MG","Tapuirama Comércio de Energia SPE Ltda","13.295.323/0001-00","Fazenda Registro - Rod. BR 452, km 176, vicinal, 1 km, Distrito de Tapuirama, Uberlândia/MG",5,"3513-1/00","2015-07-20","2017-10-27",null,"13295323000100"]
[153,2013,"MT","Tauá Biodiesel Ltda","08.079.290/0002-01","Fazenda Eucaflora - Rod. MT 130, km 45, Estrada de Santarém, 45 km, Paranatinga/MT",5,"0115-6/00","2014-08-27","2018-04-10",null,"08079290000201"]
[154,2017,"SP","Telecall Paz e Amor EIRELI","23.869.317/0001-64","Restaurante Coma Bem - Rua Doutor Francisco Ribeiro Arantes, 108, Vila Tortelli, Sorocaba/SP",1,"5611-2/03","2017-05-22","2018-04-10",null,"23869317000164"]
[155,2013,"SP","Tércio Ferreira Junqueira","894.051.708-30","Sítio Aparecida - Estrada municipal de Divinolândia ao bairro Ribeirão Santo Antônio, Divinolândia/SP",7,"0134-2/00","2016-08-22","2017-10-27",null,"89405170830"]
[156,2012,"MT","Terra Viva Carvão e Reflorestamento Ltda","02.584.988/0002-90","Fazenda Alan - Rod. MT 338, km 182, Vila Simioni, Itanhangá/MT",7,"0220-9/02","2014-10-09","2017-03-23",null,"02584988000290"]
[157,2016,"MG","TF Construtores Ltda","24.522.494/0001-32","Obra Fundação Jardim Botânico - Jardim Botânico, Poços de Caldas/MG",8,"4120-4/00","2017-03-27","2017-10-27",null,"24522494000132"]
[158,2013,"MG","União Agropecuária Novo Horizonte S. A.","12.586.453/0001-20","Fazenda Um Canto de Paz e outras - São Vicente de Minas, Andrelândia, Madre de Deus de Minas e Minduri/MG",348,"4633-8/01","2016-12-28","23/03/17 a 23/03/17\ne 25/04/17",null,"12586453000120"]
[159,2016,"MG","Valério Ribeiro de Andrade","850.058.948-53","Fazendas Santana e Barra da Babilônia- Rod. BR 381, km 664,2, a 10 km da margem esquerda, zona rural, Bom Sucesso/MG",10,"0134-2/00","2017-01-31","2017-10-27",null,"85005894853"]
[160,2014,"RS","Vanderlei Meurer","456.209.979-87","Área de cultivo de tabaco - Linha Antunes Braga, Grão Pará/SC",5,"0114-8/00","2015-08-14","2017-03-23",null,"45620997987"]
[161,2012,"PA","Vanderson Ayres da Silva","650.452.202-25","Fazenda Serra Dourada - Estrada da Cutia, vicinal da estrada Primavera, a 22 km da Vila Central, zona rural, São Felix do Xingu/PA",11,"0151-2/01","2014-11-12","2017-03-23",null,"65045220225"]
[162,2016,"PI","Vicente Pereira Fontenele Neto","395.219.903-68","Área de extração de carnaúba - Rod. PI 212, km 5, Localidade Marumba, zona rural, Barras/PI",15,"0220-9/99","2017-04-17","2017-10-27",null,"39521990368"]
[163,2016,"PA","Wanderson Batista da Silva","004.752.092-22","Fazenda Maria Eduarda (Serra Dourada) - Vila Central, Vicinal Cotia, 20 km, São Félix do Xingu/PA",11,"0151-2/02","2017-01-23","2017-10-27",null,"00475209222"]
[164,2015,"MG","Zafer Engenharia Construção e Locação","11.781.112/0001-43","Rua Bonança, 288, Betânia, Belo Horizonte/MG",3,"4299-5/99","2015-12-14","2017-03-23",null,"11781112000143"]
[165,2014,"MA","Zurc - Saneamento e Construções Ltda","07.073.558/0001-46","Obra da UFMA - Avenida da Universidade, Bom Jesus, Imperatriz/MA",17,"4120-4/00","2015-08-17","2017-03-23",null,"07073558000146"]
["166*",2010,"BA","Belmiro Catelan","162.911.150-34","Fazenda Guarani - zona rural, São Desidério/BA",44,"0115-6/00","2012-02-23","30/12/13 a 31/12/14\ne 23/06/17",null,{"$f":"SUBSTITUTE(SUBSTITUTE(SUBSTITUTE(SUBSTITUTE($E175,\" \",\"\"),\".\",\"\"),\"-\",\"\"),\"/\",\"\")","v":"16291115034"}]
["*II- PUBLICAÇÃO DA RELAÇÃO DE EMPREGADORES PREVISTA NO ARTIGO 5º, § 3º, DA PORTARIA INTERMINISTERIAL Nº 4, DE 11 DE MAIO DE 2016"]

{"sheet":"Transparency List 2017","index":3,"n_rows":187,"n_cols":12,"rows_kept":187,"cut":false,"hidden":false,"merged":[[7,2,7,8],[6,2,6,8],[5,2,5,8],[4,2,4,8]]}
[]
["MINISTÉRIO DO TRABALHO",null,null,"Download Source:","http://reporterbrasil.org.br/2017/03/lista-de-transparencia-traz-250-nomes-flagrados-por-trabalho-escravo/"]
["SECRETARIA DE INSPEÇÃO DO TRABALHO",null,null,"Published: February 2017"]
[]
[]
[null,null,"Em observância à mensagem n.o 1124604 apresentada por intermédio do Serviço de Informação ao Cidadão – SIC do Ministério do Trabalho por REPÓRTER BRASIL, CNPJ/CPF 05.930.053/0001-25, esclarece-se o que segue. \nEste órgão subordina-se aos termos da lei que regulamenta o acesso à informação previsto na Constituição Federal, art. 5°, XXXIII, art. 37, §3°, II, e art. 216, §2°. \nA publicidade é um macroprincípio da Administração Pública inscrito de forma expressa no caput do art. 37 da Constituição Federal, e que, portanto, em termos de processos administrativos, a publicidade é a regra e o sigilo, a exceção. Isso fundamentalmente significa que, ressalvado o caso de sigilo imposto por lei ou por circunstâncias especiais previstas na lei, a regra geral é a publicidade dos atos administrativos. A apresentação de dados abaixo é elaborada e fornecida em estrita observância aos parâmetros estabelecidos pelo próprio requerente e os registros disponíveis no banco de dados do Ministério do Trabalho. "]
[null,null,"No presente caso, o interessado solicita “Relação com os empregadores que foram autuados em decorrência de caracterização de trabalho análogo ao de escravo e que tiveram decisão administrativa transitada em julgado A requerente vem reiterar o seguinte pedido feito no dia 20 de dezembro de 2016, protocolo no 46800002319201621, e reproduzido abaixo e em anexo. A Repórter Brasil, com fundamento nos artigos 7o, IV, V e VII da Lei 12. 527/2012 e do artigo 5o, XXXIII da Constituição Federal, solicita que seja fornecida a informação com a relação com os empregadores que foram autuados em decorrência de caracterização de trabalho análogo ao de escravo e que tiveram decisão administrativa transitada em julgado, entre 31 de dezembro de 2014 e 31 de dezembro de 2016, confirmando a autuação, constando: nome do empregador (pessoa física ou jurídica), nome do estabelecimento onde foi realizada a autuação, endereço do estabelecimento onde foi caracterizada a situação, CPF ou CNPJ do empregador envolvido, número de trabalhadores envolvidos e data da fiscalização em que ocorreu a autuação, incluindo, ainda, a Classificação Nacional de Atividades Econômicas (CNAE) dos empregadores envolvidos (quando esta estiver disponível nos relatórios de fiscalização em questão), e se, no momento da fiscalização, foi lavrado auto de infração capitulado no artigo 444 da CLT em razão da constatação de trabalho análogo ao de escravo.” "]
[null,null,"Diante do que, com fundamento na Lei de Acesso à Informação – LAI, Lei n.o 12.527, de 18 de novembro de 2011, que regulamenta o direito previsto na Constituição de qualquer pessoa solicitar e receber informações dos órgãos e entidades públicos, de todos os entes e Poderes, apresentam-se as informações constantes em nosso banco de dados (atualizado até fevereiro de 2017), em ordem alfabética, relativas a empregadores em cujos estabelecimentos foi constatada a submissão de trabalhadores em condições análogas às de escravo, contendo indicação do ano da ação fiscal, UF, nome e CPF/CNPJ dos autuados, indicação do estabelecimento fiscalizado, quantidade de trabalhadores envolvidos, CNAE (quando disponível), data de irrecorribilidade das decisões finais administrativas dos autos de infração lavrados, cuja validade não tenha sido suspensa ou afastada por decisão judicial, e informação se há auto de infração procedente, capitulado no artigo 444 da CLT, que se refira à constatação de trabalho em condições análogas às de escravo, com a respectiva data em que sua decisão final se tornou irrecorrível: "]
[]
[]
[null,"Ano","Empregador","CNPJ/CPF","Estabelecimento","Trab. envol.","CNAE","Data irrecorribilidade da decisão administrativa final","AI\ncapitulado no art. 444 procedente, referente ao\nTAE","Decisão administrativa final do auto art. 444",null,"clean CNPJ/CPF"]
[1,2014,"A B A Madeiras (atual: A B Andrade Escavações)","17.469.814/0001-72","Extração de Madeira - Nuc Localidade de Nova Esperança, Imbituva/PR",2,"0210-1/07","2015-02-20","Não","-",null,{"$f":"SUBSTITUTE(SUBSTITUTE(SUBSTITUTE(SUBSTITUTE($D12,\" \",\"\"),\".\",\"\"),\"-\",\"\"),\"/\",\"\")","v":"17469814000172"}]
[2,2013,"A M Indústria e Comércio de Carvão Ltda","10.690.880/0001-29","Fazenda Lacy - Rod. BR 222, Estrada Fazenda Lacy, zona rural, Rondon do Pará/PA",2,"0210-1/08","2015-03-27","Não","-",null,{"$f":"SUBSTITUTE(SUBSTITUTE(SUBSTITUTE(SUBSTITUTE($D13,\" \",\"\"),\".\",\"\"),\"-\",\"\"),\"/\",\"\")","v":"10690880000129"}]
[3,2013,"Abimael Rocha de Araújo","086.672.096-00","Fazenda Boa Sorte - Lote 64,  Estrada Vicinal Sereno, km 17, zona rural, Curionópolis/PA",6,"0151-2/01","2015-02-02","Não","-",null,"08667209600"]
[4,2014,"Abrão A de Oliveira","59.741.744/0001-00","Carvoaria - Estrada André Franco Montoro, km 12, Atibainha Acima, Piracaia/SP",6,"0210-1/08","2015-07-29","Não","-",null,"59741744000100"]
[5,2014,"Ademir Andrade de Oliveira","705.704.936-68","Fazenda Santa Helena/Chácara Vargem Bonita - zona rural, Ibiraci/MG",11,"0134-2/00","2015-02-11","Sim","2015-02-05",null,"70570493668"]
[6,2015,"Adenir Stefenon","332.952.639-49","Área de cultivo - Ramal Dalla Costa, 87, Maracajú dos Gaúchos, Guaíra/PR",7,"0119-9/06","2016-08-24","Não","-",null,"33295263949"]
[7,2010,"Adilson Ribeiro Bonfim","857.429.537-04","Fazenda Soares - Rod. BR 222, km 79, zona rural, Abel Figueiredo/PA",6,"0151-2/01","2016-12-12","Não","-",null,"85742953704"]
[8,2015,"AEV Empreendimentos Imobiliários SPE Ltda","20.288.137/0001-09","Obra Residencial American Garden I - Rua Lindolfo de Azevedo, 1.184, Jardim América, Belo Horizonte/MG",9,"4110-7/00","2016-07-07","Sim","2016-07-07",null,"20288137000109"]
[9,2014,"Agenor Tibúrcio da Silva","375.056.961-49","Fazenda Bagre - Região do Marimbondo, zona rural, Caldas Novas/MG",3,"0899-1/99","2015-05-06","Sim","2015-05-05",null,"37505696149"]
[10,2014,"Agilberton Ribeiro","430.498.181-15","Fazenda São Miguel/Bibiano - Rod. Paranã/São Valério, km 30, à esquerda, zona rural, Paranã/TO",5,"0220-9/02","2015-11-05","Não","-",null,"43049818115"]
[11,2015,"Agropecuária Carvalho e Rocha Ltda","13.641.773/0001-07","Fazenda Lagoa do Cabral (Bastiões) - Rod. do Algodão, Localidade Baixio do Córrego, Distrito de Piranji, Aracoiaba/CE",8,"0220-9/01","2016-08-29","Não","-",null,"13641773000107"]
[12,2006,"Agropecuária Castanhais Ltda","07.512.638/0001-50","Fazenda Castanhais (Rio Fresco) - zona rural, Cumaru do Norte/PA",47,"0151-2/02","2015-02-19","Sim","2010-02-19",null,"07512638000150"]
[13,2014,"Airton Luiz Cobalchini","828.271.339-20","Viveiro de Mudas e Serraria - Rua  Pedro Damo, 87, Formosa, Campo Erê/SC",1,"0210-1/03","2015-05-07","Sim","2014-12-03",null,"82827133920"]
[14,2009,"Alberto Cardoso Nepomuceno","062.703.445-49","Fazenda Jatobá  - Rod. PA 140, km 31, Ramal Santa Maria, zona rural, Tome Açu/PA",5,"0151-2/01","2015-05-06","Não","-",null,"06270344549"]
[15,2014,"Alexandre Vieira Lins","360.426.924-53","Fazena Sara - Rod. BR 135, km 122, Miranda do Norte/MA",4,"0151-2/01","2015-06-19","Sim","2014-12-10",null,"36042692453"]
[16,2016,"Alfeu Nogueira Carbonaro","706.000.151-49","Fazenda Copacabana - zona rural, Guia Lopes da Laguna/MS",7,"0151-2/01","2016-03-23","Não","-",null,"70600015149"]
[17,2011,"Alfio Gabriel Thomaselli Filho","090.545.708-06","Fazenda dos Dois Amores II (Fazenda Barra IV) e  Fazenda Santo Antônio - Rod. BR 349, km 214, zona rural, Correntina/BA",30,"0162-8/99","2015-10-25","Não","-",null,"09054570806"]
[18,2015,"Altemar Laignier de Souza","336.588.626-53","Fazenda Recanto Feliz - Rod. BR 230, km 40, Estrada do Travessão da 12, Brasil Novo/PA",7,"0151-2/01","2016-03-07","Não","-",null,"33658862653"]
[19,2011,"Altineu Pires Coutinho","040.574.657-15","Fazenda São João - Rod. RJ 116, km 116, Distrito de Monerat, Duas Barras/RJ",9,"0134-2/00","2016-10-28","Não","-",null,"04057465715"]
[20,2014,"Amândio Celestino Cogo","120.299.399-00","Fazenda Perseverança - Ramal Jorge Kalume, km 16, Rio Branco/AC",3,"0151-2/01","2015-08-05","Sim","2015-07-28",null,"12029939900"]
[21,2011,"Amantino Ferreira Mafra","039.073.686-49","Fazenda Campos Dourados - Rod. PA 256, km 17, Estrada da Vale, km 24, Paragominas/PA",11,"0151-2/01","2016-06-28","Não","-",null,"03907368649"]
[22,2015,"Andrei Mikael Moreto","720.057.262-49","Fazenda Boi Não Berra (Sempre Verde) - Rod. BR 317, km 102, Boca do Acre/AM",4,"0151-2/01","2015-08-07","Não","-",null,"72005726249"]
[23,2011,"Angelin Ório","150.731.739-53","Fazenda Campos Altos/Garimpo Casarão - Rod. PA 279, km 80, zona rural, Água Azul do Norte/PA",13,"0724-3/01","2015-11-06","Sim","2015-11-06",null,"15073173953"]
[24,2012,"Anísio Aparecido da Silva","936.945.391-15","Fazenda Nossa Senhora da Aparecida - zona rural, Dueré/TO",8,"0220-9/02","2015-05-20","Não","-",null,"93694539115"]
[25,2012,"Antônio Luiz Sanches Felipe","948.566.642-04","Fazenda Leandra - vicinal Lontrão, km 26, Gleba Empenho, Pacajá/PA",2,"0151-2/01","2015-04-02","Sim","2015-04-02",null,"94856664204"]
[26,2015,"Antônio Macedo Costa","550.188.233-72","Fazenda São Francisco (Fazenda Pequizeiro) - Povoado Pequizeiro, zona rural, Vitorino Freire/MA",11,"0151-2/01","2016-06-03","Não","-",null,"55018823372"]
[27,2010,"Antônio Martins Ribeiro","135.215.191-04","Fazenda São Pedro - Rod. PA 287, zona rural, Conceição do Araguaia/PA",7,"0151-2/01","2015-02-19","Não","-",null,"13521519104"]
[28,2013,"Antônio Richart","369.216.619-20","Fazenda Morro Alto - Rod. BR 222, km 86, adentro 18 km, Vila Nova dos Martírios/MA",6,"0115-6/00","2015-10-15","Não","-",null,"36921661920"]
[29,2015,"Antônio Sobrinho de Oliveira","044.822.712-68","Fazenda Paredão - Linha Pito Aceso, km 7, Distrito de Santo Antônio do Matupi, Manicoré/AM",6,"0151-2/01","2015-10-19","Não","-",null,"04482271268"]
[30,2014,"Arlan Luiz Rodrigues Nunes","711.484.189-20","Fazenda de Pinus - Localidade de Pedregulhos, zona rural, Coronel Domingos Soares/PR",3,"0210-1/07","2015-02-09","Não","-",null,"71148418920"]
[31,2012,"Arnaldo Borges de Freitas Neto","741.420.972-53","Retiro Boa Vista - Rod. PA 287, Colônia Volta Nova, zona rural, Conceição do Araguaia/PA",6,"0119-9/01","2016-03-09","Não","-",null,"74142097253"]
[32,2014,"As Marias Comércio de Roupas Ltda","09.126.169/0001-67","Oficina de costura - Rua Rio Bonito, 755/761/767, Brás, São Paulo/SP",14,"1412-6/01","2015-09-28","Não","-",null,"09126169000167"]
[33,2013,"Associação dos Fazendeiros do Vale do Rio Fresco","04.985.045/0001-13","Frente de trabalho - Ponte de madeira sobre o Rio Cristalino, Santana do Araguaia/PA",5,"4399-1/99","2015-09-23","Não","-",null,"04985045000113"]
[34,2015,"Azilda Pereira de Sousa","247.005.253-04","Fazenda Nova Esperança - Estrada do Iúma, km 52, Brejão, zona rural, Bom Jardim/MA",10,"0151-2/01","2016-07-25","Não","-",null,"24700525304"]
[35,2015,"Carlos da Silveira Dumont","250.533.106-53","Fazenda da Várzea - zona rural, Serro/MG",9,"0151-2/02","2015-07-06","Sim","2015-07-06",null,"25053310653"]
[36,2011,"Carlos Fernandes de Araújo","511.556.562-53","Carvoaria do Carlinhos - Rod. PA 150, Estrada Santo Antônio, km 21, Goianésia do Pará/PA",11,"0220-9/02","2015-12-14","Sim","2014-12-04",null,"51155656253"]
[37,2015,"Carlos Fernandes de Araújo","511.556.562-53","Fazenda Cancela Preta - Rod. PA 150, Vicinal Estrada do Santo Antônio, 18 km, zona rural, Goianésia do Pará/PA",6,"0151-2/01","2015-12-07","Não","-",null,"51155656253"]
[38,2014,"Carvoaria Bom Sucesso Ltda","07.303.095/0001-61","Carvoaria - Bairro Bom Sucesso, n° 01, Piracaia/SP",4,"4681-8/03","2015-03-25","Não","-",null,"07303095000161"]
[39,2014,"CCM - Construtora Centro Minas Ltda","23.998.438/0001-06","Obra - Rua São Vicente, 155, Granja de Freitas, Belo Horizonte/MG",40,"4120-4/00","2015-04-07","Sim","2015-03-18",null,"23998438000106"]
[40,2014,"Celestino Alécio Fuchina Facco","131.358.210-72","Fazenda São Lucas - Rod. BR 010/PA 125, km 8, zona rural, Ulianópolis/PA",14,"0115-6/00","2015-10-16","Sim","2015-10-16",null,"13135821072"]
[41,2015,"Cerâmica Cermar Ltda","03.894.214/0001-47","Fazenda Paraíso - zona rural, Babaçulândia/TO",2,"0220-9/01","2016-03-07","Não","-",null,"03894214000147"]
[42,2013,"Citrosuco S/A Agroindústria","33.010.786/0007-72","Fazendas Graminha e Água Sumida - Rod. SP 191, km 151 e 154, São Manuel e Botucatu/SP",26,"0131-8/00","2016-09-09","Sim","2016-07-28",null,"33010786000772"]
[43,2015,"Clidenor Duarte Borges","451.792.713-04","Área de extração de carnaúba - Localidade Lagoa da Barra, zona rural, Guadalupe/PI",15,"0220-9/99","2016-10-31","Não","-",null,"45179271304"]
[44,2014,"Confecções de Roupas Seiki Ltda","50.707.322/0001-43","Oficina de costura - Rua Miller, 306, Brás, São Paulo/SP",17,"1412-6/01","2015-03-25","Não","-",null,"50707322000143"]
[45,2016,"Conserge Construção e Serviços Gerais Ltda","84.513.290/0001-67","Obra Porto da Prainha - Rod. BR 174, km 32, margem do Rio Aripuanã, Apuí/AM",2,"8121-4/00","2016-09-02","Não","-",null,"84513290000167"]
[46,2015,"Construcentro Ltda","03.657.261/0001-77","Obra Residencial Pirajussara - Rua Quênia, s/n°, Pirajussara, Embu das Artes/SP",27,"4120-4/00","2016-03-28","Sim","2016-01-28",null,"03657261000177"]
[47,2014,"Construtora e Instaladora Rondonorte Ltda","06.042.126/0001-05","Obra do Espaço Alternativo de Porto Velho - Av. Lauro Sodré, Porto Velho/RO",3,"4221-9/03","2016-03-28","Sim","2016-03-28",null,"06042126000105"]
[48,2014,"Construtora Modelo Ltda","41.801.440/0001-25","Fazenda Jardim - São Sebastião do Bom Sucesso, Conceição do Mato Dentro/MG",19,"4120-4/00","2015-07-15","Sim","2015-07-15",null,"41801440000125"]
[49,2013,"Construtora Souza Guerra Bicas Ltda","10.224.454/0001-08","Obra da escola municipal - Praça Almirante Barroso, Chácara/MG",5,"4120-4/00","2015-01-29","Não","-",null,"10224454000108"]
[50,2010,"CSM Agropecuária S/A","05.303.431/0002-21","Fazenda Tarumã - Rob. BR 158, margem direita, km 80, Rio Inajá, estrada vicinal, km 70, Santa Maria das Barreiras/PA",28,"0151-2/01","2016-07-18","Não","-",null,"05303431000221"]
[51,2016,"Dalu Transportes e Comércio de Materiais de Construção Ltda","62.914.668/0001-00","Rua José Martins Fernandes, 590, Batistini, São Bernardo do Campo/SP",4,"4744-0/99","2016-08-18","Não","-",null,"62914668000100"]
[52,2015,"David Sanchez Layme","234.807.368-40","Oficina de costura - Rua Tamboara, 13, Vila Cisper, São Paulo/SP",4,"1412-6/03","2016-04-28","Não","-",null,"23480736840"]
[53,2007,"De Déa Indústria Comércio e Pecuária Ltda","14.069.363/0001-98","Fazenda São Sebastião - zona rural, Itupiranga/PA",55,"0151-2/01","2015-02-02","Sim","2008-04-18",null,"14069363000198"]
[54,2010,"Décio José Barroso Nunes","219.817.526-68","Fazenda Patrizia I - Gleba Rondon A, lotes 44 e 45, zona rural, Rondon do Pará/PA",10,"0151-2/01","2015-12-17","Não","-",null,"21981752668"]
[55,2011,"Delfino Francisco Kehrnvalt","015.982.879-15","Fazenda Água Limpa - zona rural, Santa Maria das Barreiras/PA",4,"0151-2/01","2015-04-07","Sim","2014-12-05",null,"01598287915"]
[56,2015,"Delfino Pereira Martins","360.828.991-72","Fazenda Ana Thaíra - zona rural, Dois Irmãos/TO",3,"0151-2/01","2016-06-17","Sim","2016-06-14",null,"36082899172"]
[57,2014,"Délio Fernandes Rodrigues","288.135.531-53","Fazenda Fernandes (Fazendinha) - zona rural, Angico/TO",1,"0119-9/01","2015-05-28","Não","-",null,"28813553153"]
[58,2013,"Denys Farias de Brito","278.915.932-72","Sítio Sol - Gleba Pacajazinho, estrada do Chico Elias, zona rural, Pacajá/PA",2,"0151-2/01","2015-02-25","Não","-",null,"27891593272"]
[59,2013,"Diamante Agrícola S/A","10.307.397/0002-01","Faz Diamante - Rod. TO 255, km 127, zona rural, Lagoa da Confusão/TO",43,"0111-3/01","2015-01-05","Não","-",null,"10307397000201"]
[60,2015,"Diego Leme Roncon","22.067.693/0001-72","Blocos Roncon - Estrada do Koyama, 545, Palmeiras, Suzano/SP",4,"4744-0/99","2016-02-29","Não","-",null,"22067693000172"]
[61,2015,"Dirceu José da Silva","078.202.916-72","Fazenda Canabrava - Rod. LMG 628, km 73, à direita, 36 km, Unaí/MG",6,"0151-2/02","2016-01-07","Sim","2016-01-07",null,"07820291672"]
[62,2016,"DNA Energética","10.207.739/0001-22","Fazenda Mapal - zona rural, Anastácio/MS",25,"0210-1/08","2016-05-11","Não","-",null,"10207739000122"]
[63,2014,"Domingos Moura Macedo","176.076.203-20","Fazenda São Francisco/ Fazenda Bela Vista - Rod. BR 316, km 384, estrada Bacabal a Alto Alegre, zona rural, Bacabal/MA",8,"0151-2/01","2015-04-01","Não","-",null,"17607620320"]
[64,2016,"Éder Murilo Antunes Ruas Costa","113.746.496-86","Fazenda Seco - Estrada do Veredão, 13 km, zona rural, Águas Vermelhas/MG",1,"0210-1/07","2016-08-31","Sim","2016-08-31",null,"11374649686"]
[65,2011,"Edílio Peron Ferrari","300.359.709-44","Fazendas Giramundo e Guariroba - Zona Rural do Municipio de Paracatu, MG",5,"0119-9/05","2015-03-16","Sim","2015-03-09",null,"30035970944"]
[66,2014,"Edmar de Paula da Costa","896.288.373-20","Sítio Lagoa do Mucambo - zona rural, Granja/CE",11,"0220-9/99","2015-01-23","Não","-",null,{"$f":"SUBSTITUTE(SUBSTITUTE(SUBSTITUTE(SUBSTITUTE($D77,\" \",\"\"),\".\",\"\"),\"-\",\"\"),\"/\",\"\")","v":"89628837320"}]
[67,2014,"Ednei Oliveira Gomes","014.524.686-80","Fazenda São João Cachoeira da Extrema - zona rural, Coração de Jesus/MG",10,"0220-9/02","2015-01-28","Sim","2015-01-28",null,"01452468680"]
[68,2011,"Elton Nunes Garcia","555.158.190-04","Fazenda Garcia - Rod. BA 458, km 48, Riachão das Neves/BA",2,"0161-0/03","2015-10-15","Não","-",null,"55515819004"]
[69,2015,"Emídio Alves Madeira","028.661.376-04","Fazenda Santa Efigênia - zona rural, Bom Jesus da Penha/MG",60,"0134-2/00","2016-01-06","Sim","2016-01-06",null,"02866137604"]
[70,2014,"Enesa Engenharia","48.785.828/0001-29","Obra de implantação de mina - Conceição do Mato Dentro/MG",53,"4292-8/02","2016-03-28","Sim","2016-03-28",null,"48785828000129"]
[71,2012,"Eraldo de Miranda Parente","054.431.803-04","Fazenda Vale do Axixá - Vicinal OP 03, km 15, Vila Santa Izabel, zona rural, Palestina do Pará/PA",5,"0151-2/01","2015-11-23","Não","-",null,"05443180304"]
[72,2014,"Ervateira Cavalo Branco Ltda","09.457.742/0001-15","Extração de Erva Mate - Linha Boa Vista, Pinhalzinho/SC",5,"1099-6/05","2015-02-16","Sim","2015-02-13",null,"09457742000115"]
[73,2015,"Estratosfera Confecções Ltda","64.873.490/0001-13","Oficina de costura - Rua Serra do Mar, 363-A, Itaquaquecetuba/SP",10,"1411-8/01","2016-06-30","Não","-",null,"64873490000113"]
[74,2006,"Euler Guimarães","049.139.491-87","Fazenda Ouro Preto - zona rural, Marabá/PA",11,"0151-2/01","2015-05-08","Não","-",null,"04913949187"]
[75,2011,"Eustachio de Araújo Passos","000.790.651-04","Fazenda Fetal - zona rural, Distrito de Serra Bonita, Buritis/MG",15,"0210-1/01","2016-07-05","Sim","2014-11-27",null,"00079065104"]
[76,2008,"Euvaldo de Souza Pereira","14.263.180/0001-09","Fazenda Sertânia - Rod. BR 135, km 72, Riachão das Neves/BA",38,"0220-9/02","2015-10-25","Não","-",null,"14263180000109"]
[77,2015,"Evaldo José Fernandes Filho","998.985.781-49","Fazenda Água Boa - Água Azul do Norte/PA",15,"0151-2/01","2016-09-12","Não","-",null,"99898578149"]
[78,2016,"Expedito Eugênio Stefanello Lago","015.041.009-30","Fazenda São Miguel - Linha Herciliópolis, zona rural, Água Doce/SC",4,"0210-1/07","2016-05-30","Não","-",null,"01504100930"]
[79,2014,"Fabiano Iamaguti Maeda e Outros","119.125.558-16","Fazenda Esperança - Rod. TO 280, km 180, zona rural, Natividade/TO",6,"0151-2/01","2016-03-25","Não","-",null,"11912555816"]
[80,2014,"Fabiano Neiva Eulálio","022.446.083-87","Povoado Morrinhos, zona rural, Paquetá/PI",61,"0220-9/99","2015-07-29","Não","-",null,"02244608387"]
[81,2014,"Fábio Santos de Oliveira","170.972.108-18","Fazenda Rancho Alegre - zona rural, Rondon do Pará/PA",5,"0220-9/02","2015-06-18","Não","-",null,"17097210818"]
[82,2015,"Fausto Scholl","738.362.739-34","Fazenda Seis Irmãos - Estrada Municipal, km 6, Distrito de Salto da Alegria, zona rural, Paranatinga/MT",3,"0115-6/00","2016-03-25","Não","-",null,"73836273934"]
[83,2015,"Fazenda Ribeirão Bonito","17.430.248/0001-95","Fazenda Ribeirão Bonito - Rod. Transamazônica, km 105, zona rural, Novo Repartimento/PA",2,"0151-2/01","2016-11-23","Não","-",null,"17430248000195"]
[84,2011,"Fernando Rodrigues de Cristo","026.510.396-75","Fazenda Vargem Grande - Córrego Vargem Grande, zona\nrural, Simonésia/MG",11,"0134-2/00","2016-01-22","Não","-",null,"02651039675"]
[85,2014,"Francisco Filho da Costa Bezerra","016.681.862-33","Extração Piaçaba - Piaçabal do Igarapé Anhuri, Santa Isabel do Rio Negro/AM",7,"0220-9/99","2015-03-11","Não","-",null,"01668186233"]
[86,2014,"Francisco Pereira de Sousa","093.632.973-49","Sítio Macaco - zona rural, Quixeré/CE",2,"0151-2/02","2015-05-14","Não","-",null,"09363297349"]
[87,2014,"Francisco Vanderlan Alves de Sousa","881.745.903-82","Fazenda Cacimba Danta - Assunção do Piauí/PI",18,"0220-9/99","2016-08-15","Não","-",null,"88174590382"]
[88,2014,"G L A Prestação de Serviços Ltda","09.121.729/0001-90","Canteiro de obra - Rua da Amizade, s/n, Pinheiro, Lavrinhas/SP",2,"4330-4/99","2016-08-22","Não","-",null,"09121729000190"]
[89,2015,"Garra Engenharia e Planejamento Ltda","04.781.388/0001-66","Obra - Rua Gustavo Pena, 183, Horto, Belo Horizonte/MG",5,"4120-4/00","2015-10-09","Sim","2015-10-02",null,"04781388000166"]
[90,2016,"Gaspar Souza","219.631.426-91","Fazenda Chapadão - zona rural, Pratinha/MG",19,"0134-2/00","2016-12-09","Sim","2016-12-09",null,"21963142691"]
[91,2014,"Genaldo Antônio Raimundo da Silva","17.205.230/0001-90","Fazenda Santo Antônio - Estrada Morro Azul, km 8, bairro Morro Azul, Paraibuna/SP",17,"0210-1/01","2016-06-17","Sim","2016-06-17",null,"17205230000190"]
[92,2008,"Gilberto Andrade","032.316.072-72","Fazenda Bom Sucesso - Rod. PA 256, km 40, margem direita, Paragominas/PA",35,"0151-2/02","2015-08-23","Não","-",null,"03231607272"]
[93,2014,"Gilberto Pereira dos Santos","994.545.211-87","Chácara Santa Luzia - Estrada Santa Rita, km 11, zona rural, Parauapebas/PA",2,"0729-4/04","2015-06-29","Não","-",null,"99454521187"]
[94,2015,"Gilson Gomes Lisboa","008.455.820-20","Área de extração de madeira - Estrada do Pinheiro, a 12 km da EMEF Bibiano Batista, Passo da China, 5° Distrito, Cerro Partido, Encruzilhada do Sul/RS",6,"0210-1/05","2016-02-29","Não","-",null,"00845582020"]
[95,2014,"Giovani Luiz Minosso","408.509.272-34","Linha 17, s/n, Poste 185, zona rural, Canutama, Porto Velho/RO",2,"0151-2/01","2015-09-24","Sim","2015-09-24",null,"40850927234"]
[96,2012,"Giovany Marcelino Pascoal","905.285.141-72","Glebas - Rod. BR 163, km 55, Vicinal Diamantino, e km 105, Vicinal Curuá, zona rural, Altamira/PA",32,"0151-2/01","2015-12-21","Não","-",null,"90528514172"]
[97,2013,"Gráfico Empreendimentos Ltda","16.365.025/0001-29","Obra Residencial Caminho do Mar - Estrada da Cetrel, Barra do Jacuípe, Camaçari/BA",8,"4120-4/00","2015-10-02","Sim","2015-10-02",null,"16365025000129"]
[98,2012,"Gregory Modas Indústria e Comércio Ltda (atual: Gregory Comércio de Moda e Decoração Ltda)","52.978.897/0001-26","Oficinas de costura - Rua Dolores Duran, 62, Itaquaquecetuba/SP; Rua Herval, 1364, Belém, São Paulo/SP; Rua João de Deus Ramos, São Paulo/SP",12,"4781-4/00","2016-05-24","Não","-",null,"52978897000126"]
[99,2015,"Guilherme Martins Proença","961.251.879-34","Fazenda de Solon Alves - Localidade Caveirinhas, Painel/SC",11,"0133-4/07","2016-09-29","Sim","2016-07-25",null,"96125187934"]
[100,2014,"Guillermo Rivas Quispe","13.629.285/0001-76","Oficina de costura - Rua Elisete Cardoso, 115, Parque Residencial Souza Campo, Itaquaquecetuba/SP",14,"1412-6/03","2015-09-08","Não","-",null,"13629285000176"]
[101,2015,"Handbook Store Confecções Ltda","10.680.869/0008-54","Oficina de costura - Rua Cabocla, 11, Vila Paulistana. São Paulo/SP",16,"1412-6/01","2016-02-29","Não","-",null,"10680869000854"]
[102,2012,"Helmuth Rieger","175.673.949-87","Fazenda Flor da Esperança - Rod. BA 462, km 27, Sítio Grande, Povoado de Estiva, zona rural, São Desidério/BA",9,"0115-6/00","2015-09-24","Sim","2015-09-24",null,"17567394987"]
[103,2014,"Humberto Dantas dos Santos","663.398.205-49","Fazenda Garrafão - Antigo Povoado do Garrafão, zona rural, Bom Jardim/MA",6,"0151-2/01","2015-10-15","Não","-",null,"66339820549"]
[104,2014,"Indústria de Cerâmica do Arraial Ltda","10.950.712/0001-25","Fazenda do Sr. Morales - Volta do João Mateus, zona rural, Morada Nova/CE",5,"2342-7/02","2016-02-17","Não","-",null,"10950712000125"]
[105,2014,"Iroilto Nunes Pereira","480.233.531-87","Fazenda Ouro Branco - Rod. Povoado do Príncipe/Paranã, 2 km, esquerda, 20 km, zona rural, Natividade/TO",6,"0220-9/02","2016-07-04","Não","-",null,"48023353187"]
[106,2013,"Ivan Gonçalves da Silva","320.981.111-34","Fazenda Indiana - Rod. PA 279, Vicinal Castanheira, km 10, Tucumã/PA",21,"0151-2/01","2015-05-25","Não","-",null,"32098111134"]
[107,2015,"J M Armazéns Gerais Ltda","08.876.921/0001-24","Fazenda Colorado - Rod. MT 404, km 80, Sorriso/MT",4,"0115-6/00","2016-05-09","Sim","2016-05-09",null,"08876921000124"]
[108,2015,"J. D. Construções Ltda","13.847.613/0001-00","Canteiro de obras - Bairro Sítio Paratibe, Ibiapina/CE",24,"4120-4/00","2016-07-15","Não","-",null,"13847613000100"]
[109,2012,"Jabes Sousa de Oliveira","378.629.522-00","L.A. Madeiras - Rod. Transassurini, km 5, zona rural, Altamira/PA",40,"1610-2/01","2015-05-21","Não","-",null,"37862952200"]
[110,2016,"Jamil Inácio Ribeiro","015.578.821-34","Fazenda Canarana - Pau d'Alho, zona rural, Colméia/TO",5,"0151-2/01","2016-06-17","Não","-",null,"01557882134"]
[111,2013,"Jeomar Ferreira de Góis","163.130.202-78","Fazenda São Geraldo - Rod. Transamazônica, Travessão 90, Medicilândia/PA",3,"0151-2/01","2015-03-13","Não","-",null,"16313020278"]
[112,2015,"João Batista Campos","413.952.206-20","Sítios Ebenézer e Maranata - Bairro Córrego do Rosário, Machado/MG",14,"0134-2/00","2015-12-25","Sim","2015-12-18",null,"41395220620"]
[113,2008,"João Caldas de Oliviera","201.472.527-68","Fazenda União - Rod. PA 150, Jacundá, Goianésia do Pará/PA",10,"0220-9/02","2015-05-07","Sim","2010-04-27",null,"20147252768"]
[114,2015,"João Félix de Oliveira","617.464.369-72","Fazenda Coelho - Gleba 1-b, 1ª Seção, Região de Água Geanina, zona rural, Paranavaí/PR",5,"0121-1/01","2015-11-23","Não","-",null,"61746436972"]
[115,2014,"João Paulo Carvalho Silva","021.141.071-32","Fazenda Santa Fé - Rod. GO 164, km 775, Mundo Novo/GO",7,"0151-2/01","2015-04-24","Não","-",null,"02114107132"]
[116,2012,"João Pedro Pereira","97.029.672/0001-61","Fazenda Ipê - Chapada das Mangabeiras, zona rural, Barreiras do Piauí/PI",12,"2511-0/00","2016-03-14","Não","-",null,"97029672000161"]
[117,2012,"Joaquim Almeida de Carvalho","038.953.988-02","Fazenda São Nicolau III - Loteamento Javaezinho, Distrito de Dorilândia, Sandolândia/TO",12,"0220-9/02","2015-12-13","Não","-",null,"03895398802"]
[118,2010,"Joares de Farias","395.518.069-72","Fazenda Modelo - Gleba São Benedito, Jacareacanga/PA",3,"0151-2/01","2015-09-02","Não","-",null,"39551806972"]
[119,2013,"Jobson Sousa Girão","006.858.383-40","Fazenda São Jorge - zona rural, Cipó dos Anjos, Ibaretama/CE",7,"0220-9/01","2015-02-09","Não","-",null,"00685838340"]
[120,2014,"Joel Márcio Hames","020.978.609-40","Área de cultivo - Linha Geral Alto Garrafão, Imbuia/SC",22,"0119-9/04","2016-07-25","Sim","2016-07-25",null,"02097860940"]
[121,2014,"Jorge Alberto Annes Marinho","000.719.010-78","Fazenda Sentinelas do Pago - Rod. BR 262, km 16, ramal sem nome, km 22, zona rural, Peixe/TO",3,"0151-2/01","2015-07-29","Não","-",null,"00071901078"]
[122,2015,"José Adair Moraes","657.846.180-91","Fazenda Capão Ralo - Estrada para a Barragem do Salto, São Francisco de Paula/RS",13,"0119-9/03","2015-07-10","Sim","2015-07-10",null,"65784618091"]
[123,2015,"José Alberto Rocha Pereira","832.105.393-91","Fazenda Morro Alto - zona rural, Groaíras/CE",26,"0220-9/99","2015-03-05","Não","-",null,"83210539391"]
[124,2014,"José Amarildo Rossetti","931.230.439-91","Sítio Pé da Serra - Linha 38, km 58, zona rural, Guarantã do Norte/MT",1,"0151-2/01","2015-10-22","Não","-",null,"93123043991"]
[125,2011,"José Carlos Arrighi","235.501.986-04","Fazenda Barcelona - Rod. BR 262, Povoado Lagoa do Oscar, 20 km, zona rural, Cristópolis/BA",7,"0220-9/02","2016-06-09","Sim","2016-04-20",null,"23550198604"]
[126,2016,"José Cazelato Sobrinho","030.929.176-34","Fazenda Candeias - Região do Palmital, Carmo da Cachoeira/MG",7,"0134-2/00","2016-12-22","Sim","2016-12-22",null,"03092917634"]
[127,2013,"José Gotardo","619.332.602-20","Rod. BR 230, km 81, lote 4, gleba 26, zona rural, Medicilândia/PA",6,"0119-9/09","2015-07-02","Não","-",null,"61933260220"]
[128,2014,"José Maria de Oliveira","033.704.703-06","Sítio Caiçara - zona rural, Viçosa do Ceará/CE",6,"0220-9/99","2015-08-05","Não","-",null,"03370470306"]
[129,2009,"José Mariano Primo","070.643.061-15","Fazenda Cedro - Vicinal km 22, à esquerda, sentido Marabá/Altamira, a 32 km da Rod. Transamazônica, Novo Repartimento/PA",2,"0151-2/03","2015-09-07","Sim","2013-07-08",null,"07064306115"]
[130,2010,"José Maurício Rodrigues Vieira","984.865.002-49","Carvoaria do Maurício - zona rural, Abel Figueiredo/PA",7,"0220-9/02","2015-04-02","Não","-",null,{"$f":"SUBSTITUTE(SUBSTITUTE(SUBSTITUTE(SUBSTITUTE($D141,\" \",\"\"),\".\",\"\"),\"-\",\"\"),\"/\",\"\")","v":"98486500249"}]
[131,2016,"José Nilton Lourenço de Araújo","668.772.102-04","Fazenda Chocolate - Vila Central, Vicinal Toca do Sapo, 40 km, Vicinal Fazenda Califórnia, 15 km, zona rural, São Félix do Xingu/PA",14,"0151-2/01","2016-12-15","Não","-",null,"66877210204"]
[132,2015,"José Pereira de Carvalho","781.560.418-87","Fazenda Boa Esperança - Vicinal Águas Claras, lote 43, gleba Luciana, zona rural, Ourilândia do Norte/PA",1,"0151-2/01","2015-09-24","Não","-",null,"78156041887"]
[133,2014,"José Rodriguez Carrasco","233.859.658-70","Oficina de costura - Rua Lopes Trovão, 126, Bom Retiro, São Paulo/SP",8,"1412-6/01","2015-04-06","Não","-",null,"23385965870"]
[134,2016,"José Ronan Martins da Cunha","360.094.151-87","Fazenda JK Garimpo II  - Vila Canopus, Vicinal Jabá, 25 km, Altamira/PA",5,"0724-3/01","2016-11-28","Sim","2016-11-28",null,"36009415187"]
[135,2014,"José Teles de Oliveira Filho","620.692.682-68","Fazenda Porto Alegre - Margem esquerda do Rio Muru, sentido montante, zona rural, Tarauacá/AC",55,"0151-2/01","2015-07-23","Não","-",null,"62069268268"]
[136,2014,"José Wilson de Macedo","077.761.363-87","Fazenda Santa Luz - zona rural, Peitoró/MA",12,"0151-2/01","2015-02-13","Não","-",null,"07776136387"]
[137,2016,"Juarez Antônio Arantes","572.266.449-91","Fazenda Marambaia - Rod. TO 181, km 364, zona rural, Sandolândia/TO",13,"0151-2/01","2016-12-02","Sim","2016-12-02",null,"57226644991"]
[138,2013,"Juarez Lima Cardoso","093.752.365-87","Fazenda Sítio Novo - Distrito de Limeira, Povoado de Lajedinho, zona rural, Vitória da Conquista/BA",26,"0134-2/00","2016-03-14","Não","-",null,"09375236587"]
[139,2014,"Jurity Agropecuária Ltda","11.104.436/0001-47","Fazenda Bom Jardim - Rod. PA 279, sentido Tucumã, 12 km, Ramal 14, 106 km, São Félix do Xingu/PA",2,"0151-2/01","2015-10-19","Não","-",null,"11104436000147"]
[140,2014,"K R Construtora Ltda","18.027.893/0001-24","Obras ao longo da rodovia TO 226 - Rod. TO 226, km 91, Araguaína/TO",4,"4120-4/00","2015-06-01","Não","-",null,"18027893000124"]
[141,2014,"Kellen Cristina de Araújo","910.139.501-78","Fazenda Boa Vista do Ribeirão - Olaria da Selma, quinhão 2, zona rural, Guapó/GO",8,"2342-7/02","2015-06-19","Não","-",null,"91013950178"]
[142,2014,"L C Morais Rocha Comercial","12.902.402/0001-60","Piaçabais no Rio Preto e Igarapés Buracão e Lago Preto - Comunidade Águas Vivas, Santa Isabel do Rio Negro/AM",13,"0220-9/99","2015-01-15","Não","-",null,"12902402000160"]
[143,2013,"Laércio da Costa","002.183.710-47","Lavoura de morangos - Estrada para Vila Ituim, Capela Santa Olímpia, Porteirinha, Ipê/RS",17,"0121-1/02","2015-06-22","Não","-",null,"00218371047"]
[144,2015,"Laércio Pedro Calgaro","535.761.520-91","Fazenda Alto Alegre - Rod. MT 020, zona rural, Paranatinga/MT",2,"0210-1/01","2015-11-04","Não","-",null,"53576152091"]
[145,2014,"Lanches Servverde Ltda","14.032.243/0001-16","Rua Dalila Dias Borges, s/n, Lote 796, Muriqui/RJ",1,"5611-2/03","2016-09-05","Sim","2016-09-05",null,"14032243000116"]
[146,2011,"Leal Comércio e Transporte Ltda (atual: Ambrósimo Comércio e Transportes Ltda)","11.312.759/0001-26","Carvoaria do Ivaldo - Rod. A 151,  km 17, vicinal da Fazenda Silvo Florestal, km 2, Moju/PA",6,"0220-9/02","2015-04-02","Não","-",null,"11312759000126"]
[147,2016,"Leandro Luís Leite","098.176.238-74","Fazenda Córrego do Ouro - Rod. BR 364, km 100, à direita, Sena Madureira/AC",7,"0151-2/01","2016-08-11","Não","-",null,"09817623874"]
[148,2015,"Levi Ribeiro","238.426.449-49","Fazenda Estância da Mata - Rod. MT 249, km 20, à esquerda, 10 km, São José do Rio Claro/MT",3,"0115-6/00","2016-08-01","Não","-",null,"23842644949"]
[149,2012,"Lourinaldo Soares da Silva","168.023.902-30","Fazenda São Judas Tadeu - Rod. Rio Preto, km 24, vicinal Mumbuca, km 5, zona rural, Marabá/PA",2,"0151-2/01","2015-02-02","Não","-",null,"16802390230"]
[150,2014,"Lourival Merett","03.682.726/0001-40","Fazenda Pingo d'ouro - Localidade de Descalvado, Tibagi/PR",5,"0230-6/00","2015-07-30","Não","-",null,"03682726000140"]
[151,2015,"Luciano Rosa do Nascimento","518.737.029-49","Fazenda Castelo - Rod. TO 080, km 33, à direita, 9 km, Loteamento Santa Luzia, Porto Nacional/TO",9,"0220-9/02","2015-11-13","Sim","2015-11-13",null,"51873702949"]
[152,2013,"Luiz Alfredo Feresin de Abreu","152.347.111-53","Fazendas Taiaçu, Roma e São Lucas - zona rural, Vila Rica/MT",5,"0151-2/01","2016-08-25","Sim","2016-07-28",null,"15234711153"]
[153,2012,"Luiz Batista Mariano","799.507.521-91","Fazenda Alô Brasil - Rod. PA Frutão, Gleba Buritirana II, zona rural, Marabá/PA",8,"0151-2/01","2015-04-17","Não","-",null,"79950752191"]
[154,2014,"Luiz G A Pinheiro","07.385.791/0001-64","Carvoaria Luiz G A Pinheiro - Estrada André Franco Montoro, km 18, Atibainha Baixa, Piracaia/SP",10,"0220-9/02","2015-05-18","Não","-",null,"07385791000164"]
[155,2013,"M5 Indústria e Comércio Ltda","53.604.708/0011-90","Oficina de costura - Rua Cristina Tomás, 152, Bom Retiro, São Paulo/SP",2,"1412-6/01","2015-09-20","Não","-",null,"53604708001190"]
[156,2014,"M5 Indústria e Comércio Ltda","53.604.708/0011-90","Oficina de costura - Rua Cardeiro, 51, Vila Santa Inês, São Paulo/SP",6,"1412-6/01","2015-09-20","Não","-",null,"53604708001190"]
[157,2013,"Madeireira Paricá Ltda","03.974.831/0001-52","Madeireira Parica - estrada Fazenda Lacy, zona rural, Rondon do Pará/PA",7,"1610-2/01","2015-05-11","Não","-",null,"03974831000152"]
[158,2015,"Maison May","050.097.999-52","Lavoura de cebolas - Estrada Geral Antas Gordas, Vidal Ramos/SC",5,"0119-9/04","2015-10-30","Sim","2015-08-03",null,"05009799952"]
[159,2013,"Manoel Lopes Lourinho","056.989.102-78","Embarcação Manuel Júnior de Igarapé-Miri - Mar territorial brasileiro, após foz do Rio Oiapoque/AP",23,"0311-6/01","2016-12-28","Sim","2016-12-28",null,"05698910278"]
[160,2012,"Manoel Max Santos da Silva","989.769.237-15","Tanques de decantação de sal - Estrada das Figueiras, km 93, n° 222, Arraial do Cabo/RJ",5,"0892-4/03","2016-05-13","Não","-",null,"98976923715"]
[161,2014,"Marcelo Ferreira Horn","333.493.980-49","Fazenda Formosa - Localidade de João Rodrigues, zona rural, Rio Pardo/RS",1,"0151-2/01","2015-05-06","Sim","2015-05-04",null,"33349398049"]
[162,2013,"Marcelo Oliveira","793.300.456-34","Fazenda Colégio - Povoado Sapé, zona rural, Brumadinho/MG",1,"0151-2/02","2015-12-13","Não","-",null,"79330045634"]
[163,2011,"Marcelo Testa Baldochi","109.067.228-45","Fazenda Vale do Ipanema - zona rural, Bom Jardim/MA",4,"0151-2/01","2015-03-23","Não","-",null,"10906722845"]
[164,2013,"Marcondes Antônio Tavares de Farias","224.068.324-49","Fazenda MF1 - Rod. BR 242, km 830, à direita no sentido Luís Eduardo Magalhães, 16km, Barreiras/BA",33,"0155-5/01","2015-11-05","Sim","2015-09-04",null,"22406832449"]
[165,2014,"Marcos Onofre de Camargo","556.926.801-49","Fazenda Boa Vista do Ribeirão - Olaria do Marreco, atrás da Saneago Estação de Tratamento de Esgoto, zona rural, Guapó/GO",13,"2342-7/02","2015-06-10","Não","-",null,"55692680149"]
[166,2013,"Marcos Suélio Dantas","362.699.132-68","Rua Primo Postali, 190/06, Esplanada, Caxias do Sul/RS",6,"4762-8/00","2015-03-20","Sim","2015-03-20",null,"36269913268"]
[167,2015,"Maria do Carmo Cabral de Vasconcelos","125.810.381-87","Fazenda Chapadinha - Rod. GO 143, km 16, à esquerda, 5 km, Distrito de Olhos d'Água, Alexânia/GO",3,"0210-1/07","2016-05-30","Não","-",null,"12581038187"]
[168,2014,"Maria do Socorro Plácido Torres","411.577.882-20","Fazenda Próspera - Rod. PA Gameleira, s/n, zona rural, Marabá/PA",10,"0151-2/01","2015-12-21","Não","-",null,"41157788220"]
[169,2014,"Maria Dolores Machado","883.713.101-10","Fazenda Paraíso - Rod. BR 060, km 435, 3 km à direita, Rio Verde/GO",7,"0210-1/01","2015-05-04","Sim","2015-05-04",null,"88371310110"]
[170,2011,"Maria Lúcia Silveira Coelho Denipote","484.155.026-72","Fazenda Santa Lúcia - Vicinal Santa Lúcia, km 20, zona rural, Curionópolis/PA",19,"0151-2/01","2016-03-15","Não","-",null,"48415502672"]
[171,2013,"Maurivan da Silva Nascimento","559.280.482-20","Fazenda do Sr. Jeguinho - vicinal do Ivan, km 8, Assentamento Montes Belos, zona rural, Pacajá/PA",2,"0151-2/01","2015-04-02","Não","-",null,"55928048220"]
[172,2014,"Miguel Almeida Murta","494.352.306-44","Fazenda Boa Esperança - Gleba Bambu, Povoado Córrego Novo, zona rural, Açailândia/MA",5,"0151-2/01","2015-01-19","Não","-",null,"49435230644"]
[173,2015,"Miguel de Souza Rezende","013.448.971-34","Fazenda Zonga - Rio dos Bois, Rod. BR 222, km 535, zona rural, Bom Jardim/MA",1,"0151-2/01","2015-06-08","Não","-",null,"01344897134"]
[174,2014,"Milplan - Engenharia Construções e Montagens Ltda1","17.521.519/0001-18","Obra de implantação de mina - Conceição do Mato Dentro/MG",46,"4292-8/02","2015-08-05","Sim","2015-08-05",null,"17521519000118"]
[175,2014,"Mineração Água Suja Ltda","07.791.184/0001-02","Fazenda Água Suja - Rua das Flores, Localidade de Capuã, Caucaia/CE",13,"0220-9/99","2016-08-03","Não","-",null,"07791184000102"]
[176,2014,"Mineração Santa Luzia Ltda","19.791.590/0001-46","Fazenda Santa Luzia - Santa Rosa do Tocantins, km 10 à esquerda, zona rural, Chapada de Natividade/TO",14,"0723-5/01","2015-03-18","Não","-",null,"19791590000146"]

{"sheet":"Transparency List 2015","index":4,"n_rows":424,"n_cols":8,"rows_kept":424,"cut":false,"hidden":false,"merged":[]}
[null,null,"SECRETARIA DE INSPEÇÃO DO TRABALHO",null,"Download Source:"]
[null,null,"DEPARTAMENTO DE FISCALIZAÇÃO DO TRABALHO",null,"http://reporterbrasil.org.br/2015/09/lista-de-transparencia-sobre-trabalho-escravo-traz-nomes-flagrados-por-esse-crime/"]
[null,null,"DIVISÃO DE FISCALIZAÇÃO PARA ERRADICAÇÃO DO TRABALHO ESCRAVO",null,"Published: September 2015"]
[]
["ANO","UF","EMPREGADOR","CNPJ/CPF","ESTABELECIMENTO","TRAB. ENVOL.",null,"clean CNPJ/CPF"]
[2014,"PR","A B A Madeiras (atual: A B Andrade Escavações)","17.469.814/0001-72","Extração de Madeira - Nuc Localidade de Nova Esperança, Imbituva/PR",2,null,{"$f":"SUBSTITUTE(SUBSTITUTE(SUBSTITUTE(SUBSTITUTE($D6,\" \",\"\"),\".\",\"\"),\"-\",\"\"),\"/\",\"\")","v":"17469814000172"}]
[2011,"MA","A.R.O.B. Serviço e Construção Ltda","03.045.121/0001-48","Limpeza das faixas abaixo de linhas de transmissão de energia elétrica - zona rural, Montes Altos/MA",19,null,{"$f":"SUBSTITUTE(SUBSTITUTE(SUBSTITUTE(SUBSTITUTE($D7,\" \",\"\"),\".\",\"\"),\"-\",\"\"),\"/\",\"\")","v":"03045121000148"}]
[2007,"PA","Abel Cordeiro da Silva Filho","560.938.299-87","Fazenda Nova Canaã - Estrada da Mineração, margem esquerda, km 28, com acesso pela Rod. BR 010, distante 40 km do trevo de Paragominas/PA",8,null,"56093829987"]
[2013,"PA","Abimael Rocha de Araújo  ","086.672.096-00","Fazenda Boa Sorte - Lote 64,  Estrada Vicinal Sereno, km 17, zona rural, Curionópolis/PA",6,null,"08667209600"]
[2006,"PA","Abraúnes Silva Lacerda","203.566.504-30","Fazenda Amazônia - Rod. Transamazônica, km 258, vicinal 263, Pacajá/PA",142,null,"20356650430"]
[2012,"AM","Acácio Cezário Carvalho","717.326.162-72","Embarcações Israel/Meu Garoto - Rio Solimões, próximo a Codajás/AM",4,null,"71732616272"]
[2013,"TO","Adelmi Alencar Leão","243.605.461-49","Fazenda Baixa Verde - zona rural, Bandeirantes do Tocantins/TO",4,null,"24360546149"]
[2013,"SP","Ademir Andrade de Oliveira","705.704.936-68","Fazenda Ouro Verde - zona rural, Itirapuã/SP",26,null,"70570493668"]
[2014,"MG","Ademir Andrade de Oliveira ","705.704.936-68","Fazenda Santa Helena/Chácara Vargem Bonita - zona rural, Ibiraci/MG",11,null,"70570493668"]
[2012,"PR","Ademir Geraldo","023.707.679-95","Fazenda Alegria - localidade de Padre Ponciano, Palmas/PR",3,null,"02370767995"]
[2013,"PR","Ademir Hoinaski","338.251.149-53","Fazenda 2A - zona rural, Honório Serpa/PR",9,null,"33825114953"]
[2014,"GO","Agenor Tibúrcio da Silva","375.056.961-49","Fazenda Bagre - Região do Marimbondo, zona rural, Caldas Novas/MG",3,null,"37505696149"]
[2008,"MG","Agrisul Agrícola Ltda","04.773.159/0004-42","Área de colheita de cana de açúcar - zona rural, Fronteira/MG",55,null,"04773159000442"]
[2013,"PR","Agroflorestal Justus S/A","80.221.799/0002-66","Fazenda Boa Vista - zona rural, Inácio Martins/PR",17,null,"80221799000266"]
[2013,"PI","Agroflorestal MR Ltda","14.943.201/0001-37","Fazenda Cadore - zona rural, Manoel Emídio/PI",26,null,"14943201000137"]
[2008,"PA","Agropecuária Boa Sorte S/A","04.880.829/0001-87","Fazenda Agropecuária Boa Sorte - Rod. BR 010, km 132, zona rural, Paragominas/PA",3,null,"04880829000187"]
[2006,"PA","Agropecuária Castanhais Ltda","07.512.638/0001-50","Fazenda Castanhais (Rio Fresco) - zona rural, Cumaru do Norte/PA",47,null,"07512638000150"]
[2010,"PA","Agropecuária da Santa Cruz SA","14.056.386/0001-68","Fazenda Santa Cruz - Gleba Altamira 06, Projeto Trairão, São Félix do Xingu/PA",2,null,"14056386000168"]
[2010,"MG","Agropecuária Gado Bravo Ltda ","01.547.696/0001-33","Fazenda Gado Bravo - zona rural, Unaí/MG",78,null,"01547696000133"]
[2007,"PA","Agropecuária Rio Arataú S/A","05.078.415/0001-00","Fazenda Arataú - Rodovia Transamazônica, zona rural, Novo Repartimento/PA",14,null,"05078415000100"]
[2008,"PA","Aguinaldo Rodrigues Caldeira","201.466.807-82","Fazenda Tangará - Rod. BR 010, km 135, ramal Nascente do Uraim, km 6, Paragominas/PA",13,null,"20146680782"]
[2014,"SC","Airton Luiz Cobalchini","828.271.339-20","Viveiro de Mudas e Serraria - Rua  Pedro Damo, 87, Formosa, Campo Erê/SC",1,null,"82827133920"]
[2009,"PA","Alberto Cardoso Nepomuceno ","062.703.445-49","Fazenda Jatobá  - Rod. PA 140, km 31, Ramal Santa Maria, zona rural, Tome Açu/PA",4,null,"06270344549"]
[2010,"PA","Alberto Fernandes de Moraes","592.226.897-04","Fazenda Ouro Verde - Gleba Ampulheta, km 31, zona rural, Parauapebas/PA",9,null,"59222689704"]
[2013,"RJ","Alcap Empreiteira Ltda","01.519.235/0001-57","Canteiro de obras - Av. Rio Branco, 185, Centro, Rio de Janeiro/RJ",6,null,"01519235000157"]
[2012,"MT","Alcides Spressão Júnior","924.408.278-00","Fazenda Santa Rita - Rod. MT 208, km 120, zona rural, Nova Monte Verde/MT",5,null,"92440827800"]
[2014,"TO","Alcir Elias de Oliveira ","322.961.421-68","Fazenda LB - Estrada da Tranqueira a 10km de Alvorada/TO",3,null,"32296142168"]
[2012,"MT","Alcopan Álcool do Pantanal Ltda","37.497.237/0001-30","Área de colheita de cana de açúcar - Distrito de Chumbo, Poconé/MT",28,null,"37497237000130"]
[2012,"TO","Alex Faria Costa","071.740.096-46","Fazenda Imperial - zona rural, Santa Rita do Tocantins/TO",12,null,"07174009646"]
[2009,"AC","Alexandre Menini Vilela","339.878.312-00","Fazenda Jaborandi - Rod. BR 317, km 130, zona rural, Xapuri/AC",4,null,"33987831200"]
[2011,"MA","Aliança Engenharia e Serviços Ltda","37.395.993/0001-58","Alojamento - Av. Imperatriz, 811, Centro, João Lisboa/MA",10,null,"37395993000158"]
[2013,"MA","Alonso Pereira Santos","094.143.806-63","Fazenda Baixa Verde - Estrada do Córrego do Surubiju, zona rural, Açailândia/MA",1,null,"09414380663"]
[2009,"AC","Alonso Souza da Rocha","011.216.002-63","Fazenda Bom Futuro - zona rural, Rio Branco/AC",1,null,"01121600263"]
[2011,"RJ","Aloysio Santos Erthal","092.802.607-82","Fazenda Pedra Lisa - zona rural, Bom Jardim/RJ",20,null,"09280260782"]
[2009,"PA","Alrino Pereira da Rocha","515.680.711-91","Carvoaria do Alrino - zona rural, Eldorado dos Carajás/PA",11,null,"51568071191"]
[2011,"PA","Altair Pimenta Lima","076.430.551-49","Fazenda Lua Nova - Vicinal de acesso à Ladeira Vermelha, km 83, zona rural, São Félix do Xingu/PA",6,null,"07643055149"]
[2012,"TO","Altino Cândido Pereira","040.979.316-79","Fazenda Gerais I e II - Loteamento Dueré, Crixás do Tocantins/TO",7,null,"04097931679"]
[2012,"PA","Altino Coelho de Miranda","056.568.002-10","Fazenda do Dedeco - Rod. PA 150, km 70, Médio Mojú, Mojú/PA",10,null,"05656800210"]
[2013,"PA","Altino Fernandes da Silva","049.207.321-04","Fazenda Lagoa da Serra - Localidade de Lagoa Vermelha, zona rural, São Félix do Xingu/PA",15,null,"04920732104"]
[2011,"SC","Alvir Ferreira de Mello","310.889.109-04","Área de extração de erva mate - Distrito de São Miguel da Serra, Porto União/SC",9,null,"31088910904"]
[2008,"MG","Alvorada do Bebedouro S/A - Açúcar e Álcool","21.706.155/0001-18","Destilaria Alvorada do Bebedouro - zona rural, Guaranésia/MG",33,null,"21706155000118"]
[2010,"PA","Alzira Praxedes da Costa ","588.992.351-04","Fazenda Jaborandi - Rod. PA 279, estrada da Canópolis, região do Xadá, zona rural, São Félix do Xingu/PA",4,null,"58899235104"]
[2013,"SP","Amira Fares Kabbara","02.897.003/0001-03","Oficina de costura - Rua Coronel Emídio Piedade, 92, Pari, São Paulo/SP",6,null,"02897003000103"]
[2006,"PA","Ana Maria da Silva","208.015.132-00","Fazenda Cajual - Rod. PA 150, km 143, vicinal Bom Jesus, km 18, Tailândia/PA",27,null,"20801513200"]
[2012,"MG","André Guimarães Construções, Montagens e Serviços Ltda","03.316.710/0001-13","Obra no Hipermercado Atacadão - Av. Garcia Rodrigues Paes, 12.416, Juiz de Fora/MG",45,null,"03316710000113"]
[2013,"RS","Andre Zulian","01.550.504/0001-48","Mineração Zulian - Linha 30, n° 120, Comunidade Caravagio, Ipê/RS",3,null,"01550504000148"]
[2012,"TO","Anísio Aparecido da Silva ","936.945.391-15","Fazenda Nossa Senhora da Aparecida - zona rural, Dueré/TO",8,null,"93694539115"]
[2009,"PA","Anomildo Pimenta","016.085.761-91","Fazenda Santa Maria - zona rural, Goianésia/PA",18,null,"01608576191"]
[2013,"MA","Antônio Calixto dos Santos ","004.089.055-49","Fazenda Grapia - Estrada de acesso à ferrovia de Carajás, linhão da Eletronorte, São Pedro da Água Branca/MA",1,null,"00408905549"]
[2013,"MA","Antônio Carlos Bacelar Nunes","297.509.897-91","Fazenda Terra Nova/Eira/Santo Antônio/Chico Preto - Povoado Santo Antônio, entre a Lagoa do Leme e as Cajazeiras, Codó/MA",9,null,"29750989791"]
[2011,"TO","Antônio Carlos Lima","618.190.851-04","Fazenda Pedra Branca - Rod. BR 010, km 266, zona rural, Natividade/TO",20,null,"61819085104"]
[2006,"PA","Antônio Carlos Pereira","377.262.002-78","Fazenda Brasília - Rod. BR 222, km 56, zona rural, Rondon do Pará/PA",14,null,"37726200278"]
[2010,"PA","Antônio Celestino dos Santos ","039.192.692-68","Fazenda Sombra da Tarde - Rodovia Transamazônica (BR 230), km 110 sul, zona rural, Medicilândia/PA",42,null,"03919269268"]
[2009,"PA","Antônio Conceição Cunha Filho ","204.310.828-04","Fazenda Cachoeira - Margem esquerda do Rio Araguaia, São Geraldo do Araguaia/PA",1,null,"20431082804"]
[2010,"PA","Antônio Cuzzuol Sobrinho","451.601.807-10","Fazenda Rio Branco Incobal - zona rural, Oeiras do Pará/PA",32,null,"45160180710"]
[2009,"PA","Antônio Erisvaldo Sousa Silva","848.437.303-78","Carvoaria do Valdo - zona rural, Rondon do Pará/PA",7,null,"84843730378"]
[2011,"MA ","Antônio Evaldo de Macedo","056.439.963-91","Fazenda Outeiro - Rod. BR 135, km 189, zona rural, São Mateus/MA",11,null,"05643996391"]
[2012,"PA","Antônio Francisco Oliveira Rosa","504.888.133-87","Fazenda Três Irmãos - Rod. PA 150, km 65, zona rural, Conceição do Araguaia/PA",2,null,"50488813387"]
[2012,"PA","Antônio Luiz Sanches Felipe","948.566.642-04","Fazenda Leandra - vicinal Lontrão, km 26, Gleba Empenho, Pacajá/PA",2,null,"94856664204"]
[2009,"PA","Antônio Maurício Faria","451.520.556-00","Sítio Mineiro - Rod. PA 150, vicinal do Parola, km 38, zona rural, Moju/PA",7,null,"45152055600"]
[2011,"AM","Aparecido Albergoni","279.168.808-06","Fazenda Três Barras - Rod. BR 364, km 113, Seringal Santo Antônio, Lábrea/AM",8,null,"27916880806"]
[2011,"MG","API SPE 24 Planejamento e Desenvolvimento de Empreendimentos Imobiliários","08.861.282/0001-23","Conjunto Residencial Ville Rubi - Rua Pétala Misteriosa, 300, Estrela Sul, Juiz de Fora/MG",114,null,"08861282000123"]
[2012,"GO","Argemiro Vicente Lopes Júnior","246.590.531-72","Fazenda Água Fria - Rod. GO 010, km 97, 5 km, à direita, zona rural, Vianópolis/GO",14,null,"24659053172"]
[2007,"PA","Argentino Gomes Silva","016.925.851-34","Fazenda Água Boa - zona rural de Marabá/PA",20,null,"01692585134"]
[2014,"RR","Argilson Raimundo Pereira Martins","566.268.602-59","Fazenda Modelo (3 Corações) - Rodovia BR-210, vicinal 06, km 11, zona rural de Caroebe/PR",1,null,"56626860259"]
[2013,"PR","Ari Gervande da Silva","588.308.209-20","Sítio Silva - Bairro Pinhalzinho, Zona Rural, Wenceslau Braz/RR",1,null,{"$f":"SUBSTITUTE(SUBSTITUTE(SUBSTITUTE(SUBSTITUTE($D71,\" \",\"\"),\".\",\"\"),\"-\",\"\"),\"/\",\"\")","v":"58830820920"}]
[2014,"PR","Arlan Luiz Rodrigues Nunes","711.484.189-20","Fazenda de Pinus - Localidade de Pedregulhos, zona rural, Coronel Domingos Soares/PR",3,null,"71148418920"]
[2007,"AC","Bella Aliança Agropecuária Ltda","06.954.773/0001-93","Fazenda Bella Aliança - Rod. BR 364, km 64, zona rural, Bujari/AC",2,null,"06954773000193"]
[2010,"BA","Belmiro Catelan","162.911.150-34","Fazenda Guarani - zona rural, São Desidério/BA",44,null,"16291115034"]
[2010,"GO","Berquó Brom Advogados Associados - Sociedade Civil","01.207.512/0001-96","Fazenda Buriti - zona rural de Ipameri/GO",8,null,"01207512000196"]
[2010,"TO","BioagroEngenharia Ambiental Ltda ","03.484.340/0001-23","Zona rural do município de Porto Nacional/TO",7,null,"03484340000123"]
[2013,"SC","Bonamate Indústria & Comércio de Erva Mate Ltda","01.650.034/0001-94","Área de extração de erva mate - zona rural, Palmitos/SC",11,null,"01650034000194"]
[2012,"PA","Bonardi da Amazônia Ltda","03.573.697/0001-88","Av. Otavio Onetta, setor industrial II, Novo Progresso/PA",9,null,"03573697000188"]
[2013,"SC","Brasmate Comércio do Mate Ltda","78.256.542/0001-17","Propriedade rural na localidade de Bley Pombas, interior de Santa Terezinha/SC",6,null,"78256542000117"]
[2012,"GO","Brookfield CentroOeste Empreendimentos Imobiliários SA","04.123.616/0001-00","Obra construção civil - Rua 05 c/ Rua 06, Qd C4, Setor Oeste, Goiânia/GO",63,null,"04123616000100"]
[2013,"MG","Calixto e Dias Serviços Ltda","04.522.544/0001-74","Áreas de vivência - alojamento localizado na Rua Treze, 99, Bonsuceso, Belo Horizonte/MG",11,null,"04522544000174"]
[2013,"CE","Carlos Augusto da Paz Rocha","140.950.413-15","Fazenda Lagoa Rasa - Estrada de Graja a Paracoá, zona rural, Granja/CE",85,null,"14095041315"]
[2009,"PA","Carlos Batista Dadalt ","262.284.160-49","Fazenda Cinco Estrelas - km 03 do travessão da Vila do 10, zona rural, Placas/PA",5,null,"26228416049"]
[2012,"PI","Carlos e Silva Ltda","03.981.182/0001-17","Obra - Rod. PR 343, km 10, trecho Teresina/Altos, Teresina/PI",21,null,"03981182000117"]
[2010,"PA","Carlos Gilberto Oliveira Barreto","061.129.601-25","Fazenda Estrela do Sul - zona rural, Eldorado dos Carajás/PA",2,null,"06112960125"]
[2013,"PB","Carlos Kleber Ribeiro Barros","582.491.504-06","Pedreira Tamboril e Sitio Serra Verde - zona rural de Serra Branca/PB",21,null,"58249150406"]
[2010,"PA","Carlos Rodrigues Oliveira","590.075.832-04","Assentamento Cacau - zona rural, São Domingos do Araguaia/PA",3,null,"59007583204"]
[2013,"MA","Carmel Construções Ltda","03.594.328/0001-71","Av. Cafeteira, 35, Vila Bom Viver, Raposa/MA",21,null,"03594328000171"]
[2014,"SP","Carvoaria Bom Sucesso Ltda  ","07.303.095/0001-61","Carvoaria - Bairro Bom Sucesso, n° 01, Piracaia/SP",4,null,"07303095000161"]
[2013,"TO","Carvoaria S & A Ltda","07.280.652/0001-76","Fazenda Pedra Branca - zona rural de Natividade/TO",11,null,"07280652000176"]
[2012,"TO","Carvoeira Carvão Nativo Ltda","14.227.279/0001-55","Fazenda São Cristóvão I - Rod. TO 239, km 16, zona rural, Presidente Kennedy/TO",13,null,"14227279000155"]
[2014,"MG","CCM - Construtora Centro Minas Ltda","23.998.438/0001-06","Obra - Rua São Vicente, 155, Granja de Freitas, Belo Horizonte/MG",40,null,"23998438000106"]
[2012,"MA","Celeste Rodovalho","331.015.821-72","Fazenda Sombra da Tarde - zona rural, Açailândia/MA",5,null,"33101582172"]
[2014,"PA","Célio Luiz Martins","327.884.792-04","Fazenda Ouro Verde - Gleba Cabeceira do Rio Tiborna, São Felix do Xingu/PA",5,null,"32788479204"]
[2013,"PA","César Campos da Silva","040.006.092-20","Fazenda Campos de Olinda - zona rural de Novo Repartimento/PA",1,null,"04000609220"]
[2009,"PA","Cícero Araújo Lins","145.963.184-68","Fazenda Terra Roxa - Rod. PA 150, km 35, vicinal de Itainópolis, zona rural, Marabá/PA",18,null,"14596318468"]
[2009,"PA","Cilésia Alves de Alencar","609.922.552-87","Sítio Bela Vista - zona rural, Novo Repartimento/PA",5,null,"60992255287"]
[2012,"TO","Cláudio Roberto Martin","046.893.649-15","Fazenda Morada Verde - zona rural de Dianópolis/TO",9,null,"04689364915"]
[2007,"PA","Claudionor Coelho Nava","026.212.311-87","Fazenda Acapú - Rod. Transcametá, km 29, vicinal do Ladário, km 330, zona rural, Pacajá/PA",16,null,"02621231187"]
[2012,"GO","Claudionor Hilário da Silva","091.671.021-15","Fazenda Santa Helena - Distrito de Itaguaçu, zona rural, Itajá/GO",7,null,"09167102115"]
[2012,"MT","Clayton Grassioto","851.933.211-00","Gleba lote 313b - Rodovia MT-225, zona rural de Feliz Natal/MT",8,null,"85193321100"]
[2008,"PA","Cledemilton Araújo Silva","394.260.502-30","Fazenda Acácia Mangio - zona rural, Goianésia do Pará/PA",5,null,"39426050230"]
[2009,"PA","Cleidimar Gama Rabelo ","882.006.201-15","Fazenda Capanema - Vicinal da Colônia Paredão, Linha 06, km 18, zona rural, São Félix do Xingu/PA",4,null,"88200620115"]
[2014,"SP","Confecções de Roupas Seiki Ltda","50.707.322/0001-43","Oficina de costura - Rua Miller, 306, Brás, São Paulo/SP",17,null,"50707322000143"]
[2013,"MG","Construtora Emcasa Ltda","00.897.902/0001-72","Canteiros de obras - Rua Idalina Moreira, s/n, Mateus Leme/MG",36,null,"00897902000172"]
[2011,"PI","Construtora Jurema Ltda","05.802.590/0001-90","Limpeza faixa de domínio da Rod. BR 343 - zona rural, Amarante/PI",6,null,"05802590000190"]
[2013,"MG","Construtora Souza Guerra Bicas Ltda","10.224.454/0001-08","Obra da escola municipal - Praça Almirante Barroso, Chácara/MG",5,null,"10224454000108"]
[2013,"MG","Construtora Tenda S/A","71.476.527/0037-46","Obra do Residencial Green Park - Av. Presidente Costa e Silva, 2391, São Pedro, Juiz de Fora/MG",7,null,"71476527003746"]
[2013,"RS","Construwitta Construtora e Incorporadora Ltda (Habitte Incorporadora Ltda)","11.953.881/0001-81","Canteiro de obras - Rua Ângelo Leonardo Tonietto, 1499, Caxias do Sul/RS",6,null,"11953881000181"]
[2013,"GO","Convale Construções e Terraplanagem Ltda","05.634.058/0001-00","Obra - Quinta Avenida, n° 18, quadra 63, Setor Leste, Vila Nova, Goiânia/GO",2,null,"05634058000100"]
[2011,"MG","Copermil Construtora Ltda","20.177.903/0001-50","Canteiro de obras - Rua 10, s/n, Bairro Copacabana, Divinópolis/MG",56,null,"20177903000150"]
[2008,"PA","Coracy Machado Kern ","084.221.251-53","Fazenda São Judas Tadeu - zora rural de São Félix do Xingu/PA",5,null,"08422125153"]
[2012,"PA","Cristalino Dantas do Rego","060.717.911-20","Fazenda Serra Grande - Estrada São Félix, zona rural, São Felix do Xingu/PA",1,null,"06071791120"]
[2007,"PA","De Déa Indústria Comércio e Pecuária Ltda","14.069.363/0001-98","Fazenda São Sebastião - zona rural, Itupiranga/PA",55,null,"14069363000198"]
[2011,"PA","Delfino Francisco Kehrnvalt","015.982.879-15","Fazenda Água Limpa - zona rural, Santa Maria das Barreiras/PA",4,null,"01598287915"]
[2014,"TO","Délio Fernandes Rodrigues ","288.135.531-53","Fazenda Fernandes (Fazendinha) - zona rural, Angico/TO",1,null,"28813553153"]
[2013,"PA","Denys Farias de Brito ","278.915.932-72","Sítio Sol - Gleba Pacajazinho, estrada do Chico Elias, zona rural, Pacajá/PA",2,null,"27891593272"]
[2013,"TO","Diamante Agrícola S/A","10.307.397/0002-01","Faz Diamante - Rod. TO 255, km 127, zona rural, Lagoa da Confusão/TO",43,null,"10307397000201"]
[2013,"PE","Dilma Figueiredo da Silva (Mod'Griff Indústria e Comércio de Confecções Ltda)","06.005.121/0001-02","Oficina de costura - Rua Manoel Henrique Tavares, 744, Centro, Toritama/PE",7,null,"06005121000102"]
[2014,"SP","Distribuidora de Carvão Bragança Ltda","01.005.744/0001-61","Fazenda Ribeirão dos Índios - zona rural, Piracaia/SP",12,null,"01005744000161"]
[2013,"SP","Distribuidora Sulamericana Importação e Exportação Ltda","67.025.452/0001-07","Oficina de costura - Rua Cristina Tomás, 152, Bom Retiro, São Paulo/SP",2,null,"67025452000107"]
[2006,"PA","Djalma Nogueira dos Anjos","056.315.358-07","Fazenda Bela Vista / Gleba Maguari - zona rural, Tucumã/PA",16,null,"05631535807"]
[2014,"TO","DMI Material Médico Hospitalar Ltda","37.109.097/0003-47","Fazenda Gameleira (CCA) - Rod. TO 387, km 50, mais 5 km, à esquerda, zona rural, Paranã/TO",2,null,"37109097000347"]
[2011,"PA","Domingos Alves Mendonça","163.378.401-00","Fazenda Galope - zona rural, São Félix do Xingu/PA",8,null,"16337840100"]
[2014,"MA","Domingos Moura Macedo","176.076.203-20","Fazenda São Francisco - Rodovia BR-316, km 384 (+ 9km), zona rural do município de Bacabal/MA",8,null,"17607620320"]
[2013,"SC","Ecotrat Tratamento de Madeiras Ltda","08.438.981/0001-65","Área de extração de madeira - Ituporanga/SC",7,null,"08438981000165"]
[2013,"GO","Edésio Severiano Vieira","339.990.315-49","Fazenda Palmital - Via Nova Veneza, km 13, zona rural, Goiânia/GO",12,null,"33999031549"]
[2011,"MG","Edílio Peron Ferrari","300.359.709-44","Fazendas Giramundo e Guariroba - Zona Rural do Municipio de Paracatu, MG",5,null,"30035970944"]
[2011,"PA","Edilson Máximo do Rego","305.038.842-00","Carvoaria do Pezinho - Estrada da Cikel, Vila Rouxinol, Zona Rural, Goianésia/PA",6,null,"30503884200"]
[2014,"CE","Edmar de Paula da Costa ","896.288.373-20","Sítio Lagoa do Mucambo - zona rural, Granja/CE",11,null,"89628837320"]
[2014,"MG","Ednei Oliveira Gomes","014.524.686-80","Fazenda São João Cachoeira da Extrema - zona rural, Coração de Jesus/MG",10,null,"01452468680"]
[2012,"PA","Edson Coelho dos Santos","490.882.111-91","Fazenda Flor da Mata - Estrada do Rio Preto, km 250, zona rural, São Felix do Xingu/PA",3,null,"49088211191"]
[2011,"MG","Eduardo Barbosa de Mello","810.807.946-20","Sítio Aldeia - zona rural, Campos Gerais/MG",27,null,"81080794620"]
[2014,"RO","Edvaldo Estevão Menezes","725.187.076-20","Manejo Florestal - zona rural, Nova União/RO",13,null,{"$f":"SUBSTITUTE(SUBSTITUTE(SUBSTITUTE(SUBSTITUTE($D134,\" \",\"\"),\".\",\"\"),\"-\",\"\"),\"/\",\"\")","v":"72518707620"}]
[2005,"PA","Egton de Oliveira Pajaro Júnior","393.527.576-53","Fazenda Eldorado - zona rural, São Geraldo do Araguaia/PA",22,null,"39352757653"]
[2012,"PA","Egton de Oliveira Pajaro Júnior","393.527.576-53","Fazenda Eldorado - Rod. BR 153, km 40, gleba Andorinhas, lote 39, zona rural, São Geraldo do Araguaia/PA",12,null,"39352757653"]
[2011,"PA","Eletrojúnior Serviços e Materiais Elétricos Ltda","00.533.191/0001-57","Manutenção de rede elétrica - Rod. BR 230 (Transamazônica), km 250, zona rural, Pacajá/PA",31,null,"00533191000157"]
[2013,"MS","Eliza Maria Dantas Bortolusso Rodrigues & Cia Ltda","14.056.591/0001-23","Fazenda Canaã - zona rural, Bela Vista/MS",11,null,"14056591000123"]
[2012,"PI","Elizeu Martinez Júnior","590.087.763-91","Fazenda Boa Vista - zona rural, Nazaré do Piauí/PI",9,null,"59008776391"]
[2010,"PA","Eloísio Flávio de Andrade ","146.570.406-00","Fazenda Águas da Serra - Estrada da Morada do Sol, km 23, zona rural, São Félix do Xingu/PA",2,null,"14657040600"]
[2012,"PA","Elza Teresinha Vieira Lima","393.260.982-49","Fazenda Jerusalém - Estrada do Lago, km 25, Vicinal do Açaizal, km 20, Goianésia do Pará/PA",1,null,"39326098249"]
[2012,"MG","Embraforte Segurança e Transporte de Valores Ltda","05.444.648/0001-70","Rua Major Lage, 370, bairro Ouro Preto, Belo Horizonte/MG",115,null,"05444648000170"]
[2010,"TO","Emival Ramos Caiado Filho","096.552.981-91","Fazenda Santa Mônica - zona rural, Natividade/TO",26,null,"09655298191"]
[2012,"ES","Erildo José Canal","493.804.007-72","Fazenda Vista Alegre - zona rural, São Domingos/ES",17,null,"49380400772"]
[2012,"RO","Ernesto Andreola","326.945.712-04","Área de manejo florestal - ramal do Ibama, km 19, lote 34, setor B, gleba Caracol,zona rural, Porto Velho/RO",5,null,"32694571204"]
[2014,"SC","Ervateira Cavalo Branco Ltda  ","09.457.742/0001-15","Extração de Erva Mate - Linha Boa Vista, Pinhalzinho/SC",5,null,"09457742000115"]
[2005,"PA","Ervino Gutzeit","009.180.752-20","Fazenda Panorama - Rodovia Transamazônica Norte, km 140, a 7 km da Faixa, zona rural, Uruará/PA",30,null,"00918075220"]
[2012,"ES","Estevão Antônio Zanotti","473.787.196-68","Fazenda Alto Toma Vento - Várzea Grande, zona rural de Santa Teresa/ES",9,null,"47378719668"]
[2013,"MA","Euclides Mariano da Silva","046.682.435-15","Fazenda Alto do Bonito - Estrada do Brejão, km 13, zona rural de São Fancisco do Brejão/MA",8,null,"04668243515"]
[2008,"PA","Euclides Rocha de Oliveira","039.094.501-30","Fazenda Nova Esperança - Vila Central, zona rural, São Felix do Xingu/PA",6,null,"03909450130"]
[2006,"PA","Euler Guimarães","049.139.491-87","Fazenda Ouro Preto - zona rural, Marabá/PA",11,null,"04913949187"]
[2012,"AL","Federação das Entidades Comunitárias e União de Lideranças do Brasil","01.784.633/0003-62","Canteiro de obras - Loteamento \"Marisa Letícia Lula da Silva\", bairro São José, Penedo/AL",11,null,"01784633000362"]
[2013,"MS","Felipa Assis do Prado","627.405.717-04","Fazenda Santa Rita do Ipê - Estrada da Ponte do Grego, zona rural de Terrenos/MS",10,null,"62740571704"]
[2012,"TO","Fergumar Ferro Gusa do Maranhão Ltda","00.560.621/0001-20","Fazenda Água Amarela - Rodovia Transamazônica, BR 230, km 174, Loteamento Catitu, zona rural de Araguatins/TO",56,null,"00560621000120"]
[2011,"AC","Fernando Barbosa Teixeira","617.739.301-25","Fazenda Vale Verde - Rod. BR 364, km 80, Plácido de Castro/AC",7,null,"61773930125"]
[2009,"PA","Fernando Ferreira Moraes","608.145.002-34","Carvoaria do Fernando e do Seu Neo - Assentamento Nossa Senhora Aparecida, zona rural, Abel Figueiredo/PA",3,null,"60814500234"]
[2011,"MG","Flávio Ribeiro Junqueira","757.686.316-15","Fazenda Capoeira Grande - Rod. BR 494, km 104, zona rural, Oliveira/MG",26,null,"75768631615"]
[2013,"MS","Flora Viveiro e Reflorestamento Ltda","86.989.712/0001-09","Fazenda Retiro da Serra - Rod. Água Fria, s/n, km 06, zona rural, Maracaju/MS",4,null,"86989712000109"]
[2012,"MA","Francisco Afonso de Sousa","245.774.643-49","Fazenda Uberlândia - Povoado Sentada, estrada para o Tamboril, zona rural de Santa Luzia/MA",9,null,"24577464349"]
[2007,"PA","Francisco Alves do Nascimento","087.341.352-00","Fazenda Cajueiro - Vicinal São Sebastião, zona rural, Itupiranga/PA",9,null,"08734135200"]
[2012,"MA","Francisco Andrade da Silva","324.735.323-20","Fazenda Cocal II - Rodovia MA 200, km 25, povoado Nova Caxias, zona rural de Turiaçu/MA",1,null,"32473532320"]
[2009,"AC","Francisco das Chagas Pedroza","015.328.202-91","Fazenda Gramado - Rod. BR 364, km 44, ramal do Seringueiro, km 7, zona rural, Bujarí/AC",1,null,"01532820291"]
[2014,"AM","Francisco Filho da Costa Bezerra ","016.681.862-33","Extração Piaçaba - Piaçabal do Igarapé Anhuri, Santa Isabel do Rio Negro/AM",7,null,"01668186233"]
[2010,"PA","Francisco Herbet Milfont Parente","382.399.141-87","Fazenda Rainha do Araguaia - zona rural, Brejo Grande do Araguaia/PA",3,null,"38239914187"]
[2010,"PA","Francisco José dos Santos","151.517.352-68","Área de extração de minério - Garimpo Maracajá, zona rural, Ourilândia do Norte/PA",3,null,"15151735268"]
[2014,"CE","Francisco Pereira de Sousa ","093.632.973-49","Sítio Macaco - zona rural, Quixeré/CE",2,null,"09363297349"]
[2012,"PA","Francisco Roberto Oliveira de Carvalho","665.752.572-91","Sítio São Sebastião - Rodovia Transamazônica, BR 230, zona rural de Medicilândia/PA",9,null,"66575257291"]
[2012,"AM","Francisco Santos de Macedo","821.749.972-15","Embarcação Princesa de Coari - Rio Solimões, zona rural de Codajás/AM",5,null,"82174997215"]
[2009,"PA","Gabriel Augusto Camargos","178.405.116-00","Fazenda do Campinho - zona rural, Paraupebas/PA",8,null,"17840511600"]
[2011,"PA","Geraldo Marques da Silva","617.350.002-72","Fazenda Monoporã - Vicinal de Serra Nova, zona rural de São Geraldo do Araguaia/PA",3,null,"61735000272"]
[2012,"RS","Germano Neukamp","806.379.220-34","Pomar G2 Germano - Estrada do Rio Santana, Itaimbezinho, zona rural de Bom Jesus/RS",41,null,"80637922034"]
[2013,"PE","Gesso Brasil Ltda","11.340.292/0001-28","Obra do Ed. Vale do São Francisco - Bairro Cohab Massangano, Petrolina/PE",1,null,"11340292000128"]
[2008,"PA","Gilberto Antônio Telli ","004.515.179-20","Fazenda Ipama - Rodovia PA 279, km 65, sentido Xinguara, zona rural de Água Azul do Norte/PA",6,null,"00451517920"]
[2011,"MA","Gilson Freire de Santanna","101.988.221-20","Fazenda Santa Maria - Rod. BR 222, km 46, Açailândia/MA",19,null,"10198822120"]
[2014,"PA","Gilson Simões de Lima","161.035.211-49","Fazenda Serra Azul - Estrada de Babaçu, zona rural de Rio Maria/PA",7,null,"16103521149"]
[2012,"PA","Gondim Madeireira Ltda","06.243.982/0001-29","Área rural - Lote 6, zona rural de Prainha/PA",11,null,"06243982000129"]
[2013,"MS","Gregório da Costa Soares","051.185.901-59","Fazenda São Sebastião, Região dos Paiaguas, zona rural de Corumbá/MS",3,null,"05118590159"]
[2011,"MG","Guido José Rehder Júnior","310.179.948-11","Fazenda Assa Peixe - zona rural, Bonfinópolis de Minas/MG",4,null,"31017994811"]
[2014,"MS","Guilherme Modesto Souto","996.621.408-91","Fazenda Raquel - Zona rural de Paranaíba/MS",2,null,"99662140891"]
[2011,"PA","Gustavo Araújo da Nóbrega","799.006.234-87","Fazenda Santa Luzia - Rod. PA 153, km 35, São Geraldo do Araguaia/PA",7,null,"79900623487"]
[2013,"GO","Hildebrando Alcântara","01.577.535/0001-92","Florasul - Rod. BR 060, entre Abadia de Goiás e Guapó/GO",15,null,"01577535000192"]
[2010,"PA","Hildebrando Sisnando Pereira Lima","058.393.865-53","Fazenda Caeteté - zona rural, Água Azul do Norte/PA",15,null,"05839386553"]
[2012,"PA","Hildefonso de Abreu Araújo","282.360.922-91","Fazenda Vale Verde - Estrada do Garrafão, km 34, Gleba Garrafão, Abel Figueiredo/PA",11,null,"28236092291"]
[2013,"SP","Il Mare Confecções de Roupas Ltda","08.930.519/0001-80","Oficina de costura - Rua Silva Teles, 567, Braz, São Paulo/SP",13,null,"08930519000180"]
[2006,"PA","Indústria e Comércio e Exportação de Madeira Mato Grosso Ltda","04.290.363/0001-60","Fazenda Promissão - Rod. BR 163, km 950, Estrada de Jamanxim, km 60, Castelo de Sonhos, Altamira/PA",8,null,"04290363000160"]
[2013,"GO","Iracema Caiado de Castro Zilli (espólio)","012.910.091-91","Fazenda Santa Bárbara - Rod. GO 336, zona rural, Nová Crixás/GO",12,null,"01291009191"]
[2011,"PA","Íris Marques Raimundo Alves","271.306.811-87","Fazenda Arco Íris - Estrada do Rio Preto, zona rural de Marabá/PA",4,null,"27130681187"]
[2011,"PA","Iron Rodrigues da Silva","015.642.931-49","Fazenda Indiaporã - Rod. PA 279, zona rural, Ourilândia do Pará/PA",4,null,"01564293149"]
[2013,"CE","Ivan Batista Moreira ","701.935.413-00","Fazenda Sabóia e Fazenda Cabosul - zona rural de Barroquinha/CE e Estrada CE 364, zona rural de Granja/CE",11,null,"70193541300"]
[2008,"PA","Ivanete Lima da Silva","552.582.123-00","Fazenda Santa Maria IV - Brejo Grande do Araguaia/PA",6,null,"55258212300"]
[2013,"GO","J Soares Construtora e Incorporadora Ltda","01.154.626/0001-15","Obra Residencial Itavilly - Av. Raizama com ruas 04 a 09 e 18, qd. 19 a 25 e 30 a 33, Itaberaí/GO",70,null,"01154626000115"]
[2012,"PI","Jaciel Cover","05.240.799/0001-07","Cerâmica do Vale - Rod. BR 135, km 411, Povoado Angical, zona rural, Redenção do Gurguéia/PI",9,null,"05240799000107"]
[2012,"GO","Jailes da Silva Ataídes","827.025.861-04","Fazenda Vale do Rio Doce - Rod. GO 174, zona rural, Rio Verde/GO",17,null,"82702586104"]
[2008,"PA","Jaime da Silva Pereira","068.999.782-53","Carvoaria do Jaime/Fazenda 3 Irmãs - Vicinal Vila Gavião, km 65, zona rural, Abel Figueiredo/PA",9,null,"06899978253"]
[2010,"PA","Jamil Antônio Filho ","364.634.427-04","Fazenda Capão da Onça - Rodovia PA 150, sentido Goianésia/Jacundá, KM 17, Goianésia do Pará/PA",4,null,"36463442704"]
[2012,"PI","JAP I Empreendimentos e Participações Ltda","13.291.556/0001-26","Fazenda Colorado - zona rural, Bom Jesus/PI",14,null,"13291556000126"]
[2011,"RJ","Jardim do Éden Indústria e Comércio Ltda","03.724.698/0001-86","Fazenda Lagoa Limpa - zona rural, Campos dos Goytacazes/RJ",18,null,"03724698000186"]
[2013,"PA","Jeanne Farias de Brito ","116.482.362-00","Fazenda Escorpião - zona rural, Pacajá/PA",2,null,{"$f":"SUBSTITUTE(SUBSTITUTE(SUBSTITUTE(SUBSTITUTE($D198,\" \",\"\"),\".\",\"\"),\"-\",\"\"),\"/\",\"\")","v":"11648236200"}]
[2013,"PA","Jeomar Ferreira de Góis ","163.130.202-78","Fazenda São Geraldo - Rod. Transamazônica, Travessão 90, Medicilândia/PA",3,null,"16313020278"]
[2012,"PA","João Alves Moreira","059.193.551-15","Fazenda Três Palmeiras - Vale do Iriri, zona rural de Santana do Araguaia/PA",10,null,"05919355115"]
[2010,"MA","João Antônio Vilas Boas ","092.519.601-00","Sítio - Assentamento Verona, BR 222, km 535, zona rural de Bom Jesus da Selva/MA",7,null,"09251960100"]
[2012,"GO","João Batista Martins de Moraes","635.739.547-15","Fazenda Santa Maria II do Rio Claro - zona rural, Jussara/GO",14,null,"63573954715"]
[2014,"MG","João Batista Rabelo Santos","822.472.186-87","Obra de Construção Civil - Rua Dr. Pedro Luiz, 237, Centro, Sete Lagoas/MG",12,null,"82247218687"]
[2012,"MT","João Bertin Filho","711.616.358-15","Fazenda Alta Floresta - Estrada Procomp, km 80, zona rural, Nova Bandeirantes/MT",7,null,"71161635815"]
[2008,"PA","João Caldas de Oliviera","201.472.527-68","Fazenda União - Rod. PA 150, Jacundá, Goianésia do Pará/PA",9,null,"20147252768"]
[2014,"MG","João Carlos Buranelli ","503.155.958-68","Fazenda Santa Bárbara - Chácara Vargem Bonita, zona rural, Ibiraci/MG",13,null,"50315595868"]
[2008,"PA","João de Oliveira Guimarães Neto","005.717.148-38","Fazenda Caçula - Rod. Xingu, s/n, entrada Tupansi, km 20, zona rural, Ourilândia do Norte/PA",7,null,"00571714838"]
[2013,"MT","João Fidelis Neto","173.834.639-00","Fazenda Boa Esperança - Linha da Pedreira, Flor da Serra, zona rural de Maputá/MT",15,null,"17383463900"]
[2012,"PA","João Franco da Silveira Bueno","053.735.658-49","Fazenda Capelinha - Estrada do Cebolinha, 22 km do retiro do Girassol, zona rural de São Félix do Xingu/PA",6,null,"05373565849"]
[2014,"GO","João Paulo Carvalho Silva","021.141.071-32","Fazenda Santa Fé - Rod. GO 164, km 775, Mundo Novo/GO",7,null,"02114107132"]
[2010,"PA","João Pereira da Silva ","715.193.602-82","Garimpo - Rodovia PA 279. km 146, Vicinal Dalva II, km 02, Maracajá, Ourilândia do Norte/PA",4,null,"71519360282"]
[2009,"PA","João Vicente Ferreira do Vale","262.357.812-53","Fazenda Manelão - zona rural de Anapu/PA",7,null,"26235781253"]
[2013,"MA","Joaquim Luiz Ferreira","172.246.755-04","Fazenda Sossego - zona rural de Bom Jardim/MA",2,null,"17224675504"]
[2013,"MG","Joaquim Nunes da Rocha Filho","656.020.806-00","Fazenda Santa Felicidade - Rodovia Brasilândia/Santa Fé, zona rural de Brasilândia de Minas/MG",10,null,"65602080600"]
[2012,"TO","Joari Bertoldi","219.697.520-68","Fazenda Santa Maria - Rod. TO 080, km 140, zona rural, Marianópolis/TO",45,null,"21969752068"]
[2013,"CE","Jobson Sousa Girão ","006.858.383-40","Fazenda São Jorge - zona rural, Cipó dos Anjos, Ibaretama/CE",7,null,"00685838340"]
[2012,"MA","Joel Amélia de França","418.082.233-49","Madeireira do Joelzão - Povoado Centro do Pedro, quadra 80, zona rural, Maranhãozinho/MA",13,null,"41808223349"]
[2012,"PA","Joélcio Formehl","570.977.392-15","Fazenda Quatro Irmãos (Amazonas) - Rodovia BR 010, km 40, estrada Areia Branca, zona rural de Ulianópolis/PA",9,null,"57097739215"]
[2013,"MT","Jorcelino Tiago de Queiroz","974.443.328-00","Carvoaria na Fazenda São Sebastião – Rod. BA 158, km 427, mais 28 km, à direita, zona rural, Ribeirão Cascalheira/MT",2,null,"97444332800"]
[2010,"PA","Jorge de Souza Moreira","075.206.541-68","Fazenda São Jorge - Linha 07, km 08, zona rural, São Félix do Xingu/PA",5,null,"07520654168"]
[2011,"PA","Jorge Nival Lopes Bispo","869.170.565-53","Fazenda Boa Vida - Rodovia Transamazônica, km 225, Vicinal do Sossego, zona rural de Novo Repartimento/PA",2,null,"86917056553"]
[2012,"PA","José Alberto Lemos","061.107.201-78","Fazenda Monte Cristo - zona rural, Pau D'Arco/PA",13,null,"06110720178"]
[2015,"CE","José Alberto Rocha Pereira ","832.105.393-91","Fazenda Morro Alto - zona rural, Groaíras/CE",26,null,"83210539391"]
[2011,"MG","José Álvares de Rezende","018.447.506-63","Fazenda Bocaina e Camisa - zona rural, Unaí/MG",4,null,"01844750663"]
[2010,"PA","José Alves Lacerda ","047.667.332-15","Fazenda Brasileira - Rodovia BR 222, km 115, zona rural de Rondon do Pará/PA",6,null,"04766733215"]
[2010,"MA","José Amaro Logrado","023.040.151-15","Fazenda Manchester - Rod. BR 222, km 30, zona rural, Açailândia/MA",4,null,"02304015115"]
[2012,"MS","José Carlos Izidoro de Souza","735.116.508-44","Fazenda Bauzinho – Rod. MS 306, km 62, mais 25 km, à esquerda, zona rural, Cassilândia/MS",9,null,"73511650844"]
[2005,"PA","José Carlos Ramires","644.276.419-20","Extração de madeira na reserva Riozinho do Anfrísio - Rod. BR 163, km 1418, zona rural, Altamira/PA",10,null,"64427641920"]
[2008,"PA","José Carlos Rodrigues Paz","332.119.732-49","Carvoaria - Rodovia PA 140, km 03, setor industrial, Tomé-Açu/PA",3,null,"33211973249"]
[2012,"PA","José da Mota Caetano ","453.121.416-15","Fazenda São Benedito - Vicinal São Sebastião, km 56, zona rural de Itupiranga/PA",2,null,"45312141615"]
[2011,"MG","José de Alencar Queiroz Menezes","044.989.088-05","Fazenda Forquilha - Estrada Brasilândia a Pirapora, Distrito Canabrava, zona rural, João Pinheiro/MG",1,null,"04498908805"]
[2011,"PA","José de Souza Veloso","161.181.543-68","Fazenda Vitória - Vicinal 04 da Reserva Parakanã, zona rural, Novo Repartimento/PA",5,null,"16118154368"]
[2010,"PA","José Elvécio Vilarino ","091.128.471-00","Fazenda Bambu - Vila Cruzeiro do Sul, zona rural de Itupiranga/PA",1,null,"09112847100"]
[2012,"MA","José Firmino da Costa Neto","731.725.963-20","Fazenda Santo Antônio - Povoado Arapari, zona rural, Santa Luzia/ MA",17,null,"73172596320"]
[2014,"CE","José Gilvan Ribeiro Oliveira","429.812.984-53","Barco Adonai G - Rua Praia de Búzios, 144, Parnamirin/CE",6,null,"42981298453"]
[2014,"TO","José Lisberto Ferreira ","445.389.366-34","Fazenda Gameleira e Coqueiros - Rod. TO 496, Jaú do Tocantins/TO",12,null,"44538936634"]
[2010,"PA","José Luciano Franco de Rezende ","182.898.606-25","Fazenda Santa Marta do Vale Verde - Estrada do Cristalino, km 180, zona rural de Cumaru do Norte/PA",7,null,"18289860625"]
[2012,"SC","José Luiz Koeche","250.475.909-68","Fazenda Lageadinho - Rod. BR 116, km 264, zona rural, Capão Alto/SC",13,null,"25047590968"]
[2014,"MG","José Manoel Soares Nunes","629.009.357-68","Fazenda Gondarim - Estrada São Bento s/, zona rural, Passa Quatro/MG",3,null,"62900935768"]
[2008,"PA","José Maurício Rodrigues Vieira","984.865.002-49","Carvoaria do Maurício - Estrada do Gavião, km 14, zona rural, Abel Figueiredo/PA",7,null,"98486500249"]
[2010,"PA","José Maurício Rodrigues Vieira","984.865.002-49","Carvoaria do Maurício - zona rural, Abel Figueiredo/PA",7,null,"98486500249"]
[2009,"AC","José Maurício Vilela Viana Lisboa","150.260.946-00","Carvoaria do Maurício - Rod. BR 364, km 64, zona rural, Bujari/AC",5,null,"15026094600"]
[2008,"PA","José Pedro de Almeida","004.526.616-68","Fazenda Fortaleza Guanabara - Rodovia PA153, km 17, Gleba Sorozinho, zona rural de São Geraldo do Araguaia/PA",5,null,"00452661668"]
[2014,"SP","José Rodriguez Carrasco","233.859.658-70","Oficina de costura - Rua Lopes Trovão, 126, Bom Retiro, São Paulo/SP",8,null,"23385965870"]
[2010,"PA","José Simões dos Santos ","025.152.295-49","Fazenda Santa Maria - Rodovia PA 279, estrada da Canópolis, região do Xadá, zona rural de São Félix do Xingu/PA",2,null,"02515229549"]
[2012,"SC","José Volmi de Souza","443.308.479-49","Sítio Ricardo (Fazenda Goulart) - zona rural, Santa Cecília/SC",6,null,"44330847949"]
[2014,"MA","José Wilson de Macedo","077.761.363-87","Fazenda Santa Luz - zona rural, Peitoró/MA",12,null,"07776136387"]
[2014,"MG","José Wilson Silvério da Silva","334.681.336-34","Fazenda Boa Vista - Cabeceira do Jacutinga, Distrito de Santa Luzia, Caratinga/MG",20,null,"33468133634"]
[2012,"RO","Jovino Luiz Ferri","316.638.772-20","Fazenda Vitória - localidade de Extrema, zona rural, Porto Velho/RO",5,null,"31663877220"]
[2013,"SP","Juan Edwin Mendoza Machicado Confecçoes ME","13.911.155/0001-21","Oficina de costura - Av. Conceição, 2649, Jardim Japão, São Paulo/SP",1,null,"13911155000121"]
[2014,"PR","Juliano José Fagundes","053.616.429-08","Fazenda Boi Carrrilho - Localidade Bom Retiro, Zattarlândia, zona rural, Pinhão/PR",2,null,"05361642908"]
[2010,"PA","Jurandi Oliveira da Silva","602.152.322-91","Assentamento Oziel Pereira - zona rural, Piçarras/PA",4,null,"60215232291"]
[2014,"MG","Kasser Wadih Dib ","043.551.808-91","Fazenda Bela Vista - zona rural, Ibiraci/MG",33,null,"04355180891"]
[2012,"AP","Kelma da Silva Ribeiro","775.775.312-00","Área de cultivo de hortaliças – Rod. BR 156, km 9, Curralinho n. 609, Macapá/AP",3,null,"77577531200"]
[2006,"RJ","Kevio Romênio Monteiro da Silva","056.675.827-08","Comunidade do Catiri - Rua Luiz Alves, 91, Catiri Bangu/RJ",6,null,"05667582708"]
[2009,"PA","L N do Nascimento Garcia Carvoaria","03.153.521/0002-58","Carvoaria da LN - Rod. BR 222, km 95, zona rural, Rondon do Para/PA",12,null,"03153521000258"]
[2010,"PA","L N do Nascimento Garcia Carvoaria","03.153.521/0001-77","Carvoaria da LN - Rod. BR 222, km 125, Abel Figueiredo/PA",11,null,"03153521000177"]
[2011,"SP","La-Fee Confecções Ltda","00.138.268/0001-94","Oficina de costura - Rua Professor Cesare Lombroso, 211, Bom Retiro, São Paulo/SP",12,null,"00138268000194"]
[2008,"AL","Laginha Agro Industrial S/A","12.274.379/0001-07","Fazenda Laginha - margem direita do rio Mundaú - zona rural, União dos Palmares/AL",28,null,"12274379000107"]
[2011,"PA","Laurinho Caetano da Silva","066.012.192-15","Fazenda Inhumas - Estrada da Vila Gavião, km 36, gleba Catitu, Rondon do Pará/PA",6,null,"06601219215"]
[2010,"PA","Lazir Soares de Castro","003.982.841-72","Fazenda Maguari - Rod. PA 279, vicinal da Igrejinha a 15 km, zona rural, São Félix do Xingu/PA",3,null,"00398284172"]
[2011,"PA","Leal Comércio e Transporte Ltda (atual: Ambrósimo Comércio e Transportes Ltda)","11.312.759/0001-26","Carvoaria do Ivaldo - Rod. A 151,  km 17, vicinal da Fazenda Silvo Florestal, km 2, Moju/PA",6,null,{"$f":"SUBSTITUTE(SUBSTITUTE(SUBSTITUTE(SUBSTITUTE($D262,\" \",\"\"),\".\",\"\"),\"-\",\"\"),\"/\",\"\")","v":"11312759000126"}]
[2010,"PA","Leandro Adjuto Martins Carneiro","338.915.916-91","Fazenda Água Branca - Rod. BR 153, km 04, zona rural, São Domingos do Araguaia/PA",15,null,"33891591691"]
[2010,"PA","Leandro Adjuto Martins Carneiro","338.915.916-91","Fazenda Cannã - zona rural, São Félix do Xingu/PA",15,null,"33891591691"]
[2012,"PA","Leoni Lavagnoli","478.803.847-15","Fazenda Renascer (Gapó) - Rodovia Transamazônica, Vicinal São Luiz, km 38, zona rural de Pacajá/PA",48,null,"47880384715"]
[2012,"SC","Leonir Soster","509.269.349-53","Área de extração de erva mate - Linha Sertão, zona rural de Concórdia/SC",7,null,"50926934953"]
[2013,"MG","Línea Obras & Construções Ltda","05.452.327/0001-18","Obra de Construção Civil - Rua Star, 243, Jardim Canadá, Nova Lima/MG",53,null,"05452327000118"]
[2012,"PA","Lourinaldo Soares da Silva","168.023.902-30","Fazenda São Judas Tadeu - Rod. Rio Preto, km 24, vicinal Mumbuca, km 5, zona rural, Marabá/PA",2,null,"16802390230"]
[2012,"PA","Lúcio de Cássio Vieira de Oliveira","517.237.352-72","Fazenda Jequitibá (Cássios e Marias) - Vicinal do Pitinga, km 13, zona rural, Jacundá/PA",15,null,"51723735272"]
[2012,"MT","Luiz Augusto Rebouças","238.102.549-91","Fazenda Beira rio - Rod. MT 208, km 240, zona rural, Nova Monte verde/MT",4,null,"23810254991"]
[2012,"PA","Luiz Batista Mariano","799.507.521-91","Fazenda Alô Brasil - Rod. PA Frutão, Gleba Buritirana II, zona rural, Marabá/PA",8,null,"79950752191"]
[2006,"PA","Luiz Evaldo Glória","399.995.722-00","Fazenda Bela Vista - Rod. PA 256, km 93, zona rural, Tomé Açu/PA",4,null,"39999572200"]
[2014,"SP","Luiz G A Pinheiro  ","07.385.791/0001-64","Carvoaria Luiz G A Pinheiro - Estrada André Franco Montoro, km 18, Atibainha Baixa, Piracaia/SP",10,null,"07385791000164"]
[2010,"PA","Luiz Otávio Fontes Junqueira","303.269.316-00","Fazenda Caribe - Estrada OPI, zona rural, Brejo Grande do Araguaia/PA",14,null,"30326931600"]
[2006,"PA","Luiz Otávio Rodrigues da Cunha","476.295.928-68","Fazenda Roseta - Rodovia PA 256, km 90, zona rural de Tomé Açu/PA",11,null,"47629592868"]
[2013,"SP","M P Amorim EIRELI","10.766.351/0001-61","Fenomenal Internacional - Rua Bresser, nº 695/703, Brás, São Paulo/SP",9,null,"10766351000161"]
[2012,"PA","Madeireira Iller Ltda","09.208.556/0001-42","Madeireira - Estrada do Curuá/Una. km 120, Ramal Bandeira, zona rural de Santarém/PA",31,null,"09208556000142"]
[2013,"PA","Madeireira Paricá Ltda","03.974.831/0001-52","Madeireira Parica - estrada Fazenda Lacy, zona rural, Rondon do Pará/PA",7,null,"03974831000152"]
[2006,"PA","Magnon Coelho de Carvalho","160.224.086-87","Fazenda São José - Estrada do Rio Preto, km 160, Vila Capistrano de Abreu, mais 8 km, zona rural, Marabá/PA",14,null,"16022408687"]
[2010,"PA","Maísa Moju Agroindustrial Ltda ","04.138.913/0001-20","Fazenda Maísa - Rod. PA 150, km 122, Estrada do Projeto Seringa, km 42, zona rural de Moju/PA",11,null,"04138913000120"]
[2007,"RJ","Manoel Trigueiro dos Santos Filho","840.302.754-00","Rua 04, n. 25, Lages Paracambi/RJ",11,null,"84030275400"]
[2008,"PE","Manuel Ernesto Lima Alvim Soares Filho","024.194.134-23","Engenho Cocula III - zona rural, Ribeirão/PE",9,null,"02419413423"]
[2006,"RJ","Manuel Gomes Xavier","545.186.794-15","Comunidade do Catiri - Rua Alexandre Silva Loureiro, 55, Catiri Bangu/RJ",20,null,"54518679415"]
[2014,"RS","Marcelo Ferreira Horn ","333.493.980-49","Fazenda Formosa - Localidade de João Rodrigues, zona rural, Rio Pardo/RS",1,null,"33349398049"]
[2011,"MA","Marcelo Testa Baldochi  ","109.067.228-45","Fazenda Vale do Ipanema - zona rural, Bom Jardim/MA",4,null,"10906722845"]
[2013,"TO","Márcio Roberto Guimarães ","288.003.381-00","Fazenda Boa Vista - Rod. Natividade/São Valério, km 3,5, à direita 12 km, zona rural de Natividade/TO",10,null,"28800338100"]
[2013,"RO","Márcio Volpato Cataneo","271.705.602-59","Fazenda Massangana - Linha C 60, km 30, zona rural, Ariquemes/RO",2,null,"27170560259"]
[2012,"PA","Marco Antônio Lima e Arantes","554.787.356-04","Fazenda Rio da Prata - Rod. BR 158, zona rural, Santana do Araguaia/PA",13,null,"55478735604"]
[2013,"MG","Marco Projetos e Construções Ltda","89.530.174/0001-70","Canteiro de obras - Rua João Ângelo Schiavinato, 2085, bairro Santa Mônica, Uberlândia/MG",21,null,"89530174000170"]
[2013,"RS","Marcos Suelio Dantas ","362.699.132-68","Rua Primo Postali, 190/06, Esplanada, Caxias do Sul/RS",6,null,"36269913268"]
[2013,"MS","Maria de Lourdes Ribeiro Fragelli","981.788.301-91","Fazenda Pontal - zona rural, Aquidauana/MS",4,null,"98178830191"]
[2008,"PA","Maria Soares de Freitas","437.743.502-72","Fazenda Bom Sossego - Travessão do zero, Rod. Transamazônica, km 150, Uruará/PA",4,null,"43774350272"]
[2010,"MG","Marino Stefani Colpo ","718.455.691-72","Fazendas Gado Bravo e São Miguel - Rodovia MG 400, km 03, zona rural, Unaí/MG",54,null,"71845569172"]
[2005,"PA","Mário Biernaski","356.145.289-20","Fazenda Nova Orleans - zona rural, Santana do Araguaia/PA",29,null,"35614528920"]
[2012,"PR","Maris Adriana Covatti","426.398.830-20","Fazenda Alegria do Machorras - zona rural, Palmas/PR",3,null,"42639883020"]
[2011,"RJ","Marlúcio Queiroz Pimenta","680.711.597-00","Extração de pedras - Sítio Santo Cristo, RJ 186, Estrada Pádua/Pirapetinga, km 12, Santo Antonio de Pádua/RJ",1,null,"68071159700"]
[2012,"PE","Mastel Montagem de Estruturas Metálicas Ltda","07.531.421/0001-98","Obra no Shopping Riomar - Rua República do Líbano, s/n, Pina, Recife/PE",6,null,"07531421000198"]
[2013,"PA","Maurivan da Silva Nascimento ","559.280.482-20","Fazenda do Sr. Jeguinho - vicinal do Ivan, km 8, Assentamento Montes Belos, zona rural, Pacajá/PA",2,null,"55928048220"]
[2010,"PA","Menegildo Rodrigues de Moura","052.736.175-53","Fazenda Paraíso - Rod. PA 279, região do Xadá, zona rural, São Félix do Xingú/PA",4,null,"05273617553"]
[2013,"RS","MGM Meyer Giometti Engenharia Mecânica Ltda","51.047.173/0001-04","Canteiro de obra - Rua Neri Bossardi, 675, Industrial, Vacaria/RS",12,null,"51047173000104"]
[2010,"PA","Miguel Almeida de Macedo ","054.182.085-00","Fazenda Boa Esperança - Vicinal Santa Lúcia, zona rural de Rondon do Pará/PA",8,null,"05418208500"]
[2014,"MA","Miguel Almeida Murta ","494.352.306-44","Fazenda Boa Esperança - Gleba Bambu, Povoado Córrego Novo, zona rural, Açailândia/MA",5,null,"49435230644"]
[2009,"PA","Miguel Cirilo dos Santos","420.749.241-00","Fazenda Sobrado - Rod. BR 163, km 1418, Vicinal do Limão, km 0, Vicinal do Areia II, zona rural, Trairão/PA",5,null,"42074924100"]
[2008,"PA","Miguel Eugênio Monteiro de Barros","419.512.397-68","Fazenda do Dr. Miguel - Estrada Transcametá, km 80, zona rural, Baião/PA",16,null,"41951239768"]
[2010,"PA","Miguel Lourenço Lima Neto ","794.092.612-87","Garimpo Maracajá - Rod. PA 279, km 146, Vicinal Dalva II, km 02, Assentamento Maria Preta, zona rural de Ourilândia do Norte/PA",4,null,"79409261287"]
[2009,"PA","Miguel Marques do Vale","310.450.308-72","Fazenda Guatapar - Estrada do Rio Preto, km 250, zona rural, São Felix do Xingu/PA",8,null,"31045030872"]
[2012,"TO ","Milton de Assis Neves","826.369.668-20","Fazenda Recoma - Rod. TO 464, km 62, Loteamento Bananal, zona rural, Porto Nacional/TO",12,null,"82636966820"]
[2007,"PA","Milton Martins da Costa","129.420.657-53","Fazenda Tocantins/São Carlos - Rod. BR 230, km 95, Itupiranga/PA",54,null,"12942065753"]
[2011,"MG","Minas Refloresta S.A.","07.165.412/0004-73","Fazenda São Bartolomeu - Rod. BR 040, km 175, zona rural, João Pinheiro/MG",11,null,"07165412000473"]
[2014,"TO","Mineração Santa Luzia Ltda","19.791.590/0001-46","Fazenda Santa Luzia - Santa Rosa do Tocantins, km 10 à esquerda, zona rural, Chapada de Natividade/TO",14,null,"19791590000146"]
[2012,"RO","Míriam de Freitas","833.508.538-20","Fazenda Araputanga - Lote 32, Linha 125, Gleba Corumbiara, Chupinguaia/RO",29,null,"83350853820"]
[2013,"SC","Moacir Murilo Fernandes","480.665.679-87","Área de extração de madeira - estrada principal Chapadão Unidas, Imbuia/SC",3,null,"48066567987"]
[2014,"GO","Moreira Osvando","044.743.171-49","Fazenda Moreira - Rod. GO 164, km 775, zona rural, Mundo Novo/GO",10,null,"04474317149"]
[2011,"PA","Mozar de Faria","090.631.291-49","Fazenda Beira Rio - Estrada Raimundo Eduardo, km 59, Lugarejo Parauna, São Geraldo do Araguaia/PA",5,null,"09063129149"]
[2013,"MG","MPR Empreendimentos Ltda","04.531.347/0001-11","Fazenda Continente - Gleba B, zona rural, Coronel Pacheco/MG",11,null,"04531347000111"]
[2013,"MG","MRV Engenharia e Participações SA","08.343.492/0013-63","Obra Fontana di Italia - Rua Joaquim José, 785, Fonte Grande, Contagem/MG",6,null,"08343492001363"]
[2014,"MG","Murilo Rezende Faria ","031.364.181-15","Fazenda Alegre - zona rural, Pintópolis/MG",4,null,"03136418115"]
[2009,"PA","N L Sales Agropecuária ","34.685.289/0001-41","Fazenda Ouro Verde - Rod. PA 124, km 4, zona rural, Capitão Poço/PA",6,null,"34685289000141"]
[2010,"PA","Natal Ferreira da Silva","155.801.052-15","Garimpo Maracajá - Rod. PA 279, km 146, Assentamento Maria Preta, zona rural, Ourilândia do Norte/PA",3,null,"15580105215"]
[2010,"ES","Nelsinho José Armani","001.635.807-40","Fazenda Vargem Grande - Córrego do Macaco, Rio Preto, Jaguaré/ES",38,null,"00163580740"]
[2011,"PA","Nelson Alves Rocha","210.518.362-04","Carvoaria do Sheran - BR 222, km 12, Vicinal do Gavião, zona rural de Abel Figueiredo/PA",2,null,"21051836204"]
[2010,"TO","Newton Oliveira","025.135.951-49","Fazendas Lago da Bezerra, Pau Brasil, São José, Garça e Bananal - municípios de Couto Magalhães e Araguacema/TO",33,null,"02513595149"]
[2011,"MT","Nilson Erwino Lottermann","280.547.681-68","Faz. Agrop. Morada Nova – Rod. BR 080, km 59,5, Espigão do Leste (Vila dos Baianos), zona rural, São Félix do Araguaia/MT",18,null,"28054768168"]
[2011,"AL","Nivaldo Jatobá Empreendimentos Agroindustriais Ltda","12.400.388/0001-05","Fazenda Gunga - Rod. AL 101 Norte, zona rural de Roteiro/AL",51,null,"12400388000105"]
[2006,"RJ","Norlândio Souza Azevedo","040.649.194-16","Venda de redes e mantas - Comunidade do Catiri, Bangu/RJ",18,null,{"$f":"SUBSTITUTE(SUBSTITUTE(SUBSTITUTE(SUBSTITUTE($D325,\" \",\"\"),\".\",\"\"),\"-\",\"\"),\"/\",\"\")","v":"04064919416"}]
[2012,"PA","O S Indústria e Comércio de Conservas Ltda","12.470.271/0001-90","Fazenda Nelore - Vicinal São João Batista, zona rural de Itupiranga/PA",6,null,"12470271000190"]
[2007,"PA","Oeson Oséas de Macedo","212.239.202-91","Fazenda Ozivel - Rod. Transamazônica, BR 230, km 62 (Marabá-Cajazeiras), km 30, Marabá/PA",11,null,"21223920291"]
[2012,"PA","Onofre Barboza Gomes","043.946.312-20","Fazenda 2 Corações - Estrada do Rio Preto, km 3, zona rural, Marabá/PA",1,null,"04394631220"]
[2013,"MG","Organização Verdemar Ltda","65.124.307/0001-40","Alojamento - Rua Govan, 75, Jardim Canadá, Nova Lima/MG. ",8,null,"65124307000140"]
[2006,"PA","Orlando Barbosa de Souza","040.704.616-04","Fazenda Triângulo Mineiro - Rod. Transamazônica, km 205, vicinal, 35 km à direita, zona rural, Pacajá/PA",43,null,"04070461604"]
[2012,"GO","Oscar Antônio Rossato","208.997.420-68","Fazenda Rio Claro, Gleba 1 - Pontal do Ribeiro Ariranha com o Rio Claro, Jataí/GO",16,null,"20899742068"]
[2012,"PA","Osmar Antônio Daghetti","928.751.061-04","Gleba situada na Rod. BR 163 - Rod. BR 163, km 54, sentido Novo Progresso a Morais de Almeida, com acesso pela vicinal Dimantino, km 60, Altamira/PA",3,null,"92875106104"]
[2012,"GO","Osmar Ramos Gomes","385.737.501-97","Fazenda Lagoa do Bauzinho - Distrito de Riverlândia, zona rural, Rio Verde/GO",2,null,"38573750197"]
[2010,"RO","Osvaldo Alves Ribeiro","005.702.142-20","Fazenda Agrinbo - Rod. BR 364, km 992, zona rural, Vista Alegre do Abunã, Porto Velho/RO",11,null,"00570214220"]
[2013,"RO","Osvaldo Marcelino de Mendonça","008.592.656-68","Fazenda Bandeirante - Linha 115, setor 10, Gleba Corumbiara, Chupinguaia/RO",11,null,"00859265668"]
[2008,"PA","Otávio Zapelini Filho","052.728.228-62","Fazenda Zapelini II - Rod. PA 140, km 200, ramal Areial, zona rural de Concórdia/PA",15,null,"05272822862"]
[2013,"PR","P.O.S. Administração e Participação de Bens Ltda","09.195.011/0001-49","Fazenda Ribeirão - Rod. BR 116 km 23, Jaguastirica, Campina Grande do Sul/PR",14,null,"09195011000149"]
[2013,"MS","Paulo Afonso de Lima Lange","163.605.751-91","Fazenda São Lourenço - Rodovia Dourados/Tahum, km 35, zona rural, Itahum/MS",1,null,"16360575191"]
[2013,"MG","Paulo Alves de Lima  ","192.094.526-15","Fazenda Real Paraíso - zona rural, Campanha/MG",1,null,"19209452615"]
[2013,"PA","Paulo de Sousa da Cruz ","615.185.142-00","Fazenda Boi Preto/Fazenda Navarro - Rod. PA 449, km 52, atrás da Vila 8, zona rural, Conceição do Araguaia/PA",5,null,"61518514200"]
[2013,"TO","Paulo Vicente da Mota","232.488.231-00","Fazenda Estação - Zona rural de Colméia/TO",15,null,"23248823100"]
[2012,"PA","Pedro David Araújo","100.913.275-04","Fazenda Atalaia II - Vicinal Catitu, zona rural de Novo Repartimento/PA",3,null,"10091327504"]
[2013,"ES","Pedro Elias de Martins","682.058.057-68","Fazenda Córrego dos Cavalos - Rod. BR 101 Norte, km 74, Córrego dos Cavalos, São Mateus/ES",13,null,"68205805768"]
[2014,"MG","Pedro Ribeiro da Silva Filho ","053.529.736-03","Fazenda Mangues - zona rural, estrada de terra entre Pintópolis/Urucais, 25 km, Pintópolis/MG",4,null,"05352973603"]
[2012,"PR","Pinuscam  Indústria, Comércio de Madeira e Transportes Ltda","62.385.299/0002-88","Fazenda Pacas - Colônia Marques de Abrantes, zona rural de Tunas do Paraná/PR",15,null,"62385299000288"]
[2009,"PA","Potencial Indústria e Comércio de Alimentos Ltda  Epp","07.380.262/0001-78","Área de extração de palmito - Zona rural de Itupiranga/PA",31,null,"07380262000178"]
[2014,"MS","Prestadora de Serviços e Comércio de Madeiras Benites","04.680.548/0001-80","Fazenda Santo Antônio - Zona rural de Dourados/MS",4,null,"04680548000180"]
[2011,"RJ","Quatro Irmãos Pedras Ltda","00.901.527/0001-97","Pedreira Quatro Irmãos - Estrada Pádua Pirapetinga, km 12, RJ 186, Bairro Santo Cristo, Santo Antônio de Pádua/RJ",5,null,"00901527000197"]
[2011,"PA","Quintino Pereira Araújo","088.079.812-20","Fazenda Rio Jamorin - margens do Rio Jamorin, zona rural, Igarapé Mirim/PA",7,null,"08807981220"]
[2013,"PR","R J Erva Mate Ltda","14.681.063/0001-65","Ervateira Berté - Zona rural de Laranjal/PR",6,null,"14681063000165"]
[2014,"MA","Raimundo Nonato Alves Pereira","100.870.363-04","Fazenda Santa Cruz - zona rural, Santo Antônio do Lopes/MA",3,null,"10087036304"]
[2011,"PA","Raimundo Nunes Ferreira","543.128.923-34","Fazenda Alto Bonito - Rodovia Transamazônica, vicinal 225, nº 48, Novo Repartimento/PA",6,null,"54312892334"]
[2011,"MG","Raul Cezar Esteves de Souza","573.114.471-00","Fazendas Atrás da Serra e Pé da Serra - Rod. MG 400, km 30, zona rural, Buritis/MG",3,null,"57311447100"]
[2013,"MS","Renato Junqueira Meirelles","013.578.918-49","Fazenda Quebracho - zona rural, Porto Murtinho/MS",12,null,"01357891849"]
[2014,"PA","Renato Resende Paulinelli","252.333.781-91","Fazenda Canto de Pedra - Rod. BR 155, 5 km de Rio Maria, sentido Redenção,  Rio Maria/PA",5,null,"25233378191"]
[2012,"MS","Rita de Cássia de Oliveira Andrade","10.354.179/0001-39","Fazenda Mimosal - zona rural, Bandeirantes/MS",1,null,"10354179000139"]
[2004,"PA","Roberto Dantas de Medeiros","048.755.084-68","Fazenda Seridó - Rod. 153, km 35, zona rural de São Geraldo do Araguaia/PA",17,null,"04875508468"]
[2011,"PA","Roberto David de Souza","329.057.423-72","Carvoaria do Beto - Rod. BR 222, estrada do Casca Seca, loteamento Alto Bonito, zona rural de Abel Figueiredo/PA",3,null,"32905742372"]
[2014,"TO","Roberto Manoel Ferreira ","529.201.786-87","Fazenda São José - Rod. TO 496, km 22, à esquerda mais 7 km, Jaú do Tocantins/TO",5,null,"52920178687"]
[2011,"PA","Roberto Rodrigues Ferreira","459.560.906-00","Fazenda Nova Aliança - Bela Vista, Floresta do Araguaia/PA",29,null,"45956090600"]
[2013,"PA","Robson Alves de Carvalho ","634.328.111-87","Fazenda Sul Carajás - Estrada do Itacaiunas, km 32, zona rural de Marabá/PA",6,null,"63432811187"]
[2009,"MT","Rogério Arioli Silva","337.702.800-59","Fazenda Passo Fundo - Estrada Municipal de Brasnorte, zona rural, Brasnorte/MT",2,null,"33770280059"]
[2011,"PA","Rogério Lopes da Rocha","042.089.907-32","Carvoaria do Rogério - Rod. PA 150, aproximadamente 3 km sentido Goianésia, zona rural, Tailândia/PA",4,null,"04208990732"]
[2008,"PE","Romildo Brandão","043.498.224-53","Engenho Poço - zona rural, Palmares/PE",59,null,"04349822453"]
[2012,"PA","Ronaldo Araújo Costa","292.942.742-68","Fazendas São Gabriel, Ouro Verde e Campo Verde - Rodovia PA 150, km 35, Ramal do Divino, km 33, zona rural, Tailândia/PA",52,null,"29294274268"]
[2007,"PA","Rubens Francisco Miranda da Silva","143.338.139-72","Fazenda São Francisco - Ferrovia Carajás, km 760, zona rural, Marabá/PA",15,null,"14333813972"]
[2014,"MG","Ruby Bar Ltda","19.458.119/0001-30","Rua Curitiba, 319, 2º andar, Centro, Belo Horizonte/MG",1,null,"19458119000130"]
[2010,"PA","S Ladeira Carvoaria Ltda","08.575.179/0001-17","Carvoaria Mata Verde - Rod. BR 230, km 216, s/n, Vila Maracajá, Novo Repartimento/PA",4,null,"08575179000117"]
[2008,"MT","Sadi Zanatta","307.640.330-34","Fazenda Curitiba - Zona rural de Tapurah/MT",6,null,"30764033034"]
[2012,"TO","Salvador Leandro do Nascimento","091.901.711-87","Fazenda Boa Sorte - Loteamento Três Barreiras, distrito de Dorilândia, Sandolândia/TO",8,null,"09190171187"]
[2013,"SP","Salvatta Engenharia Ltda","23.427.248/0001-39","Rua Barão do Rio Branco, 426, Santo Amaro, São Paulo/SP",55,null,"23427248000139"]
[2013,"PA","Samuel Luiz de Oliveira ","050.045.351-91","Fazenda Mundo Novo - Estrada do Araguaxim, km 35, zona rural de Redenção/PA",2,null,"05004535191"]
[2012,"PA","Samuel Querdólio Fernandes da Mota ","996.261.362-00","Fazenda Serra das Andorinhas - Vicinal São Sebastião, km 108, zona rural de Itupiranga/PA",7,null,"99626136200"]
[2012,"GO","Sávio Domingos de Oliveira","884.471.701-87","Fazenda Santa Rita - Rod. GO 326, km 36, à direita, zona rural, Anicuns/GO",14,null,"88447170187"]
[2014,"MA","Sebastião Lourenço Rodrigues ","149.527.343-15","Fazenda Tamataí - Povoado Brejo do Piauí, zona rural, Santa Luiza/MA",7,null,"14952734315"]
[2013,"MG","Sebastião Rodrigues de Souza","031.030.566-72","Fazenda Estrela Dalva - Barra do Ribeirão do Correia, margem esquerda do Rio Suassuí Pequeno, Rod. BR 259, km 28, Breajubinha, Governador Valadares/MG",1,null,"03103056672"]
[2007,"PA","Seleone Carlos de Moura","282.222.881-72","Fazenda Serra Dourada - Rod. BR 230, Vicinal 4, gleba Paracanã, zona rural de Novo\nRepartimento/PA",23,null,"28222288172"]
[2010,"SP","Sete Sete Cinco Confecções Ltda","48.687.248/0001-07","Oficina de costura - Rua Serra da Canastra, 110, mezanino, Jardim Planalto, Carapicuíba/SP",2,null,"48687248000107"]
[2006,"PA","Siderúrgica do Maranhão S/A (atual: Guarany Siderúrgica e Mineração S/A)","10.426.518/0001-45","Fazenda Turmalina - Rod. BR 222, km 56, Estrada Berbel, km 43, zona rural, Dom Eliseu/PA",13,null,"10426518000145"]
[2012,"PA","Sidney Gonçalves de Jesus","403.986.502-25","Sítio Maciel - Estrada do Curuatinga, zona rural, Uruará/PA",6,null,"40398650225"]
[2013,"SP","Silobay do Brasil Confecções Indústria e Comércio Ltda","11.248.974/0001-05","Oficinas de Costura - Rua Geraldo Alves de Andrade, 133, Jardim Brasil e Rua General Sócrates, 264, Penha, São Paulo/SP",9,null,"11248974000105"]
[2011,"TO","Simirames Afonso da Silva","012.666.241-04","Fazenda Manduca - zona rural de Novo Acordo/TO",6,null,"01266624104"]
[2013,"MT","Sisan Engenharia Ltda","04.751.205/0001-60","Canteiro de obras do Residencial Santa Terezinha II - Bairro Itapajés, Cuiabá/MT",21,null,"04751205000160"]
[2013,"PA","Sônia Aparecida Segantina Alcazas","313.401.721-00","Fazenda Alvorada - Zona rural de Novo Repartimento/PA",2,null,"31340172100"]
[2013,"PA","Sônia Mara Catuxo Barbosa","130.843.992-04","Fazenda Catuxo - Colônia Paulo Fonteles, Estrada Santa Cruz, km 41, zona rural, Parauapebas/PA",6,null,"13084399204"]
[2009,"PA","Sourcetech Química Ltda","71.717.938/0001-75","Área de extração vegetal - Zona rural de São Félix do Xingu/PA",46,null,"71717938000175"]
[2013,"MT","Staka Construtora Ltda  ","10.552.995/0001-57","Canteiro de obras da \"Trincheira Santa Rosa\" - Rua 19, nº 231, bairro Ribeirão da Ponte, Cuiabá/MT",11,null,"10552995000157"]
[2010,"PA","Sued da Silva Santos","328.723.483-87","Serraria Madeçai - Vila Maracajá, Estrada do Tuerê, km 52, Vila Novo Horizonte, Novo Repartimento/PA",8,null,"32872348387"]
[2013,"MG","Teixeira & Sena Ltda","16.660.902/0001-94","Canteiro de obras - Rua Leopoldina, 260, bairro Santo Antônio, Belo Horizonte/MG",6,null,{"$f":"SUBSTITUTE(SUBSTITUTE(SUBSTITUTE(SUBSTITUTE($D389,\" \",\"\"),\".\",\"\"),\"-\",\"\"),\"/\",\"\")","v":"16660902000194"}]
[2013,"MG","Tenda Negócios Imobiliários S.A","09.625.762/0004-09","Canteiro de obras - Rua Blenda, 109, Camargos, Belo Horizonte/MG",16,null,"09625762000409"]
[2012,"MT","Terra Viva Carvão e Reflorestamento Ltda","02.584.988/0002-90","Fazenda Alan - Rod. MT 338, km 182, Vila Simioni, Itanhangá/MT",7,null,"02584988000290"]
[2013,"MG","TIISA - Triunfo Iesa Infra-Estrutura S/A","10.579.577/0003-15","Construção da Ferrovia Norte Sul - zona rural, União de Minas/MG",6,null,"10579577000315"]
[2011,"RJ","Tocos Agrocanavieira S/A","74.185.174/0001-02","Fazenda Sertão - zona rural, Campos dos Goytacazes/RJ",53,null,"74185174000102"]
[2008,"AM","Transportadora Rocha Ltda","05.739.978/0001-93","Fazenda Novo Horizonte - Margem esquerda do Igarapé do Xureca, Distrito do Rio Ariaú, zona rural, Bareirinha/AM",19,null,"05739978000193"]
[2013,"MG","Tratenge Engenharia Ltda","06.098.460/0001-80","Obra de construção do Hospital Universitário da UFJF - Av. Eugênio do Nascimento, Dom Bosco, Juiz de Fora/MG",28,null,"06098460000180"]
[2014,"SP","Unique Chic Confecções Ltda","08.622.108/0001-28","Oficina de costura SNP Morocco - Rua Augusto César, 97, São Paulo/SP",19,null,"08622108000128"]
[2012,"TO","Úrsula Zimmerli Johansen","369.300.759-49","Fazenda Buriti - zona rural, Darcinópolis/TO",14,null,"36930075949"]
[2012,"AL","Usina Taquara Limitada","12.217.246/0001-07","Fazenda Mônica - Zona rural de Colônia Leopoldina/AL",32,null,"12217246000107"]
[2009,"PA","V L de Sá Pecuária ","08.716.038/0001-77","Fazenda Tucunaré - Rod. BR 230, km 256, Vicinal São Vicente, zona rural de Pacajá/PA",4,null,"08716038000177"]
[2006,"PA","Valber Falquetto","248.463.173-15","Fazenda Tucandeira - Rod. Transamazônica, km 140, Gleba Floresta, Lote 12, Medicilândia/PA",13,null,"24846317315"]
[2008,"PA","Valdecir Brás Luchi","574.861.317-49","Carvoaria Paraná - Estrada das Crioulas, km 07, s/nº, zona rural, Breu Branco/PA",8,null,"57486131749"]
[2013,"PA","Valdelice Farias de Brito ","206.821.312-53","Sítio Mansão Piabanha - Estrada do Chico Elias BR 230 (Transamazônica), km 18, zona rural, Pacajá/PA",2,null,"20682131253"]
[2007,"PA","Valdemir Machado Cordeiro","474.871.867-68","Fazenda Xará - Rod. Transamazônica, BR 253, km 80, Itupiranga/PA",20,null,"47487186768"]
[2014,"PA","Valtênio José de Freitas ","212.710.701-20","Fazenda Mutuca - Vicinal Casulo, km 5, ao lado da PA 279, Ourilândia / PA",3,null,"21271070120"]
[2010,"PA","Valto Antônio de Carvalho","041.785.641-53","Fazenda Betel - Estrada Vicinal do Calumbi, zona rural, São Félix do Xingu/PA",5,null,"04178564153"]
[2010,"PA","Vicente de Paula Freitas","158.184.701-72","Fazenda Rancho Alegre - Proximidade da Estrada de Vila de Campo Alegre, zona rural, São Félix do Xingu/PA",6,null,"15818470172"]
[2011,"PA","Vicente Garambone Filho","215.246.107-04","Fazenda São Vicente - Rod. PA 287, km 22, zona rural de Conceição do Araguaia/PA",11,null,"21524610704"]
[2010,"PA","Vicente Paulo Terenço Lima","670.716.942-49","Garimpo Maracajá - Rod. PA 279, km 146, Projeto de Assentamento Maria Preta, zona rural, Ourilândia do Norte/PA",13,null,"67071694249"]
[2012,"TO","Viena Siderúrgica S/A","07.609.993/0001-42","Fazenda Vale do Canoa III e Fazenda Retiro - Rodovia TO-135, km 24,5, Gleba Maior II, zona rural de Darcinópolis/TO",89,null,"07609993000142"]
[2010,"PA","Vilson João Schmidt ","347.085.109-34","Garimpo Maracajá - Rodovia PA 279, km 146, Vicinal Dalva II, localidade de Maracajá, Ourilândia do Norte/PA",3,null,"34708510934"]
[2012,"SC","Vinícius Vancin Frozza","03.469.592/0001-83","Plantação de Erva Mate - Linha Lajeado Quintino, próximo ao bairro Sintrial III, Concórdia/SC",14,null,"03469592000183"]
[2013,"SP","Vixsteel Montagem Ltda","13.354.569/0001-05","Obra de construção do terminal do aeroporto de Guarulhos - Guarulhos/SP",7,null,"13354569000105"]
[2005,"PA","Walder Machado","050.156.187-00","Fazenda Santa Rita, Rod. PA 256, km 80, s/nº, Ipixuna do Pará/PA",23,null,"05015618700"]
[2005,"PA","Walderez Fernando Resende Barbosa","039.609.516-04","Fazenda Santa Maria - Rod. OP3, zona rural, Brejo Grande do Araguaia/PA",79,null,"03960951604"]
[2013,"PA","Waldez Pires de Souza Júnior","042.811.626-40","Fazenda Patos de Minas - Rod. PA 279, Vicinal Castanheira, zona rural, Tucumã/PA",1,null,"04281162640"]
[2010,"PA","Waldez Pires de Souza ","061.969.266-91","Fazenda Onofre Pires - Rod. PA 279, km 70, zona rural de São Félix do Xingu/PA",2,null,"06196926691"]
[2009,"PA","Waldoir Arpini","103.690.159-91","Fazenda São Judas Tadeu I - Rod. PA 279, km 06, zona rural de Tucumã/PA",4,null,"10369015991"]
[2013,"MG","Walter Machado Pereira","236.519.706-04","Canteiro de obras - Rua Henrique Miranda Sá, lote 4, quadra 1, loteamento Recanto das Pedras, Bom Jardim, Juiz de Fora/MG",5,null,"23651970604"]
[2010,"PA","Welington Tomaz de Almeida ","625.775.222-15","Garimpo Maracajá - Rod. PA 279, km 146, Vicinal Dalva II, km 02, Assentamento Maria Preta, zona rural de Ourilândia do Norte/PA",18,null,"62577522215"]
[2011,"PA","Wilker Marques Campos","937.903.252-87","Fazenda do William - Quinta vicinal sul norte, lote 185, Palmares Sul, zona rural, Parauapebas/PA",2,null,"93790325287"]
[2010,"PA","Wilton Alves da Silva ","598.353.111-53","Fazenda Bom Sossego - Rod. PA 150, km 165, ramal 39, km 06, zona rural de Tailândia/PA",6,null,"59835311153"]
[2014,"TO","Yasushi Taji ","024.064.549-91","Fazenda Taji - Rod. TO 070, entre Aliança e Dueré, km 18 à direita, zona rural, Crixás do Tocantins/TO",5,null,"02406454991"]
[2013,"MG","Zaquieu Arquitetura e Construção Ltda","09.513.415/0001-33","Obra no campus da Universidade Federal de Juiz de Fora (UFJF) - Rua José Lourenço Kelmer, s/n, bairro São Pedro, Juiz de Fora/MG",21,null,"09513415000133"]
[2014,"SC","Zolair Tomazi Damo","593.757.019-72","Linha Damo - Linha São Cristóvão, zona rural, Caxambu do Sul/SC",1,null,"59375701972"]